{"text_format":"1","workbook":"xlsx","n_sheets":11,"sheets":["Welcome","Data Input","P1 Hidden Data Tables","Pupil Summary","Pupil Report","Cohort Summary","Strand Summary","Questions by Strand","Questions by Correct","P1 Questions by Sub Type","P2 Questions by Sub Type"],"not_rendered":{"charts":8,"images":2,"macros":1,"external_links":0,"defined_names":13,"comments":1,"pivot_tables":0},"unopened":[],"bounds":{"document_bytes":16777216,"sheet_cells":100000,"rows_first":2000,"rows_last":500,"rows_between":2000,"halvings":0,"cell_chars":16384,"cell_head_chars":4096},"cells_cut":0,"cells_raw":0,"read":"whole","date_system":"1900"}

{"sheet":"Welcome","index":0,"n_rows":23,"n_cols":11,"rows_kept":23,"cut":false,"hidden":false,"merged":[[1,3,1,12]]}
[]
[null,null,null,"2017 National Curriculum Tests\nKS2 Reading"]
[]
[]
[]
[]
[]
[]
[]
[]
[]
[]
[]
[]
[]
[]
[]
[]
[]
[null,null,null,null,"Minumum Score for Expected:",26,null,null,"Minimum Score for Exceeding:",39]
[null,"Please note that only parts of this system are editable, mainly the 'Data Input' tab. The rest of the system is password protected to preserve the functionality of the system and the copyright. "]
[]
[null,null,null,null,null,null,null,null,null,null,"© 2017 PrimaryTools.co.uk"]

{"sheet":"Data Input","index":1,"n_rows":10,"n_cols":52,"rows_kept":10,"cut":false,"hidden":false,"merged":[[0,1,4,1]]}
["Question","2017 KS2 Reading",1,2,3,4,5,6,7,8,9,"10i","10ii",11,12,13,14,15,16,17,"18i","18ii","19i","19ii",20,21,22,"23i","23ii",24,25,26,27,28,29,30,"31i","31ii",32,"33i","33ii","33iii","34a","34b",35,"36i","36ii","36iii","37i","37ii",38,39]
["Group Correct",null,{"$f":"COUNTIF(C10:C420,1)","v":1},1,1,1,1,1,1,1,1,1,1,1,1,1,1,1,1,1,1,1,1,1,1,1,1,1,1,1,1,1,1,1,{"$f":"COUNTIF(AI10:AI420,1)","v":1},1,1,1,1,1,1,1,1,1,1,1,1,1,1,1,1,1]
["Group Incorrect",null,{"$f":"COUNTIF(C10:C420,0)","v":0},0,0,0,0,0,0,0,0,0,0,0,0,0,0,0,0,0,0,0,0,0,0,0,0,0,0,0,0,0,0,0,{"$f":"COUNTIF(AI10:AI420,0)","v":0},0,0,0,0,0,0,0,0,0,0,0,0,0,0,0,0,0]
["Group Unanswered",null,{"$f":"COUNTA($A$10:$A$420)-(SUM(C2:C3))","v":0},0,0,0,0,0,0,0,0,0,0,0,0,0,0,0,0,0,0,0,0,0,0,0,0,0,0,0,0,0,0,0,{"$f":"COUNTA($A$10:$A$420)-(SUM(AI2:AI3))","v":0},0,0,0,0,0,0,0,0,0,0,0,0,0,0,0,0,0]
["Incorrect or unanswered",null,{"$f":"SUM(C3,C4)","v":0},{"$f":"SUM(D3,D4)","v":0},0,0,0,0,0,0,0,0,0,0,0,0,0,0,0,0,0,0,0,0,0,0,0,0,0,0,0,0,0,0,0,0,0,0,0,0,{"$f":"SUM(AO3,AO4)","v":0},0,0,0,0,0,0,0,0,0,0,0]
["Enter 1: correct,  0: incorrect, blank: unanswered question\nA: Word meaning\nB: Retrieve key info\nC: Summarise main ideas\nD: Inference\nE: Predict (not used in test)\nF: Text meaning\nG: Choice of language\nH: Comparisons (not used in test)\nSection 1: Gaby to the Rescue\nSection 2: Swim. English Channel\nSection 3: An Encounter at Sea","Shortened question:","Word closest to crouch","Why Gaby pulled cardigan","What way cat out of luck","What is cat saying when meows","Why climbed tree last summer","Secured feet and hands meaning","What is Gaby's first mistake","What does universal tell you","too shiny/chubby conclusion","3 ways cat does not enjoy rescue","3 ways cat does not enjoy rescue","Considering her options meaning","One piece of advice from mum","Who else speaks Spanish","Order events in story","Two different words showing tired","Event made Webb swim Channel","Word meaning motivated","Statements True/False","Statements True/False","Identify hardships and solution","Identify hardships and solution","Phrase meaning unusual today","Why slow swimmers go further","How long is fasted swim","Statements Fact/Opinion","Statements Fact/Opinion","Year channel swim made illegal","Word showing swim is illegal","Evidence Walliams determined","Identify summary of text","Match section to content","toy/table suggest about boat","What unusual about the day","putt-putt meaning","quiet stillness meaning","2 words showing enjoyed water","How whale seems mysterious","How whale seems nysterious","How whale seems nysterious","Why expected whale feel smooth","Why not expect feel smooth","Where was the whale","Explain Michael's character","Explain Michael's character","Explain Michael's character","How we know whale not alarmed","How we know whale not alarmed","At end Michael felt that…","Statements True/False"]
[null,"Text:",1,1,1,1,1,1,1,1,1,1,1,1,1,1,1,2,2,2,2,2,2,2,2,2,2,2,2,2,2,2,2,2,3,3,3,3,3,3,3,3,3,3,3,3,3,3,3,3,3,3]
["Name: ","AF:","A","D","D","D","B","A","B","A","B","D","D","A","B","B","C","A","B","A","B","B","B","B","A","B","B","D","D","B","A","D","C","F","G","D","A","D","A","D","D","D","D","D","D","D","D","D","D","D","D","B"]
[]
["Delete Me!",null,1,1,1,1,1,1,1,1,1,1,1,1,1,1,1,1,1,1,1,1,1,1,1,1,1,1,1,1,1,1,1,1,1,1,1,1,1,1,1,1,1,1,1,1,1,1,1,1,1,1]

{"sheet":"P1 Hidden Data Tables","index":2,"n_rows":190,"n_cols":22,"rows_kept":190,"cut":false,"hidden":true,"merged":[]}
[null,"Sorted by Strand"]
[null,"Strand","Question Number","Sub Category","Short Q","Correct","Incorrect or Unanswered","Incorrect","Unanswered"]
[null,{"$f":"'Data Input'!$C$8","v":"A"},{"$f":"'Data Input'!$C$1","v":1},{"$f":"'Data Input'!$C$7","v":1},{"$f":"'Data Input'!$C$6","v":"Word closest to crouch"},{"$f":"'Data Input'!$C$2","v":1},{"$f":"'Data Input'!$C$5","v":0},{"$f":"'Data Input'!$C$3","v":0},{"$f":"'Data Input'!$C$4","v":0},null,null,null,"Codes"]
[null,{"$f":"'Data Input'!$R$8","v":"A"},{"$f":"'Data Input'!$R$1","v":15},{"$f":"'Data Input'!$R$7","v":2},{"$f":"'Data Input'!$R$6","v":"Two different words showing tired"},{"$f":"'Data Input'!$R$2","v":1},{"$f":"'Data Input'!$R$5","v":0},{"$f":"'Data Input'!$R$3","v":0},{"$f":"'Data Input'!$R$4","v":0}]
[null,{"$f":"'Data Input'!$T$8","v":"A"},{"$f":"'Data Input'!$T$1","v":17},{"$f":"'Data Input'!$T$7","v":2},{"$f":"'Data Input'!$T$6","v":"Word meaning motivated"},{"$f":"'Data Input'!$T$2","v":1},{"$f":"'Data Input'!$T$5","v":0},{"$f":"'Data Input'!$T$3","v":0},{"$f":"'Data Input'!$T$4","v":0}]
[null,{"$f":"'Data Input'!$N$8","v":"A"},{"$f":"'Data Input'!$N$1","v":11},{"$f":"'Data Input'!$N$7","v":1},{"$f":"'Data Input'!$N$6","v":"Considering her options meaning"},{"$f":"'Data Input'!$N$2","v":1},{"$f":"'Data Input'!$N$5","v":0},{"$f":"'Data Input'!$N$3","v":0},{"$f":"'Data Input'!$N$4","v":0}]
[null,{"$f":"'Data Input'!$AE$8","v":"A"},{"$f":"'Data Input'!$AE$1","v":25},{"$f":"'Data Input'!$AE$7","v":2},{"$f":"'Data Input'!$AE$6","v":"Word showing swim is illegal"},{"$f":"'Data Input'!$AE$2","v":1},{"$f":"'Data Input'!$AE$5","v":0},{"$f":"'Data Input'!$AE$3","v":0},{"$f":"'Data Input'!$AE$4","v":0}]
[null,{"$f":"'Data Input'!$AK$8","v":"A"},{"$f":"'Data Input'!$AK$1","v":"31i"},{"$f":"'Data Input'!$AK$7","v":3},{"$f":"'Data Input'!$AK$6","v":"putt-putt meaning"},{"$f":"'Data Input'!$AK$2","v":1},{"$f":"'Data Input'!$AK$5","v":0},{"$f":"'Data Input'!$AK$3","v":0},{"$f":"'Data Input'!$AK$4","v":0}]
[null,{"$f":"'Data Input'!$J$8","v":"A"},{"$f":"'Data Input'!$J$1","v":8},{"$f":"'Data Input'!$J$7","v":1},{"$f":"'Data Input'!$J$6","v":"What does universal tell you"},{"$f":"'Data Input'!$J$2","v":1},{"$f":"'Data Input'!$J$5","v":0},{"$f":"'Data Input'!$J$3","v":0},{"$f":"'Data Input'!$J$4","v":0}]
[null,{"$f":"'Data Input'!$Y$8","v":"A"},{"$f":"'Data Input'!$Y$1","v":20},{"$f":"'Data Input'!$Y$7","v":2},{"$f":"'Data Input'!$Y$6","v":"Phrase meaning unusual today"},{"$f":"'Data Input'!$Y$2","v":1},{"$f":"'Data Input'!$Y$5","v":0},{"$f":"'Data Input'!$Y$3","v":0},{"$f":"'Data Input'!$Y$4","v":0}]
[null,{"$f":"'Data Input'!$AM$8","v":"A"},{"$f":"'Data Input'!$AM$1","v":32},{"$f":"'Data Input'!$AM$7","v":3},{"$f":"'Data Input'!$AM$6","v":"2 words showing enjoyed water"},{"$f":"'Data Input'!$AM$2","v":1},{"$f":"'Data Input'!$AM$5","v":0},{"$f":"'Data Input'!$AM$3","v":0},{"$f":"'Data Input'!$AM$4","v":0}]
[null,{"$f":"'Data Input'!$H$8","v":"A"},{"$f":"'Data Input'!$H$1","v":6},{"$f":"'Data Input'!$H$7","v":1},{"$f":"'Data Input'!$H$6","v":"Secured feet and hands meaning"},{"$f":"'Data Input'!$H$2","v":1},{"$f":"'Data Input'!$H$5","v":0},{"$f":"'Data Input'!$H$3","v":0},{"$f":"'Data Input'!$H$4","v":0}]
[]
[null,{"$f":"'Data Input'!$S$8","v":"B"},{"$f":"'Data Input'!$S$1","v":16},{"$f":"'Data Input'!$S$7","v":2},{"$f":"'Data Input'!$S$6","v":"Event made Webb swim Channel"},{"$f":"'Data Input'!$S$2","v":1},{"$f":"'Data Input'!$S$5","v":0},{"$f":"'Data Input'!$S$3","v":0},{"$f":"'Data Input'!$S$4","v":0}]
[null,{"$f":"'Data Input'!$U$8","v":"B"},{"$f":"'Data Input'!$U$1","v":"18i"},{"$f":"'Data Input'!$U$7","v":2},{"$f":"'Data Input'!$U$6","v":"Statements True/False"},{"$f":"'Data Input'!$U$2","v":1},{"$f":"'Data Input'!$U$5","v":0},{"$f":"'Data Input'!$U$3","v":0},{"$f":"'Data Input'!$U$4","v":0}]
[null,{"$f":"'Data Input'!$X$8","v":"B"},{"$f":"'Data Input'!$X$1","v":"19ii"},{"$f":"'Data Input'!$X$7","v":2},{"$f":"'Data Input'!$X$6","v":"Identify hardships and solution"},{"$f":"'Data Input'!$X$2","v":1},{"$f":"'Data Input'!$X$5","v":0},{"$f":"'Data Input'!$X$3","v":0},{"$f":"'Data Input'!$X$4","v":0}]
[null,{"$f":"'Data Input'!$V$8","v":"B"},{"$f":"'Data Input'!$V$1","v":"18ii"},{"$f":"'Data Input'!$V$7","v":2},{"$f":"'Data Input'!$V$6","v":"Statements True/False"},{"$f":"'Data Input'!$V$2","v":1},{"$f":"'Data Input'!$V$5","v":0},{"$f":"'Data Input'!$V$3","v":0},{"$f":"'Data Input'!$V$4","v":0}]
[null,{"$f":"'Data Input'!$K$8","v":"B"},{"$f":"'Data Input'!$K$1","v":9},{"$f":"'Data Input'!$K$7","v":1},{"$f":"'Data Input'!$K$6","v":"too shiny/chubby conclusion"},{"$f":"'Data Input'!$K$2","v":1},{"$f":"'Data Input'!$K$5","v":0},{"$f":"'Data Input'!$K$3","v":0},{"$f":"'Data Input'!$K$4","v":0}]
[null,{"$f":"'Data Input'!$P$8","v":"B"},{"$f":"'Data Input'!$P$1","v":13},{"$f":"'Data Input'!$P$7","v":1},{"$f":"'Data Input'!$P$6","v":"Who else speaks Spanish"},{"$f":"'Data Input'!$P$2","v":1},{"$f":"'Data Input'!$P$5","v":0},{"$f":"'Data Input'!$P$3","v":0},{"$f":"'Data Input'!$P$4","v":0}]
[null,{"$f":"'Data Input'!$AZ$8","v":"B"},{"$f":"'Data Input'!$AZ$1","v":39},{"$f":"'Data Input'!$AZ$7","v":3},{"$f":"'Data Input'!$AZ$6","v":"Statements True/False"},{"$f":"'Data Input'!$AZ$2","v":1},{"$f":"'Data Input'!$AZ$5","v":0},{"$f":"'Data Input'!$AZ$3","v":0},{"$f":"'Data Input'!$AZ$4","v":0}]
[null,{"$f":"'Data Input'!$AA$8","v":"B"},{"$f":"'Data Input'!$AA$1","v":22},{"$f":"'Data Input'!$AA$7","v":2},{"$f":"'Data Input'!$AA$6","v":"How long is fasted swim"},{"$f":"'Data Input'!$AA$2","v":1},{"$f":"'Data Input'!$AA$5","v":0},{"$f":"'Data Input'!$AA$3","v":0},{"$f":"'Data Input'!$AA$4","v":0}]
[null,{"$f":"'Data Input'!$O$8","v":"B"},{"$f":"'Data Input'!$O$1","v":12},{"$f":"'Data Input'!$O$7","v":1},{"$f":"'Data Input'!$O$6","v":"One piece of advice from mum"},{"$f":"'Data Input'!$O$2","v":1},{"$f":"'Data Input'!$O$5","v":0},{"$f":"'Data Input'!$O$3","v":0},{"$f":"'Data Input'!$O$4","v":0}]
[null,{"$f":"'Data Input'!$Z$8","v":"B"},{"$f":"'Data Input'!$Z$1","v":21},{"$f":"'Data Input'!$Z$7","v":2},{"$f":"'Data Input'!$Z$6","v":"Why slow swimmers go further"},{"$f":"'Data Input'!$Z$2","v":1},{"$f":"'Data Input'!$Z$5","v":0},{"$f":"'Data Input'!$Z$3","v":0},{"$f":"'Data Input'!$Z$4","v":0}]
[null,{"$f":"'Data Input'!$W$8","v":"B"},{"$f":"'Data Input'!$W$1","v":"19i"},{"$f":"'Data Input'!$W$7","v":2},{"$f":"'Data Input'!$W$6","v":"Identify hardships and solution"},{"$f":"'Data Input'!$W$2","v":1},{"$f":"'Data Input'!$W$5","v":0},{"$f":"'Data Input'!$W$3","v":0},{"$f":"'Data Input'!$W$4","v":0}]
[null,{"$f":"'Data Input'!$I$8","v":"B"},{"$f":"'Data Input'!$I$1","v":7},{"$f":"'Data Input'!$I$7","v":1},{"$f":"'Data Input'!$I$6","v":"What is Gaby's first mistake"},{"$f":"'Data Input'!$I$2","v":1},{"$f":"'Data Input'!$I$5","v":0},{"$f":"'Data Input'!$I$3","v":0},{"$f":"'Data Input'!$I$4","v":0}]
[null,{"$f":"'Data Input'!$AD$8","v":"B"},{"$f":"'Data Input'!$AD$1","v":24},{"$f":"'Data Input'!$AD$7","v":2},{"$f":"'Data Input'!$AD$6","v":"Year channel swim made illegal"},{"$f":"'Data Input'!$AD$2","v":1},{"$f":"'Data Input'!$AD$5","v":0},{"$f":"'Data Input'!$AD$3","v":0},{"$f":"'Data Input'!$AD$4","v":0}]
[null,{"$f":"'Data Input'!$G$8","v":"B"},{"$f":"'Data Input'!$G$1","v":5},{"$f":"'Data Input'!$G$7","v":1},{"$f":"'Data Input'!$G$6","v":"Why climbed tree last summer"},{"$f":"'Data Input'!$G$2","v":1},{"$f":"'Data Input'!$G$5","v":0},{"$f":"'Data Input'!$G$3","v":0},{"$f":"'Data Input'!$G$4","v":0}]
[]
[null,{"$f":"'Data Input'!$Q$8","v":"C"},{"$f":"'Data Input'!$Q$1","v":14},{"$f":"'Data Input'!$Q$7","v":1},{"$f":"'Data Input'!$Q$6","v":"Order events in story"},{"$f":"'Data Input'!$Q$2","v":1},{"$f":"'Data Input'!$Q$5","v":0},{"$f":"'Data Input'!$Q$3","v":0},{"$f":"'Data Input'!$Q$4","v":0}]
[null,{"$f":"'Data Input'!$AG$8","v":"C"},{"$f":"'Data Input'!$AG$1","v":27},{"$f":"'Data Input'!$AG$7","v":2},{"$f":"'Data Input'!$AG$6","v":"Identify summary of text"},{"$f":"'Data Input'!$AG$2","v":1},{"$f":"'Data Input'!$AG$5","v":0},{"$f":"'Data Input'!$AG$3","v":0},{"$f":"'Data Input'!$AG$4","v":0}]
[]
[null,{"$f":"'Data Input'!$AQ$8","v":"D"},{"$f":"'Data Input'!$AQ$1","v":"34a"},{"$f":"'Data Input'!$AQ$7","v":3},{"$f":"'Data Input'!$AQ$6","v":"Why expected whale feel smooth"},{"$f":"'Data Input'!$AQ$2","v":1},{"$f":"'Data Input'!$AQ$5","v":0},{"$f":"'Data Input'!$AQ$3","v":0},{"$f":"'Data Input'!$AQ$4","v":0}]
[null,{"$f":"'Data Input'!$D$8","v":"D"},{"$f":"'Data Input'!$D$1","v":2},{"$f":"'Data Input'!$D$7","v":1},{"$f":"'Data Input'!$D$6","v":"Why Gaby pulled cardigan"},{"$f":"'Data Input'!$D$2","v":1},{"$f":"'Data Input'!$D$5","v":0},{"$f":"'Data Input'!$D$3","v":0},{"$f":"'Data Input'!$D$4","v":0}]
[null,{"$f":"'Data Input'!$F$8","v":"D"},{"$f":"'Data Input'!$F$1","v":4},{"$f":"'Data Input'!$F$7","v":1},{"$f":"'Data Input'!$F$6","v":"What is cat saying when meows"},{"$f":"'Data Input'!$F$2","v":1},{"$f":"'Data Input'!$F$5","v":0},{"$f":"'Data Input'!$F$3","v":0},{"$f":"'Data Input'!$F$4","v":0}]
[null,{"$f":"'Data Input'!$AV$8","v":"D"},{"$f":"'Data Input'!$AV$1","v":"36iii"},{"$f":"'Data Input'!$AV$7","v":3},{"$f":"'Data Input'!$AV$6","v":"Explain Michael's character"},{"$f":"'Data Input'!$AV$2","v":1},{"$f":"'Data Input'!$AV$5","v":0},{"$f":"'Data Input'!$AV$3","v":0},{"$f":"'Data Input'!$AV$4","v":0}]
[null,{"$f":"'Data Input'!$AO$8","v":"D"},{"$f":"'Data Input'!$AO$1","v":"33ii"},{"$f":"'Data Input'!$AO$7","v":3},{"$f":"'Data Input'!$AO$6","v":"How whale seems nysterious"},{"$f":"'Data Input'!$AO$2","v":1},{"$f":"'Data Input'!$AO$5","v":0},{"$f":"'Data Input'!$AO$3","v":0},{"$f":"'Data Input'!$AO$4","v":0}]
[null,{"$f":"'Data Input'!$AW$8","v":"D"},{"$f":"'Data Input'!$AW$1","v":"37i"},{"$f":"'Data Input'!$AW$7","v":3},{"$f":"'Data Input'!$AW$6","v":"How we know whale not alarmed"},{"$f":"'Data Input'!$AW$2","v":1},{"$f":"'Data Input'!$AW$5","v":0},{"$f":"'Data Input'!$AW$3","v":0},{"$f":"'Data Input'!$AW$4","v":0}]
[null,{"$f":"'Data Input'!$AT$8","v":"D"},{"$f":"'Data Input'!$AT$1","v":"36i"},{"$f":"'Data Input'!$AT$7","v":3},{"$f":"'Data Input'!$AT$6","v":"Explain Michael's character"},{"$f":"'Data Input'!$AT$2","v":1},{"$f":"'Data Input'!$AT$5","v":0},{"$f":"'Data Input'!$AT$3","v":0},{"$f":"'Data Input'!$AT$4","v":0}]
[null,{"$f":"'Data Input'!$AX$8","v":"D"},{"$f":"'Data Input'!$AX$1","v":"37ii"},{"$f":"'Data Input'!$AX$7","v":3},{"$f":"'Data Input'!$AX$6","v":"How we know whale not alarmed"},{"$f":"'Data Input'!$AX$2","v":1},{"$f":"'Data Input'!$AX$5","v":0},{"$f":"'Data Input'!$AX$3","v":0},{"$f":"'Data Input'!$AX$4","v":0}]
[null,{"$f":"'Data Input'!$AR$8","v":"D"},{"$f":"'Data Input'!$AR$1","v":"34b"},{"$f":"'Data Input'!$AR$7","v":3},{"$f":"'Data Input'!$AR$6","v":"Why not expect feel smooth"},{"$f":"'Data Input'!$AR$2","v":1},{"$f":"'Data Input'!$AR$5","v":0},{"$f":"'Data Input'!$AR$3","v":0},{"$f":"'Data Input'!$AR$4","v":0}]
[null,{"$f":"'Data Input'!$AF$8","v":"D"},{"$f":"'Data Input'!$AF$1","v":26},{"$f":"'Data Input'!$AF$7","v":2},{"$f":"'Data Input'!$AF$6","v":"Evidence Walliams determined"},{"$f":"'Data Input'!$AF$2","v":1},{"$f":"'Data Input'!$AF$5","v":0},{"$f":"'Data Input'!$AF$3","v":0},{"$f":"'Data Input'!$AF$4","v":0}]
[null,{"$f":"'Data Input'!$L$8","v":"D"},{"$f":"'Data Input'!$L$1","v":"10i"},{"$f":"'Data Input'!$L$7","v":1},{"$f":"'Data Input'!$L$6","v":"3 ways cat does not enjoy rescue"},{"$f":"'Data Input'!$L$2","v":1},{"$f":"'Data Input'!$L$5","v":0},{"$f":"'Data Input'!$L$3","v":0},{"$f":"'Data Input'!$L$4","v":0}]
[null,{"$f":"'Data Input'!$AS$8","v":"D"},{"$f":"'Data Input'!$AS$1","v":35},{"$f":"'Data Input'!$AS$7","v":3},{"$f":"'Data Input'!$AS$6","v":"Where was the whale"},{"$f":"'Data Input'!$AS$2","v":1},{"$f":"'Data Input'!$AS$5","v":0},{"$f":"'Data Input'!$AS$3","v":0},{"$f":"'Data Input'!$AS$4","v":0}]
[null,{"$f":"'Data Input'!$M$8","v":"D"},{"$f":"'Data Input'!$M$1","v":"10ii"},{"$f":"'Data Input'!$M$7","v":1},{"$f":"'Data Input'!$M$6","v":"3 ways cat does not enjoy rescue"},{"$f":"'Data Input'!$M$2","v":1},{"$f":"'Data Input'!$M$5","v":0},{"$f":"'Data Input'!$M$3","v":0},{"$f":"'Data Input'!$M$4","v":0}]
[null,{"$f":"'Data Input'!$AU$8","v":"D"},{"$f":"'Data Input'!$AU$1","v":"36ii"},{"$f":"'Data Input'!$AU$7","v":3},{"$f":"'Data Input'!$AU$6","v":"Explain Michael's character"},{"$f":"'Data Input'!$AU$2","v":1},{"$f":"'Data Input'!$AU$5","v":0},{"$f":"'Data Input'!$AU$3","v":0},{"$f":"'Data Input'!$AU$4","v":0}]
[null,{"$f":"'Data Input'!$AB$8","v":"D"},{"$f":"'Data Input'!$AB$1","v":"23i"},{"$f":"'Data Input'!$AB$7","v":2},{"$f":"'Data Input'!$AB$6","v":"Statements Fact/Opinion"},{"$f":"'Data Input'!$AB$2","v":1},{"$f":"'Data Input'!$AB$5","v":0},{"$f":"'Data Input'!$AB$3","v":0},{"$f":"'Data Input'!$AB$4","v":0}]
[null,{"$f":"'Data Input'!$AC$8","v":"D"},{"$f":"'Data Input'!$AC$1","v":"23ii"},{"$f":"'Data Input'!$AC$7","v":2},{"$f":"'Data Input'!$AC$6","v":"Statements Fact/Opinion"},{"$f":"'Data Input'!$AC$2","v":1},{"$f":"'Data Input'!$AC$5","v":0},{"$f":"'Data Input'!$AC$3","v":0},{"$f":"'Data Input'!$AC$4","v":0}]
[null,{"$f":"'Data Input'!$E$8","v":"D"},{"$f":"'Data Input'!$E$1","v":3},{"$f":"'Data Input'!$E$7","v":1},{"$f":"'Data Input'!$E$6","v":"What way cat out of luck"},{"$f":"'Data Input'!$E$2","v":1},{"$f":"'Data Input'!$E$5","v":0},{"$f":"'Data Input'!$E$3","v":0},{"$f":"'Data Input'!$E$4","v":0}]
[null,{"$f":"'Data Input'!$AL$8","v":"D"},{"$f":"'Data Input'!$AL$1","v":"31ii"},{"$f":"'Data Input'!$AL$7","v":3},{"$f":"'Data Input'!$AL$6","v":"quiet stillness meaning"},{"$f":"'Data Input'!$AL$2","v":1},{"$f":"'Data Input'!$AL$5","v":0},{"$f":"'Data Input'!$AL$3","v":0},{"$f":"'Data Input'!$AL$4","v":0}]
[null,{"$f":"'Data Input'!$AP$8","v":"D"},{"$f":"'Data Input'!$AP$1","v":"33iii"},{"$f":"'Data Input'!$AP$7","v":3},{"$f":"'Data Input'!$AP$6","v":"How whale seems nysterious"},{"$f":"'Data Input'!$AP$2","v":1},{"$f":"'Data Input'!$AP$5","v":0},{"$f":"'Data Input'!$AP$3","v":0},{"$f":"'Data Input'!$AP$4","v":0}]
[null,{"$f":"'Data Input'!$AY$8","v":"D"},{"$f":"'Data Input'!$AY$1","v":38},{"$f":"'Data Input'!$AY$7","v":3},{"$f":"'Data Input'!$AY$6","v":"At end Michael felt that…"},{"$f":"'Data Input'!$AY$2","v":1},{"$f":"'Data Input'!$AY$5","v":0},{"$f":"'Data Input'!$AY$3","v":0},{"$f":"'Data Input'!$AY$4","v":0}]
[null,{"$f":"'Data Input'!$AJ$8","v":"D"},{"$f":"'Data Input'!$AJ$1","v":30},{"$f":"'Data Input'!$AJ$7","v":3},{"$f":"'Data Input'!$AJ$6","v":"What unusual about the day"},{"$f":"'Data Input'!$AJ$2","v":1},{"$f":"'Data Input'!$AJ$5","v":0},{"$f":"'Data Input'!$AJ$3","v":0},{"$f":"'Data Input'!$AJ$4","v":0}]
[null,{"$f":"'Data Input'!$AN$8","v":"D"},{"$f":"'Data Input'!$AN$1","v":"33i"},{"$f":"'Data Input'!$AN$7","v":3},{"$f":"'Data Input'!$AN$6","v":"How whale seems mysterious"},{"$f":"'Data Input'!$AN$2","v":1},{"$f":"'Data Input'!$AN$5","v":0},{"$f":"'Data Input'!$AN$3","v":0},{"$f":"'Data Input'!$AN$4","v":0}]
[]
[null,{"$f":"'Data Input'!$AH$8","v":"F"},{"$f":"'Data Input'!$AH$1","v":28},{"$f":"'Data Input'!$AH$7","v":2},{"$f":"'Data Input'!$AH$6","v":"Match section to content"},{"$f":"'Data Input'!$AH$2","v":1},{"$f":"'Data Input'!$AH$5","v":0},{"$f":"'Data Input'!$AH$3","v":0},{"$f":"'Data Input'!$AH$4","v":0}]
[]
[null,{"$f":"'Data Input'!$AI$8","v":"G"},{"$f":"'Data Input'!$AI$1","v":29},{"$f":"'Data Input'!$AI$7","v":3},{"$f":"'Data Input'!$AI$6","v":"toy/table suggest about boat"},{"$f":"'Data Input'!$AI$2","v":1},{"$f":"'Data Input'!$AI$5","v":0},{"$f":"'Data Input'!$AI$3","v":0},{"$f":"'Data Input'!$AI$4","v":0}]
[]
[]
[]
[]
[]
[]
[]
[]
[]
[]
[]
[]
[]
[]
[]
[]
[]
[]
[]
[]
[]
[]
[]
[]
[]
[]
[null,"Sorted by Question Type"]
[null,"Strand","Question Number","Sub Category","Short Q","Correct","Incorrect or Unanswered","Incorrect","Unanswered"]
[null,{"$f":"'Data Input'!$C$8","v":"A"},{"$f":"'Data Input'!$C$1","v":1},{"$f":"'Data Input'!$C$7","v":1},{"$f":"'Data Input'!$C$6","v":"Word closest to crouch"},{"$f":"'Data Input'!$C$2","v":1},{"$f":"'Data Input'!$C$5","v":0},{"$f":"'Data Input'!$C$3","v":0},{"$f":"'Data Input'!$C$4","v":0}]
[null,{"$f":"'Data Input'!$D$8","v":"D"},{"$f":"'Data Input'!$D$1","v":2},{"$f":"'Data Input'!$D$7","v":1},{"$f":"'Data Input'!$D$6","v":"Why Gaby pulled cardigan"},{"$f":"'Data Input'!$D$2","v":1},{"$f":"'Data Input'!$D$5","v":0},{"$f":"'Data Input'!$D$3","v":0},{"$f":"'Data Input'!$D$4","v":0}]
[null,{"$f":"'Data Input'!$E$8","v":"D"},{"$f":"'Data Input'!$E$1","v":3},{"$f":"'Data Input'!$E$7","v":1},{"$f":"'Data Input'!$E$6","v":"What way cat out of luck"},{"$f":"'Data Input'!$E$2","v":1},{"$f":"'Data Input'!$E$5","v":0},{"$f":"'Data Input'!$E$3","v":0},{"$f":"'Data Input'!$E$4","v":0}]
[null,{"$f":"'Data Input'!$F$8","v":"D"},{"$f":"'Data Input'!$F$1","v":4},{"$f":"'Data Input'!$F$7","v":1},{"$f":"'Data Input'!$F$6","v":"What is cat saying when meows"},{"$f":"'Data Input'!$F$2","v":1},{"$f":"'Data Input'!$F$5","v":0},{"$f":"'Data Input'!$F$3","v":0},{"$f":"'Data Input'!$F$4","v":0}]
[null,{"$f":"'Data Input'!$G$8","v":"B"},{"$f":"'Data Input'!$G$1","v":5},{"$f":"'Data Input'!$G$7","v":1},{"$f":"'Data Input'!$G$6","v":"Why climbed tree last summer"},{"$f":"'Data Input'!$G$2","v":1},{"$f":"'Data Input'!$G$5","v":0},{"$f":"'Data Input'!$G$3","v":0},{"$f":"'Data Input'!$G$4","v":0}]
[null,{"$f":"'Data Input'!$H$8","v":"A"},{"$f":"'Data Input'!$H$1","v":6},{"$f":"'Data Input'!$H$7","v":1},{"$f":"'Data Input'!$H$6","v":"Secured feet and hands meaning"},{"$f":"'Data Input'!$H$2","v":1},{"$f":"'Data Input'!$H$5","v":0},{"$f":"'Data Input'!$H$3","v":0},{"$f":"'Data Input'!$H$4","v":0}]
[null,{"$f":"'Data Input'!$I$8","v":"B"},{"$f":"'Data Input'!$I$1","v":7},{"$f":"'Data Input'!$I$7","v":1},{"$f":"'Data Input'!$I$6","v":"What is Gaby's first mistake"},{"$f":"'Data Input'!$I$2","v":1},{"$f":"'Data Input'!$I$5","v":0},{"$f":"'Data Input'!$I$3","v":0},{"$f":"'Data Input'!$I$4","v":0}]
[null,{"$f":"'Data Input'!$J$8","v":"A"},{"$f":"'Data Input'!$J$1","v":8},{"$f":"'Data Input'!$J$7","v":1},{"$f":"'Data Input'!$J$6","v":"What does universal tell you"},{"$f":"'Data Input'!$J$2","v":1},{"$f":"'Data Input'!$J$5","v":0},{"$f":"'Data Input'!$J$3","v":0},{"$f":"'Data Input'!$J$4","v":0}]
[null,{"$f":"'Data Input'!$K$8","v":"B"},{"$f":"'Data Input'!$K$1","v":9},{"$f":"'Data Input'!$K$7","v":1},{"$f":"'Data Input'!$K$6","v":"too shiny/chubby conclusion"},{"$f":"'Data Input'!$K$2","v":1},{"$f":"'Data Input'!$K$5","v":0},{"$f":"'Data Input'!$K$3","v":0},{"$f":"'Data Input'!$K$4","v":0}]
[null,{"$f":"'Data Input'!$L$8","v":"D"},{"$f":"'Data Input'!$L$1","v":"10i"},{"$f":"'Data Input'!$L$7","v":1},{"$f":"'Data Input'!$L$6","v":"3 ways cat does not enjoy rescue"},{"$f":"'Data Input'!$L$2","v":1},{"$f":"'Data Input'!$L$5","v":0},{"$f":"'Data Input'!$L$3","v":0},{"$f":"'Data Input'!$L$4","v":0}]
[null,{"$f":"'Data Input'!$M$8","v":"D"},{"$f":"'Data Input'!$M$1","v":"10ii"},{"$f":"'Data Input'!$M$7","v":1},{"$f":"'Data Input'!$M$6","v":"3 ways cat does not enjoy rescue"},{"$f":"'Data Input'!$M$2","v":1},{"$f":"'Data Input'!$M$5","v":0},{"$f":"'Data Input'!$M$3","v":0},{"$f":"'Data Input'!$M$4","v":0}]
[null,{"$f":"'Data Input'!$N$8","v":"A"},{"$f":"'Data Input'!$N$1","v":11},{"$f":"'Data Input'!$N$7","v":1},{"$f":"'Data Input'!$N$6","v":"Considering her options meaning"},{"$f":"'Data Input'!$N$2","v":1},{"$f":"'Data Input'!$N$5","v":0},{"$f":"'Data Input'!$N$3","v":0},{"$f":"'Data Input'!$N$4","v":0}]
[null,{"$f":"'Data Input'!$O$8","v":"B"},{"$f":"'Data Input'!$O$1","v":12},{"$f":"'Data Input'!$O$7","v":1},{"$f":"'Data Input'!$O$6","v":"One piece of advice from mum"},{"$f":"'Data Input'!$O$2","v":1},{"$f":"'Data Input'!$O$5","v":0},{"$f":"'Data Input'!$O$3","v":0},{"$f":"'Data Input'!$O$4","v":0}]
[null,{"$f":"'Data Input'!$P$8","v":"B"},{"$f":"'Data Input'!$P$1","v":13},{"$f":"'Data Input'!$P$7","v":1},{"$f":"'Data Input'!$P$6","v":"Who else speaks Spanish"},{"$f":"'Data Input'!$P$2","v":1},{"$f":"'Data Input'!$P$5","v":0},{"$f":"'Data Input'!$P$3","v":0},{"$f":"'Data Input'!$P$4","v":0}]
[null,{"$f":"'Data Input'!$Q$8","v":"C"},{"$f":"'Data Input'!$Q$1","v":14},{"$f":"'Data Input'!$Q$7","v":1},{"$f":"'Data Input'!$Q$6","v":"Order events in story"},{"$f":"'Data Input'!$Q$2","v":1},{"$f":"'Data Input'!$Q$5","v":0},{"$f":"'Data Input'!$Q$3","v":0},{"$f":"'Data Input'!$Q$4","v":0}]
[null,{"$f":"'Data Input'!$R$8","v":"A"},{"$f":"'Data Input'!$R$1","v":15},{"$f":"'Data Input'!$R$7","v":2},{"$f":"'Data Input'!$R$6","v":"Two different words showing tired"},{"$f":"'Data Input'!$R$2","v":1},{"$f":"'Data Input'!$R$5","v":0},{"$f":"'Data Input'!$R$3","v":0},{"$f":"'Data Input'!$R$4","v":0}]
[null,{"$f":"'Data Input'!$S$8","v":"B"},{"$f":"'Data Input'!$S$1","v":16},{"$f":"'Data Input'!$S$7","v":2},{"$f":"'Data Input'!$S$6","v":"Event made Webb swim Channel"},{"$f":"'Data Input'!$S$2","v":1},{"$f":"'Data Input'!$S$5","v":0},{"$f":"'Data Input'!$S$3","v":0},{"$f":"'Data Input'!$S$4","v":0}]
[null,{"$f":"'Data Input'!$T$8","v":"A"},{"$f":"'Data Input'!$T$1","v":17},{"$f":"'Data Input'!$T$7","v":2},{"$f":"'Data Input'!$T$6","v":"Word meaning motivated"},{"$f":"'Data Input'!$T$2","v":1},{"$f":"'Data Input'!$T$5","v":0},{"$f":"'Data Input'!$T$3","v":0},{"$f":"'Data Input'!$T$4","v":0}]
[null,{"$f":"'Data Input'!$U$8","v":"B"},{"$f":"'Data Input'!$U$1","v":"18i"},{"$f":"'Data Input'!$U$7","v":2},{"$f":"'Data Input'!$U$6","v":"Statements True/False"},{"$f":"'Data Input'!$U$2","v":1},{"$f":"'Data Input'!$U$5","v":0},{"$f":"'Data Input'!$U$3","v":0},{"$f":"'Data Input'!$U$4","v":0}]
[null,{"$f":"'Data Input'!$V$8","v":"B"},{"$f":"'Data Input'!$V$1","v":"18ii"},{"$f":"'Data Input'!$V$7","v":2},{"$f":"'Data Input'!$V$6","v":"Statements True/False"},{"$f":"'Data Input'!$V$2","v":1},{"$f":"'Data Input'!$V$5","v":0},{"$f":"'Data Input'!$V$3","v":0},{"$f":"'Data Input'!$V$4","v":0}]
[null,{"$f":"'Data Input'!$W$8","v":"B"},{"$f":"'Data Input'!$W$1","v":"19i"},{"$f":"'Data Input'!$W$7","v":2},{"$f":"'Data Input'!$W$6","v":"Identify hardships and solution"},{"$f":"'Data Input'!$W$2","v":1},{"$f":"'Data Input'!$W$5","v":0},{"$f":"'Data Input'!$W$3","v":0},{"$f":"'Data Input'!$W$4","v":0}]
[null,{"$f":"'Data Input'!$X$8","v":"B"},{"$f":"'Data Input'!$X$1","v":"19ii"},{"$f":"'Data Input'!$X$7","v":2},{"$f":"'Data Input'!$X$6","v":"Identify hardships and solution"},{"$f":"'Data Input'!$X$2","v":1},{"$f":"'Data Input'!$X$5","v":0},{"$f":"'Data Input'!$X$3","v":0},{"$f":"'Data Input'!$X$4","v":0}]
[null,{"$f":"'Data Input'!$Y$8","v":"A"},{"$f":"'Data Input'!$Y$1","v":20},{"$f":"'Data Input'!$Y$7","v":2},{"$f":"'Data Input'!$Y$6","v":"Phrase meaning unusual today"},{"$f":"'Data Input'!$Y$2","v":1},{"$f":"'Data Input'!$Y$5","v":0},{"$f":"'Data Input'!$Y$3","v":0},{"$f":"'Data Input'!$Y$4","v":0}]
[null,{"$f":"'Data Input'!$Z$8","v":"B"},{"$f":"'Data Input'!$Z$1","v":21},{"$f":"'Data Input'!$Z$7","v":2},{"$f":"'Data Input'!$Z$6","v":"Why slow swimmers go further"},{"$f":"'Data Input'!$Z$2","v":1},{"$f":"'Data Input'!$Z$5","v":0},{"$f":"'Data Input'!$Z$3","v":0},{"$f":"'Data Input'!$Z$4","v":0}]
[null,{"$f":"'Data Input'!$AA$8","v":"B"},{"$f":"'Data Input'!$AA$1","v":22},{"$f":"'Data Input'!$AA$7","v":2},{"$f":"'Data Input'!$AA$6","v":"How long is fasted swim"},{"$f":"'Data Input'!$AA$2","v":1},{"$f":"'Data Input'!$AA$5","v":0},{"$f":"'Data Input'!$AA$3","v":0},{"$f":"'Data Input'!$AA$4","v":0}]
[null,{"$f":"'Data Input'!$AB$8","v":"D"},{"$f":"'Data Input'!$AB$1","v":"23i"},{"$f":"'Data Input'!$AB$7","v":2},{"$f":"'Data Input'!$AB$6","v":"Statements Fact/Opinion"},{"$f":"'Data Input'!$AB$2","v":1},{"$f":"'Data Input'!$AB$5","v":0},{"$f":"'Data Input'!$AB$3","v":0},{"$f":"'Data Input'!$AB$4","v":0}]
[null,{"$f":"'Data Input'!$AC$8","v":"D"},{"$f":"'Data Input'!$AC$1","v":"23ii"},{"$f":"'Data Input'!$AC$7","v":2},{"$f":"'Data Input'!$AC$6","v":"Statements Fact/Opinion"},{"$f":"'Data Input'!$AC$2","v":1},{"$f":"'Data Input'!$AC$5","v":0},{"$f":"'Data Input'!$AC$3","v":0},{"$f":"'Data Input'!$AC$4","v":0}]
[null,{"$f":"'Data Input'!$AD$8","v":"B"},{"$f":"'Data Input'!$AD$1","v":24},{"$f":"'Data Input'!$AD$7","v":2},{"$f":"'Data Input'!$AD$6","v":"Year channel swim made illegal"},{"$f":"'Data Input'!$AD$2","v":1},{"$f":"'Data Input'!$AD$5","v":0},{"$f":"'Data Input'!$AD$3","v":0},{"$f":"'Data Input'!$AD$4","v":0}]
[null,{"$f":"'Data Input'!$AE$8","v":"A"},{"$f":"'Data Input'!$AE$1","v":25},{"$f":"'Data Input'!$AE$7","v":2},{"$f":"'Data Input'!$AE$6","v":"Word showing swim is illegal"},{"$f":"'Data Input'!$AE$2","v":1},{"$f":"'Data Input'!$AE$5","v":0},{"$f":"'Data Input'!$AE$3","v":0},{"$f":"'Data Input'!$AE$4","v":0}]
[null,{"$f":"'Data Input'!$AF$8","v":"D"},{"$f":"'Data Input'!$AF$1","v":26},{"$f":"'Data Input'!$AF$7","v":2},{"$f":"'Data Input'!$AF$6","v":"Evidence Walliams determined"},{"$f":"'Data Input'!$AF$2","v":1},{"$f":"'Data Input'!$AF$5","v":0},{"$f":"'Data Input'!$AF$3","v":0},{"$f":"'Data Input'!$AF$4","v":0}]
[null,{"$f":"'Data Input'!$AG$8","v":"C"},{"$f":"'Data Input'!$AG$1","v":27},{"$f":"'Data Input'!$AG$7","v":2},{"$f":"'Data Input'!$AG$6","v":"Identify summary of text"},{"$f":"'Data Input'!$AG$2","v":1},{"$f":"'Data Input'!$AG$5","v":0},{"$f":"'Data Input'!$AG$3","v":0},{"$f":"'Data Input'!$AG$4","v":0}]
[null,{"$f":"'Data Input'!$AH$8","v":"F"},{"$f":"'Data Input'!$AH$1","v":28},{"$f":"'Data Input'!$AH$7","v":2},{"$f":"'Data Input'!$AH$6","v":"Match section to content"},{"$f":"'Data Input'!$AH$2","v":1},{"$f":"'Data Input'!$AH$5","v":0},{"$f":"'Data Input'!$AH$3","v":0},{"$f":"'Data Input'!$AH$4","v":0}]
[null,{"$f":"'Data Input'!$AI$8","v":"G"},{"$f":"'Data Input'!$AI$1","v":29},{"$f":"'Data Input'!$AI$7","v":3},{"$f":"'Data Input'!$AI$6","v":"toy/table suggest about boat"},{"$f":"'Data Input'!$AI$2","v":1},{"$f":"'Data Input'!$AI$5","v":0},{"$f":"'Data Input'!$AI$3","v":0},{"$f":"'Data Input'!$AI$4","v":0}]
[null,{"$f":"'Data Input'!$AJ$8","v":"D"},{"$f":"'Data Input'!$AJ$1","v":30},{"$f":"'Data Input'!$AJ$7","v":3},{"$f":"'Data Input'!$AJ$6","v":"What unusual about the day"},{"$f":"'Data Input'!$AJ$2","v":1},{"$f":"'Data Input'!$AJ$5","v":0},{"$f":"'Data Input'!$AJ$3","v":0},{"$f":"'Data Input'!$AJ$4","v":0}]
[null,{"$f":"'Data Input'!$AK$8","v":"A"},{"$f":"'Data Input'!$AK$1","v":"31i"},{"$f":"'Data Input'!$AK$7","v":3},{"$f":"'Data Input'!$AK$6","v":"putt-putt meaning"},{"$f":"'Data Input'!$AK$2","v":1},{"$f":"'Data Input'!$AK$5","v":0},{"$f":"'Data Input'!$AK$3","v":0},{"$f":"'Data Input'!$AK$4","v":0}]
[null,{"$f":"'Data Input'!$AL$8","v":"D"},{"$f":"'Data Input'!$AL$1","v":"31ii"},{"$f":"'Data Input'!$AL$7","v":3},{"$f":"'Data Input'!$AL$6","v":"quiet stillness meaning"},{"$f":"'Data Input'!$AL$2","v":1},{"$f":"'Data Input'!$AL$5","v":0},{"$f":"'Data Input'!$AL$3","v":0},{"$f":"'Data Input'!$AL$4","v":0}]
[null,{"$f":"'Data Input'!$AM$8","v":"A"},{"$f":"'Data Input'!$AM$1","v":32},{"$f":"'Data Input'!$AM$7","v":3},{"$f":"'Data Input'!$AM$6","v":"2 words showing enjoyed water"},{"$f":"'Data Input'!$AM$2","v":1},{"$f":"'Data Input'!$AM$5","v":0},{"$f":"'Data Input'!$AM$3","v":0},{"$f":"'Data Input'!$AM$4","v":0}]
[null,{"$f":"'Data Input'!$AN$8","v":"D"},{"$f":"'Data Input'!$AN$1","v":"33i"},{"$f":"'Data Input'!$AN$7","v":3},{"$f":"'Data Input'!$AN$6","v":"How whale seems mysterious"},{"$f":"'Data Input'!$AN$2","v":1},{"$f":"'Data Input'!$AN$5","v":0},{"$f":"'Data Input'!$AN$3","v":0},{"$f":"'Data Input'!$AN$4","v":0}]
[null,{"$f":"'Data Input'!$AO$8","v":"D"},{"$f":"'Data Input'!$AO$1","v":"33ii"},{"$f":"'Data Input'!$AO$7","v":3},{"$f":"'Data Input'!$AO$6","v":"How whale seems nysterious"},{"$f":"'Data Input'!$AO$2","v":1},{"$f":"'Data Input'!$AO$5","v":0},{"$f":"'Data Input'!$AO$3","v":0},{"$f":"'Data Input'!$AO$4","v":0}]
[null,{"$f":"'Data Input'!$AP$8","v":"D"},{"$f":"'Data Input'!$AP$1","v":"33iii"},{"$f":"'Data Input'!$AP$7","v":3},{"$f":"'Data Input'!$AP$6","v":"How whale seems nysterious"},{"$f":"'Data Input'!$AP$2","v":1},{"$f":"'Data Input'!$AP$5","v":0},{"$f":"'Data Input'!$AP$3","v":0},{"$f":"'Data Input'!$AP$4","v":0}]
[null,{"$f":"'Data Input'!$AQ$8","v":"D"},{"$f":"'Data Input'!$AQ$1","v":"34a"},{"$f":"'Data Input'!$AQ$7","v":3},{"$f":"'Data Input'!$AQ$6","v":"Why expected whale feel smooth"},{"$f":"'Data Input'!$AQ$2","v":1},{"$f":"'Data Input'!$AQ$5","v":0},{"$f":"'Data Input'!$AQ$3","v":0},{"$f":"'Data Input'!$AQ$4","v":0}]
[null,{"$f":"'Data Input'!$AR$8","v":"D"},{"$f":"'Data Input'!$AR$1","v":"34b"},{"$f":"'Data Input'!$AR$7","v":3},{"$f":"'Data Input'!$AR$6","v":"Why not expect feel smooth"},{"$f":"'Data Input'!$AR$2","v":1},{"$f":"'Data Input'!$AR$5","v":0},{"$f":"'Data Input'!$AR$3","v":0},{"$f":"'Data Input'!$AR$4","v":0}]
[null,{"$f":"'Data Input'!$AS$8","v":"D"},{"$f":"'Data Input'!$AS$1","v":35},{"$f":"'Data Input'!$AS$7","v":3},{"$f":"'Data Input'!$AS$6","v":"Where was the whale"},{"$f":"'Data Input'!$AS$2","v":1},{"$f":"'Data Input'!$AS$5","v":0},{"$f":"'Data Input'!$AS$3","v":0},{"$f":"'Data Input'!$AS$4","v":0}]
[null,{"$f":"'Data Input'!$AT$8","v":"D"},{"$f":"'Data Input'!$AT$1","v":"36i"},{"$f":"'Data Input'!$AT$7","v":3},{"$f":"'Data Input'!$AT$6","v":"Explain Michael's character"},{"$f":"'Data Input'!$AT$2","v":1},{"$f":"'Data Input'!$AT$5","v":0},{"$f":"'Data Input'!$AT$3","v":0},{"$f":"'Data Input'!$AT$4","v":0}]
[null,{"$f":"'Data Input'!$AU$8","v":"D"},{"$f":"'Data Input'!$AU$1","v":"36ii"},{"$f":"'Data Input'!$AU$7","v":3},{"$f":"'Data Input'!$AU$6","v":"Explain Michael's character"},{"$f":"'Data Input'!$AU$2","v":1},{"$f":"'Data Input'!$AU$5","v":0},{"$f":"'Data Input'!$AU$3","v":0},{"$f":"'Data Input'!$AU$4","v":0}]
[null,{"$f":"'Data Input'!$AV$8","v":"D"},{"$f":"'Data Input'!$AV$1","v":"36iii"},{"$f":"'Data Input'!$AV$7","v":3},{"$f":"'Data Input'!$AV$6","v":"Explain Michael's character"},{"$f":"'Data Input'!$AV$2","v":1},{"$f":"'Data Input'!$AV$5","v":0},{"$f":"'Data Input'!$AV$3","v":0},{"$f":"'Data Input'!$AV$4","v":0}]
[null,{"$f":"'Data Input'!$AW$8","v":"D"},{"$f":"'Data Input'!$AW$1","v":"37i"},{"$f":"'Data Input'!$AW$7","v":3},{"$f":"'Data Input'!$AW$6","v":"How we know whale not alarmed"},{"$f":"'Data Input'!$AW$2","v":1},{"$f":"'Data Input'!$AW$5","v":0},{"$f":"'Data Input'!$AW$3","v":0},{"$f":"'Data Input'!$AW$4","v":0}]
[null,{"$f":"'Data Input'!$AX$8","v":"D"},{"$f":"'Data Input'!$AX$1","v":"37ii"},{"$f":"'Data Input'!$AX$7","v":3},{"$f":"'Data Input'!$AX$6","v":"How we know whale not alarmed"},{"$f":"'Data Input'!$AX$2","v":1},{"$f":"'Data Input'!$AX$5","v":0},{"$f":"'Data Input'!$AX$3","v":0},{"$f":"'Data Input'!$AX$4","v":0}]
[null,{"$f":"'Data Input'!$AY$8","v":"D"},{"$f":"'Data Input'!$AY$1","v":38},{"$f":"'Data Input'!$AY$7","v":3},{"$f":"'Data Input'!$AY$6","v":"At end Michael felt that…"},{"$f":"'Data Input'!$AY$2","v":1},{"$f":"'Data Input'!$AY$5","v":0},{"$f":"'Data Input'!$AY$3","v":0},{"$f":"'Data Input'!$AY$4","v":0}]
[null,{"$f":"'Data Input'!$AZ$8","v":"B"},{"$f":"'Data Input'!$AZ$1","v":39},{"$f":"'Data Input'!$AZ$7","v":3},{"$f":"'Data Input'!$AZ$6","v":"Statements True/False"},{"$f":"'Data Input'!$AZ$2","v":1},{"$f":"'Data Input'!$AZ$5","v":0},{"$f":"'Data Input'!$AZ$3","v":0},{"$f":"'Data Input'!$AZ$4","v":0}]
[]
[]
[]
[null,null,null,"Sorted by Correct",null,null,null,null,null,null,null,null,null,null,"Sorted by Correct"]
[null,null,null,"Strand","Question Number","Sub Category","Short Q","Correct","Incorrect or Unanswered","Incorrect","Unanswered",null,null,null,"Strand","Question Number","Sub Category","Short Q","Correct","Incorrect or unanswered","Incorrect","Unanswered"]
[null,{"$f":"RANK(C141,$C$141:$C$210)","v":1},{"$f":" H141 - ROW()*0.000000001","v":0.99999985899999999},{"$f":"'Data Input'!$C$8","v":"A"},{"$f":"'Data Input'!$C$1","v":1},{"$f":"'Data Input'!$C$7","v":1},{"$f":"'Data Input'!$C$6","v":"Word closest to crouch"},{"$f":"'Data Input'!$C$2","v":1},{"$f":"'Data Input'!$C$5","v":0},{"$f":"'Data Input'!$C$3","v":0},{"$f":"'Data Input'!$C$4","v":0},null,{"$f":"VLOOKUP(ROW()-ROW(M$140),$B$141:$J$210,1,FALSE)","v":1},{"$f":"VLOOKUP(ROW()-ROW(M$140),$B$141:$J$210,2,FALSE)","v":0.99999985899999999},{"$f":"VLOOKUP(ROW()-ROW(M$140),$B$141:$J$210,3,FALSE)","v":"A"},{"$f":"VLOOKUP(ROW()-ROW(M$140),$B$141:$J$210,4,FALSE)","v":1},{"$f":"VLOOKUP(ROW()-ROW(M$140),$B$141:$J$210,5,FALSE)","v":1},{"$f":"VLOOKUP(ROW()-ROW(M$140),$B$141:$J$210,6,FALSE)","v":"Word closest to crouch"},{"$f":"VLOOKUP(ROW()-ROW(M$140),$B$141:$J$210,7,FALSE)","v":1},{"$f":"VLOOKUP(ROW()-ROW(M$140),$B$141:$J$210,8,FALSE)","v":0},{"$f":"VLOOKUP(ROW()-ROW(M$140),$B$141:$K$210,9,FALSE)","v":0},{"$f":"VLOOKUP(ROW()-ROW(M$140),$B$141:$K$210,10,FALSE)","v":0}]
[null,2,{"$f":" H142 - ROW()*0.000000001","v":0.99999985800000002},{"$f":"'Data Input'!$D$8","v":"D"},{"$f":"'Data Input'!$D$1","v":2},{"$f":"'Data Input'!$D$7","v":1},{"$f":"'Data Input'!$D$6","v":"Why Gaby pulled cardigan"},{"$f":"'Data Input'!$D$2","v":1},{"$f":"'Data Input'!$D$5","v":0},{"$f":"'Data Input'!$D$3","v":0},{"$f":"'Data Input'!$D$4","v":0},null,2,0.99999985800000002,{"$f":"VLOOKUP(ROW()-ROW(M$140),$B$141:$J$210,3,FALSE)","v":"D"},{"$f":"VLOOKUP(ROW()-ROW(M$140),$B$141:$J$210,4,FALSE)","v":2},{"$f":"VLOOKUP(ROW()-ROW(M$140),$B$141:$J$210,5,FALSE)","v":1},{"$f":"VLOOKUP(ROW()-ROW(M$140),$B$141:$J$210,6,FALSE)","v":"Why Gaby pulled cardigan"},{"$f":"VLOOKUP(ROW()-ROW(M$140),$B$141:$J$210,7,FALSE)","v":1},{"$f":"VLOOKUP(ROW()-ROW(M$140),$B$141:$J$210,8,FALSE)","v":0},{"$f":"VLOOKUP(ROW()-ROW(M$140),$B$141:$K$210,9,FALSE)","v":0},{"$f":"VLOOKUP(ROW()-ROW(M$140),$B$141:$K$210,10,FALSE)","v":0}]
[null,3,0.99999985700000005,{"$f":"'Data Input'!$E$8","v":"D"},{"$f":"'Data Input'!$E$1","v":3},{"$f":"'Data Input'!$E$7","v":1},{"$f":"'Data Input'!$E$6","v":"What way cat out of luck"},{"$f":"'Data Input'!$E$2","v":1},{"$f":"'Data Input'!$E$5","v":0},{"$f":"'Data Input'!$E$3","v":0},{"$f":"'Data Input'!$E$4","v":0},null,3,0.99999985700000005,"D",3,1,"What way cat out of luck",1,0,0,0]
[null,4,0.99999985599999996,{"$f":"'Data Input'!$F$8","v":"D"},{"$f":"'Data Input'!$F$1","v":4},{"$f":"'Data Input'!$F$7","v":1},{"$f":"'Data Input'!$F$6","v":"What is cat saying when meows"},{"$f":"'Data Input'!$F$2","v":1},{"$f":"'Data Input'!$F$5","v":0},{"$f":"'Data Input'!$F$3","v":0},{"$f":"'Data Input'!$F$4","v":0},null,4,0.99999985599999996,"D",4,1,"What is cat saying when meows",1,0,0,0]
[null,5,0.99999985499999999,{"$f":"'Data Input'!$G$8","v":"B"},{"$f":"'Data Input'!$G$1","v":5},{"$f":"'Data Input'!$G$7","v":1},{"$f":"'Data Input'!$G$6","v":"Why climbed tree last summer"},{"$f":"'Data Input'!$G$2","v":1},{"$f":"'Data Input'!$G$5","v":0},{"$f":"'Data Input'!$G$3","v":0},{"$f":"'Data Input'!$G$4","v":0},null,5,0.99999985499999999,"B",5,1,"Why climbed tree last summer",1,0,0,0]
[null,6,0.99999985400000002,{"$f":"'Data Input'!$H$8","v":"A"},{"$f":"'Data Input'!$H$1","v":6},{"$f":"'Data Input'!$H$7","v":1},{"$f":"'Data Input'!$H$6","v":"Secured feet and hands meaning"},{"$f":"'Data Input'!$H$2","v":1},{"$f":"'Data Input'!$H$5","v":0},{"$f":"'Data Input'!$H$3","v":0},{"$f":"'Data Input'!$H$4","v":0},null,6,0.99999985400000002,"A",6,1,"Secured feet and hands meaning",1,0,0,0]
[null,7,0.99999985300000005,{"$f":"'Data Input'!$I$8","v":"B"},{"$f":"'Data Input'!$I$1","v":7},{"$f":"'Data Input'!$I$7","v":1},{"$f":"'Data Input'!$I$6","v":"What is Gaby's first mistake"},{"$f":"'Data Input'!$I$2","v":1},{"$f":"'Data Input'!$I$5","v":0},{"$f":"'Data Input'!$I$3","v":0},{"$f":"'Data Input'!$I$4","v":0},null,7,0.99999985300000005,"B",7,1,"What is Gaby's first mistake",1,0,0,0]
[null,8,0.99999985199999997,{"$f":"'Data Input'!$J$8","v":"A"},{"$f":"'Data Input'!$J$1","v":8},{"$f":"'Data Input'!$J$7","v":1},{"$f":"'Data Input'!$J$6","v":"What does universal tell you"},{"$f":"'Data Input'!$J$2","v":1},{"$f":"'Data Input'!$J$5","v":0},{"$f":"'Data Input'!$J$3","v":0},{"$f":"'Data Input'!$J$4","v":0},null,8,0.99999985199999997,"A",8,1,"What does universal tell you",1,0,0,0]
[null,9,0.999999851,{"$f":"'Data Input'!$K$8","v":"B"},{"$f":"'Data Input'!$K$1","v":9},{"$f":"'Data Input'!$K$7","v":1},{"$f":"'Data Input'!$K$6","v":"too shiny/chubby conclusion"},{"$f":"'Data Input'!$K$2","v":1},{"$f":"'Data Input'!$K$5","v":0},{"$f":"'Data Input'!$K$3","v":0},{"$f":"'Data Input'!$K$4","v":0},null,9,0.999999851,{"$f":"VLOOKUP(ROW()-ROW(M$140),$B$141:$J$210,3,FALSE)","v":"B"},{"$f":"VLOOKUP(ROW()-ROW(M$140),$B$141:$J$210,4,FALSE)","v":9},{"$f":"VLOOKUP(ROW()-ROW(M$140),$B$141:$J$210,5,FALSE)","v":1},{"$f":"VLOOKUP(ROW()-ROW(M$140),$B$141:$J$210,6,FALSE)","v":"too shiny/chubby conclusion"},{"$f":"VLOOKUP(ROW()-ROW(M$140),$B$141:$J$210,7,FALSE)","v":1},{"$f":"VLOOKUP(ROW()-ROW(M$140),$B$141:$J$210,8,FALSE)","v":0},{"$f":"VLOOKUP(ROW()-ROW(M$140),$B$141:$K$210,9,FALSE)","v":0},{"$f":"VLOOKUP(ROW()-ROW(M$140),$B$141:$K$210,10,FALSE)","v":0}]
[null,10,0.99999985000000002,{"$f":"'Data Input'!$L$8","v":"D"},{"$f":"'Data Input'!$L$1","v":"10i"},{"$f":"'Data Input'!$L$7","v":1},{"$f":"'Data Input'!$L$6","v":"3 ways cat does not enjoy rescue"},{"$f":"'Data Input'!$L$2","v":1},{"$f":"'Data Input'!$L$5","v":0},{"$f":"'Data Input'!$L$3","v":0},{"$f":"'Data Input'!$L$4","v":0},null,10,0.99999985000000002,"D","10i",1,"3 ways cat does not enjoy rescue",1,0,0,0]
[null,11,0.99999984900000005,{"$f":"'Data Input'!$M$8","v":"D"},{"$f":"'Data Input'!$M$1","v":"10ii"},{"$f":"'Data Input'!$M$7","v":1},{"$f":"'Data Input'!$M$6","v":"3 ways cat does not enjoy rescue"},{"$f":"'Data Input'!$M$2","v":1},{"$f":"'Data Input'!$M$5","v":0},{"$f":"'Data Input'!$M$3","v":0},{"$f":"'Data Input'!$M$4","v":0},null,11,0.99999984900000005,"D","10ii",1,"3 ways cat does not enjoy rescue",1,0,0,0]
[null,12,0.99999984799999997,{"$f":"'Data Input'!$N$8","v":"A"},{"$f":"'Data Input'!$N$1","v":11},{"$f":"'Data Input'!$N$7","v":1},{"$f":"'Data Input'!$N$6","v":"Considering her options meaning"},{"$f":"'Data Input'!$N$2","v":1},{"$f":"'Data Input'!$N$5","v":0},{"$f":"'Data Input'!$N$3","v":0},{"$f":"'Data Input'!$N$4","v":0},null,12,0.99999984799999997,"A",11,1,"Considering her options meaning",1,0,0,0]
[null,13,0.999999847,{"$f":"'Data Input'!$O$8","v":"B"},{"$f":"'Data Input'!$O$1","v":12},{"$f":"'Data Input'!$O$7","v":1},{"$f":"'Data Input'!$O$6","v":"One piece of advice from mum"},{"$f":"'Data Input'!$O$2","v":1},{"$f":"'Data Input'!$O$5","v":0},{"$f":"'Data Input'!$O$3","v":0},{"$f":"'Data Input'!$O$4","v":0},null,13,0.999999847,"B",12,1,"One piece of advice from mum",1,0,0,0]
[null,14,0.99999984600000003,{"$f":"'Data Input'!$P$8","v":"B"},{"$f":"'Data Input'!$P$1","v":13},{"$f":"'Data Input'!$P$7","v":1},{"$f":"'Data Input'!$P$6","v":"Who else speaks Spanish"},{"$f":"'Data Input'!$P$2","v":1},{"$f":"'Data Input'!$P$5","v":0},{"$f":"'Data Input'!$P$3","v":0},{"$f":"'Data Input'!$P$4","v":0},null,14,0.99999984600000003,"B",13,1,"Who else speaks Spanish",1,0,0,0]
[null,15,0.99999984500000005,{"$f":"'Data Input'!$Q$8","v":"C"},{"$f":"'Data Input'!$Q$1","v":14},{"$f":"'Data Input'!$Q$7","v":1},{"$f":"'Data Input'!$Q$6","v":"Order events in story"},{"$f":"'Data Input'!$Q$2","v":1},{"$f":"'Data Input'!$Q$5","v":0},{"$f":"'Data Input'!$Q$3","v":0},{"$f":"'Data Input'!$Q$4","v":0},null,15,0.99999984500000005,"C",14,1,"Order events in story",1,0,0,0]
[null,16,0.99999984399999997,{"$f":"'Data Input'!$R$8","v":"A"},{"$f":"'Data Input'!$R$1","v":15},{"$f":"'Data Input'!$R$7","v":2},{"$f":"'Data Input'!$R$6","v":"Two different words showing tired"},{"$f":"'Data Input'!$R$2","v":1},{"$f":"'Data Input'!$R$5","v":0},{"$f":"'Data Input'!$R$3","v":0},{"$f":"'Data Input'!$R$4","v":0},null,16,0.99999984399999997,"A",15,2,"Two different words showing tired",1,0,0,0]
[null,17,0.999999843,{"$f":"'Data Input'!$S$8","v":"B"},{"$f":"'Data Input'!$S$1","v":16},{"$f":"'Data Input'!$S$7","v":2},{"$f":"'Data Input'!$S$6","v":"Event made Webb swim Channel"},{"$f":"'Data Input'!$S$2","v":1},{"$f":"'Data Input'!$S$5","v":0},{"$f":"'Data Input'!$S$3","v":0},{"$f":"'Data Input'!$S$4","v":0},null,17,0.999999843,"B",16,2,"Event made Webb swim Channel",1,0,0,0]
[null,18,0.99999984200000003,{"$f":"'Data Input'!$T$8","v":"A"},{"$f":"'Data Input'!$T$1","v":17},{"$f":"'Data Input'!$T$7","v":2},{"$f":"'Data Input'!$T$6","v":"Word meaning motivated"},{"$f":"'Data Input'!$T$2","v":1},{"$f":"'Data Input'!$T$5","v":0},{"$f":"'Data Input'!$T$3","v":0},{"$f":"'Data Input'!$T$4","v":0},null,18,0.99999984200000003,"A",17,2,"Word meaning motivated",1,0,0,0]
[null,19,0.99999984099999994,{"$f":"'Data Input'!$U$8","v":"B"},{"$f":"'Data Input'!$U$1","v":"18i"},{"$f":"'Data Input'!$U$7","v":2},{"$f":"'Data Input'!$U$6","v":"Statements True/False"},{"$f":"'Data Input'!$U$2","v":1},{"$f":"'Data Input'!$U$5","v":0},{"$f":"'Data Input'!$U$3","v":0},{"$f":"'Data Input'!$U$4","v":0},null,19,0.99999984099999994,"B","18i",2,"Statements True/False",1,0,0,0]
[null,20,0.99999983999999997,{"$f":"'Data Input'!$V$8","v":"B"},{"$f":"'Data Input'!$V$1","v":"18ii"},{"$f":"'Data Input'!$V$7","v":2},{"$f":"'Data Input'!$V$6","v":"Statements True/False"},{"$f":"'Data Input'!$V$2","v":1},{"$f":"'Data Input'!$V$5","v":0},{"$f":"'Data Input'!$V$3","v":0},{"$f":"'Data Input'!$V$4","v":0},null,20,0.99999983999999997,"B","18ii",2,"Statements True/False",1,0,0,0]
[null,21,0.999999839,{"$f":"'Data Input'!$W$8","v":"B"},{"$f":"'Data Input'!$W$1","v":"19i"},{"$f":"'Data Input'!$W$7","v":2},{"$f":"'Data Input'!$W$6","v":"Identify hardships and solution"},{"$f":"'Data Input'!$W$2","v":1},{"$f":"'Data Input'!$W$5","v":0},{"$f":"'Data Input'!$W$3","v":0},{"$f":"'Data Input'!$W$4","v":0},null,21,0.999999839,"B","19i",2,"Identify hardships and solution",1,0,0,0]
[null,22,0.99999983800000003,{"$f":"'Data Input'!$X$8","v":"B"},{"$f":"'Data Input'!$X$1","v":"19ii"},{"$f":"'Data Input'!$X$7","v":2},{"$f":"'Data Input'!$X$6","v":"Identify hardships and solution"},{"$f":"'Data Input'!$X$2","v":1},{"$f":"'Data Input'!$X$5","v":0},{"$f":"'Data Input'!$X$3","v":0},{"$f":"'Data Input'!$X$4","v":0},null,22,0.99999983800000003,"B","19ii",2,"Identify hardships and solution",1,0,0,0]
[null,23,0.99999983699999995,{"$f":"'Data Input'!$Y$8","v":"A"},{"$f":"'Data Input'!$Y$1","v":20},{"$f":"'Data Input'!$Y$7","v":2},{"$f":"'Data Input'!$Y$6","v":"Phrase meaning unusual today"},{"$f":"'Data Input'!$Y$2","v":1},{"$f":"'Data Input'!$Y$5","v":0},{"$f":"'Data Input'!$Y$3","v":0},{"$f":"'Data Input'!$Y$4","v":0},null,23,0.99999983699999995,"A",20,2,"Phrase meaning unusual today",1,0,0,0]
[null,24,0.99999983599999998,{"$f":"'Data Input'!$Z$8","v":"B"},{"$f":"'Data Input'!$Z$1","v":21},{"$f":"'Data Input'!$Z$7","v":2},{"$f":"'Data Input'!$Z$6","v":"Why slow swimmers go further"},{"$f":"'Data Input'!$Z$2","v":1},{"$f":"'Data Input'!$Z$5","v":0},{"$f":"'Data Input'!$Z$3","v":0},{"$f":"'Data Input'!$Z$4","v":0},null,24,0.99999983599999998,"B",21,2,"Why slow swimmers go further",1,0,0,0]
[null,25,0.999999835,{"$f":"'Data Input'!$AA$8","v":"B"},{"$f":"'Data Input'!$AA$1","v":22},{"$f":"'Data Input'!$AA$7","v":2},{"$f":"'Data Input'!$AA$6","v":"How long is fasted swim"},{"$f":"'Data Input'!$AA$2","v":1},{"$f":"'Data Input'!$AA$5","v":0},{"$f":"'Data Input'!$AA$3","v":0},{"$f":"'Data Input'!$AA$4","v":0},null,25,0.999999835,"B",22,2,"How long is fasted swim",1,0,0,0]
[null,26,0.99999983400000003,{"$f":"'Data Input'!$AB$8","v":"D"},{"$f":"'Data Input'!$AB$1","v":"23i"},{"$f":"'Data Input'!$AB$7","v":2},{"$f":"'Data Input'!$AB$6","v":"Statements Fact/Opinion"},{"$f":"'Data Input'!$AB$2","v":1},{"$f":"'Data Input'!$AB$5","v":0},{"$f":"'Data Input'!$AB$3","v":0},{"$f":"'Data Input'!$AB$4","v":0},null,26,0.99999983400000003,"D","23i",2,"Statements Fact/Opinion",1,0,0,0]
[null,27,0.99999983299999995,{"$f":"'Data Input'!$AC$8","v":"D"},{"$f":"'Data Input'!$AC$1","v":"23ii"},{"$f":"'Data Input'!$AC$7","v":2},{"$f":"'Data Input'!$AC$6","v":"Statements Fact/Opinion"},{"$f":"'Data Input'!$AC$2","v":1},{"$f":"'Data Input'!$AC$5","v":0},{"$f":"'Data Input'!$AC$3","v":0},{"$f":"'Data Input'!$AC$4","v":0},null,27,0.99999983299999995,"D","23ii",2,"Statements Fact/Opinion",1,0,0,0]
[null,28,0.99999983199999998,{"$f":"'Data Input'!$AD$8","v":"B"},{"$f":"'Data Input'!$AD$1","v":24},{"$f":"'Data Input'!$AD$7","v":2},{"$f":"'Data Input'!$AD$6","v":"Year channel swim made illegal"},{"$f":"'Data Input'!$AD$2","v":1},{"$f":"'Data Input'!$AD$5","v":0},{"$f":"'Data Input'!$AD$3","v":0},{"$f":"'Data Input'!$AD$4","v":0},null,28,0.99999983199999998,"B",24,2,"Year channel swim made illegal",1,0,0,0]
[null,29,0.99999983100000001,{"$f":"'Data Input'!$AE$8","v":"A"},{"$f":"'Data Input'!$AE$1","v":25},{"$f":"'Data Input'!$AE$7","v":2},{"$f":"'Data Input'!$AE$6","v":"Word showing swim is illegal"},{"$f":"'Data Input'!$AE$2","v":1},{"$f":"'Data Input'!$AE$5","v":0},{"$f":"'Data Input'!$AE$3","v":0},{"$f":"'Data Input'!$AE$4","v":0},null,29,0.99999983100000001,"A",25,2,"Word showing swim is illegal",1,0,0,0]
[null,30,0.99999983000000003,{"$f":"'Data Input'!$AF$8","v":"D"},{"$f":"'Data Input'!$AF$1","v":26},{"$f":"'Data Input'!$AF$7","v":2},{"$f":"'Data Input'!$AF$6","v":"Evidence Walliams determined"},{"$f":"'Data Input'!$AF$2","v":1},{"$f":"'Data Input'!$AF$5","v":0},{"$f":"'Data Input'!$AF$3","v":0},{"$f":"'Data Input'!$AF$4","v":0},null,30,0.99999983000000003,"D",26,2,"Evidence Walliams determined",1,0,0,0]
[null,31,0.99999982899999995,{"$f":"'Data Input'!$AG$8","v":"C"},{"$f":"'Data Input'!$AG$1","v":27},{"$f":"'Data Input'!$AG$7","v":2},{"$f":"'Data Input'!$AG$6","v":"Identify summary of text"},{"$f":"'Data Input'!$AG$2","v":1},{"$f":"'Data Input'!$AG$5","v":0},{"$f":"'Data Input'!$AG$3","v":0},{"$f":"'Data Input'!$AG$4","v":0},null,31,0.99999982899999995,"C",27,2,"Identify summary of text",1,0,0,0]
[null,32,0.99999982799999998,{"$f":"'Data Input'!$AH$8","v":"F"},{"$f":"'Data Input'!$AH$1","v":28},{"$f":"'Data Input'!$AH$7","v":2},{"$f":"'Data Input'!$AH$6","v":"Match section to content"},{"$f":"'Data Input'!$AH$2","v":1},{"$f":"'Data Input'!$AH$5","v":0},{"$f":"'Data Input'!$AH$3","v":0},{"$f":"'Data Input'!$AH$4","v":0},null,32,0.99999982799999998,"F",28,2,"Match section to content",1,0,0,0]
[null,33,0.99999982700000001,{"$f":"'Data Input'!$AI$8","v":"G"},{"$f":"'Data Input'!$AI$1","v":29},{"$f":"'Data Input'!$AI$7","v":3},{"$f":"'Data Input'!$AI$6","v":"toy/table suggest about boat"},{"$f":"'Data Input'!$AI$2","v":1},{"$f":"'Data Input'!$AI$5","v":0},{"$f":"'Data Input'!$AI$3","v":0},{"$f":"'Data Input'!$AI$4","v":0},null,33,0.99999982700000001,"G",29,3,"toy/table suggest about boat",1,0,0,0]
[null,34,0.99999982600000004,{"$f":"'Data Input'!$AJ$8","v":"D"},{"$f":"'Data Input'!$AJ$1","v":30},{"$f":"'Data Input'!$AJ$7","v":3},{"$f":"'Data Input'!$AJ$6","v":"What unusual about the day"},{"$f":"'Data Input'!$AJ$2","v":1},{"$f":"'Data Input'!$AJ$5","v":0},{"$f":"'Data Input'!$AJ$3","v":0},{"$f":"'Data Input'!$AJ$4","v":0},null,34,0.99999982600000004,"D",30,3,"What unusual about the day",1,0,0,0]
[null,35,0.99999982499999995,{"$f":"'Data Input'!$AK$8","v":"A"},{"$f":"'Data Input'!$AK$1","v":"31i"},{"$f":"'Data Input'!$AK$7","v":3},{"$f":"'Data Input'!$AK$6","v":"putt-putt meaning"},{"$f":"'Data Input'!$AK$2","v":1},{"$f":"'Data Input'!$AK$5","v":0},{"$f":"'Data Input'!$AK$3","v":0},{"$f":"'Data Input'!$AK$4","v":0},null,35,0.99999982499999995,"A","31i",3,"putt-putt meaning",1,0,0,0]
[null,36,0.99999982399999998,{"$f":"'Data Input'!$AL$8","v":"D"},{"$f":"'Data Input'!$AL$1","v":"31ii"},{"$f":"'Data Input'!$AL$7","v":3},{"$f":"'Data Input'!$AL$6","v":"quiet stillness meaning"},{"$f":"'Data Input'!$AL$2","v":1},{"$f":"'Data Input'!$AL$5","v":0},{"$f":"'Data Input'!$AL$3","v":0},{"$f":"'Data Input'!$AL$4","v":0},null,36,0.99999982399999998,"D","31ii",3,"quiet stillness meaning",1,0,0,0]
[null,37,0.99999982300000001,{"$f":"'Data Input'!$AM$8","v":"A"},{"$f":"'Data Input'!$AM$1","v":32},{"$f":"'Data Input'!$AM$7","v":3},{"$f":"'Data Input'!$AM$6","v":"2 words showing enjoyed water"},{"$f":"'Data Input'!$AM$2","v":1},{"$f":"'Data Input'!$AM$5","v":0},{"$f":"'Data Input'!$AM$3","v":0},{"$f":"'Data Input'!$AM$4","v":0},null,37,0.99999982300000001,"A",32,3,"2 words showing enjoyed water",1,0,0,0]
[null,38,0.99999982200000004,{"$f":"'Data Input'!$AN$8","v":"D"},{"$f":"'Data Input'!$AN$1","v":"33i"},{"$f":"'Data Input'!$AN$7","v":3},{"$f":"'Data Input'!$AN$6","v":"How whale seems mysterious"},{"$f":"'Data Input'!$AN$2","v":1},{"$f":"'Data Input'!$AN$5","v":0},{"$f":"'Data Input'!$AN$3","v":0},{"$f":"'Data Input'!$AN$4","v":0},null,38,0.99999982200000004,"D","33i",3,"How whale seems mysterious",1,0,0,0]
[null,39,0.99999982099999996,{"$f":"'Data Input'!$AO$8","v":"D"},{"$f":"'Data Input'!$AO$1","v":"33ii"},{"$f":"'Data Input'!$AO$7","v":3},{"$f":"'Data Input'!$AO$6","v":"How whale seems nysterious"},{"$f":"'Data Input'!$AO$2","v":1},{"$f":"'Data Input'!$AO$5","v":0},{"$f":"'Data Input'!$AO$3","v":0},{"$f":"'Data Input'!$AO$4","v":0},null,39,0.99999982099999996,"D","33ii",3,"How whale seems nysterious",1,0,0,0]
[null,40,0.99999981999999998,{"$f":"'Data Input'!$AP$8","v":"D"},{"$f":"'Data Input'!$AP$1","v":"33iii"},{"$f":"'Data Input'!$AP$7","v":3},{"$f":"'Data Input'!$AP$6","v":"How whale seems nysterious"},{"$f":"'Data Input'!$AP$2","v":1},{"$f":"'Data Input'!$AP$5","v":0},{"$f":"'Data Input'!$AP$3","v":0},{"$f":"'Data Input'!$AP$4","v":0},null,40,0.99999981999999998,"D","33iii",3,"How whale seems nysterious",1,0,0,0]
[null,{"$f":"RANK(C181,$C$141:$C$210)","v":41},{"$f":" H181 - ROW()*0.000000001","v":0.99999981900000001},{"$f":"'Data Input'!$AQ$8","v":"D"},{"$f":"'Data Input'!$AQ$1","v":"34a"},{"$f":"'Data Input'!$AQ$7","v":3},{"$f":"'Data Input'!$AQ$6","v":"Why expected whale feel smooth"},{"$f":"'Data Input'!$AQ$2","v":1},{"$f":"'Data Input'!$AQ$5","v":0},{"$f":"'Data Input'!$AQ$3","v":0},{"$f":"'Data Input'!$AQ$4","v":0},null,41,{"$f":"VLOOKUP(ROW()-ROW(M$140),$B$141:$J$210,2,FALSE)","v":0.99999981900000001},{"$f":"VLOOKUP(ROW()-ROW(M$140),$B$141:$J$210,3,FALSE)","v":"D"},{"$f":"VLOOKUP(ROW()-ROW(M$140),$B$141:$J$210,4,FALSE)","v":"34a"},{"$f":"VLOOKUP(ROW()-ROW(M$140),$B$141:$J$210,5,FALSE)","v":3},{"$f":"VLOOKUP(ROW()-ROW(M$140),$B$141:$J$210,6,FALSE)","v":"Why expected whale feel smooth"},{"$f":"VLOOKUP(ROW()-ROW(M$140),$B$141:$J$210,7,FALSE)","v":1},{"$f":"VLOOKUP(ROW()-ROW(M$140),$B$141:$J$210,8,FALSE)","v":0},{"$f":"VLOOKUP(ROW()-ROW(M$140),$B$141:$K$210,9,FALSE)","v":0},0]
[null,42,0.99999981800000004,{"$f":"'Data Input'!$AR$8","v":"D"},{"$f":"'Data Input'!$AR$1","v":"34b"},{"$f":"'Data Input'!$AR$7","v":3},{"$f":"'Data Input'!$AR$6","v":"Why not expect feel smooth"},{"$f":"'Data Input'!$AR$2","v":1},{"$f":"'Data Input'!$AR$5","v":0},{"$f":"'Data Input'!$AR$3","v":0},{"$f":"'Data Input'!$AR$4","v":0},null,42,0.99999981800000004,"D","34b",3,"Why not expect feel smooth",1,0,0,0]
[null,43,0.99999981699999996,{"$f":"'Data Input'!$AS$8","v":"D"},{"$f":"'Data Input'!$AS$1","v":35},{"$f":"'Data Input'!$AS$7","v":3},{"$f":"'Data Input'!$AS$6","v":"Where was the whale"},{"$f":"'Data Input'!$AS$2","v":1},{"$f":"'Data Input'!$AS$5","v":0},{"$f":"'Data Input'!$AS$3","v":0},{"$f":"'Data Input'!$AS$4","v":0},null,43,0.99999981699999996,"D",35,3,"Where was the whale",1,0,0,0]
[null,44,0.99999981599999999,{"$f":"'Data Input'!$AT$8","v":"D"},{"$f":"'Data Input'!$AT$1","v":"36i"},{"$f":"'Data Input'!$AT$7","v":3},{"$f":"'Data Input'!$AT$6","v":"Explain Michael's character"},{"$f":"'Data Input'!$AT$2","v":1},{"$f":"'Data Input'!$AT$5","v":0},{"$f":"'Data Input'!$AT$3","v":0},{"$f":"'Data Input'!$AT$4","v":0},null,44,0.99999981599999999,"D","36i",3,"Explain Michael's character",1,0,0,0]
[null,45,0.99999981500000001,{"$f":"'Data Input'!$AU$8","v":"D"},{"$f":"'Data Input'!$AU$1","v":"36ii"},{"$f":"'Data Input'!$AU$7","v":3},{"$f":"'Data Input'!$AU$6","v":"Explain Michael's character"},{"$f":"'Data Input'!$AU$2","v":1},{"$f":"'Data Input'!$AU$5","v":0},{"$f":"'Data Input'!$AU$3","v":0},{"$f":"'Data Input'!$AU$4","v":0},null,45,0.99999981500000001,"D","36ii",3,"Explain Michael's character",1,0,0,0]
[null,46,0.99999981400000004,{"$f":"'Data Input'!$AV$8","v":"D"},{"$f":"'Data Input'!$AV$1","v":"36iii"},{"$f":"'Data Input'!$AV$7","v":3},{"$f":"'Data Input'!$AV$6","v":"Explain Michael's character"},{"$f":"'Data Input'!$AV$2","v":1},{"$f":"'Data Input'!$AV$5","v":0},{"$f":"'Data Input'!$AV$3","v":0},{"$f":"'Data Input'!$AV$4","v":0},null,46,0.99999981400000004,"D","36iii",3,"Explain Michael's character",1,0,0,0]
[null,47,0.99999981299999996,{"$f":"'Data Input'!$AW$8","v":"D"},{"$f":"'Data Input'!$AW$1","v":"37i"},{"$f":"'Data Input'!$AW$7","v":3},{"$f":"'Data Input'!$AW$6","v":"How we know whale not alarmed"},{"$f":"'Data Input'!$AW$2","v":1},{"$f":"'Data Input'!$AW$5","v":0},{"$f":"'Data Input'!$AW$3","v":0},{"$f":"'Data Input'!$AW$4","v":0},null,47,0.99999981299999996,"D","37i",3,"How we know whale not alarmed",1,0,0,0]
[null,48,0.99999981199999999,{"$f":"'Data Input'!$AX$8","v":"D"},{"$f":"'Data Input'!$AX$1","v":"37ii"},{"$f":"'Data Input'!$AX$7","v":3},{"$f":"'Data Input'!$AX$6","v":"How we know whale not alarmed"},{"$f":"'Data Input'!$AX$2","v":1},{"$f":"'Data Input'!$AX$5","v":0},{"$f":"'Data Input'!$AX$3","v":0},{"$f":"'Data Input'!$AX$4","v":0},null,48,0.99999981199999999,"D","37ii",3,"How we know whale not alarmed",1,0,0,0]
[null,49,0.99999981100000002,{"$f":"'Data Input'!$AY$8","v":"D"},{"$f":"'Data Input'!$AY$1","v":38},{"$f":"'Data Input'!$AY$7","v":3},{"$f":"'Data Input'!$AY$6","v":"At end Michael felt that…"},{"$f":"'Data Input'!$AY$2","v":1},{"$f":"'Data Input'!$AY$5","v":0},{"$f":"'Data Input'!$AY$3","v":0},{"$f":"'Data Input'!$AY$4","v":0},null,49,0.99999981100000002,"D",38,3,"At end Michael felt that…",1,0,0,0]
[null,50,0.99999981000000004,{"$f":"'Data Input'!$AZ$8","v":"B"},{"$f":"'Data Input'!$AZ$1","v":39},{"$f":"'Data Input'!$AZ$7","v":3},{"$f":"'Data Input'!$AZ$6","v":"Statements True/False"},{"$f":"'Data Input'!$AZ$2","v":1},{"$f":"'Data Input'!$AZ$5","v":0},{"$f":"'Data Input'!$AZ$3","v":0},{"$f":"'Data Input'!$AZ$4","v":0},null,50,0.99999981000000004,"B",39,3,"Statements True/False",1,0,0,0]

{"sheet":"Pupil Summary","index":3,"n_rows":416,"n_cols":23,"rows_kept":416,"cut":false,"hidden":false,"merged":[[2,2,2,6],[1,17,1,18],[1,7,1,8],[1,9,1,10],[1,11,1,12],[1,15,1,16],[1,13,1,14],[1,19,1,20],[1,21,1,22],[2,7,2,8],[2,9,2,10],[2,11,2,12],[2,13,2,14],[2,15,2,16],[2,17,2,18],[2,19,2,20],[2,21,2,22]]}
[null,null,null,"Green: <15, Amber: <45, Red: >45",null,"Green %>",0.78,"Amber %>",0.52,"Red %<",{"$f":"I1","v":0.52},null,null,"Individual Summary in each Asessment Area"]
[null,null,null,null,null,null,null,"A",null,"B",null,"C",null,"D",null,"E",null,"F",null,"G",null,"H"]
[{"$f":"\"Total Pupils: \" & COUNTA('Data Input'!A10:A420)","v":"Total Pupils: 1"},null,"Overall",null,null,null,null,"Word Meaning",null,"Retrieve Key Info",null,"Summarise Main Ideas",null,"Inference",null,"Predict (not used)",null,"Text Meaning",null,"Choice of Language",null,"Comparisons (not used)"]
["Name:","Below\nExpected\nExceed","Unanswered","Incorrect","Incorrecr or Unanswered",{"$f":"\"Total Score \"&COUNTA('Data Input'!C8:AZ8)","v":"Total Score 50"},"Percent",{"$f":"\"Score /\" & COUNTIF('Data Input'!$C$8:$AZ$8,$H$2)","v":"Score /10"},"Percent",{"$f":"\"Score /\" & COUNTIF('Data Input'!$C$8:$AZ$8,$J$2)","v":"Score /14"},"Percent",{"$f":"\"Score /\" & COUNTIF('Data Input'!$C$8:$AZ$8,$L$2)","v":"Score /2"},"Percent",{"$f":"\"Score /\" & COUNTIF('Data Input'!$C$8:$AZ$8,$N$2)","v":"Score /22"},"Percent ",{"$f":"\"Score /\" & COUNTIF('Data Input'!$C$8:$AZ$8,$P$2)","v":"Score /0"},"Percent ",{"$f":"\"Score /\" & COUNTIF('Data Input'!$C$8:$AZ$8,$R$2)","v":"Score /1"},"Percent",{"$f":"\"Score /\" & COUNTIF('Data Input'!$C$8:$AZ$8,$T$2)","v":"Score /1"},"Percent",{"$f":"\"Score /\" & COUNTIF('Data Input'!$C$8:$AZ$8,$V$2)","v":"Score /0"},"Percent"]
[]
[{"$f":"IF('Data Input'!A10=0,\"\",'Data Input'!A10)","v":"Delete Me!"},{"$f":"IF(F6=\"\",\"\",IF(F6>Welcome!$J$20-1,\"Exceeding\",IF(F6>Welcome!$F$20-1,\"Expected\",IF(F6<Welcome!$F$20,\"Below\"))))","v":"Exceeding"},{"$f":"IF(ISBLANK('Data Input'!A10),\"\",COUNTIF('Data Input'!C10:AZ10,\"\"))","v":0},{"$f":"IF(ISBLANK('Data Input'!A10),\"\",COUNTIF('Data Input'!C10:AZ10,\"0\"))","v":0},{"$f":"IF(ISBLANK('Data Input'!A10),\"\",SUM(C6,D6))","v":0},{"$f":"IF(ISBLANK('Data Input'!A10),\"\",SUM('Data Input'!C10:AZ10))","v":50},{"$f":"IF(F6=\"\",\"\",F6/(COUNTA('Data Input'!$C$8:$AZ$8)))","v":1},{"$f":"IF(ISBLANK('Data Input'!A10),\"\",SUM('Data Input'!C10,'Data Input'!H10,'Data Input'!J10,'Data Input'!N10,'Data Input'!R10,'Data Input'!T10,'Data Input'!Y10,'Data Input'!AE10,'Data Input'!AK10,'Data Input'!AM10))","v":10},{"$f":"IF(H6=\"\",\"\",H6/COUNTIF('Data Input'!$C$8:$AZ$8,$H$2))","v":1},{"$f":"IF(ISBLANK('Data Input'!A10),\"\",SUM('Data Input'!G10,'Data Input'!I10,'Data Input'!K10,'Data Input'!O10,'Data Input'!P10,'Data Input'!S10,'Data Input'!U10,'Data Input'!V10,'Data Input'!W10,'Data Input'!X10,'Data Input'!Z10,'Data Input'!AA10,'Data Input'!AD10,'Data Input'!AZ10))","v":14},{"$f":"IF(J6=\"\",\"\",J6/COUNTIF('Data Input'!$C$8:$AZ$8,$J$2))","v":1},{"$f":"IF(ISBLANK('Data Input'!A10),\"\",SUM('Data Input'!Q10,'Data Input'!AG10))","v":2},{"$f":"IF(L6=\"\",\"\",L6/COUNTIF('Data Input'!$C$8:$AZ$8,$L$2))","v":1},{"$f":"IF(ISBLANK('Data Input'!A10),\"\",SUM('Data Input'!D10,'Data Input'!E10,'Data Input'!F10,'Data Input'!L10,'Data Input'!M10,'Data Input'!AB10,'Data Input'!AC10,'Data Input'!AF10,'Data Input'!AJ10,'Data Input'!AL10,'Data Input'!AN10,'Data Input'!AO10,'Data Input'!AP10,'Data Input'!AQ10,'Data Input'!AR10,'Data Input'!AS10,'Data Input'!AT10,'Data Input'!AU10,'Data Input'!AV10,'Data Input'!AW10,'Data Input'!AX10,'Data Input'!AY10))","v":22},{"$f":"IF(N6=\"\",\"\",N6/COUNTIF('Data Input'!$C$8:$AZ$8,$N$2))","v":1},null,{"$f":"IF(P6=\"\",\"\",P6/COUNTIF('Data Input'!$C$8:$AZ$8,$P$2))","v":""},{"$f":"IF(ISBLANK('Data Input'!A10),\"\",SUM('Data Input'!AH10))","v":1},{"$f":"IF(R6=\"\",\"\",R6/COUNTIF('Data Input'!$C$8:$AZ$8,$R$2))","v":1},{"$f":"IF(ISBLANK('Data Input'!$A10),\"\",SUM('Data Input'!AI10))","v":1},{"$f":"IF(T6=\"\",\"\",T6/COUNTIF('Data Input'!$C$8:$AZ$8,$T$2))","v":1},null,{"$f":"IF(V6=\"\",\"\",V6/COUNTIF('Data Input'!$C$8:$AZ$8,$V$2))","v":""}]
[{"$f":"IF('Data Input'!A11=0,\"\",'Data Input'!A11)","v":""},{"$f":"IF(F7=\"\",\"\",IF(F7>Welcome!$J$20-1,\"Exceeding\",IF(F7>Welcome!$F$20-1,\"Expected\",IF(F7<Welcome!$F$20,\"Below\"))))","v":""},{"$f":"IF(ISBLANK('Data Input'!A11),\"\",COUNTIF('Data Input'!C11:AZ11,\"\"))","v":""},{"$f":"IF(ISBLANK('Data Input'!A11),\"\",COUNTIF('Data Input'!C11:AZ11,\"0\"))","v":""},{"$f":"IF(ISBLANK('Data Input'!A11),\"\",SUM(C7,D7))","v":""},{"$f":"IF(ISBLANK('Data Input'!A11),\"\",SUM('Data Input'!C11:AZ11))","v":""},{"$f":"IF(F7=\"\",\"\",F7/(COUNTA('Data Input'!$C$8:$AZ$8)))","v":""},{"$f":"IF(ISBLANK('Data Input'!A11),\"\",SUM('Data Input'!C11,'Data Input'!H11,'Data Input'!J11,'Data Input'!N11,'Data Input'!R11,'Data Input'!T11,'Data Input'!Y11,'Data Input'!AE11,'Data Input'!AK11,'Data Input'!AM11))","v":""},{"$f":"IF(H7=\"\",\"\",H7/COUNTIF('Data Input'!$C$8:$AZ$8,$H$2))","v":""},{"$f":"IF(ISBLANK('Data Input'!A11),\"\",SUM('Data Input'!G11,'Data Input'!I11,'Data Input'!K11,'Data Input'!O11,'Data Input'!P11,'Data Input'!S11,'Data Input'!U11,'Data Input'!V11,'Data Input'!W11,'Data Input'!X11,'Data Input'!Z11,'Data Input'!AA11,'Data Input'!AD11,'Data Input'!AZ11))","v":""},{"$f":"IF(J7=\"\",\"\",J7/COUNTIF('Data Input'!$C$8:$AZ$8,$J$2))","v":""},{"$f":"IF(ISBLANK('Data Input'!A11),\"\",SUM('Data Input'!Q11,'Data Input'!AG11))","v":""},{"$f":"IF(L7=\"\",\"\",L7/COUNTIF('Data Input'!$C$8:$AZ$8,$L$2))","v":""},{"$f":"IF(ISBLANK('Data Input'!A11),\"\",SUM('Data Input'!D11,'Data Input'!E11,'Data Input'!F11,'Data Input'!L11,'Data Input'!M11,'Data Input'!AB11,'Data Input'!AC11,'Data Input'!AF11,'Data Input'!AJ11,'Data Input'!AL11,'Data Input'!AN11,'Data Input'!AO11,'Data Input'!AP11,'Data Input'!AQ11,'Data Input'!AR11,'Data Input'!AS11,'Data Input'!AT11,'Data Input'!AU11,'Data Input'!AV11,'Data Input'!AW11,'Data Input'!AX11,'Data Input'!AY11))","v":""},{"$f":"IF(N7=\"\",\"\",N7/COUNTIF('Data Input'!$C$8:$AZ$8,$N$2))","v":""},null,{"$f":"IF(P7=\"\",\"\",P7/COUNTIF('Data Input'!$C$8:$AZ$8,$P$2))","v":""},{"$f":"IF(ISBLANK('Data Input'!A11),\"\",SUM('Data Input'!AH11))","v":""},{"$f":"IF(R7=\"\",\"\",R7/COUNTIF('Data Input'!$C$8:$AZ$8,$R$2))","v":""},{"$f":"IF(ISBLANK('Data Input'!$A11),\"\",SUM('Data Input'!AI11))","v":""},{"$f":"IF(T7=\"\",\"\",T7/COUNTIF('Data Input'!$C$8:$AZ$8,$T$2))","v":""},null,{"$f":"IF(V7=\"\",\"\",V7/COUNTIF('Data Input'!$C$8:$AZ$8,$V$2))","v":""}]
[{"$f":"IF('Data Input'!A12=0,\"\",'Data Input'!A12)","v":""},{"$f":"IF(F8=\"\",\"\",IF(F8>Welcome!$J$20-1,\"Exceeding\",IF(F8>Welcome!$F$20-1,\"Expected\",IF(F8<Welcome!$F$20,\"Below\"))))","v":""},{"$f":"IF(ISBLANK('Data Input'!A12),\"\",COUNTIF('Data Input'!C12:AZ12,\"\"))","v":""},{"$f":"IF(ISBLANK('Data Input'!A12),\"\",COUNTIF('Data Input'!C12:AZ12,\"0\"))","v":""},{"$f":"IF(ISBLANK('Data Input'!A12),\"\",SUM(C8,D8))","v":""},{"$f":"IF(ISBLANK('Data Input'!A12),\"\",SUM('Data Input'!C12:AZ12))","v":""},{"$f":"IF(F8=\"\",\"\",F8/(COUNTA('Data Input'!$C$8:$AZ$8)))","v":""},{"$f":"IF(ISBLANK('Data Input'!A12),\"\",SUM('Data Input'!C12,'Data Input'!H12,'Data Input'!J12,'Data Input'!N12,'Data Input'!R12,'Data Input'!T12,'Data Input'!Y12,'Data Input'!AE12,'Data Input'!AK12,'Data Input'!AM12))","v":""},{"$f":"IF(H8=\"\",\"\",H8/COUNTIF('Data Input'!$C$8:$AZ$8,$H$2))","v":""},{"$f":"IF(ISBLANK('Data Input'!A12),\"\",SUM('Data Input'!G12,'Data Input'!I12,'Data Input'!K12,'Data Input'!O12,'Data Input'!P12,'Data Input'!S12,'Data Input'!U12,'Data Input'!V12,'Data Input'!W12,'Data Input'!X12,'Data Input'!Z12,'Data Input'!AA12,'Data Input'!AD12,'Data Input'!AZ12))","v":""},{"$f":"IF(J8=\"\",\"\",J8/COUNTIF('Data Input'!$C$8:$AZ$8,$J$2))","v":""},{"$f":"IF(ISBLANK('Data Input'!A12),\"\",SUM('Data Input'!Q12,'Data Input'!AG12))","v":""},{"$f":"IF(L8=\"\",\"\",L8/COUNTIF('Data Input'!$C$8:$AZ$8,$L$2))","v":""},{"$f":"IF(ISBLANK('Data Input'!A12),\"\",SUM('Data Input'!D12,'Data Input'!E12,'Data Input'!F12,'Data Input'!L12,'Data Input'!M12,'Data Input'!AB12,'Data Input'!AC12,'Data Input'!AF12,'Data Input'!AJ12,'Data Input'!AL12,'Data Input'!AN12,'Data Input'!AO12,'Data Input'!AP12,'Data Input'!AQ12,'Data Input'!AR12,'Data Input'!AS12,'Data Input'!AT12,'Data Input'!AU12,'Data Input'!AV12,'Data Input'!AW12,'Data Input'!AX12,'Data Input'!AY12))","v":""},{"$f":"IF(N8=\"\",\"\",N8/COUNTIF('Data Input'!$C$8:$AZ$8,$N$2))","v":""},null,{"$f":"IF(P8=\"\",\"\",P8/COUNTIF('Data Input'!$C$8:$AZ$8,$P$2))","v":""},{"$f":"IF(ISBLANK('Data Input'!A12),\"\",SUM('Data Input'!AH12))","v":""},{"$f":"IF(R8=\"\",\"\",R8/COUNTIF('Data Input'!$C$8:$AZ$8,$R$2))","v":""},{"$f":"IF(ISBLANK('Data Input'!$A12),\"\",SUM('Data Input'!AI12))","v":""},{"$f":"IF(T8=\"\",\"\",T8/COUNTIF('Data Input'!$C$8:$AZ$8,$T$2))","v":""},null,{"$f":"IF(V8=\"\",\"\",V8/COUNTIF('Data Input'!$C$8:$AZ$8,$V$2))","v":""}]
[{"$f":"IF('Data Input'!A13=0,\"\",'Data Input'!A13)","v":""},{"$f":"IF(F9=\"\",\"\",IF(F9>Welcome!$J$20-1,\"Exceeding\",IF(F9>Welcome!$F$20-1,\"Expected\",IF(F9<Welcome!$F$20,\"Below\"))))","v":""},{"$f":"IF(ISBLANK('Data Input'!A13),\"\",COUNTIF('Data Input'!C13:AZ13,\"\"))","v":""},{"$f":"IF(ISBLANK('Data Input'!A13),\"\",COUNTIF('Data Input'!C13:AZ13,\"0\"))","v":""},{"$f":"IF(ISBLANK('Data Input'!A13),\"\",SUM(C9,D9))","v":""},{"$f":"IF(ISBLANK('Data Input'!A13),\"\",SUM('Data Input'!C13:AZ13))","v":""},{"$f":"IF(F9=\"\",\"\",F9/(COUNTA('Data Input'!$C$8:$AZ$8)))","v":""},{"$f":"IF(ISBLANK('Data Input'!A13),\"\",SUM('Data Input'!C13,'Data Input'!H13,'Data Input'!J13,'Data Input'!N13,'Data Input'!R13,'Data Input'!T13,'Data Input'!Y13,'Data Input'!AE13,'Data Input'!AK13,'Data Input'!AM13))","v":""},{"$f":"IF(H9=\"\",\"\",H9/COUNTIF('Data Input'!$C$8:$AZ$8,$H$2))","v":""},{"$f":"IF(ISBLANK('Data Input'!A13),\"\",SUM('Data Input'!G13,'Data Input'!I13,'Data Input'!K13,'Data Input'!O13,'Data Input'!P13,'Data Input'!S13,'Data Input'!U13,'Data Input'!V13,'Data Input'!W13,'Data Input'!X13,'Data Input'!Z13,'Data Input'!AA13,'Data Input'!AD13,'Data Input'!AZ13))","v":""},{"$f":"IF(J9=\"\",\"\",J9/COUNTIF('Data Input'!$C$8:$AZ$8,$J$2))","v":""},{"$f":"IF(ISBLANK('Data Input'!A13),\"\",SUM('Data Input'!Q13,'Data Input'!AG13))","v":""},{"$f":"IF(L9=\"\",\"\",L9/COUNTIF('Data Input'!$C$8:$AZ$8,$L$2))","v":""},{"$f":"IF(ISBLANK('Data Input'!A13),\"\",SUM('Data Input'!D13,'Data Input'!E13,'Data Input'!F13,'Data Input'!L13,'Data Input'!M13,'Data Input'!AB13,'Data Input'!AC13,'Data Input'!AF13,'Data Input'!AJ13,'Data Input'!AL13,'Data Input'!AN13,'Data Input'!AO13,'Data Input'!AP13,'Data Input'!AQ13,'Data Input'!AR13,'Data Input'!AS13,'Data Input'!AT13,'Data Input'!AU13,'Data Input'!AV13,'Data Input'!AW13,'Data Input'!AX13,'Data Input'!AY13))","v":""},{"$f":"IF(N9=\"\",\"\",N9/COUNTIF('Data Input'!$C$8:$AZ$8,$N$2))","v":""},null,{"$f":"IF(P9=\"\",\"\",P9/COUNTIF('Data Input'!$C$8:$AZ$8,$P$2))","v":""},{"$f":"IF(ISBLANK('Data Input'!A13),\"\",SUM('Data Input'!AH13))","v":""},{"$f":"IF(R9=\"\",\"\",R9/COUNTIF('Data Input'!$C$8:$AZ$8,$R$2))","v":""},{"$f":"IF(ISBLANK('Data Input'!$A13),\"\",SUM('Data Input'!AI13))","v":""},{"$f":"IF(T9=\"\",\"\",T9/COUNTIF('Data Input'!$C$8:$AZ$8,$T$2))","v":""},null,{"$f":"IF(V9=\"\",\"\",V9/COUNTIF('Data Input'!$C$8:$AZ$8,$V$2))","v":""}]
[{"$f":"IF('Data Input'!A14=0,\"\",'Data Input'!A14)","v":""},{"$f":"IF(F10=\"\",\"\",IF(F10>Welcome!$J$20-1,\"Exceeding\",IF(F10>Welcome!$F$20-1,\"Expected\",IF(F10<Welcome!$F$20,\"Below\"))))","v":""},{"$f":"IF(ISBLANK('Data Input'!A14),\"\",COUNTIF('Data Input'!C14:AZ14,\"\"))","v":""},{"$f":"IF(ISBLANK('Data Input'!A14),\"\",COUNTIF('Data Input'!C14:AZ14,\"0\"))","v":""},{"$f":"IF(ISBLANK('Data Input'!A14),\"\",SUM(C10,D10))","v":""},{"$f":"IF(ISBLANK('Data Input'!A14),\"\",SUM('Data Input'!C14:AZ14))","v":""},{"$f":"IF(F10=\"\",\"\",F10/(COUNTA('Data Input'!$C$8:$AZ$8)))","v":""},{"$f":"IF(ISBLANK('Data Input'!A14),\"\",SUM('Data Input'!C14,'Data Input'!H14,'Data Input'!J14,'Data Input'!N14,'Data Input'!R14,'Data Input'!T14,'Data Input'!Y14,'Data Input'!AE14,'Data Input'!AK14,'Data Input'!AM14))","v":""},{"$f":"IF(H10=\"\",\"\",H10/COUNTIF('Data Input'!$C$8:$AZ$8,$H$2))","v":""},{"$f":"IF(ISBLANK('Data Input'!A14),\"\",SUM('Data Input'!G14,'Data Input'!I14,'Data Input'!K14,'Data Input'!O14,'Data Input'!P14,'Data Input'!S14,'Data Input'!U14,'Data Input'!V14,'Data Input'!W14,'Data Input'!X14,'Data Input'!Z14,'Data Input'!AA14,'Data Input'!AD14,'Data Input'!AZ14))","v":""},{"$f":"IF(J10=\"\",\"\",J10/COUNTIF('Data Input'!$C$8:$AZ$8,$J$2))","v":""},{"$f":"IF(ISBLANK('Data Input'!A14),\"\",SUM('Data Input'!Q14,'Data Input'!AG14))","v":""},{"$f":"IF(L10=\"\",\"\",L10/COUNTIF('Data Input'!$C$8:$AZ$8,$L$2))","v":""},{"$f":"IF(ISBLANK('Data Input'!A14),\"\",SUM('Data Input'!D14,'Data Input'!E14,'Data Input'!F14,'Data Input'!L14,'Data Input'!M14,'Data Input'!AB14,'Data Input'!AC14,'Data Input'!AF14,'Data Input'!AJ14,'Data Input'!AL14,'Data Input'!AN14,'Data Input'!AO14,'Data Input'!AP14,'Data Input'!AQ14,'Data Input'!AR14,'Data Input'!AS14,'Data Input'!AT14,'Data Input'!AU14,'Data Input'!AV14,'Data Input'!AW14,'Data Input'!AX14,'Data Input'!AY14))","v":""},{"$f":"IF(N10=\"\",\"\",N10/COUNTIF('Data Input'!$C$8:$AZ$8,$N$2))","v":""},null,{"$f":"IF(P10=\"\",\"\",P10/COUNTIF('Data Input'!$C$8:$AZ$8,$P$2))","v":""},{"$f":"IF(ISBLANK('Data Input'!A14),\"\",SUM('Data Input'!AH14))","v":""},{"$f":"IF(R10=\"\",\"\",R10/COUNTIF('Data Input'!$C$8:$AZ$8,$R$2))","v":""},{"$f":"IF(ISBLANK('Data Input'!$A14),\"\",SUM('Data Input'!AI14))","v":""},{"$f":"IF(T10=\"\",\"\",T10/COUNTIF('Data Input'!$C$8:$AZ$8,$T$2))","v":""},null,{"$f":"IF(V10=\"\",\"\",V10/COUNTIF('Data Input'!$C$8:$AZ$8,$V$2))","v":""}]
[{"$f":"IF('Data Input'!A15=0,\"\",'Data Input'!A15)","v":""},{"$f":"IF(F11=\"\",\"\",IF(F11>Welcome!$J$20-1,\"Exceeding\",IF(F11>Welcome!$F$20-1,\"Expected\",IF(F11<Welcome!$F$20,\"Below\"))))","v":""},{"$f":"IF(ISBLANK('Data Input'!A15),\"\",COUNTIF('Data Input'!C15:AZ15,\"\"))","v":""},{"$f":"IF(ISBLANK('Data Input'!A15),\"\",COUNTIF('Data Input'!C15:AZ15,\"0\"))","v":""},{"$f":"IF(ISBLANK('Data Input'!A15),\"\",SUM(C11,D11))","v":""},{"$f":"IF(ISBLANK('Data Input'!A15),\"\",SUM('Data Input'!C15:AZ15))","v":""},{"$f":"IF(F11=\"\",\"\",F11/(COUNTA('Data Input'!$C$8:$AZ$8)))","v":""},{"$f":"IF(ISBLANK('Data Input'!A15),\"\",SUM('Data Input'!C15,'Data Input'!H15,'Data Input'!J15,'Data Input'!N15,'Data Input'!R15,'Data Input'!T15,'Data Input'!Y15,'Data Input'!AE15,'Data Input'!AK15,'Data Input'!AM15))","v":""},{"$f":"IF(H11=\"\",\"\",H11/COUNTIF('Data Input'!$C$8:$AZ$8,$H$2))","v":""},{"$f":"IF(ISBLANK('Data Input'!A15),\"\",SUM('Data Input'!G15,'Data Input'!I15,'Data Input'!K15,'Data Input'!O15,'Data Input'!P15,'Data Input'!S15,'Data Input'!U15,'Data Input'!V15,'Data Input'!W15,'Data Input'!X15,'Data Input'!Z15,'Data Input'!AA15,'Data Input'!AD15,'Data Input'!AZ15))","v":""},{"$f":"IF(J11=\"\",\"\",J11/COUNTIF('Data Input'!$C$8:$AZ$8,$J$2))","v":""},{"$f":"IF(ISBLANK('Data Input'!A15),\"\",SUM('Data Input'!Q15,'Data Input'!AG15))","v":""},{"$f":"IF(L11=\"\",\"\",L11/COUNTIF('Data Input'!$C$8:$AZ$8,$L$2))","v":""},{"$f":"IF(ISBLANK('Data Input'!A15),\"\",SUM('Data Input'!D15,'Data Input'!E15,'Data Input'!F15,'Data Input'!L15,'Data Input'!M15,'Data Input'!AB15,'Data Input'!AC15,'Data Input'!AF15,'Data Input'!AJ15,'Data Input'!AL15,'Data Input'!AN15,'Data Input'!AO15,'Data Input'!AP15,'Data Input'!AQ15,'Data Input'!AR15,'Data Input'!AS15,'Data Input'!AT15,'Data Input'!AU15,'Data Input'!AV15,'Data Input'!AW15,'Data Input'!AX15,'Data Input'!AY15))","v":""},{"$f":"IF(N11=\"\",\"\",N11/COUNTIF('Data Input'!$C$8:$AZ$8,$N$2))","v":""},null,{"$f":"IF(P11=\"\",\"\",P11/COUNTIF('Data Input'!$C$8:$AZ$8,$P$2))","v":""},{"$f":"IF(ISBLANK('Data Input'!A15),\"\",SUM('Data Input'!AH15))","v":""},{"$f":"IF(R11=\"\",\"\",R11/COUNTIF('Data Input'!$C$8:$AZ$8,$R$2))","v":""},{"$f":"IF(ISBLANK('Data Input'!$A15),\"\",SUM('Data Input'!AI15))","v":""},{"$f":"IF(T11=\"\",\"\",T11/COUNTIF('Data Input'!$C$8:$AZ$8,$T$2))","v":""},null,{"$f":"IF(V11=\"\",\"\",V11/COUNTIF('Data Input'!$C$8:$AZ$8,$V$2))","v":""}]
[{"$f":"IF('Data Input'!A16=0,\"\",'Data Input'!A16)","v":""},{"$f":"IF(F12=\"\",\"\",IF(F12>Welcome!$J$20-1,\"Exceeding\",IF(F12>Welcome!$F$20-1,\"Expected\",IF(F12<Welcome!$F$20,\"Below\"))))","v":""},{"$f":"IF(ISBLANK('Data Input'!A16),\"\",COUNTIF('Data Input'!C16:AZ16,\"\"))","v":""},{"$f":"IF(ISBLANK('Data Input'!A16),\"\",COUNTIF('Data Input'!C16:AZ16,\"0\"))","v":""},{"$f":"IF(ISBLANK('Data Input'!A16),\"\",SUM(C12,D12))","v":""},{"$f":"IF(ISBLANK('Data Input'!A16),\"\",SUM('Data Input'!C16:AZ16))","v":""},{"$f":"IF(F12=\"\",\"\",F12/(COUNTA('Data Input'!$C$8:$AZ$8)))","v":""},{"$f":"IF(ISBLANK('Data Input'!A16),\"\",SUM('Data Input'!C16,'Data Input'!H16,'Data Input'!J16,'Data Input'!N16,'Data Input'!R16,'Data Input'!T16,'Data Input'!Y16,'Data Input'!AE16,'Data Input'!AK16,'Data Input'!AM16))","v":""},{"$f":"IF(H12=\"\",\"\",H12/COUNTIF('Data Input'!$C$8:$AZ$8,$H$2))","v":""},{"$f":"IF(ISBLANK('Data Input'!A16),\"\",SUM('Data Input'!G16,'Data Input'!I16,'Data Input'!K16,'Data Input'!O16,'Data Input'!P16,'Data Input'!S16,'Data Input'!U16,'Data Input'!V16,'Data Input'!W16,'Data Input'!X16,'Data Input'!Z16,'Data Input'!AA16,'Data Input'!AD16,'Data Input'!AZ16))","v":""},{"$f":"IF(J12=\"\",\"\",J12/COUNTIF('Data Input'!$C$8:$AZ$8,$J$2))","v":""},{"$f":"IF(ISBLANK('Data Input'!A16),\"\",SUM('Data Input'!Q16,'Data Input'!AG16))","v":""},{"$f":"IF(L12=\"\",\"\",L12/COUNTIF('Data Input'!$C$8:$AZ$8,$L$2))","v":""},{"$f":"IF(ISBLANK('Data Input'!A16),\"\",SUM('Data Input'!D16,'Data Input'!E16,'Data Input'!F16,'Data Input'!L16,'Data Input'!M16,'Data Input'!AB16,'Data Input'!AC16,'Data Input'!AF16,'Data Input'!AJ16,'Data Input'!AL16,'Data Input'!AN16,'Data Input'!AO16,'Data Input'!AP16,'Data Input'!AQ16,'Data Input'!AR16,'Data Input'!AS16,'Data Input'!AT16,'Data Input'!AU16,'Data Input'!AV16,'Data Input'!AW16,'Data Input'!AX16,'Data Input'!AY16))","v":""},{"$f":"IF(N12=\"\",\"\",N12/COUNTIF('Data Input'!$C$8:$AZ$8,$N$2))","v":""},null,{"$f":"IF(P12=\"\",\"\",P12/COUNTIF('Data Input'!$C$8:$AZ$8,$P$2))","v":""},{"$f":"IF(ISBLANK('Data Input'!A16),\"\",SUM('Data Input'!AH16))","v":""},{"$f":"IF(R12=\"\",\"\",R12/COUNTIF('Data Input'!$C$8:$AZ$8,$R$2))","v":""},{"$f":"IF(ISBLANK('Data Input'!$A16),\"\",SUM('Data Input'!AI16))","v":""},{"$f":"IF(T12=\"\",\"\",T12/COUNTIF('Data Input'!$C$8:$AZ$8,$T$2))","v":""},null,{"$f":"IF(V12=\"\",\"\",V12/COUNTIF('Data Input'!$C$8:$AZ$8,$V$2))","v":""}]
[{"$f":"IF('Data Input'!A17=0,\"\",'Data Input'!A17)","v":""},{"$f":"IF(F13=\"\",\"\",IF(F13>Welcome!$J$20-1,\"Exceeding\",IF(F13>Welcome!$F$20-1,\"Expected\",IF(F13<Welcome!$F$20,\"Below\"))))","v":""},{"$f":"IF(ISBLANK('Data Input'!A17),\"\",COUNTIF('Data Input'!C17:AZ17,\"\"))","v":""},{"$f":"IF(ISBLANK('Data Input'!A17),\"\",COUNTIF('Data Input'!C17:AZ17,\"0\"))","v":""},{"$f":"IF(ISBLANK('Data Input'!A17),\"\",SUM(C13,D13))","v":""},{"$f":"IF(ISBLANK('Data Input'!A17),\"\",SUM('Data Input'!C17:AZ17))","v":""},{"$f":"IF(F13=\"\",\"\",F13/(COUNTA('Data Input'!$C$8:$AZ$8)))","v":""},{"$f":"IF(ISBLANK('Data Input'!A17),\"\",SUM('Data Input'!C17,'Data Input'!H17,'Data Input'!J17,'Data Input'!N17,'Data Input'!R17,'Data Input'!T17,'Data Input'!Y17,'Data Input'!AE17,'Data Input'!AK17,'Data Input'!AM17))","v":""},{"$f":"IF(H13=\"\",\"\",H13/COUNTIF('Data Input'!$C$8:$AZ$8,$H$2))","v":""},{"$f":"IF(ISBLANK('Data Input'!A17),\"\",SUM('Data Input'!G17,'Data Input'!I17,'Data Input'!K17,'Data Input'!O17,'Data Input'!P17,'Data Input'!S17,'Data Input'!U17,'Data Input'!V17,'Data Input'!W17,'Data Input'!X17,'Data Input'!Z17,'Data Input'!AA17,'Data Input'!AD17,'Data Input'!AZ17))","v":""},{"$f":"IF(J13=\"\",\"\",J13/COUNTIF('Data Input'!$C$8:$AZ$8,$J$2))","v":""},{"$f":"IF(ISBLANK('Data Input'!A17),\"\",SUM('Data Input'!Q17,'Data Input'!AG17))","v":""},{"$f":"IF(L13=\"\",\"\",L13/COUNTIF('Data Input'!$C$8:$AZ$8,$L$2))","v":""},{"$f":"IF(ISBLANK('Data Input'!A17),\"\",SUM('Data Input'!D17,'Data Input'!E17,'Data Input'!F17,'Data Input'!L17,'Data Input'!M17,'Data Input'!AB17,'Data Input'!AC17,'Data Input'!AF17,'Data Input'!AJ17,'Data Input'!AL17,'Data Input'!AN17,'Data Input'!AO17,'Data Input'!AP17,'Data Input'!AQ17,'Data Input'!AR17,'Data Input'!AS17,'Data Input'!AT17,'Data Input'!AU17,'Data Input'!AV17,'Data Input'!AW17,'Data Input'!AX17,'Data Input'!AY17))","v":""},{"$f":"IF(N13=\"\",\"\",N13/COUNTIF('Data Input'!$C$8:$AZ$8,$N$2))","v":""},null,{"$f":"IF(P13=\"\",\"\",P13/COUNTIF('Data Input'!$C$8:$AZ$8,$P$2))","v":""},{"$f":"IF(ISBLANK('Data Input'!A17),\"\",SUM('Data Input'!AH17))","v":""},{"$f":"IF(R13=\"\",\"\",R13/COUNTIF('Data Input'!$C$8:$AZ$8,$R$2))","v":""},{"$f":"IF(ISBLANK('Data Input'!$A17),\"\",SUM('Data Input'!AI17))","v":""},{"$f":"IF(T13=\"\",\"\",T13/COUNTIF('Data Input'!$C$8:$AZ$8,$T$2))","v":""},null,{"$f":"IF(V13=\"\",\"\",V13/COUNTIF('Data Input'!$C$8:$AZ$8,$V$2))","v":""}]
[{"$f":"IF('Data Input'!A18=0,\"\",'Data Input'!A18)","v":""},{"$f":"IF(F14=\"\",\"\",IF(F14>Welcome!$J$20-1,\"Exceeding\",IF(F14>Welcome!$F$20-1,\"Expected\",IF(F14<Welcome!$F$20,\"Below\"))))","v":""},{"$f":"IF(ISBLANK('Data Input'!A18),\"\",COUNTIF('Data Input'!C18:AZ18,\"\"))","v":""},{"$f":"IF(ISBLANK('Data Input'!A18),\"\",COUNTIF('Data Input'!C18:AZ18,\"0\"))","v":""},{"$f":"IF(ISBLANK('Data Input'!A18),\"\",SUM(C14,D14))","v":""},{"$f":"IF(ISBLANK('Data Input'!A18),\"\",SUM('Data Input'!C18:AZ18))","v":""},{"$f":"IF(F14=\"\",\"\",F14/(COUNTA('Data Input'!$C$8:$AZ$8)))","v":""},{"$f":"IF(ISBLANK('Data Input'!A18),\"\",SUM('Data Input'!C18,'Data Input'!H18,'Data Input'!J18,'Data Input'!N18,'Data Input'!R18,'Data Input'!T18,'Data Input'!Y18,'Data Input'!AE18,'Data Input'!AK18,'Data Input'!AM18))","v":""},{"$f":"IF(H14=\"\",\"\",H14/COUNTIF('Data Input'!$C$8:$AZ$8,$H$2))","v":""},{"$f":"IF(ISBLANK('Data Input'!A18),\"\",SUM('Data Input'!G18,'Data Input'!I18,'Data Input'!K18,'Data Input'!O18,'Data Input'!P18,'Data Input'!S18,'Data Input'!U18,'Data Input'!V18,'Data Input'!W18,'Data Input'!X18,'Data Input'!Z18,'Data Input'!AA18,'Data Input'!AD18,'Data Input'!AZ18))","v":""},{"$f":"IF(J14=\"\",\"\",J14/COUNTIF('Data Input'!$C$8:$AZ$8,$J$2))","v":""},{"$f":"IF(ISBLANK('Data Input'!A18),\"\",SUM('Data Input'!Q18,'Data Input'!AG18))","v":""},{"$f":"IF(L14=\"\",\"\",L14/COUNTIF('Data Input'!$C$8:$AZ$8,$L$2))","v":""},{"$f":"IF(ISBLANK('Data Input'!A18),\"\",SUM('Data Input'!D18,'Data Input'!E18,'Data Input'!F18,'Data Input'!L18,'Data Input'!M18,'Data Input'!AB18,'Data Input'!AC18,'Data Input'!AF18,'Data Input'!AJ18,'Data Input'!AL18,'Data Input'!AN18,'Data Input'!AO18,'Data Input'!AP18,'Data Input'!AQ18,'Data Input'!AR18,'Data Input'!AS18,'Data Input'!AT18,'Data Input'!AU18,'Data Input'!AV18,'Data Input'!AW18,'Data Input'!AX18,'Data Input'!AY18))","v":""},{"$f":"IF(N14=\"\",\"\",N14/COUNTIF('Data Input'!$C$8:$AZ$8,$N$2))","v":""},null,{"$f":"IF(P14=\"\",\"\",P14/COUNTIF('Data Input'!$C$8:$AZ$8,$P$2))","v":""},{"$f":"IF(ISBLANK('Data Input'!A18),\"\",SUM('Data Input'!AH18))","v":""},{"$f":"IF(R14=\"\",\"\",R14/COUNTIF('Data Input'!$C$8:$AZ$8,$R$2))","v":""},{"$f":"IF(ISBLANK('Data Input'!$A18),\"\",SUM('Data Input'!AI18))","v":""},{"$f":"IF(T14=\"\",\"\",T14/COUNTIF('Data Input'!$C$8:$AZ$8,$T$2))","v":""},null,{"$f":"IF(V14=\"\",\"\",V14/COUNTIF('Data Input'!$C$8:$AZ$8,$V$2))","v":""}]
[{"$f":"IF('Data Input'!A19=0,\"\",'Data Input'!A19)","v":""},{"$f":"IF(F15=\"\",\"\",IF(F15>Welcome!$J$20-1,\"Exceeding\",IF(F15>Welcome!$F$20-1,\"Expected\",IF(F15<Welcome!$F$20,\"Below\"))))","v":""},{"$f":"IF(ISBLANK('Data Input'!A19),\"\",COUNTIF('Data Input'!C19:AZ19,\"\"))","v":""},{"$f":"IF(ISBLANK('Data Input'!A19),\"\",COUNTIF('Data Input'!C19:AZ19,\"0\"))","v":""},{"$f":"IF(ISBLANK('Data Input'!A19),\"\",SUM(C15,D15))","v":""},{"$f":"IF(ISBLANK('Data Input'!A19),\"\",SUM('Data Input'!C19:AZ19))","v":""},{"$f":"IF(F15=\"\",\"\",F15/(COUNTA('Data Input'!$C$8:$AZ$8)))","v":""},{"$f":"IF(ISBLANK('Data Input'!A19),\"\",SUM('Data Input'!C19,'Data Input'!H19,'Data Input'!J19,'Data Input'!N19,'Data Input'!R19,'Data Input'!T19,'Data Input'!Y19,'Data Input'!AE19,'Data Input'!AK19,'Data Input'!AM19))","v":""},{"$f":"IF(H15=\"\",\"\",H15/COUNTIF('Data Input'!$C$8:$AZ$8,$H$2))","v":""},{"$f":"IF(ISBLANK('Data Input'!A19),\"\",SUM('Data Input'!G19,'Data Input'!I19,'Data Input'!K19,'Data Input'!O19,'Data Input'!P19,'Data Input'!S19,'Data Input'!U19,'Data Input'!V19,'Data Input'!W19,'Data Input'!X19,'Data Input'!Z19,'Data Input'!AA19,'Data Input'!AD19,'Data Input'!AZ19))","v":""},{"$f":"IF(J15=\"\",\"\",J15/COUNTIF('Data Input'!$C$8:$AZ$8,$J$2))","v":""},{"$f":"IF(ISBLANK('Data Input'!A19),\"\",SUM('Data Input'!Q19,'Data Input'!AG19))","v":""},{"$f":"IF(L15=\"\",\"\",L15/COUNTIF('Data Input'!$C$8:$AZ$8,$L$2))","v":""},{"$f":"IF(ISBLANK('Data Input'!A19),\"\",SUM('Data Input'!D19,'Data Input'!E19,'Data Input'!F19,'Data Input'!L19,'Data Input'!M19,'Data Input'!AB19,'Data Input'!AC19,'Data Input'!AF19,'Data Input'!AJ19,'Data Input'!AL19,'Data Input'!AN19,'Data Input'!AO19,'Data Input'!AP19,'Data Input'!AQ19,'Data Input'!AR19,'Data Input'!AS19,'Data Input'!AT19,'Data Input'!AU19,'Data Input'!AV19,'Data Input'!AW19,'Data Input'!AX19,'Data Input'!AY19))","v":""},{"$f":"IF(N15=\"\",\"\",N15/COUNTIF('Data Input'!$C$8:$AZ$8,$N$2))","v":""},null,{"$f":"IF(P15=\"\",\"\",P15/COUNTIF('Data Input'!$C$8:$AZ$8,$P$2))","v":""},{"$f":"IF(ISBLANK('Data Input'!A19),\"\",SUM('Data Input'!AH19))","v":""},{"$f":"IF(R15=\"\",\"\",R15/COUNTIF('Data Input'!$C$8:$AZ$8,$R$2))","v":""},{"$f":"IF(ISBLANK('Data Input'!$A19),\"\",SUM('Data Input'!AI19))","v":""},{"$f":"IF(T15=\"\",\"\",T15/COUNTIF('Data Input'!$C$8:$AZ$8,$T$2))","v":""},null,{"$f":"IF(V15=\"\",\"\",V15/COUNTIF('Data Input'!$C$8:$AZ$8,$V$2))","v":""}]
[{"$f":"IF('Data Input'!A20=0,\"\",'Data Input'!A20)","v":""},{"$f":"IF(F16=\"\",\"\",IF(F16>Welcome!$J$20-1,\"Exceeding\",IF(F16>Welcome!$F$20-1,\"Expected\",IF(F16<Welcome!$F$20,\"Below\"))))","v":""},{"$f":"IF(ISBLANK('Data Input'!A20),\"\",COUNTIF('Data Input'!C20:AZ20,\"\"))","v":""},{"$f":"IF(ISBLANK('Data Input'!A20),\"\",COUNTIF('Data Input'!C20:AZ20,\"0\"))","v":""},{"$f":"IF(ISBLANK('Data Input'!A20),\"\",SUM(C16,D16))","v":""},{"$f":"IF(ISBLANK('Data Input'!A20),\"\",SUM('Data Input'!C20:AZ20))","v":""},{"$f":"IF(F16=\"\",\"\",F16/(COUNTA('Data Input'!$C$8:$AZ$8)))","v":""},{"$f":"IF(ISBLANK('Data Input'!A20),\"\",SUM('Data Input'!C20,'Data Input'!H20,'Data Input'!J20,'Data Input'!N20,'Data Input'!R20,'Data Input'!T20,'Data Input'!Y20,'Data Input'!AE20,'Data Input'!AK20,'Data Input'!AM20))","v":""},{"$f":"IF(H16=\"\",\"\",H16/COUNTIF('Data Input'!$C$8:$AZ$8,$H$2))","v":""},{"$f":"IF(ISBLANK('Data Input'!A20),\"\",SUM('Data Input'!G20,'Data Input'!I20,'Data Input'!K20,'Data Input'!O20,'Data Input'!P20,'Data Input'!S20,'Data Input'!U20,'Data Input'!V20,'Data Input'!W20,'Data Input'!X20,'Data Input'!Z20,'Data Input'!AA20,'Data Input'!AD20,'Data Input'!AZ20))","v":""},{"$f":"IF(J16=\"\",\"\",J16/COUNTIF('Data Input'!$C$8:$AZ$8,$J$2))","v":""},{"$f":"IF(ISBLANK('Data Input'!A20),\"\",SUM('Data Input'!Q20,'Data Input'!AG20))","v":""},{"$f":"IF(L16=\"\",\"\",L16/COUNTIF('Data Input'!$C$8:$AZ$8,$L$2))","v":""},{"$f":"IF(ISBLANK('Data Input'!A20),\"\",SUM('Data Input'!D20,'Data Input'!E20,'Data Input'!F20,'Data Input'!L20,'Data Input'!M20,'Data Input'!AB20,'Data Input'!AC20,'Data Input'!AF20,'Data Input'!AJ20,'Data Input'!AL20,'Data Input'!AN20,'Data Input'!AO20,'Data Input'!AP20,'Data Input'!AQ20,'Data Input'!AR20,'Data Input'!AS20,'Data Input'!AT20,'Data Input'!AU20,'Data Input'!AV20,'Data Input'!AW20,'Data Input'!AX20,'Data Input'!AY20))","v":""},{"$f":"IF(N16=\"\",\"\",N16/COUNTIF('Data Input'!$C$8:$AZ$8,$N$2))","v":""},null,{"$f":"IF(P16=\"\",\"\",P16/COUNTIF('Data Input'!$C$8:$AZ$8,$P$2))","v":""},{"$f":"IF(ISBLANK('Data Input'!A20),\"\",SUM('Data Input'!AH20))","v":""},{"$f":"IF(R16=\"\",\"\",R16/COUNTIF('Data Input'!$C$8:$AZ$8,$R$2))","v":""},{"$f":"IF(ISBLANK('Data Input'!$A20),\"\",SUM('Data Input'!AI20))","v":""},{"$f":"IF(T16=\"\",\"\",T16/COUNTIF('Data Input'!$C$8:$AZ$8,$T$2))","v":""},null,{"$f":"IF(V16=\"\",\"\",V16/COUNTIF('Data Input'!$C$8:$AZ$8,$V$2))","v":""}]
[{"$f":"IF('Data Input'!A21=0,\"\",'Data Input'!A21)","v":""},{"$f":"IF(F17=\"\",\"\",IF(F17>Welcome!$J$20-1,\"Exceeding\",IF(F17>Welcome!$F$20-1,\"Expected\",IF(F17<Welcome!$F$20,\"Below\"))))","v":""},{"$f":"IF(ISBLANK('Data Input'!A21),\"\",COUNTIF('Data Input'!C21:AZ21,\"\"))","v":""},{"$f":"IF(ISBLANK('Data Input'!A21),\"\",COUNTIF('Data Input'!C21:AZ21,\"0\"))","v":""},{"$f":"IF(ISBLANK('Data Input'!A21),\"\",SUM(C17,D17))","v":""},{"$f":"IF(ISBLANK('Data Input'!A21),\"\",SUM('Data Input'!C21:AZ21))","v":""},{"$f":"IF(F17=\"\",\"\",F17/(COUNTA('Data Input'!$C$8:$AZ$8)))","v":""},{"$f":"IF(ISBLANK('Data Input'!A21),\"\",SUM('Data Input'!C21,'Data Input'!H21,'Data Input'!J21,'Data Input'!N21,'Data Input'!R21,'Data Input'!T21,'Data Input'!Y21,'Data Input'!AE21,'Data Input'!AK21,'Data Input'!AM21))","v":""},{"$f":"IF(H17=\"\",\"\",H17/COUNTIF('Data Input'!$C$8:$AZ$8,$H$2))","v":""},{"$f":"IF(ISBLANK('Data Input'!A21),\"\",SUM('Data Input'!G21,'Data Input'!I21,'Data Input'!K21,'Data Input'!O21,'Data Input'!P21,'Data Input'!S21,'Data Input'!U21,'Data Input'!V21,'Data Input'!W21,'Data Input'!X21,'Data Input'!Z21,'Data Input'!AA21,'Data Input'!AD21,'Data Input'!AZ21))","v":""},{"$f":"IF(J17=\"\",\"\",J17/COUNTIF('Data Input'!$C$8:$AZ$8,$J$2))","v":""},{"$f":"IF(ISBLANK('Data Input'!A21),\"\",SUM('Data Input'!Q21,'Data Input'!AG21))","v":""},{"$f":"IF(L17=\"\",\"\",L17/COUNTIF('Data Input'!$C$8:$AZ$8,$L$2))","v":""},{"$f":"IF(ISBLANK('Data Input'!A21),\"\",SUM('Data Input'!D21,'Data Input'!E21,'Data Input'!F21,'Data Input'!L21,'Data Input'!M21,'Data Input'!AB21,'Data Input'!AC21,'Data Input'!AF21,'Data Input'!AJ21,'Data Input'!AL21,'Data Input'!AN21,'Data Input'!AO21,'Data Input'!AP21,'Data Input'!AQ21,'Data Input'!AR21,'Data Input'!AS21,'Data Input'!AT21,'Data Input'!AU21,'Data Input'!AV21,'Data Input'!AW21,'Data Input'!AX21,'Data Input'!AY21))","v":""},{"$f":"IF(N17=\"\",\"\",N17/COUNTIF('Data Input'!$C$8:$AZ$8,$N$2))","v":""},null,{"$f":"IF(P17=\"\",\"\",P17/COUNTIF('Data Input'!$C$8:$AZ$8,$P$2))","v":""},{"$f":"IF(ISBLANK('Data Input'!A21),\"\",SUM('Data Input'!AH21))","v":""},{"$f":"IF(R17=\"\",\"\",R17/COUNTIF('Data Input'!$C$8:$AZ$8,$R$2))","v":""},{"$f":"IF(ISBLANK('Data Input'!$A21),\"\",SUM('Data Input'!AI21))","v":""},{"$f":"IF(T17=\"\",\"\",T17/COUNTIF('Data Input'!$C$8:$AZ$8,$T$2))","v":""},null,{"$f":"IF(V17=\"\",\"\",V17/COUNTIF('Data Input'!$C$8:$AZ$8,$V$2))","v":""}]
[{"$f":"IF('Data Input'!A22=0,\"\",'Data Input'!A22)","v":""},{"$f":"IF(F18=\"\",\"\",IF(F18>Welcome!$J$20-1,\"Exceeding\",IF(F18>Welcome!$F$20-1,\"Expected\",IF(F18<Welcome!$F$20,\"Below\"))))","v":""},{"$f":"IF(ISBLANK('Data Input'!A22),\"\",COUNTIF('Data Input'!C22:AZ22,\"\"))","v":""},{"$f":"IF(ISBLANK('Data Input'!A22),\"\",COUNTIF('Data Input'!C22:AZ22,\"0\"))","v":""},{"$f":"IF(ISBLANK('Data Input'!A22),\"\",SUM(C18,D18))","v":""},{"$f":"IF(ISBLANK('Data Input'!A22),\"\",SUM('Data Input'!C22:AZ22))","v":""},{"$f":"IF(F18=\"\",\"\",F18/(COUNTA('Data Input'!$C$8:$AZ$8)))","v":""},{"$f":"IF(ISBLANK('Data Input'!A22),\"\",SUM('Data Input'!C22,'Data Input'!H22,'Data Input'!J22,'Data Input'!N22,'Data Input'!R22,'Data Input'!T22,'Data Input'!Y22,'Data Input'!AE22,'Data Input'!AK22,'Data Input'!AM22))","v":""},{"$f":"IF(H18=\"\",\"\",H18/COUNTIF('Data Input'!$C$8:$AZ$8,$H$2))","v":""},{"$f":"IF(ISBLANK('Data Input'!A22),\"\",SUM('Data Input'!G22,'Data Input'!I22,'Data Input'!K22,'Data Input'!O22,'Data Input'!P22,'Data Input'!S22,'Data Input'!U22,'Data Input'!V22,'Data Input'!W22,'Data Input'!X22,'Data Input'!Z22,'Data Input'!AA22,'Data Input'!AD22,'Data Input'!AZ22))","v":""},{"$f":"IF(J18=\"\",\"\",J18/COUNTIF('Data Input'!$C$8:$AZ$8,$J$2))","v":""},{"$f":"IF(ISBLANK('Data Input'!A22),\"\",SUM('Data Input'!Q22,'Data Input'!AG22))","v":""},{"$f":"IF(L18=\"\",\"\",L18/COUNTIF('Data Input'!$C$8:$AZ$8,$L$2))","v":""},{"$f":"IF(ISBLANK('Data Input'!A22),\"\",SUM('Data Input'!D22,'Data Input'!E22,'Data Input'!F22,'Data Input'!L22,'Data Input'!M22,'Data Input'!AB22,'Data Input'!AC22,'Data Input'!AF22,'Data Input'!AJ22,'Data Input'!AL22,'Data Input'!AN22,'Data Input'!AO22,'Data Input'!AP22,'Data Input'!AQ22,'Data Input'!AR22,'Data Input'!AS22,'Data Input'!AT22,'Data Input'!AU22,'Data Input'!AV22,'Data Input'!AW22,'Data Input'!AX22,'Data Input'!AY22))","v":""},{"$f":"IF(N18=\"\",\"\",N18/COUNTIF('Data Input'!$C$8:$AZ$8,$N$2))","v":""},null,{"$f":"IF(P18=\"\",\"\",P18/COUNTIF('Data Input'!$C$8:$AZ$8,$P$2))","v":""},{"$f":"IF(ISBLANK('Data Input'!A22),\"\",SUM('Data Input'!AH22))","v":""},{"$f":"IF(R18=\"\",\"\",R18/COUNTIF('Data Input'!$C$8:$AZ$8,$R$2))","v":""},{"$f":"IF(ISBLANK('Data Input'!$A22),\"\",SUM('Data Input'!AI22))","v":""},{"$f":"IF(T18=\"\",\"\",T18/COUNTIF('Data Input'!$C$8:$AZ$8,$T$2))","v":""},null,{"$f":"IF(V18=\"\",\"\",V18/COUNTIF('Data Input'!$C$8:$AZ$8,$V$2))","v":""}]
[{"$f":"IF('Data Input'!A23=0,\"\",'Data Input'!A23)","v":""},{"$f":"IF(F19=\"\",\"\",IF(F19>Welcome!$J$20-1,\"Exceeding\",IF(F19>Welcome!$F$20-1,\"Expected\",IF(F19<Welcome!$F$20,\"Below\"))))","v":""},{"$f":"IF(ISBLANK('Data Input'!A23),\"\",COUNTIF('Data Input'!C23:AZ23,\"\"))","v":""},{"$f":"IF(ISBLANK('Data Input'!A23),\"\",COUNTIF('Data Input'!C23:AZ23,\"0\"))","v":""},{"$f":"IF(ISBLANK('Data Input'!A23),\"\",SUM(C19,D19))","v":""},{"$f":"IF(ISBLANK('Data Input'!A23),\"\",SUM('Data Input'!C23:AZ23))","v":""},{"$f":"IF(F19=\"\",\"\",F19/(COUNTA('Data Input'!$C$8:$AZ$8)))","v":""},{"$f":"IF(ISBLANK('Data Input'!A23),\"\",SUM('Data Input'!C23,'Data Input'!H23,'Data Input'!J23,'Data Input'!N23,'Data Input'!R23,'Data Input'!T23,'Data Input'!Y23,'Data Input'!AE23,'Data Input'!AK23,'Data Input'!AM23))","v":""},{"$f":"IF(H19=\"\",\"\",H19/COUNTIF('Data Input'!$C$8:$AZ$8,$H$2))","v":""},{"$f":"IF(ISBLANK('Data Input'!A23),\"\",SUM('Data Input'!G23,'Data Input'!I23,'Data Input'!K23,'Data Input'!O23,'Data Input'!P23,'Data Input'!S23,'Data Input'!U23,'Data Input'!V23,'Data Input'!W23,'Data Input'!X23,'Data Input'!Z23,'Data Input'!AA23,'Data Input'!AD23,'Data Input'!AZ23))","v":""},{"$f":"IF(J19=\"\",\"\",J19/COUNTIF('Data Input'!$C$8:$AZ$8,$J$2))","v":""},{"$f":"IF(ISBLANK('Data Input'!A23),\"\",SUM('Data Input'!Q23,'Data Input'!AG23))","v":""},{"$f":"IF(L19=\"\",\"\",L19/COUNTIF('Data Input'!$C$8:$AZ$8,$L$2))","v":""},{"$f":"IF(ISBLANK('Data Input'!A23),\"\",SUM('Data Input'!D23,'Data Input'!E23,'Data Input'!F23,'Data Input'!L23,'Data Input'!M23,'Data Input'!AB23,'Data Input'!AC23,'Data Input'!AF23,'Data Input'!AJ23,'Data Input'!AL23,'Data Input'!AN23,'Data Input'!AO23,'Data Input'!AP23,'Data Input'!AQ23,'Data Input'!AR23,'Data Input'!AS23,'Data Input'!AT23,'Data Input'!AU23,'Data Input'!AV23,'Data Input'!AW23,'Data Input'!AX23,'Data Input'!AY23))","v":""},{"$f":"IF(N19=\"\",\"\",N19/COUNTIF('Data Input'!$C$8:$AZ$8,$N$2))","v":""},null,{"$f":"IF(P19=\"\",\"\",P19/COUNTIF('Data Input'!$C$8:$AZ$8,$P$2))","v":""},{"$f":"IF(ISBLANK('Data Input'!A23),\"\",SUM('Data Input'!AH23))","v":""},{"$f":"IF(R19=\"\",\"\",R19/COUNTIF('Data Input'!$C$8:$AZ$8,$R$2))","v":""},{"$f":"IF(ISBLANK('Data Input'!$A23),\"\",SUM('Data Input'!AI23))","v":""},{"$f":"IF(T19=\"\",\"\",T19/COUNTIF('Data Input'!$C$8:$AZ$8,$T$2))","v":""},null,{"$f":"IF(V19=\"\",\"\",V19/COUNTIF('Data Input'!$C$8:$AZ$8,$V$2))","v":""}]
[{"$f":"IF('Data Input'!A24=0,\"\",'Data Input'!A24)","v":""},{"$f":"IF(F20=\"\",\"\",IF(F20>Welcome!$J$20-1,\"Exceeding\",IF(F20>Welcome!$F$20-1,\"Expected\",IF(F20<Welcome!$F$20,\"Below\"))))","v":""},{"$f":"IF(ISBLANK('Data Input'!A24),\"\",COUNTIF('Data Input'!C24:AZ24,\"\"))","v":""},{"$f":"IF(ISBLANK('Data Input'!A24),\"\",COUNTIF('Data Input'!C24:AZ24,\"0\"))","v":""},{"$f":"IF(ISBLANK('Data Input'!A24),\"\",SUM(C20,D20))","v":""},{"$f":"IF(ISBLANK('Data Input'!A24),\"\",SUM('Data Input'!C24:AZ24))","v":""},{"$f":"IF(F20=\"\",\"\",F20/(COUNTA('Data Input'!$C$8:$AZ$8)))","v":""},{"$f":"IF(ISBLANK('Data Input'!A24),\"\",SUM('Data Input'!C24,'Data Input'!H24,'Data Input'!J24,'Data Input'!N24,'Data Input'!R24,'Data Input'!T24,'Data Input'!Y24,'Data Input'!AE24,'Data Input'!AK24,'Data Input'!AM24))","v":""},{"$f":"IF(H20=\"\",\"\",H20/COUNTIF('Data Input'!$C$8:$AZ$8,$H$2))","v":""},{"$f":"IF(ISBLANK('Data Input'!A24),\"\",SUM('Data Input'!G24,'Data Input'!I24,'Data Input'!K24,'Data Input'!O24,'Data Input'!P24,'Data Input'!S24,'Data Input'!U24,'Data Input'!V24,'Data Input'!W24,'Data Input'!X24,'Data Input'!Z24,'Data Input'!AA24,'Data Input'!AD24,'Data Input'!AZ24))","v":""},{"$f":"IF(J20=\"\",\"\",J20/COUNTIF('Data Input'!$C$8:$AZ$8,$J$2))","v":""},{"$f":"IF(ISBLANK('Data Input'!A24),\"\",SUM('Data Input'!Q24,'Data Input'!AG24))","v":""},{"$f":"IF(L20=\"\",\"\",L20/COUNTIF('Data Input'!$C$8:$AZ$8,$L$2))","v":""},{"$f":"IF(ISBLANK('Data Input'!A24),\"\",SUM('Data Input'!D24,'Data Input'!E24,'Data Input'!F24,'Data Input'!L24,'Data Input'!M24,'Data Input'!AB24,'Data Input'!AC24,'Data Input'!AF24,'Data Input'!AJ24,'Data Input'!AL24,'Data Input'!AN24,'Data Input'!AO24,'Data Input'!AP24,'Data Input'!AQ24,'Data Input'!AR24,'Data Input'!AS24,'Data Input'!AT24,'Data Input'!AU24,'Data Input'!AV24,'Data Input'!AW24,'Data Input'!AX24,'Data Input'!AY24))","v":""},{"$f":"IF(N20=\"\",\"\",N20/COUNTIF('Data Input'!$C$8:$AZ$8,$N$2))","v":""},null,{"$f":"IF(P20=\"\",\"\",P20/COUNTIF('Data Input'!$C$8:$AZ$8,$P$2))","v":""},{"$f":"IF(ISBLANK('Data Input'!A24),\"\",SUM('Data Input'!AH24))","v":""},{"$f":"IF(R20=\"\",\"\",R20/COUNTIF('Data Input'!$C$8:$AZ$8,$R$2))","v":""},{"$f":"IF(ISBLANK('Data Input'!$A24),\"\",SUM('Data Input'!AI24))","v":""},{"$f":"IF(T20=\"\",\"\",T20/COUNTIF('Data Input'!$C$8:$AZ$8,$T$2))","v":""},null,{"$f":"IF(V20=\"\",\"\",V20/COUNTIF('Data Input'!$C$8:$AZ$8,$V$2))","v":""}]
[{"$f":"IF('Data Input'!A25=0,\"\",'Data Input'!A25)","v":""},{"$f":"IF(F21=\"\",\"\",IF(F21>Welcome!$J$20-1,\"Exceeding\",IF(F21>Welcome!$F$20-1,\"Expected\",IF(F21<Welcome!$F$20,\"Below\"))))","v":""},{"$f":"IF(ISBLANK('Data Input'!A25),\"\",COUNTIF('Data Input'!C25:AZ25,\"\"))","v":""},{"$f":"IF(ISBLANK('Data Input'!A25),\"\",COUNTIF('Data Input'!C25:AZ25,\"0\"))","v":""},{"$f":"IF(ISBLANK('Data Input'!A25),\"\",SUM(C21,D21))","v":""},{"$f":"IF(ISBLANK('Data Input'!A25),\"\",SUM('Data Input'!C25:AZ25))","v":""},{"$f":"IF(F21=\"\",\"\",F21/(COUNTA('Data Input'!$C$8:$AZ$8)))","v":""},{"$f":"IF(ISBLANK('Data Input'!A25),\"\",SUM('Data Input'!C25,'Data Input'!H25,'Data Input'!J25,'Data Input'!N25,'Data Input'!R25,'Data Input'!T25,'Data Input'!Y25,'Data Input'!AE25,'Data Input'!AK25,'Data Input'!AM25))","v":""},{"$f":"IF(H21=\"\",\"\",H21/COUNTIF('Data Input'!$C$8:$AZ$8,$H$2))","v":""},{"$f":"IF(ISBLANK('Data Input'!A25),\"\",SUM('Data Input'!G25,'Data Input'!I25,'Data Input'!K25,'Data Input'!O25,'Data Input'!P25,'Data Input'!S25,'Data Input'!U25,'Data Input'!V25,'Data Input'!W25,'Data Input'!X25,'Data Input'!Z25,'Data Input'!AA25,'Data Input'!AD25,'Data Input'!AZ25))","v":""},{"$f":"IF(J21=\"\",\"\",J21/COUNTIF('Data Input'!$C$8:$AZ$8,$J$2))","v":""},{"$f":"IF(ISBLANK('Data Input'!A25),\"\",SUM('Data Input'!Q25,'Data Input'!AG25))","v":""},{"$f":"IF(L21=\"\",\"\",L21/COUNTIF('Data Input'!$C$8:$AZ$8,$L$2))","v":""},{"$f":"IF(ISBLANK('Data Input'!A25),\"\",SUM('Data Input'!D25,'Data Input'!E25,'Data Input'!F25,'Data Input'!L25,'Data Input'!M25,'Data Input'!AB25,'Data Input'!AC25,'Data Input'!AF25,'Data Input'!AJ25,'Data Input'!AL25,'Data Input'!AN25,'Data Input'!AO25,'Data Input'!AP25,'Data Input'!AQ25,'Data Input'!AR25,'Data Input'!AS25,'Data Input'!AT25,'Data Input'!AU25,'Data Input'!AV25,'Data Input'!AW25,'Data Input'!AX25,'Data Input'!AY25))","v":""},{"$f":"IF(N21=\"\",\"\",N21/COUNTIF('Data Input'!$C$8:$AZ$8,$N$2))","v":""},null,{"$f":"IF(P21=\"\",\"\",P21/COUNTIF('Data Input'!$C$8:$AZ$8,$P$2))","v":""},{"$f":"IF(ISBLANK('Data Input'!A25),\"\",SUM('Data Input'!AH25))","v":""},{"$f":"IF(R21=\"\",\"\",R21/COUNTIF('Data Input'!$C$8:$AZ$8,$R$2))","v":""},{"$f":"IF(ISBLANK('Data Input'!$A25),\"\",SUM('Data Input'!AI25))","v":""},{"$f":"IF(T21=\"\",\"\",T21/COUNTIF('Data Input'!$C$8:$AZ$8,$T$2))","v":""},null,{"$f":"IF(V21=\"\",\"\",V21/COUNTIF('Data Input'!$C$8:$AZ$8,$V$2))","v":""}]
[{"$f":"IF('Data Input'!A26=0,\"\",'Data Input'!A26)","v":""},{"$f":"IF(F22=\"\",\"\",IF(F22>Welcome!$J$20-1,\"Exceeding\",IF(F22>Welcome!$F$20-1,\"Expected\",IF(F22<Welcome!$F$20,\"Below\"))))","v":""},{"$f":"IF(ISBLANK('Data Input'!A26),\"\",COUNTIF('Data Input'!C26:AZ26,\"\"))","v":""},{"$f":"IF(ISBLANK('Data Input'!A26),\"\",COUNTIF('Data Input'!C26:AZ26,\"0\"))","v":""},{"$f":"IF(ISBLANK('Data Input'!A26),\"\",SUM(C22,D22))","v":""},{"$f":"IF(ISBLANK('Data Input'!A26),\"\",SUM('Data Input'!C26:AZ26))","v":""},{"$f":"IF(F22=\"\",\"\",F22/(COUNTA('Data Input'!$C$8:$AZ$8)))","v":""},{"$f":"IF(ISBLANK('Data Input'!A26),\"\",SUM('Data Input'!C26,'Data Input'!H26,'Data Input'!J26,'Data Input'!N26,'Data Input'!R26,'Data Input'!T26,'Data Input'!Y26,'Data Input'!AE26,'Data Input'!AK26,'Data Input'!AM26))","v":""},{"$f":"IF(H22=\"\",\"\",H22/COUNTIF('Data Input'!$C$8:$AZ$8,$H$2))","v":""},{"$f":"IF(ISBLANK('Data Input'!A26),\"\",SUM('Data Input'!G26,'Data Input'!I26,'Data Input'!K26,'Data Input'!O26,'Data Input'!P26,'Data Input'!S26,'Data Input'!U26,'Data Input'!V26,'Data Input'!W26,'Data Input'!X26,'Data Input'!Z26,'Data Input'!AA26,'Data Input'!AD26,'Data Input'!AZ26))","v":""},{"$f":"IF(J22=\"\",\"\",J22/COUNTIF('Data Input'!$C$8:$AZ$8,$J$2))","v":""},{"$f":"IF(ISBLANK('Data Input'!A26),\"\",SUM('Data Input'!Q26,'Data Input'!AG26))","v":""},{"$f":"IF(L22=\"\",\"\",L22/COUNTIF('Data Input'!$C$8:$AZ$8,$L$2))","v":""},{"$f":"IF(ISBLANK('Data Input'!A26),\"\",SUM('Data Input'!D26,'Data Input'!E26,'Data Input'!F26,'Data Input'!L26,'Data Input'!M26,'Data Input'!AB26,'Data Input'!AC26,'Data Input'!AF26,'Data Input'!AJ26,'Data Input'!AL26,'Data Input'!AN26,'Data Input'!AO26,'Data Input'!AP26,'Data Input'!AQ26,'Data Input'!AR26,'Data Input'!AS26,'Data Input'!AT26,'Data Input'!AU26,'Data Input'!AV26,'Data Input'!AW26,'Data Input'!AX26,'Data Input'!AY26))","v":""},{"$f":"IF(N22=\"\",\"\",N22/COUNTIF('Data Input'!$C$8:$AZ$8,$N$2))","v":""},null,{"$f":"IF(P22=\"\",\"\",P22/COUNTIF('Data Input'!$C$8:$AZ$8,$P$2))","v":""},{"$f":"IF(ISBLANK('Data Input'!A26),\"\",SUM('Data Input'!AH26))","v":""},{"$f":"IF(R22=\"\",\"\",R22/COUNTIF('Data Input'!$C$8:$AZ$8,$R$2))","v":""},{"$f":"IF(ISBLANK('Data Input'!$A26),\"\",SUM('Data Input'!AI26))","v":""},{"$f":"IF(T22=\"\",\"\",T22/COUNTIF('Data Input'!$C$8:$AZ$8,$T$2))","v":""},null,{"$f":"IF(V22=\"\",\"\",V22/COUNTIF('Data Input'!$C$8:$AZ$8,$V$2))","v":""}]
[{"$f":"IF('Data Input'!A27=0,\"\",'Data Input'!A27)","v":""},{"$f":"IF(F23=\"\",\"\",IF(F23>Welcome!$J$20-1,\"Exceeding\",IF(F23>Welcome!$F$20-1,\"Expected\",IF(F23<Welcome!$F$20,\"Below\"))))","v":""},{"$f":"IF(ISBLANK('Data Input'!A27),\"\",COUNTIF('Data Input'!C27:AZ27,\"\"))","v":""},{"$f":"IF(ISBLANK('Data Input'!A27),\"\",COUNTIF('Data Input'!C27:AZ27,\"0\"))","v":""},{"$f":"IF(ISBLANK('Data Input'!A27),\"\",SUM(C23,D23))","v":""},{"$f":"IF(ISBLANK('Data Input'!A27),\"\",SUM('Data Input'!C27:AZ27))","v":""},{"$f":"IF(F23=\"\",\"\",F23/(COUNTA('Data Input'!$C$8:$AZ$8)))","v":""},{"$f":"IF(ISBLANK('Data Input'!A27),\"\",SUM('Data Input'!C27,'Data Input'!H27,'Data Input'!J27,'Data Input'!N27,'Data Input'!R27,'Data Input'!T27,'Data Input'!Y27,'Data Input'!AE27,'Data Input'!AK27,'Data Input'!AM27))","v":""},{"$f":"IF(H23=\"\",\"\",H23/COUNTIF('Data Input'!$C$8:$AZ$8,$H$2))","v":""},{"$f":"IF(ISBLANK('Data Input'!A27),\"\",SUM('Data Input'!G27,'Data Input'!I27,'Data Input'!K27,'Data Input'!O27,'Data Input'!P27,'Data Input'!S27,'Data Input'!U27,'Data Input'!V27,'Data Input'!W27,'Data Input'!X27,'Data Input'!Z27,'Data Input'!AA27,'Data Input'!AD27,'Data Input'!AZ27))","v":""},{"$f":"IF(J23=\"\",\"\",J23/COUNTIF('Data Input'!$C$8:$AZ$8,$J$2))","v":""},{"$f":"IF(ISBLANK('Data Input'!A27),\"\",SUM('Data Input'!Q27,'Data Input'!AG27))","v":""},{"$f":"IF(L23=\"\",\"\",L23/COUNTIF('Data Input'!$C$8:$AZ$8,$L$2))","v":""},{"$f":"IF(ISBLANK('Data Input'!A27),\"\",SUM('Data Input'!D27,'Data Input'!E27,'Data Input'!F27,'Data Input'!L27,'Data Input'!M27,'Data Input'!AB27,'Data Input'!AC27,'Data Input'!AF27,'Data Input'!AJ27,'Data Input'!AL27,'Data Input'!AN27,'Data Input'!AO27,'Data Input'!AP27,'Data Input'!AQ27,'Data Input'!AR27,'Data Input'!AS27,'Data Input'!AT27,'Data Input'!AU27,'Data Input'!AV27,'Data Input'!AW27,'Data Input'!AX27,'Data Input'!AY27))","v":""},{"$f":"IF(N23=\"\",\"\",N23/COUNTIF('Data Input'!$C$8:$AZ$8,$N$2))","v":""},null,{"$f":"IF(P23=\"\",\"\",P23/COUNTIF('Data Input'!$C$8:$AZ$8,$P$2))","v":""},{"$f":"IF(ISBLANK('Data Input'!A27),\"\",SUM('Data Input'!AH27))","v":""},{"$f":"IF(R23=\"\",\"\",R23/COUNTIF('Data Input'!$C$8:$AZ$8,$R$2))","v":""},{"$f":"IF(ISBLANK('Data Input'!$A27),\"\",SUM('Data Input'!AI27))","v":""},{"$f":"IF(T23=\"\",\"\",T23/COUNTIF('Data Input'!$C$8:$AZ$8,$T$2))","v":""},null,{"$f":"IF(V23=\"\",\"\",V23/COUNTIF('Data Input'!$C$8:$AZ$8,$V$2))","v":""}]
[{"$f":"IF('Data Input'!A28=0,\"\",'Data Input'!A28)","v":""},{"$f":"IF(F24=\"\",\"\",IF(F24>Welcome!$J$20-1,\"Exceeding\",IF(F24>Welcome!$F$20-1,\"Expected\",IF(F24<Welcome!$F$20,\"Below\"))))","v":""},{"$f":"IF(ISBLANK('Data Input'!A28),\"\",COUNTIF('Data Input'!C28:AZ28,\"\"))","v":""},{"$f":"IF(ISBLANK('Data Input'!A28),\"\",COUNTIF('Data Input'!C28:AZ28,\"0\"))","v":""},{"$f":"IF(ISBLANK('Data Input'!A28),\"\",SUM(C24,D24))","v":""},{"$f":"IF(ISBLANK('Data Input'!A28),\"\",SUM('Data Input'!C28:AZ28))","v":""},{"$f":"IF(F24=\"\",\"\",F24/(COUNTA('Data Input'!$C$8:$AZ$8)))","v":""},{"$f":"IF(ISBLANK('Data Input'!A28),\"\",SUM('Data Input'!C28,'Data Input'!H28,'Data Input'!J28,'Data Input'!N28,'Data Input'!R28,'Data Input'!T28,'Data Input'!Y28,'Data Input'!AE28,'Data Input'!AK28,'Data Input'!AM28))","v":""},{"$f":"IF(H24=\"\",\"\",H24/COUNTIF('Data Input'!$C$8:$AZ$8,$H$2))","v":""},{"$f":"IF(ISBLANK('Data Input'!A28),\"\",SUM('Data Input'!G28,'Data Input'!I28,'Data Input'!K28,'Data Input'!O28,'Data Input'!P28,'Data Input'!S28,'Data Input'!U28,'Data Input'!V28,'Data Input'!W28,'Data Input'!X28,'Data Input'!Z28,'Data Input'!AA28,'Data Input'!AD28,'Data Input'!AZ28))","v":""},{"$f":"IF(J24=\"\",\"\",J24/COUNTIF('Data Input'!$C$8:$AZ$8,$J$2))","v":""},{"$f":"IF(ISBLANK('Data Input'!A28),\"\",SUM('Data Input'!Q28,'Data Input'!AG28))","v":""},{"$f":"IF(L24=\"\",\"\",L24/COUNTIF('Data Input'!$C$8:$AZ$8,$L$2))","v":""},{"$f":"IF(ISBLANK('Data Input'!A28),\"\",SUM('Data Input'!D28,'Data Input'!E28,'Data Input'!F28,'Data Input'!L28,'Data Input'!M28,'Data Input'!AB28,'Data Input'!AC28,'Data Input'!AF28,'Data Input'!AJ28,'Data Input'!AL28,'Data Input'!AN28,'Data Input'!AO28,'Data Input'!AP28,'Data Input'!AQ28,'Data Input'!AR28,'Data Input'!AS28,'Data Input'!AT28,'Data Input'!AU28,'Data Input'!AV28,'Data Input'!AW28,'Data Input'!AX28,'Data Input'!AY28))","v":""},{"$f":"IF(N24=\"\",\"\",N24/COUNTIF('Data Input'!$C$8:$AZ$8,$N$2))","v":""},null,{"$f":"IF(P24=\"\",\"\",P24/COUNTIF('Data Input'!$C$8:$AZ$8,$P$2))","v":""},{"$f":"IF(ISBLANK('Data Input'!A28),\"\",SUM('Data Input'!AH28))","v":""},{"$f":"IF(R24=\"\",\"\",R24/COUNTIF('Data Input'!$C$8:$AZ$8,$R$2))","v":""},{"$f":"IF(ISBLANK('Data Input'!$A28),\"\",SUM('Data Input'!AI28))","v":""},{"$f":"IF(T24=\"\",\"\",T24/COUNTIF('Data Input'!$C$8:$AZ$8,$T$2))","v":""},null,{"$f":"IF(V24=\"\",\"\",V24/COUNTIF('Data Input'!$C$8:$AZ$8,$V$2))","v":""}]
[{"$f":"IF('Data Input'!A29=0,\"\",'Data Input'!A29)","v":""},{"$f":"IF(F25=\"\",\"\",IF(F25>Welcome!$J$20-1,\"Exceeding\",IF(F25>Welcome!$F$20-1,\"Expected\",IF(F25<Welcome!$F$20,\"Below\"))))","v":""},{"$f":"IF(ISBLANK('Data Input'!A29),\"\",COUNTIF('Data Input'!C29:AZ29,\"\"))","v":""},{"$f":"IF(ISBLANK('Data Input'!A29),\"\",COUNTIF('Data Input'!C29:AZ29,\"0\"))","v":""},{"$f":"IF(ISBLANK('Data Input'!A29),\"\",SUM(C25,D25))","v":""},{"$f":"IF(ISBLANK('Data Input'!A29),\"\",SUM('Data Input'!C29:AZ29))","v":""},{"$f":"IF(F25=\"\",\"\",F25/(COUNTA('Data Input'!$C$8:$AZ$8)))","v":""},{"$f":"IF(ISBLANK('Data Input'!A29),\"\",SUM('Data Input'!C29,'Data Input'!H29,'Data Input'!J29,'Data Input'!N29,'Data Input'!R29,'Data Input'!T29,'Data Input'!Y29,'Data Input'!AE29,'Data Input'!AK29,'Data Input'!AM29))","v":""},{"$f":"IF(H25=\"\",\"\",H25/COUNTIF('Data Input'!$C$8:$AZ$8,$H$2))","v":""},{"$f":"IF(ISBLANK('Data Input'!A29),\"\",SUM('Data Input'!G29,'Data Input'!I29,'Data Input'!K29,'Data Input'!O29,'Data Input'!P29,'Data Input'!S29,'Data Input'!U29,'Data Input'!V29,'Data Input'!W29,'Data Input'!X29,'Data Input'!Z29,'Data Input'!AA29,'Data Input'!AD29,'Data Input'!AZ29))","v":""},{"$f":"IF(J25=\"\",\"\",J25/COUNTIF('Data Input'!$C$8:$AZ$8,$J$2))","v":""},{"$f":"IF(ISBLANK('Data Input'!A29),\"\",SUM('Data Input'!Q29,'Data Input'!AG29))","v":""},{"$f":"IF(L25=\"\",\"\",L25/COUNTIF('Data Input'!$C$8:$AZ$8,$L$2))","v":""},{"$f":"IF(ISBLANK('Data Input'!A29),\"\",SUM('Data Input'!D29,'Data Input'!E29,'Data Input'!F29,'Data Input'!L29,'Data Input'!M29,'Data Input'!AB29,'Data Input'!AC29,'Data Input'!AF29,'Data Input'!AJ29,'Data Input'!AL29,'Data Input'!AN29,'Data Input'!AO29,'Data Input'!AP29,'Data Input'!AQ29,'Data Input'!AR29,'Data Input'!AS29,'Data Input'!AT29,'Data Input'!AU29,'Data Input'!AV29,'Data Input'!AW29,'Data Input'!AX29,'Data Input'!AY29))","v":""},{"$f":"IF(N25=\"\",\"\",N25/COUNTIF('Data Input'!$C$8:$AZ$8,$N$2))","v":""},null,{"$f":"IF(P25=\"\",\"\",P25/COUNTIF('Data Input'!$C$8:$AZ$8,$P$2))","v":""},{"$f":"IF(ISBLANK('Data Input'!A29),\"\",SUM('Data Input'!AH29))","v":""},{"$f":"IF(R25=\"\",\"\",R25/COUNTIF('Data Input'!$C$8:$AZ$8,$R$2))","v":""},{"$f":"IF(ISBLANK('Data Input'!$A29),\"\",SUM('Data Input'!AI29))","v":""},{"$f":"IF(T25=\"\",\"\",T25/COUNTIF('Data Input'!$C$8:$AZ$8,$T$2))","v":""},null,{"$f":"IF(V25=\"\",\"\",V25/COUNTIF('Data Input'!$C$8:$AZ$8,$V$2))","v":""}]
[{"$f":"IF('Data Input'!A30=0,\"\",'Data Input'!A30)","v":""},{"$f":"IF(F26=\"\",\"\",IF(F26>Welcome!$J$20-1,\"Exceeding\",IF(F26>Welcome!$F$20-1,\"Expected\",IF(F26<Welcome!$F$20,\"Below\"))))","v":""},{"$f":"IF(ISBLANK('Data Input'!A30),\"\",COUNTIF('Data Input'!C30:AZ30,\"\"))","v":""},{"$f":"IF(ISBLANK('Data Input'!A30),\"\",COUNTIF('Data Input'!C30:AZ30,\"0\"))","v":""},{"$f":"IF(ISBLANK('Data Input'!A30),\"\",SUM(C26,D26))","v":""},{"$f":"IF(ISBLANK('Data Input'!A30),\"\",SUM('Data Input'!C30:AZ30))","v":""},{"$f":"IF(F26=\"\",\"\",F26/(COUNTA('Data Input'!$C$8:$AZ$8)))","v":""},{"$f":"IF(ISBLANK('Data Input'!A30),\"\",SUM('Data Input'!C30,'Data Input'!H30,'Data Input'!J30,'Data Input'!N30,'Data Input'!R30,'Data Input'!T30,'Data Input'!Y30,'Data Input'!AE30,'Data Input'!AK30,'Data Input'!AM30))","v":""},{"$f":"IF(H26=\"\",\"\",H26/COUNTIF('Data Input'!$C$8:$AZ$8,$H$2))","v":""},{"$f":"IF(ISBLANK('Data Input'!A30),\"\",SUM('Data Input'!G30,'Data Input'!I30,'Data Input'!K30,'Data Input'!O30,'Data Input'!P30,'Data Input'!S30,'Data Input'!U30,'Data Input'!V30,'Data Input'!W30,'Data Input'!X30,'Data Input'!Z30,'Data Input'!AA30,'Data Input'!AD30,'Data Input'!AZ30))","v":""},{"$f":"IF(J26=\"\",\"\",J26/COUNTIF('Data Input'!$C$8:$AZ$8,$J$2))","v":""},{"$f":"IF(ISBLANK('Data Input'!A30),\"\",SUM('Data Input'!Q30,'Data Input'!AG30))","v":""},{"$f":"IF(L26=\"\",\"\",L26/COUNTIF('Data Input'!$C$8:$AZ$8,$L$2))","v":""},{"$f":"IF(ISBLANK('Data Input'!A30),\"\",SUM('Data Input'!D30,'Data Input'!E30,'Data Input'!F30,'Data Input'!L30,'Data Input'!M30,'Data Input'!AB30,'Data Input'!AC30,'Data Input'!AF30,'Data Input'!AJ30,'Data Input'!AL30,'Data Input'!AN30,'Data Input'!AO30,'Data Input'!AP30,'Data Input'!AQ30,'Data Input'!AR30,'Data Input'!AS30,'Data Input'!AT30,'Data Input'!AU30,'Data Input'!AV30,'Data Input'!AW30,'Data Input'!AX30,'Data Input'!AY30))","v":""},{"$f":"IF(N26=\"\",\"\",N26/COUNTIF('Data Input'!$C$8:$AZ$8,$N$2))","v":""},null,{"$f":"IF(P26=\"\",\"\",P26/COUNTIF('Data Input'!$C$8:$AZ$8,$P$2))","v":""},{"$f":"IF(ISBLANK('Data Input'!A30),\"\",SUM('Data Input'!AH30))","v":""},{"$f":"IF(R26=\"\",\"\",R26/COUNTIF('Data Input'!$C$8:$AZ$8,$R$2))","v":""},{"$f":"IF(ISBLANK('Data Input'!$A30),\"\",SUM('Data Input'!AI30))","v":""},{"$f":"IF(T26=\"\",\"\",T26/COUNTIF('Data Input'!$C$8:$AZ$8,$T$2))","v":""},null,{"$f":"IF(V26=\"\",\"\",V26/COUNTIF('Data Input'!$C$8:$AZ$8,$V$2))","v":""}]
[{"$f":"IF('Data Input'!A31=0,\"\",'Data Input'!A31)","v":""},{"$f":"IF(F27=\"\",\"\",IF(F27>Welcome!$J$20-1,\"Exceeding\",IF(F27>Welcome!$F$20-1,\"Expected\",IF(F27<Welcome!$F$20,\"Below\"))))","v":""},{"$f":"IF(ISBLANK('Data Input'!A31),\"\",COUNTIF('Data Input'!C31:AZ31,\"\"))","v":""},{"$f":"IF(ISBLANK('Data Input'!A31),\"\",COUNTIF('Data Input'!C31:AZ31,\"0\"))","v":""},{"$f":"IF(ISBLANK('Data Input'!A31),\"\",SUM(C27,D27))","v":""},{"$f":"IF(ISBLANK('Data Input'!A31),\"\",SUM('Data Input'!C31:AZ31))","v":""},{"$f":"IF(F27=\"\",\"\",F27/(COUNTA('Data Input'!$C$8:$AZ$8)))","v":""},{"$f":"IF(ISBLANK('Data Input'!A31),\"\",SUM('Data Input'!C31,'Data Input'!H31,'Data Input'!J31,'Data Input'!N31,'Data Input'!R31,'Data Input'!T31,'Data Input'!Y31,'Data Input'!AE31,'Data Input'!AK31,'Data Input'!AM31))","v":""},{"$f":"IF(H27=\"\",\"\",H27/COUNTIF('Data Input'!$C$8:$AZ$8,$H$2))","v":""},{"$f":"IF(ISBLANK('Data Input'!A31),\"\",SUM('Data Input'!G31,'Data Input'!I31,'Data Input'!K31,'Data Input'!O31,'Data Input'!P31,'Data Input'!S31,'Data Input'!U31,'Data Input'!V31,'Data Input'!W31,'Data Input'!X31,'Data Input'!Z31,'Data Input'!AA31,'Data Input'!AD31,'Data Input'!AZ31))","v":""},{"$f":"IF(J27=\"\",\"\",J27/COUNTIF('Data Input'!$C$8:$AZ$8,$J$2))","v":""},{"$f":"IF(ISBLANK('Data Input'!A31),\"\",SUM('Data Input'!Q31,'Data Input'!AG31))","v":""},{"$f":"IF(L27=\"\",\"\",L27/COUNTIF('Data Input'!$C$8:$AZ$8,$L$2))","v":""},{"$f":"IF(ISBLANK('Data Input'!A31),\"\",SUM('Data Input'!D31,'Data Input'!E31,'Data Input'!F31,'Data Input'!L31,'Data Input'!M31,'Data Input'!AB31,'Data Input'!AC31,'Data Input'!AF31,'Data Input'!AJ31,'Data Input'!AL31,'Data Input'!AN31,'Data Input'!AO31,'Data Input'!AP31,'Data Input'!AQ31,'Data Input'!AR31,'Data Input'!AS31,'Data Input'!AT31,'Data Input'!AU31,'Data Input'!AV31,'Data Input'!AW31,'Data Input'!AX31,'Data Input'!AY31))","v":""},{"$f":"IF(N27=\"\",\"\",N27/COUNTIF('Data Input'!$C$8:$AZ$8,$N$2))","v":""},null,{"$f":"IF(P27=\"\",\"\",P27/COUNTIF('Data Input'!$C$8:$AZ$8,$P$2))","v":""},{"$f":"IF(ISBLANK('Data Input'!A31),\"\",SUM('Data Input'!AH31))","v":""},{"$f":"IF(R27=\"\",\"\",R27/COUNTIF('Data Input'!$C$8:$AZ$8,$R$2))","v":""},{"$f":"IF(ISBLANK('Data Input'!$A31),\"\",SUM('Data Input'!AI31))","v":""},{"$f":"IF(T27=\"\",\"\",T27/COUNTIF('Data Input'!$C$8:$AZ$8,$T$2))","v":""},null,{"$f":"IF(V27=\"\",\"\",V27/COUNTIF('Data Input'!$C$8:$AZ$8,$V$2))","v":""}]
[{"$f":"IF('Data Input'!A32=0,\"\",'Data Input'!A32)","v":""},{"$f":"IF(F28=\"\",\"\",IF(F28>Welcome!$J$20-1,\"Exceeding\",IF(F28>Welcome!$F$20-1,\"Expected\",IF(F28<Welcome!$F$20,\"Below\"))))","v":""},{"$f":"IF(ISBLANK('Data Input'!A32),\"\",COUNTIF('Data Input'!C32:AZ32,\"\"))","v":""},{"$f":"IF(ISBLANK('Data Input'!A32),\"\",COUNTIF('Data Input'!C32:AZ32,\"0\"))","v":""},{"$f":"IF(ISBLANK('Data Input'!A32),\"\",SUM(C28,D28))","v":""},{"$f":"IF(ISBLANK('Data Input'!A32),\"\",SUM('Data Input'!C32:AZ32))","v":""},{"$f":"IF(F28=\"\",\"\",F28/(COUNTA('Data Input'!$C$8:$AZ$8)))","v":""},{"$f":"IF(ISBLANK('Data Input'!A32),\"\",SUM('Data Input'!C32,'Data Input'!H32,'Data Input'!J32,'Data Input'!N32,'Data Input'!R32,'Data Input'!T32,'Data Input'!Y32,'Data Input'!AE32,'Data Input'!AK32,'Data Input'!AM32))","v":""},{"$f":"IF(H28=\"\",\"\",H28/COUNTIF('Data Input'!$C$8:$AZ$8,$H$2))","v":""},{"$f":"IF(ISBLANK('Data Input'!A32),\"\",SUM('Data Input'!G32,'Data Input'!I32,'Data Input'!K32,'Data Input'!O32,'Data Input'!P32,'Data Input'!S32,'Data Input'!U32,'Data Input'!V32,'Data Input'!W32,'Data Input'!X32,'Data Input'!Z32,'Data Input'!AA32,'Data Input'!AD32,'Data Input'!AZ32))","v":""},{"$f":"IF(J28=\"\",\"\",J28/COUNTIF('Data Input'!$C$8:$AZ$8,$J$2))","v":""},{"$f":"IF(ISBLANK('Data Input'!A32),\"\",SUM('Data Input'!Q32,'Data Input'!AG32))","v":""},{"$f":"IF(L28=\"\",\"\",L28/COUNTIF('Data Input'!$C$8:$AZ$8,$L$2))","v":""},{"$f":"IF(ISBLANK('Data Input'!A32),\"\",SUM('Data Input'!D32,'Data Input'!E32,'Data Input'!F32,'Data Input'!L32,'Data Input'!M32,'Data Input'!AB32,'Data Input'!AC32,'Data Input'!AF32,'Data Input'!AJ32,'Data Input'!AL32,'Data Input'!AN32,'Data Input'!AO32,'Data Input'!AP32,'Data Input'!AQ32,'Data Input'!AR32,'Data Input'!AS32,'Data Input'!AT32,'Data Input'!AU32,'Data Input'!AV32,'Data Input'!AW32,'Data Input'!AX32,'Data Input'!AY32))","v":""},{"$f":"IF(N28=\"\",\"\",N28/COUNTIF('Data Input'!$C$8:$AZ$8,$N$2))","v":""},null,{"$f":"IF(P28=\"\",\"\",P28/COUNTIF('Data Input'!$C$8:$AZ$8,$P$2))","v":""},{"$f":"IF(ISBLANK('Data Input'!A32),\"\",SUM('Data Input'!AH32))","v":""},{"$f":"IF(R28=\"\",\"\",R28/COUNTIF('Data Input'!$C$8:$AZ$8,$R$2))","v":""},{"$f":"IF(ISBLANK('Data Input'!$A32),\"\",SUM('Data Input'!AI32))","v":""},{"$f":"IF(T28=\"\",\"\",T28/COUNTIF('Data Input'!$C$8:$AZ$8,$T$2))","v":""},null,{"$f":"IF(V28=\"\",\"\",V28/COUNTIF('Data Input'!$C$8:$AZ$8,$V$2))","v":""}]
[{"$f":"IF('Data Input'!A33=0,\"\",'Data Input'!A33)","v":""},{"$f":"IF(F29=\"\",\"\",IF(F29>Welcome!$J$20-1,\"Exceeding\",IF(F29>Welcome!$F$20-1,\"Expected\",IF(F29<Welcome!$F$20,\"Below\"))))","v":""},{"$f":"IF(ISBLANK('Data Input'!A33),\"\",COUNTIF('Data Input'!C33:AZ33,\"\"))","v":""},{"$f":"IF(ISBLANK('Data Input'!A33),\"\",COUNTIF('Data Input'!C33:AZ33,\"0\"))","v":""},{"$f":"IF(ISBLANK('Data Input'!A33),\"\",SUM(C29,D29))","v":""},{"$f":"IF(ISBLANK('Data Input'!A33),\"\",SUM('Data Input'!C33:AZ33))","v":""},{"$f":"IF(F29=\"\",\"\",F29/(COUNTA('Data Input'!$C$8:$AZ$8)))","v":""},{"$f":"IF(ISBLANK('Data Input'!A33),\"\",SUM('Data Input'!C33,'Data Input'!H33,'Data Input'!J33,'Data Input'!N33,'Data Input'!R33,'Data Input'!T33,'Data Input'!Y33,'Data Input'!AE33,'Data Input'!AK33,'Data Input'!AM33))","v":""},{"$f":"IF(H29=\"\",\"\",H29/COUNTIF('Data Input'!$C$8:$AZ$8,$H$2))","v":""},{"$f":"IF(ISBLANK('Data Input'!A33),\"\",SUM('Data Input'!G33,'Data Input'!I33,'Data Input'!K33,'Data Input'!O33,'Data Input'!P33,'Data Input'!S33,'Data Input'!U33,'Data Input'!V33,'Data Input'!W33,'Data Input'!X33,'Data Input'!Z33,'Data Input'!AA33,'Data Input'!AD33,'Data Input'!AZ33))","v":""},{"$f":"IF(J29=\"\",\"\",J29/COUNTIF('Data Input'!$C$8:$AZ$8,$J$2))","v":""},{"$f":"IF(ISBLANK('Data Input'!A33),\"\",SUM('Data Input'!Q33,'Data Input'!AG33))","v":""},{"$f":"IF(L29=\"\",\"\",L29/COUNTIF('Data Input'!$C$8:$AZ$8,$L$2))","v":""},{"$f":"IF(ISBLANK('Data Input'!A33),\"\",SUM('Data Input'!D33,'Data Input'!E33,'Data Input'!F33,'Data Input'!L33,'Data Input'!M33,'Data Input'!AB33,'Data Input'!AC33,'Data Input'!AF33,'Data Input'!AJ33,'Data Input'!AL33,'Data Input'!AN33,'Data Input'!AO33,'Data Input'!AP33,'Data Input'!AQ33,'Data Input'!AR33,'Data Input'!AS33,'Data Input'!AT33,'Data Input'!AU33,'Data Input'!AV33,'Data Input'!AW33,'Data Input'!AX33,'Data Input'!AY33))","v":""},{"$f":"IF(N29=\"\",\"\",N29/COUNTIF('Data Input'!$C$8:$AZ$8,$N$2))","v":""},null,{"$f":"IF(P29=\"\",\"\",P29/COUNTIF('Data Input'!$C$8:$AZ$8,$P$2))","v":""},{"$f":"IF(ISBLANK('Data Input'!A33),\"\",SUM('Data Input'!AH33))","v":""},{"$f":"IF(R29=\"\",\"\",R29/COUNTIF('Data Input'!$C$8:$AZ$8,$R$2))","v":""},{"$f":"IF(ISBLANK('Data Input'!$A33),\"\",SUM('Data Input'!AI33))","v":""},{"$f":"IF(T29=\"\",\"\",T29/COUNTIF('Data Input'!$C$8:$AZ$8,$T$2))","v":""},null,{"$f":"IF(V29=\"\",\"\",V29/COUNTIF('Data Input'!$C$8:$AZ$8,$V$2))","v":""}]
[{"$f":"IF('Data Input'!A34=0,\"\",'Data Input'!A34)","v":""},{"$f":"IF(F30=\"\",\"\",IF(F30>Welcome!$J$20-1,\"Exceeding\",IF(F30>Welcome!$F$20-1,\"Expected\",IF(F30<Welcome!$F$20,\"Below\"))))","v":""},{"$f":"IF(ISBLANK('Data Input'!A34),\"\",COUNTIF('Data Input'!C34:AZ34,\"\"))","v":""},{"$f":"IF(ISBLANK('Data Input'!A34),\"\",COUNTIF('Data Input'!C34:AZ34,\"0\"))","v":""},{"$f":"IF(ISBLANK('Data Input'!A34),\"\",SUM(C30,D30))","v":""},{"$f":"IF(ISBLANK('Data Input'!A34),\"\",SUM('Data Input'!C34:AZ34))","v":""},{"$f":"IF(F30=\"\",\"\",F30/(COUNTA('Data Input'!$C$8:$AZ$8)))","v":""},{"$f":"IF(ISBLANK('Data Input'!A34),\"\",SUM('Data Input'!C34,'Data Input'!H34,'Data Input'!J34,'Data Input'!N34,'Data Input'!R34,'Data Input'!T34,'Data Input'!Y34,'Data Input'!AE34,'Data Input'!AK34,'Data Input'!AM34))","v":""},{"$f":"IF(H30=\"\",\"\",H30/COUNTIF('Data Input'!$C$8:$AZ$8,$H$2))","v":""},{"$f":"IF(ISBLANK('Data Input'!A34),\"\",SUM('Data Input'!G34,'Data Input'!I34,'Data Input'!K34,'Data Input'!O34,'Data Input'!P34,'Data Input'!S34,'Data Input'!U34,'Data Input'!V34,'Data Input'!W34,'Data Input'!X34,'Data Input'!Z34,'Data Input'!AA34,'Data Input'!AD34,'Data Input'!AZ34))","v":""},{"$f":"IF(J30=\"\",\"\",J30/COUNTIF('Data Input'!$C$8:$AZ$8,$J$2))","v":""},{"$f":"IF(ISBLANK('Data Input'!A34),\"\",SUM('Data Input'!Q34,'Data Input'!AG34))","v":""},{"$f":"IF(L30=\"\",\"\",L30/COUNTIF('Data Input'!$C$8:$AZ$8,$L$2))","v":""},{"$f":"IF(ISBLANK('Data Input'!A34),\"\",SUM('Data Input'!D34,'Data Input'!E34,'Data Input'!F34,'Data Input'!L34,'Data Input'!M34,'Data Input'!AB34,'Data Input'!AC34,'Data Input'!AF34,'Data Input'!AJ34,'Data Input'!AL34,'Data Input'!AN34,'Data Input'!AO34,'Data Input'!AP34,'Data Input'!AQ34,'Data Input'!AR34,'Data Input'!AS34,'Data Input'!AT34,'Data Input'!AU34,'Data Input'!AV34,'Data Input'!AW34,'Data Input'!AX34,'Data Input'!AY34))","v":""},{"$f":"IF(N30=\"\",\"\",N30/COUNTIF('Data Input'!$C$8:$AZ$8,$N$2))","v":""},null,{"$f":"IF(P30=\"\",\"\",P30/COUNTIF('Data Input'!$C$8:$AZ$8,$P$2))","v":""},{"$f":"IF(ISBLANK('Data Input'!A34),\"\",SUM('Data Input'!AH34))","v":""},{"$f":"IF(R30=\"\",\"\",R30/COUNTIF('Data Input'!$C$8:$AZ$8,$R$2))","v":""},{"$f":"IF(ISBLANK('Data Input'!$A34),\"\",SUM('Data Input'!AI34))","v":""},{"$f":"IF(T30=\"\",\"\",T30/COUNTIF('Data Input'!$C$8:$AZ$8,$T$2))","v":""},null,{"$f":"IF(V30=\"\",\"\",V30/COUNTIF('Data Input'!$C$8:$AZ$8,$V$2))","v":""}]
[{"$f":"IF('Data Input'!A35=0,\"\",'Data Input'!A35)","v":""},{"$f":"IF(F31=\"\",\"\",IF(F31>Welcome!$J$20-1,\"Exceeding\",IF(F31>Welcome!$F$20-1,\"Expected\",IF(F31<Welcome!$F$20,\"Below\"))))","v":""},{"$f":"IF(ISBLANK('Data Input'!A35),\"\",COUNTIF('Data Input'!C35:AZ35,\"\"))","v":""},{"$f":"IF(ISBLANK('Data Input'!A35),\"\",COUNTIF('Data Input'!C35:AZ35,\"0\"))","v":""},{"$f":"IF(ISBLANK('Data Input'!A35),\"\",SUM(C31,D31))","v":""},{"$f":"IF(ISBLANK('Data Input'!A35),\"\",SUM('Data Input'!C35:AZ35))","v":""},{"$f":"IF(F31=\"\",\"\",F31/(COUNTA('Data Input'!$C$8:$AZ$8)))","v":""},{"$f":"IF(ISBLANK('Data Input'!A35),\"\",SUM('Data Input'!C35,'Data Input'!H35,'Data Input'!J35,'Data Input'!N35,'Data Input'!R35,'Data Input'!T35,'Data Input'!Y35,'Data Input'!AE35,'Data Input'!AK35,'Data Input'!AM35))","v":""},{"$f":"IF(H31=\"\",\"\",H31/COUNTIF('Data Input'!$C$8:$AZ$8,$H$2))","v":""},{"$f":"IF(ISBLANK('Data Input'!A35),\"\",SUM('Data Input'!G35,'Data Input'!I35,'Data Input'!K35,'Data Input'!O35,'Data Input'!P35,'Data Input'!S35,'Data Input'!U35,'Data Input'!V35,'Data Input'!W35,'Data Input'!X35,'Data Input'!Z35,'Data Input'!AA35,'Data Input'!AD35,'Data Input'!AZ35))","v":""},{"$f":"IF(J31=\"\",\"\",J31/COUNTIF('Data Input'!$C$8:$AZ$8,$J$2))","v":""},{"$f":"IF(ISBLANK('Data Input'!A35),\"\",SUM('Data Input'!Q35,'Data Input'!AG35))","v":""},{"$f":"IF(L31=\"\",\"\",L31/COUNTIF('Data Input'!$C$8:$AZ$8,$L$2))","v":""},{"$f":"IF(ISBLANK('Data Input'!A35),\"\",SUM('Data Input'!D35,'Data Input'!E35,'Data Input'!F35,'Data Input'!L35,'Data Input'!M35,'Data Input'!AB35,'Data Input'!AC35,'Data Input'!AF35,'Data Input'!AJ35,'Data Input'!AL35,'Data Input'!AN35,'Data Input'!AO35,'Data Input'!AP35,'Data Input'!AQ35,'Data Input'!AR35,'Data Input'!AS35,'Data Input'!AT35,'Data Input'!AU35,'Data Input'!AV35,'Data Input'!AW35,'Data Input'!AX35,'Data Input'!AY35))","v":""},{"$f":"IF(N31=\"\",\"\",N31/COUNTIF('Data Input'!$C$8:$AZ$8,$N$2))","v":""},null,{"$f":"IF(P31=\"\",\"\",P31/COUNTIF('Data Input'!$C$8:$AZ$8,$P$2))","v":""},{"$f":"IF(ISBLANK('Data Input'!A35),\"\",SUM('Data Input'!AH35))","v":""},{"$f":"IF(R31=\"\",\"\",R31/COUNTIF('Data Input'!$C$8:$AZ$8,$R$2))","v":""},{"$f":"IF(ISBLANK('Data Input'!$A35),\"\",SUM('Data Input'!AI35))","v":""},{"$f":"IF(T31=\"\",\"\",T31/COUNTIF('Data Input'!$C$8:$AZ$8,$T$2))","v":""},null,{"$f":"IF(V31=\"\",\"\",V31/COUNTIF('Data Input'!$C$8:$AZ$8,$V$2))","v":""}]
[{"$f":"IF('Data Input'!A36=0,\"\",'Data Input'!A36)","v":""},{"$f":"IF(F32=\"\",\"\",IF(F32>Welcome!$J$20-1,\"Exceeding\",IF(F32>Welcome!$F$20-1,\"Expected\",IF(F32<Welcome!$F$20,\"Below\"))))","v":""},{"$f":"IF(ISBLANK('Data Input'!A36),\"\",COUNTIF('Data Input'!C36:AZ36,\"\"))","v":""},{"$f":"IF(ISBLANK('Data Input'!A36),\"\",COUNTIF('Data Input'!C36:AZ36,\"0\"))","v":""},{"$f":"IF(ISBLANK('Data Input'!A36),\"\",SUM(C32,D32))","v":""},{"$f":"IF(ISBLANK('Data Input'!A36),\"\",SUM('Data Input'!C36:AZ36))","v":""},{"$f":"IF(F32=\"\",\"\",F32/(COUNTA('Data Input'!$C$8:$AZ$8)))","v":""},{"$f":"IF(ISBLANK('Data Input'!A36),\"\",SUM('Data Input'!C36,'Data Input'!H36,'Data Input'!J36,'Data Input'!N36,'Data Input'!R36,'Data Input'!T36,'Data Input'!Y36,'Data Input'!AE36,'Data Input'!AK36,'Data Input'!AM36))","v":""},{"$f":"IF(H32=\"\",\"\",H32/COUNTIF('Data Input'!$C$8:$AZ$8,$H$2))","v":""},{"$f":"IF(ISBLANK('Data Input'!A36),\"\",SUM('Data Input'!G36,'Data Input'!I36,'Data Input'!K36,'Data Input'!O36,'Data Input'!P36,'Data Input'!S36,'Data Input'!U36,'Data Input'!V36,'Data Input'!W36,'Data Input'!X36,'Data Input'!Z36,'Data Input'!AA36,'Data Input'!AD36,'Data Input'!AZ36))","v":""},{"$f":"IF(J32=\"\",\"\",J32/COUNTIF('Data Input'!$C$8:$AZ$8,$J$2))","v":""},{"$f":"IF(ISBLANK('Data Input'!A36),\"\",SUM('Data Input'!Q36,'Data Input'!AG36))","v":""},{"$f":"IF(L32=\"\",\"\",L32/COUNTIF('Data Input'!$C$8:$AZ$8,$L$2))","v":""},{"$f":"IF(ISBLANK('Data Input'!A36),\"\",SUM('Data Input'!D36,'Data Input'!E36,'Data Input'!F36,'Data Input'!L36,'Data Input'!M36,'Data Input'!AB36,'Data Input'!AC36,'Data Input'!AF36,'Data Input'!AJ36,'Data Input'!AL36,'Data Input'!AN36,'Data Input'!AO36,'Data Input'!AP36,'Data Input'!AQ36,'Data Input'!AR36,'Data Input'!AS36,'Data Input'!AT36,'Data Input'!AU36,'Data Input'!AV36,'Data Input'!AW36,'Data Input'!AX36,'Data Input'!AY36))","v":""},{"$f":"IF(N32=\"\",\"\",N32/COUNTIF('Data Input'!$C$8:$AZ$8,$N$2))","v":""},null,{"$f":"IF(P32=\"\",\"\",P32/COUNTIF('Data Input'!$C$8:$AZ$8,$P$2))","v":""},{"$f":"IF(ISBLANK('Data Input'!A36),\"\",SUM('Data Input'!AH36))","v":""},{"$f":"IF(R32=\"\",\"\",R32/COUNTIF('Data Input'!$C$8:$AZ$8,$R$2))","v":""},{"$f":"IF(ISBLANK('Data Input'!$A36),\"\",SUM('Data Input'!AI36))","v":""},{"$f":"IF(T32=\"\",\"\",T32/COUNTIF('Data Input'!$C$8:$AZ$8,$T$2))","v":""},null,{"$f":"IF(V32=\"\",\"\",V32/COUNTIF('Data Input'!$C$8:$AZ$8,$V$2))","v":""}]
[{"$f":"IF('Data Input'!A37=0,\"\",'Data Input'!A37)","v":""},{"$f":"IF(F33=\"\",\"\",IF(F33>Welcome!$J$20-1,\"Exceeding\",IF(F33>Welcome!$F$20-1,\"Expected\",IF(F33<Welcome!$F$20,\"Below\"))))","v":""},{"$f":"IF(ISBLANK('Data Input'!A37),\"\",COUNTIF('Data Input'!C37:AZ37,\"\"))","v":""},{"$f":"IF(ISBLANK('Data Input'!A37),\"\",COUNTIF('Data Input'!C37:AZ37,\"0\"))","v":""},{"$f":"IF(ISBLANK('Data Input'!A37),\"\",SUM(C33,D33))","v":""},{"$f":"IF(ISBLANK('Data Input'!A37),\"\",SUM('Data Input'!C37:AZ37))","v":""},{"$f":"IF(F33=\"\",\"\",F33/(COUNTA('Data Input'!$C$8:$AZ$8)))","v":""},{"$f":"IF(ISBLANK('Data Input'!A37),\"\",SUM('Data Input'!C37,'Data Input'!H37,'Data Input'!J37,'Data Input'!N37,'Data Input'!R37,'Data Input'!T37,'Data Input'!Y37,'Data Input'!AE37,'Data Input'!AK37,'Data Input'!AM37))","v":""},{"$f":"IF(H33=\"\",\"\",H33/COUNTIF('Data Input'!$C$8:$AZ$8,$H$2))","v":""},{"$f":"IF(ISBLANK('Data Input'!A37),\"\",SUM('Data Input'!G37,'Data Input'!I37,'Data Input'!K37,'Data Input'!O37,'Data Input'!P37,'Data Input'!S37,'Data Input'!U37,'Data Input'!V37,'Data Input'!W37,'Data Input'!X37,'Data Input'!Z37,'Data Input'!AA37,'Data Input'!AD37,'Data Input'!AZ37))","v":""},{"$f":"IF(J33=\"\",\"\",J33/COUNTIF('Data Input'!$C$8:$AZ$8,$J$2))","v":""},{"$f":"IF(ISBLANK('Data Input'!A37),\"\",SUM('Data Input'!Q37,'Data Input'!AG37))","v":""},{"$f":"IF(L33=\"\",\"\",L33/COUNTIF('Data Input'!$C$8:$AZ$8,$L$2))","v":""},{"$f":"IF(ISBLANK('Data Input'!A37),\"\",SUM('Data Input'!D37,'Data Input'!E37,'Data Input'!F37,'Data Input'!L37,'Data Input'!M37,'Data Input'!AB37,'Data Input'!AC37,'Data Input'!AF37,'Data Input'!AJ37,'Data Input'!AL37,'Data Input'!AN37,'Data Input'!AO37,'Data Input'!AP37,'Data Input'!AQ37,'Data Input'!AR37,'Data Input'!AS37,'Data Input'!AT37,'Data Input'!AU37,'Data Input'!AV37,'Data Input'!AW37,'Data Input'!AX37,'Data Input'!AY37))","v":""},{"$f":"IF(N33=\"\",\"\",N33/COUNTIF('Data Input'!$C$8:$AZ$8,$N$2))","v":""},null,{"$f":"IF(P33=\"\",\"\",P33/COUNTIF('Data Input'!$C$8:$AZ$8,$P$2))","v":""},{"$f":"IF(ISBLANK('Data Input'!A37),\"\",SUM('Data Input'!AH37))","v":""},{"$f":"IF(R33=\"\",\"\",R33/COUNTIF('Data Input'!$C$8:$AZ$8,$R$2))","v":""},{"$f":"IF(ISBLANK('Data Input'!$A37),\"\",SUM('Data Input'!AI37))","v":""},{"$f":"IF(T33=\"\",\"\",T33/COUNTIF('Data Input'!$C$8:$AZ$8,$T$2))","v":""},null,{"$f":"IF(V33=\"\",\"\",V33/COUNTIF('Data Input'!$C$8:$AZ$8,$V$2))","v":""}]
[{"$f":"IF('Data Input'!A38=0,\"\",'Data Input'!A38)","v":""},{"$f":"IF(F34=\"\",\"\",IF(F34>Welcome!$J$20-1,\"Exceeding\",IF(F34>Welcome!$F$20-1,\"Expected\",IF(F34<Welcome!$F$20,\"Below\"))))","v":""},{"$f":"IF(ISBLANK('Data Input'!A38),\"\",COUNTIF('Data Input'!C38:AZ38,\"\"))","v":""},{"$f":"IF(ISBLANK('Data Input'!A38),\"\",COUNTIF('Data Input'!C38:AZ38,\"0\"))","v":""},{"$f":"IF(ISBLANK('Data Input'!A38),\"\",SUM(C34,D34))","v":""},{"$f":"IF(ISBLANK('Data Input'!A38),\"\",SUM('Data Input'!C38:AZ38))","v":""},{"$f":"IF(F34=\"\",\"\",F34/(COUNTA('Data Input'!$C$8:$AZ$8)))","v":""},{"$f":"IF(ISBLANK('Data Input'!A38),\"\",SUM('Data Input'!C38,'Data Input'!H38,'Data Input'!J38,'Data Input'!N38,'Data Input'!R38,'Data Input'!T38,'Data Input'!Y38,'Data Input'!AE38,'Data Input'!AK38,'Data Input'!AM38))","v":""},{"$f":"IF(H34=\"\",\"\",H34/COUNTIF('Data Input'!$C$8:$AZ$8,$H$2))","v":""},{"$f":"IF(ISBLANK('Data Input'!A38),\"\",SUM('Data Input'!G38,'Data Input'!I38,'Data Input'!K38,'Data Input'!O38,'Data Input'!P38,'Data Input'!S38,'Data Input'!U38,'Data Input'!V38,'Data Input'!W38,'Data Input'!X38,'Data Input'!Z38,'Data Input'!AA38,'Data Input'!AD38,'Data Input'!AZ38))","v":""},{"$f":"IF(J34=\"\",\"\",J34/COUNTIF('Data Input'!$C$8:$AZ$8,$J$2))","v":""},{"$f":"IF(ISBLANK('Data Input'!A38),\"\",SUM('Data Input'!Q38,'Data Input'!AG38))","v":""},{"$f":"IF(L34=\"\",\"\",L34/COUNTIF('Data Input'!$C$8:$AZ$8,$L$2))","v":""},{"$f":"IF(ISBLANK('Data Input'!A38),\"\",SUM('Data Input'!D38,'Data Input'!E38,'Data Input'!F38,'Data Input'!L38,'Data Input'!M38,'Data Input'!AB38,'Data Input'!AC38,'Data Input'!AF38,'Data Input'!AJ38,'Data Input'!AL38,'Data Input'!AN38,'Data Input'!AO38,'Data Input'!AP38,'Data Input'!AQ38,'Data Input'!AR38,'Data Input'!AS38,'Data Input'!AT38,'Data Input'!AU38,'Data Input'!AV38,'Data Input'!AW38,'Data Input'!AX38,'Data Input'!AY38))","v":""},{"$f":"IF(N34=\"\",\"\",N34/COUNTIF('Data Input'!$C$8:$AZ$8,$N$2))","v":""},null,{"$f":"IF(P34=\"\",\"\",P34/COUNTIF('Data Input'!$C$8:$AZ$8,$P$2))","v":""},{"$f":"IF(ISBLANK('Data Input'!A38),\"\",SUM('Data Input'!AH38))","v":""},{"$f":"IF(R34=\"\",\"\",R34/COUNTIF('Data Input'!$C$8:$AZ$8,$R$2))","v":""},{"$f":"IF(ISBLANK('Data Input'!$A38),\"\",SUM('Data Input'!AI38))","v":""},{"$f":"IF(T34=\"\",\"\",T34/COUNTIF('Data Input'!$C$8:$AZ$8,$T$2))","v":""},null,{"$f":"IF(V34=\"\",\"\",V34/COUNTIF('Data Input'!$C$8:$AZ$8,$V$2))","v":""}]
[{"$f":"IF('Data Input'!A39=0,\"\",'Data Input'!A39)","v":""},{"$f":"IF(F35=\"\",\"\",IF(F35>Welcome!$J$20-1,\"Exceeding\",IF(F35>Welcome!$F$20-1,\"Expected\",IF(F35<Welcome!$F$20,\"Below\"))))","v":""},{"$f":"IF(ISBLANK('Data Input'!A39),\"\",COUNTIF('Data Input'!C39:AZ39,\"\"))","v":""},{"$f":"IF(ISBLANK('Data Input'!A39),\"\",COUNTIF('Data Input'!C39:AZ39,\"0\"))","v":""},{"$f":"IF(ISBLANK('Data Input'!A39),\"\",SUM(C35,D35))","v":""},{"$f":"IF(ISBLANK('Data Input'!A39),\"\",SUM('Data Input'!C39:AZ39))","v":""},{"$f":"IF(F35=\"\",\"\",F35/(COUNTA('Data Input'!$C$8:$AZ$8)))","v":""},{"$f":"IF(ISBLANK('Data Input'!A39),\"\",SUM('Data Input'!C39,'Data Input'!H39,'Data Input'!J39,'Data Input'!N39,'Data Input'!R39,'Data Input'!T39,'Data Input'!Y39,'Data Input'!AE39,'Data Input'!AK39,'Data Input'!AM39))","v":""},{"$f":"IF(H35=\"\",\"\",H35/COUNTIF('Data Input'!$C$8:$AZ$8,$H$2))","v":""},{"$f":"IF(ISBLANK('Data Input'!A39),\"\",SUM('Data Input'!G39,'Data Input'!I39,'Data Input'!K39,'Data Input'!O39,'Data Input'!P39,'Data Input'!S39,'Data Input'!U39,'Data Input'!V39,'Data Input'!W39,'Data Input'!X39,'Data Input'!Z39,'Data Input'!AA39,'Data Input'!AD39,'Data Input'!AZ39))","v":""},{"$f":"IF(J35=\"\",\"\",J35/COUNTIF('Data Input'!$C$8:$AZ$8,$J$2))","v":""},{"$f":"IF(ISBLANK('Data Input'!A39),\"\",SUM('Data Input'!Q39,'Data Input'!AG39))","v":""},{"$f":"IF(L35=\"\",\"\",L35/COUNTIF('Data Input'!$C$8:$AZ$8,$L$2))","v":""},{"$f":"IF(ISBLANK('Data Input'!A39),\"\",SUM('Data Input'!D39,'Data Input'!E39,'Data Input'!F39,'Data Input'!L39,'Data Input'!M39,'Data Input'!AB39,'Data Input'!AC39,'Data Input'!AF39,'Data Input'!AJ39,'Data Input'!AL39,'Data Input'!AN39,'Data Input'!AO39,'Data Input'!AP39,'Data Input'!AQ39,'Data Input'!AR39,'Data Input'!AS39,'Data Input'!AT39,'Data Input'!AU39,'Data Input'!AV39,'Data Input'!AW39,'Data Input'!AX39,'Data Input'!AY39))","v":""},{"$f":"IF(N35=\"\",\"\",N35/COUNTIF('Data Input'!$C$8:$AZ$8,$N$2))","v":""},null,{"$f":"IF(P35=\"\",\"\",P35/COUNTIF('Data Input'!$C$8:$AZ$8,$P$2))","v":""},{"$f":"IF(ISBLANK('Data Input'!A39),\"\",SUM('Data Input'!AH39))","v":""},{"$f":"IF(R35=\"\",\"\",R35/COUNTIF('Data Input'!$C$8:$AZ$8,$R$2))","v":""},{"$f":"IF(ISBLANK('Data Input'!$A39),\"\",SUM('Data Input'!AI39))","v":""},{"$f":"IF(T35=\"\",\"\",T35/COUNTIF('Data Input'!$C$8:$AZ$8,$T$2))","v":""},null,{"$f":"IF(V35=\"\",\"\",V35/COUNTIF('Data Input'!$C$8:$AZ$8,$V$2))","v":""}]
[{"$f":"IF('Data Input'!A40=0,\"\",'Data Input'!A40)","v":""},{"$f":"IF(F36=\"\",\"\",IF(F36>Welcome!$J$20-1,\"Exceeding\",IF(F36>Welcome!$F$20-1,\"Expected\",IF(F36<Welcome!$F$20,\"Below\"))))","v":""},{"$f":"IF(ISBLANK('Data Input'!A40),\"\",COUNTIF('Data Input'!C40:AZ40,\"\"))","v":""},{"$f":"IF(ISBLANK('Data Input'!A40),\"\",COUNTIF('Data Input'!C40:AZ40,\"0\"))","v":""},{"$f":"IF(ISBLANK('Data Input'!A40),\"\",SUM(C36,D36))","v":""},{"$f":"IF(ISBLANK('Data Input'!A40),\"\",SUM('Data Input'!C40:AZ40))","v":""},{"$f":"IF(F36=\"\",\"\",F36/(COUNTA('Data Input'!$C$8:$AZ$8)))","v":""},{"$f":"IF(ISBLANK('Data Input'!A40),\"\",SUM('Data Input'!C40,'Data Input'!H40,'Data Input'!J40,'Data Input'!N40,'Data Input'!R40,'Data Input'!T40,'Data Input'!Y40,'Data Input'!AE40,'Data Input'!AK40,'Data Input'!AM40))","v":""},{"$f":"IF(H36=\"\",\"\",H36/COUNTIF('Data Input'!$C$8:$AZ$8,$H$2))","v":""},{"$f":"IF(ISBLANK('Data Input'!A40),\"\",SUM('Data Input'!G40,'Data Input'!I40,'Data Input'!K40,'Data Input'!O40,'Data Input'!P40,'Data Input'!S40,'Data Input'!U40,'Data Input'!V40,'Data Input'!W40,'Data Input'!X40,'Data Input'!Z40,'Data Input'!AA40,'Data Input'!AD40,'Data Input'!AZ40))","v":""},{"$f":"IF(J36=\"\",\"\",J36/COUNTIF('Data Input'!$C$8:$AZ$8,$J$2))","v":""},{"$f":"IF(ISBLANK('Data Input'!A40),\"\",SUM('Data Input'!Q40,'Data Input'!AG40))","v":""},{"$f":"IF(L36=\"\",\"\",L36/COUNTIF('Data Input'!$C$8:$AZ$8,$L$2))","v":""},{"$f":"IF(ISBLANK('Data Input'!A40),\"\",SUM('Data Input'!D40,'Data Input'!E40,'Data Input'!F40,'Data Input'!L40,'Data Input'!M40,'Data Input'!AB40,'Data Input'!AC40,'Data Input'!AF40,'Data Input'!AJ40,'Data Input'!AL40,'Data Input'!AN40,'Data Input'!AO40,'Data Input'!AP40,'Data Input'!AQ40,'Data Input'!AR40,'Data Input'!AS40,'Data Input'!AT40,'Data Input'!AU40,'Data Input'!AV40,'Data Input'!AW40,'Data Input'!AX40,'Data Input'!AY40))","v":""},{"$f":"IF(N36=\"\",\"\",N36/COUNTIF('Data Input'!$C$8:$AZ$8,$N$2))","v":""},null,{"$f":"IF(P36=\"\",\"\",P36/COUNTIF('Data Input'!$C$8:$AZ$8,$P$2))","v":""},{"$f":"IF(ISBLANK('Data Input'!A40),\"\",SUM('Data Input'!AH40))","v":""},{"$f":"IF(R36=\"\",\"\",R36/COUNTIF('Data Input'!$C$8:$AZ$8,$R$2))","v":""},{"$f":"IF(ISBLANK('Data Input'!$A40),\"\",SUM('Data Input'!AI40))","v":""},{"$f":"IF(T36=\"\",\"\",T36/COUNTIF('Data Input'!$C$8:$AZ$8,$T$2))","v":""},null,{"$f":"IF(V36=\"\",\"\",V36/COUNTIF('Data Input'!$C$8:$AZ$8,$V$2))","v":""}]
[{"$f":"IF('Data Input'!A41=0,\"\",'Data Input'!A41)","v":""},{"$f":"IF(F37=\"\",\"\",IF(F37>Welcome!$J$20-1,\"Exceeding\",IF(F37>Welcome!$F$20-1,\"Expected\",IF(F37<Welcome!$F$20,\"Below\"))))","v":""},{"$f":"IF(ISBLANK('Data Input'!A41),\"\",COUNTIF('Data Input'!C41:AZ41,\"\"))","v":""},{"$f":"IF(ISBLANK('Data Input'!A41),\"\",COUNTIF('Data Input'!C41:AZ41,\"0\"))","v":""},{"$f":"IF(ISBLANK('Data Input'!A41),\"\",SUM(C37,D37))","v":""},{"$f":"IF(ISBLANK('Data Input'!A41),\"\",SUM('Data Input'!C41:AZ41))","v":""},{"$f":"IF(F37=\"\",\"\",F37/(COUNTA('Data Input'!$C$8:$AZ$8)))","v":""},{"$f":"IF(ISBLANK('Data Input'!A41),\"\",SUM('Data Input'!C41,'Data Input'!H41,'Data Input'!J41,'Data Input'!N41,'Data Input'!R41,'Data Input'!T41,'Data Input'!Y41,'Data Input'!AE41,'Data Input'!AK41,'Data Input'!AM41))","v":""},{"$f":"IF(H37=\"\",\"\",H37/COUNTIF('Data Input'!$C$8:$AZ$8,$H$2))","v":""},{"$f":"IF(ISBLANK('Data Input'!A41),\"\",SUM('Data Input'!G41,'Data Input'!I41,'Data Input'!K41,'Data Input'!O41,'Data Input'!P41,'Data Input'!S41,'Data Input'!U41,'Data Input'!V41,'Data Input'!W41,'Data Input'!X41,'Data Input'!Z41,'Data Input'!AA41,'Data Input'!AD41,'Data Input'!AZ41))","v":""},{"$f":"IF(J37=\"\",\"\",J37/COUNTIF('Data Input'!$C$8:$AZ$8,$J$2))","v":""},{"$f":"IF(ISBLANK('Data Input'!A41),\"\",SUM('Data Input'!Q41,'Data Input'!AG41))","v":""},{"$f":"IF(L37=\"\",\"\",L37/COUNTIF('Data Input'!$C$8:$AZ$8,$L$2))","v":""},{"$f":"IF(ISBLANK('Data Input'!A41),\"\",SUM('Data Input'!D41,'Data Input'!E41,'Data Input'!F41,'Data Input'!L41,'Data Input'!M41,'Data Input'!AB41,'Data Input'!AC41,'Data Input'!AF41,'Data Input'!AJ41,'Data Input'!AL41,'Data Input'!AN41,'Data Input'!AO41,'Data Input'!AP41,'Data Input'!AQ41,'Data Input'!AR41,'Data Input'!AS41,'Data Input'!AT41,'Data Input'!AU41,'Data Input'!AV41,'Data Input'!AW41,'Data Input'!AX41,'Data Input'!AY41))","v":""},{"$f":"IF(N37=\"\",\"\",N37/COUNTIF('Data Input'!$C$8:$AZ$8,$N$2))","v":""},null,{"$f":"IF(P37=\"\",\"\",P37/COUNTIF('Data Input'!$C$8:$AZ$8,$P$2))","v":""},{"$f":"IF(ISBLANK('Data Input'!A41),\"\",SUM('Data Input'!AH41))","v":""},{"$f":"IF(R37=\"\",\"\",R37/COUNTIF('Data Input'!$C$8:$AZ$8,$R$2))","v":""},{"$f":"IF(ISBLANK('Data Input'!$A41),\"\",SUM('Data Input'!AI41))","v":""},{"$f":"IF(T37=\"\",\"\",T37/COUNTIF('Data Input'!$C$8:$AZ$8,$T$2))","v":""},null,{"$f":"IF(V37=\"\",\"\",V37/COUNTIF('Data Input'!$C$8:$AZ$8,$V$2))","v":""}]
[{"$f":"IF('Data Input'!A42=0,\"\",'Data Input'!A42)","v":""},{"$f":"IF(F38=\"\",\"\",IF(F38>Welcome!$J$20-1,\"Exceeding\",IF(F38>Welcome!$F$20-1,\"Expected\",IF(F38<Welcome!$F$20,\"Below\"))))","v":""},{"$f":"IF(ISBLANK('Data Input'!A42),\"\",COUNTIF('Data Input'!C42:AZ42,\"\"))","v":""},{"$f":"IF(ISBLANK('Data Input'!A42),\"\",COUNTIF('Data Input'!C42:AZ42,\"0\"))","v":""},{"$f":"IF(ISBLANK('Data Input'!A42),\"\",SUM(C38,D38))","v":""},{"$f":"IF(ISBLANK('Data Input'!A42),\"\",SUM('Data Input'!C42:AZ42))","v":""},{"$f":"IF(F38=\"\",\"\",F38/(COUNTA('Data Input'!$C$8:$AZ$8)))","v":""},{"$f":"IF(ISBLANK('Data Input'!A42),\"\",SUM('Data Input'!C42,'Data Input'!H42,'Data Input'!J42,'Data Input'!N42,'Data Input'!R42,'Data Input'!T42,'Data Input'!Y42,'Data Input'!AE42,'Data Input'!AK42,'Data Input'!AM42))","v":""},{"$f":"IF(H38=\"\",\"\",H38/COUNTIF('Data Input'!$C$8:$AZ$8,$H$2))","v":""},{"$f":"IF(ISBLANK('Data Input'!A42),\"\",SUM('Data Input'!G42,'Data Input'!I42,'Data Input'!K42,'Data Input'!O42,'Data Input'!P42,'Data Input'!S42,'Data Input'!U42,'Data Input'!V42,'Data Input'!W42,'Data Input'!X42,'Data Input'!Z42,'Data Input'!AA42,'Data Input'!AD42,'Data Input'!AZ42))","v":""},{"$f":"IF(J38=\"\",\"\",J38/COUNTIF('Data Input'!$C$8:$AZ$8,$J$2))","v":""},{"$f":"IF(ISBLANK('Data Input'!A42),\"\",SUM('Data Input'!Q42,'Data Input'!AG42))","v":""},{"$f":"IF(L38=\"\",\"\",L38/COUNTIF('Data Input'!$C$8:$AZ$8,$L$2))","v":""},{"$f":"IF(ISBLANK('Data Input'!A42),\"\",SUM('Data Input'!D42,'Data Input'!E42,'Data Input'!F42,'Data Input'!L42,'Data Input'!M42,'Data Input'!AB42,'Data Input'!AC42,'Data Input'!AF42,'Data Input'!AJ42,'Data Input'!AL42,'Data Input'!AN42,'Data Input'!AO42,'Data Input'!AP42,'Data Input'!AQ42,'Data Input'!AR42,'Data Input'!AS42,'Data Input'!AT42,'Data Input'!AU42,'Data Input'!AV42,'Data Input'!AW42,'Data Input'!AX42,'Data Input'!AY42))","v":""},{"$f":"IF(N38=\"\",\"\",N38/COUNTIF('Data Input'!$C$8:$AZ$8,$N$2))","v":""},null,{"$f":"IF(P38=\"\",\"\",P38/COUNTIF('Data Input'!$C$8:$AZ$8,$P$2))","v":""},{"$f":"IF(ISBLANK('Data Input'!A42),\"\",SUM('Data Input'!AH42))","v":""},{"$f":"IF(R38=\"\",\"\",R38/COUNTIF('Data Input'!$C$8:$AZ$8,$R$2))","v":""},{"$f":"IF(ISBLANK('Data Input'!$A42),\"\",SUM('Data Input'!AI42))","v":""},{"$f":"IF(T38=\"\",\"\",T38/COUNTIF('Data Input'!$C$8:$AZ$8,$T$2))","v":""},null,{"$f":"IF(V38=\"\",\"\",V38/COUNTIF('Data Input'!$C$8:$AZ$8,$V$2))","v":""}]
[{"$f":"IF('Data Input'!A43=0,\"\",'Data Input'!A43)","v":""},{"$f":"IF(F39=\"\",\"\",IF(F39>Welcome!$J$20-1,\"Exceeding\",IF(F39>Welcome!$F$20-1,\"Expected\",IF(F39<Welcome!$F$20,\"Below\"))))","v":""},{"$f":"IF(ISBLANK('Data Input'!A43),\"\",COUNTIF('Data Input'!C43:AZ43,\"\"))","v":""},{"$f":"IF(ISBLANK('Data Input'!A43),\"\",COUNTIF('Data Input'!C43:AZ43,\"0\"))","v":""},{"$f":"IF(ISBLANK('Data Input'!A43),\"\",SUM(C39,D39))","v":""},{"$f":"IF(ISBLANK('Data Input'!A43),\"\",SUM('Data Input'!C43:AZ43))","v":""},{"$f":"IF(F39=\"\",\"\",F39/(COUNTA('Data Input'!$C$8:$AZ$8)))","v":""},{"$f":"IF(ISBLANK('Data Input'!A43),\"\",SUM('Data Input'!C43,'Data Input'!H43,'Data Input'!J43,'Data Input'!N43,'Data Input'!R43,'Data Input'!T43,'Data Input'!Y43,'Data Input'!AE43,'Data Input'!AK43,'Data Input'!AM43))","v":""},{"$f":"IF(H39=\"\",\"\",H39/COUNTIF('Data Input'!$C$8:$AZ$8,$H$2))","v":""},{"$f":"IF(ISBLANK('Data Input'!A43),\"\",SUM('Data Input'!G43,'Data Input'!I43,'Data Input'!K43,'Data Input'!O43,'Data Input'!P43,'Data Input'!S43,'Data Input'!U43,'Data Input'!V43,'Data Input'!W43,'Data Input'!X43,'Data Input'!Z43,'Data Input'!AA43,'Data Input'!AD43,'Data Input'!AZ43))","v":""},{"$f":"IF(J39=\"\",\"\",J39/COUNTIF('Data Input'!$C$8:$AZ$8,$J$2))","v":""},{"$f":"IF(ISBLANK('Data Input'!A43),\"\",SUM('Data Input'!Q43,'Data Input'!AG43))","v":""},{"$f":"IF(L39=\"\",\"\",L39/COUNTIF('Data Input'!$C$8:$AZ$8,$L$2))","v":""},{"$f":"IF(ISBLANK('Data Input'!A43),\"\",SUM('Data Input'!D43,'Data Input'!E43,'Data Input'!F43,'Data Input'!L43,'Data Input'!M43,'Data Input'!AB43,'Data Input'!AC43,'Data Input'!AF43,'Data Input'!AJ43,'Data Input'!AL43,'Data Input'!AN43,'Data Input'!AO43,'Data Input'!AP43,'Data Input'!AQ43,'Data Input'!AR43,'Data Input'!AS43,'Data Input'!AT43,'Data Input'!AU43,'Data Input'!AV43,'Data Input'!AW43,'Data Input'!AX43,'Data Input'!AY43))","v":""},{"$f":"IF(N39=\"\",\"\",N39/COUNTIF('Data Input'!$C$8:$AZ$8,$N$2))","v":""},null,{"$f":"IF(P39=\"\",\"\",P39/COUNTIF('Data Input'!$C$8:$AZ$8,$P$2))","v":""},{"$f":"IF(ISBLANK('Data Input'!A43),\"\",SUM('Data Input'!AH43))","v":""},{"$f":"IF(R39=\"\",\"\",R39/COUNTIF('Data Input'!$C$8:$AZ$8,$R$2))","v":""},{"$f":"IF(ISBLANK('Data Input'!$A43),\"\",SUM('Data Input'!AI43))","v":""},{"$f":"IF(T39=\"\",\"\",T39/COUNTIF('Data Input'!$C$8:$AZ$8,$T$2))","v":""},null,{"$f":"IF(V39=\"\",\"\",V39/COUNTIF('Data Input'!$C$8:$AZ$8,$V$2))","v":""}]
[{"$f":"IF('Data Input'!A44=0,\"\",'Data Input'!A44)","v":""},{"$f":"IF(F40=\"\",\"\",IF(F40>Welcome!$J$20-1,\"Exceeding\",IF(F40>Welcome!$F$20-1,\"Expected\",IF(F40<Welcome!$F$20,\"Below\"))))","v":""},{"$f":"IF(ISBLANK('Data Input'!A44),\"\",COUNTIF('Data Input'!C44:AZ44,\"\"))","v":""},{"$f":"IF(ISBLANK('Data Input'!A44),\"\",COUNTIF('Data Input'!C44:AZ44,\"0\"))","v":""},{"$f":"IF(ISBLANK('Data Input'!A44),\"\",SUM(C40,D40))","v":""},{"$f":"IF(ISBLANK('Data Input'!A44),\"\",SUM('Data Input'!C44:AZ44))","v":""},{"$f":"IF(F40=\"\",\"\",F40/(COUNTA('Data Input'!$C$8:$AZ$8)))","v":""},{"$f":"IF(ISBLANK('Data Input'!A44),\"\",SUM('Data Input'!C44,'Data Input'!H44,'Data Input'!J44,'Data Input'!N44,'Data Input'!R44,'Data Input'!T44,'Data Input'!Y44,'Data Input'!AE44,'Data Input'!AK44,'Data Input'!AM44))","v":""},{"$f":"IF(H40=\"\",\"\",H40/COUNTIF('Data Input'!$C$8:$AZ$8,$H$2))","v":""},{"$f":"IF(ISBLANK('Data Input'!A44),\"\",SUM('Data Input'!G44,'Data Input'!I44,'Data Input'!K44,'Data Input'!O44,'Data Input'!P44,'Data Input'!S44,'Data Input'!U44,'Data Input'!V44,'Data Input'!W44,'Data Input'!X44,'Data Input'!Z44,'Data Input'!AA44,'Data Input'!AD44,'Data Input'!AZ44))","v":""},{"$f":"IF(J40=\"\",\"\",J40/COUNTIF('Data Input'!$C$8:$AZ$8,$J$2))","v":""},{"$f":"IF(ISBLANK('Data Input'!A44),\"\",SUM('Data Input'!Q44,'Data Input'!AG44))","v":""},{"$f":"IF(L40=\"\",\"\",L40/COUNTIF('Data Input'!$C$8:$AZ$8,$L$2))","v":""},{"$f":"IF(ISBLANK('Data Input'!A44),\"\",SUM('Data Input'!D44,'Data Input'!E44,'Data Input'!F44,'Data Input'!L44,'Data Input'!M44,'Data Input'!AB44,'Data Input'!AC44,'Data Input'!AF44,'Data Input'!AJ44,'Data Input'!AL44,'Data Input'!AN44,'Data Input'!AO44,'Data Input'!AP44,'Data Input'!AQ44,'Data Input'!AR44,'Data Input'!AS44,'Data Input'!AT44,'Data Input'!AU44,'Data Input'!AV44,'Data Input'!AW44,'Data Input'!AX44,'Data Input'!AY44))","v":""},{"$f":"IF(N40=\"\",\"\",N40/COUNTIF('Data Input'!$C$8:$AZ$8,$N$2))","v":""},null,{"$f":"IF(P40=\"\",\"\",P40/COUNTIF('Data Input'!$C$8:$AZ$8,$P$2))","v":""},{"$f":"IF(ISBLANK('Data Input'!A44),\"\",SUM('Data Input'!AH44))","v":""},{"$f":"IF(R40=\"\",\"\",R40/COUNTIF('Data Input'!$C$8:$AZ$8,$R$2))","v":""},{"$f":"IF(ISBLANK('Data Input'!$A44),\"\",SUM('Data Input'!AI44))","v":""},{"$f":"IF(T40=\"\",\"\",T40/COUNTIF('Data Input'!$C$8:$AZ$8,$T$2))","v":""},null,{"$f":"IF(V40=\"\",\"\",V40/COUNTIF('Data Input'!$C$8:$AZ$8,$V$2))","v":""}]
[{"$f":"IF('Data Input'!A45=0,\"\",'Data Input'!A45)","v":""},{"$f":"IF(F41=\"\",\"\",IF(F41>Welcome!$J$20-1,\"Exceeding\",IF(F41>Welcome!$F$20-1,\"Expected\",IF(F41<Welcome!$F$20,\"Below\"))))","v":""},{"$f":"IF(ISBLANK('Data Input'!A45),\"\",COUNTIF('Data Input'!C45:AZ45,\"\"))","v":""},{"$f":"IF(ISBLANK('Data Input'!A45),\"\",COUNTIF('Data Input'!C45:AZ45,\"0\"))","v":""},{"$f":"IF(ISBLANK('Data Input'!A45),\"\",SUM(C41,D41))","v":""},{"$f":"IF(ISBLANK('Data Input'!A45),\"\",SUM('Data Input'!C45:AZ45))","v":""},{"$f":"IF(F41=\"\",\"\",F41/(COUNTA('Data Input'!$C$8:$AZ$8)))","v":""},{"$f":"IF(ISBLANK('Data Input'!A45),\"\",SUM('Data Input'!C45,'Data Input'!H45,'Data Input'!J45,'Data Input'!N45,'Data Input'!R45,'Data Input'!T45,'Data Input'!Y45,'Data Input'!AE45,'Data Input'!AK45,'Data Input'!AM45))","v":""},{"$f":"IF(H41=\"\",\"\",H41/COUNTIF('Data Input'!$C$8:$AZ$8,$H$2))","v":""},{"$f":"IF(ISBLANK('Data Input'!A45),\"\",SUM('Data Input'!G45,'Data Input'!I45,'Data Input'!K45,'Data Input'!O45,'Data Input'!P45,'Data Input'!S45,'Data Input'!U45,'Data Input'!V45,'Data Input'!W45,'Data Input'!X45,'Data Input'!Z45,'Data Input'!AA45,'Data Input'!AD45,'Data Input'!AZ45))","v":""},{"$f":"IF(J41=\"\",\"\",J41/COUNTIF('Data Input'!$C$8:$AZ$8,$J$2))","v":""},{"$f":"IF(ISBLANK('Data Input'!A45),\"\",SUM('Data Input'!Q45,'Data Input'!AG45))","v":""},{"$f":"IF(L41=\"\",\"\",L41/COUNTIF('Data Input'!$C$8:$AZ$8,$L$2))","v":""},{"$f":"IF(ISBLANK('Data Input'!A45),\"\",SUM('Data Input'!D45,'Data Input'!E45,'Data Input'!F45,'Data Input'!L45,'Data Input'!M45,'Data Input'!AB45,'Data Input'!AC45,'Data Input'!AF45,'Data Input'!AJ45,'Data Input'!AL45,'Data Input'!AN45,'Data Input'!AO45,'Data Input'!AP45,'Data Input'!AQ45,'Data Input'!AR45,'Data Input'!AS45,'Data Input'!AT45,'Data Input'!AU45,'Data Input'!AV45,'Data Input'!AW45,'Data Input'!AX45,'Data Input'!AY45))","v":""},{"$f":"IF(N41=\"\",\"\",N41/COUNTIF('Data Input'!$C$8:$AZ$8,$N$2))","v":""},null,{"$f":"IF(P41=\"\",\"\",P41/COUNTIF('Data Input'!$C$8:$AZ$8,$P$2))","v":""},{"$f":"IF(ISBLANK('Data Input'!A45),\"\",SUM('Data Input'!AH45))","v":""},{"$f":"IF(R41=\"\",\"\",R41/COUNTIF('Data Input'!$C$8:$AZ$8,$R$2))","v":""},{"$f":"IF(ISBLANK('Data Input'!$A45),\"\",SUM('Data Input'!AI45))","v":""},{"$f":"IF(T41=\"\",\"\",T41/COUNTIF('Data Input'!$C$8:$AZ$8,$T$2))","v":""},null,{"$f":"IF(V41=\"\",\"\",V41/COUNTIF('Data Input'!$C$8:$AZ$8,$V$2))","v":""}]
[{"$f":"IF('Data Input'!A46=0,\"\",'Data Input'!A46)","v":""},{"$f":"IF(F42=\"\",\"\",IF(F42>Welcome!$J$20-1,\"Exceeding\",IF(F42>Welcome!$F$20-1,\"Expected\",IF(F42<Welcome!$F$20,\"Below\"))))","v":""},{"$f":"IF(ISBLANK('Data Input'!A46),\"\",COUNTIF('Data Input'!C46:AZ46,\"\"))","v":""},{"$f":"IF(ISBLANK('Data Input'!A46),\"\",COUNTIF('Data Input'!C46:AZ46,\"0\"))","v":""},{"$f":"IF(ISBLANK('Data Input'!A46),\"\",SUM(C42,D42))","v":""},{"$f":"IF(ISBLANK('Data Input'!A46),\"\",SUM('Data Input'!C46:AZ46))","v":""},{"$f":"IF(F42=\"\",\"\",F42/(COUNTA('Data Input'!$C$8:$AZ$8)))","v":""},{"$f":"IF(ISBLANK('Data Input'!A46),\"\",SUM('Data Input'!C46,'Data Input'!H46,'Data Input'!J46,'Data Input'!N46,'Data Input'!R46,'Data Input'!T46,'Data Input'!Y46,'Data Input'!AE46,'Data Input'!AK46,'Data Input'!AM46))","v":""},{"$f":"IF(H42=\"\",\"\",H42/COUNTIF('Data Input'!$C$8:$AZ$8,$H$2))","v":""},{"$f":"IF(ISBLANK('Data Input'!A46),\"\",SUM('Data Input'!G46,'Data Input'!I46,'Data Input'!K46,'Data Input'!O46,'Data Input'!P46,'Data Input'!S46,'Data Input'!U46,'Data Input'!V46,'Data Input'!W46,'Data Input'!X46,'Data Input'!Z46,'Data Input'!AA46,'Data Input'!AD46,'Data Input'!AZ46))","v":""},{"$f":"IF(J42=\"\",\"\",J42/COUNTIF('Data Input'!$C$8:$AZ$8,$J$2))","v":""},{"$f":"IF(ISBLANK('Data Input'!A46),\"\",SUM('Data Input'!Q46,'Data Input'!AG46))","v":""},{"$f":"IF(L42=\"\",\"\",L42/COUNTIF('Data Input'!$C$8:$AZ$8,$L$2))","v":""},{"$f":"IF(ISBLANK('Data Input'!A46),\"\",SUM('Data Input'!D46,'Data Input'!E46,'Data Input'!F46,'Data Input'!L46,'Data Input'!M46,'Data Input'!AB46,'Data Input'!AC46,'Data Input'!AF46,'Data Input'!AJ46,'Data Input'!AL46,'Data Input'!AN46,'Data Input'!AO46,'Data Input'!AP46,'Data Input'!AQ46,'Data Input'!AR46,'Data Input'!AS46,'Data Input'!AT46,'Data Input'!AU46,'Data Input'!AV46,'Data Input'!AW46,'Data Input'!AX46,'Data Input'!AY46))","v":""},{"$f":"IF(N42=\"\",\"\",N42/COUNTIF('Data Input'!$C$8:$AZ$8,$N$2))","v":""},null,{"$f":"IF(P42=\"\",\"\",P42/COUNTIF('Data Input'!$C$8:$AZ$8,$P$2))","v":""},{"$f":"IF(ISBLANK('Data Input'!A46),\"\",SUM('Data Input'!AH46))","v":""},{"$f":"IF(R42=\"\",\"\",R42/COUNTIF('Data Input'!$C$8:$AZ$8,$R$2))","v":""},{"$f":"IF(ISBLANK('Data Input'!$A46),\"\",SUM('Data Input'!AI46))","v":""},{"$f":"IF(T42=\"\",\"\",T42/COUNTIF('Data Input'!$C$8:$AZ$8,$T$2))","v":""},null,{"$f":"IF(V42=\"\",\"\",V42/COUNTIF('Data Input'!$C$8:$AZ$8,$V$2))","v":""}]
[{"$f":"IF('Data Input'!A47=0,\"\",'Data Input'!A47)","v":""},{"$f":"IF(F43=\"\",\"\",IF(F43>Welcome!$J$20-1,\"Exceeding\",IF(F43>Welcome!$F$20-1,\"Expected\",IF(F43<Welcome!$F$20,\"Below\"))))","v":""},{"$f":"IF(ISBLANK('Data Input'!A47),\"\",COUNTIF('Data Input'!C47:AZ47,\"\"))","v":""},{"$f":"IF(ISBLANK('Data Input'!A47),\"\",COUNTIF('Data Input'!C47:AZ47,\"0\"))","v":""},{"$f":"IF(ISBLANK('Data Input'!A47),\"\",SUM(C43,D43))","v":""},{"$f":"IF(ISBLANK('Data Input'!A47),\"\",SUM('Data Input'!C47:AZ47))","v":""},{"$f":"IF(F43=\"\",\"\",F43/(COUNTA('Data Input'!$C$8:$AZ$8)))","v":""},{"$f":"IF(ISBLANK('Data Input'!A47),\"\",SUM('Data Input'!C47,'Data Input'!H47,'Data Input'!J47,'Data Input'!N47,'Data Input'!R47,'Data Input'!T47,'Data Input'!Y47,'Data Input'!AE47,'Data Input'!AK47,'Data Input'!AM47))","v":""},{"$f":"IF(H43=\"\",\"\",H43/COUNTIF('Data Input'!$C$8:$AZ$8,$H$2))","v":""},{"$f":"IF(ISBLANK('Data Input'!A47),\"\",SUM('Data Input'!G47,'Data Input'!I47,'Data Input'!K47,'Data Input'!O47,'Data Input'!P47,'Data Input'!S47,'Data Input'!U47,'Data Input'!V47,'Data Input'!W47,'Data Input'!X47,'Data Input'!Z47,'Data Input'!AA47,'Data Input'!AD47,'Data Input'!AZ47))","v":""},{"$f":"IF(J43=\"\",\"\",J43/COUNTIF('Data Input'!$C$8:$AZ$8,$J$2))","v":""},{"$f":"IF(ISBLANK('Data Input'!A47),\"\",SUM('Data Input'!Q47,'Data Input'!AG47))","v":""},{"$f":"IF(L43=\"\",\"\",L43/COUNTIF('Data Input'!$C$8:$AZ$8,$L$2))","v":""},{"$f":"IF(ISBLANK('Data Input'!A47),\"\",SUM('Data Input'!D47,'Data Input'!E47,'Data Input'!F47,'Data Input'!L47,'Data Input'!M47,'Data Input'!AB47,'Data Input'!AC47,'Data Input'!AF47,'Data Input'!AJ47,'Data Input'!AL47,'Data Input'!AN47,'Data Input'!AO47,'Data Input'!AP47,'Data Input'!AQ47,'Data Input'!AR47,'Data Input'!AS47,'Data Input'!AT47,'Data Input'!AU47,'Data Input'!AV47,'Data Input'!AW47,'Data Input'!AX47,'Data Input'!AY47))","v":""},{"$f":"IF(N43=\"\",\"\",N43/COUNTIF('Data Input'!$C$8:$AZ$8,$N$2))","v":""},null,{"$f":"IF(P43=\"\",\"\",P43/COUNTIF('Data Input'!$C$8:$AZ$8,$P$2))","v":""},{"$f":"IF(ISBLANK('Data Input'!A47),\"\",SUM('Data Input'!AH47))","v":""},{"$f":"IF(R43=\"\",\"\",R43/COUNTIF('Data Input'!$C$8:$AZ$8,$R$2))","v":""},{"$f":"IF(ISBLANK('Data Input'!$A47),\"\",SUM('Data Input'!AI47))","v":""},{"$f":"IF(T43=\"\",\"\",T43/COUNTIF('Data Input'!$C$8:$AZ$8,$T$2))","v":""},null,{"$f":"IF(V43=\"\",\"\",V43/COUNTIF('Data Input'!$C$8:$AZ$8,$V$2))","v":""}]
[{"$f":"IF('Data Input'!A48=0,\"\",'Data Input'!A48)","v":""},{"$f":"IF(F44=\"\",\"\",IF(F44>Welcome!$J$20-1,\"Exceeding\",IF(F44>Welcome!$F$20-1,\"Expected\",IF(F44<Welcome!$F$20,\"Below\"))))","v":""},{"$f":"IF(ISBLANK('Data Input'!A48),\"\",COUNTIF('Data Input'!C48:AZ48,\"\"))","v":""},{"$f":"IF(ISBLANK('Data Input'!A48),\"\",COUNTIF('Data Input'!C48:AZ48,\"0\"))","v":""},{"$f":"IF(ISBLANK('Data Input'!A48),\"\",SUM(C44,D44))","v":""},{"$f":"IF(ISBLANK('Data Input'!A48),\"\",SUM('Data Input'!C48:AZ48))","v":""},{"$f":"IF(F44=\"\",\"\",F44/(COUNTA('Data Input'!$C$8:$AZ$8)))","v":""},{"$f":"IF(ISBLANK('Data Input'!A48),\"\",SUM('Data Input'!C48,'Data Input'!H48,'Data Input'!J48,'Data Input'!N48,'Data Input'!R48,'Data Input'!T48,'Data Input'!Y48,'Data Input'!AE48,'Data Input'!AK48,'Data Input'!AM48))","v":""},{"$f":"IF(H44=\"\",\"\",H44/COUNTIF('Data Input'!$C$8:$AZ$8,$H$2))","v":""},{"$f":"IF(ISBLANK('Data Input'!A48),\"\",SUM('Data Input'!G48,'Data Input'!I48,'Data Input'!K48,'Data Input'!O48,'Data Input'!P48,'Data Input'!S48,'Data Input'!U48,'Data Input'!V48,'Data Input'!W48,'Data Input'!X48,'Data Input'!Z48,'Data Input'!AA48,'Data Input'!AD48,'Data Input'!AZ48))","v":""},{"$f":"IF(J44=\"\",\"\",J44/COUNTIF('Data Input'!$C$8:$AZ$8,$J$2))","v":""},{"$f":"IF(ISBLANK('Data Input'!A48),\"\",SUM('Data Input'!Q48,'Data Input'!AG48))","v":""},{"$f":"IF(L44=\"\",\"\",L44/COUNTIF('Data Input'!$C$8:$AZ$8,$L$2))","v":""},{"$f":"IF(ISBLANK('Data Input'!A48),\"\",SUM('Data Input'!D48,'Data Input'!E48,'Data Input'!F48,'Data Input'!L48,'Data Input'!M48,'Data Input'!AB48,'Data Input'!AC48,'Data Input'!AF48,'Data Input'!AJ48,'Data Input'!AL48,'Data Input'!AN48,'Data Input'!AO48,'Data Input'!AP48,'Data Input'!AQ48,'Data Input'!AR48,'Data Input'!AS48,'Data Input'!AT48,'Data Input'!AU48,'Data Input'!AV48,'Data Input'!AW48,'Data Input'!AX48,'Data Input'!AY48))","v":""},{"$f":"IF(N44=\"\",\"\",N44/COUNTIF('Data Input'!$C$8:$AZ$8,$N$2))","v":""},null,{"$f":"IF(P44=\"\",\"\",P44/COUNTIF('Data Input'!$C$8:$AZ$8,$P$2))","v":""},{"$f":"IF(ISBLANK('Data Input'!A48),\"\",SUM('Data Input'!AH48))","v":""},{"$f":"IF(R44=\"\",\"\",R44/COUNTIF('Data Input'!$C$8:$AZ$8,$R$2))","v":""},{"$f":"IF(ISBLANK('Data Input'!$A48),\"\",SUM('Data Input'!AI48))","v":""},{"$f":"IF(T44=\"\",\"\",T44/COUNTIF('Data Input'!$C$8:$AZ$8,$T$2))","v":""},null,{"$f":"IF(V44=\"\",\"\",V44/COUNTIF('Data Input'!$C$8:$AZ$8,$V$2))","v":""}]
[{"$f":"IF('Data Input'!A49=0,\"\",'Data Input'!A49)","v":""},{"$f":"IF(F45=\"\",\"\",IF(F45>Welcome!$J$20-1,\"Exceeding\",IF(F45>Welcome!$F$20-1,\"Expected\",IF(F45<Welcome!$F$20,\"Below\"))))","v":""},{"$f":"IF(ISBLANK('Data Input'!A49),\"\",COUNTIF('Data Input'!C49:AZ49,\"\"))","v":""},{"$f":"IF(ISBLANK('Data Input'!A49),\"\",COUNTIF('Data Input'!C49:AZ49,\"0\"))","v":""},{"$f":"IF(ISBLANK('Data Input'!A49),\"\",SUM(C45,D45))","v":""},{"$f":"IF(ISBLANK('Data Input'!A49),\"\",SUM('Data Input'!C49:AZ49))","v":""},{"$f":"IF(F45=\"\",\"\",F45/(COUNTA('Data Input'!$C$8:$AZ$8)))","v":""},{"$f":"IF(ISBLANK('Data Input'!A49),\"\",SUM('Data Input'!C49,'Data Input'!H49,'Data Input'!J49,'Data Input'!N49,'Data Input'!R49,'Data Input'!T49,'Data Input'!Y49,'Data Input'!AE49,'Data Input'!AK49,'Data Input'!AM49))","v":""},{"$f":"IF(H45=\"\",\"\",H45/COUNTIF('Data Input'!$C$8:$AZ$8,$H$2))","v":""},{"$f":"IF(ISBLANK('Data Input'!A49),\"\",SUM('Data Input'!G49,'Data Input'!I49,'Data Input'!K49,'Data Input'!O49,'Data Input'!P49,'Data Input'!S49,'Data Input'!U49,'Data Input'!V49,'Data Input'!W49,'Data Input'!X49,'Data Input'!Z49,'Data Input'!AA49,'Data Input'!AD49,'Data Input'!AZ49))","v":""},{"$f":"IF(J45=\"\",\"\",J45/COUNTIF('Data Input'!$C$8:$AZ$8,$J$2))","v":""},{"$f":"IF(ISBLANK('Data Input'!A49),\"\",SUM('Data Input'!Q49,'Data Input'!AG49))","v":""},{"$f":"IF(L45=\"\",\"\",L45/COUNTIF('Data Input'!$C$8:$AZ$8,$L$2))","v":""},{"$f":"IF(ISBLANK('Data Input'!A49),\"\",SUM('Data Input'!D49,'Data Input'!E49,'Data Input'!F49,'Data Input'!L49,'Data Input'!M49,'Data Input'!AB49,'Data Input'!AC49,'Data Input'!AF49,'Data Input'!AJ49,'Data Input'!AL49,'Data Input'!AN49,'Data Input'!AO49,'Data Input'!AP49,'Data Input'!AQ49,'Data Input'!AR49,'Data Input'!AS49,'Data Input'!AT49,'Data Input'!AU49,'Data Input'!AV49,'Data Input'!AW49,'Data Input'!AX49,'Data Input'!AY49))","v":""},{"$f":"IF(N45=\"\",\"\",N45/COUNTIF('Data Input'!$C$8:$AZ$8,$N$2))","v":""},null,{"$f":"IF(P45=\"\",\"\",P45/COUNTIF('Data Input'!$C$8:$AZ$8,$P$2))","v":""},{"$f":"IF(ISBLANK('Data Input'!A49),\"\",SUM('Data Input'!AH49))","v":""},{"$f":"IF(R45=\"\",\"\",R45/COUNTIF('Data Input'!$C$8:$AZ$8,$R$2))","v":""},{"$f":"IF(ISBLANK('Data Input'!$A49),\"\",SUM('Data Input'!AI49))","v":""},{"$f":"IF(T45=\"\",\"\",T45/COUNTIF('Data Input'!$C$8:$AZ$8,$T$2))","v":""},null,{"$f":"IF(V45=\"\",\"\",V45/COUNTIF('Data Input'!$C$8:$AZ$8,$V$2))","v":""}]
[{"$f":"IF('Data Input'!A50=0,\"\",'Data Input'!A50)","v":""},{"$f":"IF(F46=\"\",\"\",IF(F46>Welcome!$J$20-1,\"Exceeding\",IF(F46>Welcome!$F$20-1,\"Expected\",IF(F46<Welcome!$F$20,\"Below\"))))","v":""},{"$f":"IF(ISBLANK('Data Input'!A50),\"\",COUNTIF('Data Input'!C50:AZ50,\"\"))","v":""},{"$f":"IF(ISBLANK('Data Input'!A50),\"\",COUNTIF('Data Input'!C50:AZ50,\"0\"))","v":""},{"$f":"IF(ISBLANK('Data Input'!A50),\"\",SUM(C46,D46))","v":""},{"$f":"IF(ISBLANK('Data Input'!A50),\"\",SUM('Data Input'!C50:AZ50))","v":""},{"$f":"IF(F46=\"\",\"\",F46/(COUNTA('Data Input'!$C$8:$AZ$8)))","v":""},{"$f":"IF(ISBLANK('Data Input'!A50),\"\",SUM('Data Input'!C50,'Data Input'!H50,'Data Input'!J50,'Data Input'!N50,'Data Input'!R50,'Data Input'!T50,'Data Input'!Y50,'Data Input'!AE50,'Data Input'!AK50,'Data Input'!AM50))","v":""},{"$f":"IF(H46=\"\",\"\",H46/COUNTIF('Data Input'!$C$8:$AZ$8,$H$2))","v":""},{"$f":"IF(ISBLANK('Data Input'!A50),\"\",SUM('Data Input'!G50,'Data Input'!I50,'Data Input'!K50,'Data Input'!O50,'Data Input'!P50,'Data Input'!S50,'Data Input'!U50,'Data Input'!V50,'Data Input'!W50,'Data Input'!X50,'Data Input'!Z50,'Data Input'!AA50,'Data Input'!AD50,'Data Input'!AZ50))","v":""},{"$f":"IF(J46=\"\",\"\",J46/COUNTIF('Data Input'!$C$8:$AZ$8,$J$2))","v":""},{"$f":"IF(ISBLANK('Data Input'!A50),\"\",SUM('Data Input'!Q50,'Data Input'!AG50))","v":""},{"$f":"IF(L46=\"\",\"\",L46/COUNTIF('Data Input'!$C$8:$AZ$8,$L$2))","v":""},{"$f":"IF(ISBLANK('Data Input'!A50),\"\",SUM('Data Input'!D50,'Data Input'!E50,'Data Input'!F50,'Data Input'!L50,'Data Input'!M50,'Data Input'!AB50,'Data Input'!AC50,'Data Input'!AF50,'Data Input'!AJ50,'Data Input'!AL50,'Data Input'!AN50,'Data Input'!AO50,'Data Input'!AP50,'Data Input'!AQ50,'Data Input'!AR50,'Data Input'!AS50,'Data Input'!AT50,'Data Input'!AU50,'Data Input'!AV50,'Data Input'!AW50,'Data Input'!AX50,'Data Input'!AY50))","v":""},{"$f":"IF(N46=\"\",\"\",N46/COUNTIF('Data Input'!$C$8:$AZ$8,$N$2))","v":""},null,{"$f":"IF(P46=\"\",\"\",P46/COUNTIF('Data Input'!$C$8:$AZ$8,$P$2))","v":""},{"$f":"IF(ISBLANK('Data Input'!A50),\"\",SUM('Data Input'!AH50))","v":""},{"$f":"IF(R46=\"\",\"\",R46/COUNTIF('Data Input'!$C$8:$AZ$8,$R$2))","v":""},{"$f":"IF(ISBLANK('Data Input'!$A50),\"\",SUM('Data Input'!AI50))","v":""},{"$f":"IF(T46=\"\",\"\",T46/COUNTIF('Data Input'!$C$8:$AZ$8,$T$2))","v":""},null,{"$f":"IF(V46=\"\",\"\",V46/COUNTIF('Data Input'!$C$8:$AZ$8,$V$2))","v":""}]
[{"$f":"IF('Data Input'!A51=0,\"\",'Data Input'!A51)","v":""},{"$f":"IF(F47=\"\",\"\",IF(F47>Welcome!$J$20-1,\"Exceeding\",IF(F47>Welcome!$F$20-1,\"Expected\",IF(F47<Welcome!$F$20,\"Below\"))))","v":""},{"$f":"IF(ISBLANK('Data Input'!A51),\"\",COUNTIF('Data Input'!C51:AZ51,\"\"))","v":""},{"$f":"IF(ISBLANK('Data Input'!A51),\"\",COUNTIF('Data Input'!C51:AZ51,\"0\"))","v":""},{"$f":"IF(ISBLANK('Data Input'!A51),\"\",SUM(C47,D47))","v":""},{"$f":"IF(ISBLANK('Data Input'!A51),\"\",SUM('Data Input'!C51:AZ51))","v":""},{"$f":"IF(F47=\"\",\"\",F47/(COUNTA('Data Input'!$C$8:$AZ$8)))","v":""},{"$f":"IF(ISBLANK('Data Input'!A51),\"\",SUM('Data Input'!C51,'Data Input'!H51,'Data Input'!J51,'Data Input'!N51,'Data Input'!R51,'Data Input'!T51,'Data Input'!Y51,'Data Input'!AE51,'Data Input'!AK51,'Data Input'!AM51))","v":""},{"$f":"IF(H47=\"\",\"\",H47/COUNTIF('Data Input'!$C$8:$AZ$8,$H$2))","v":""},{"$f":"IF(ISBLANK('Data Input'!A51),\"\",SUM('Data Input'!G51,'Data Input'!I51,'Data Input'!K51,'Data Input'!O51,'Data Input'!P51,'Data Input'!S51,'Data Input'!U51,'Data Input'!V51,'Data Input'!W51,'Data Input'!X51,'Data Input'!Z51,'Data Input'!AA51,'Data Input'!AD51,'Data Input'!AZ51))","v":""},{"$f":"IF(J47=\"\",\"\",J47/COUNTIF('Data Input'!$C$8:$AZ$8,$J$2))","v":""},{"$f":"IF(ISBLANK('Data Input'!A51),\"\",SUM('Data Input'!Q51,'Data Input'!AG51))","v":""},{"$f":"IF(L47=\"\",\"\",L47/COUNTIF('Data Input'!$C$8:$AZ$8,$L$2))","v":""},{"$f":"IF(ISBLANK('Data Input'!A51),\"\",SUM('Data Input'!D51,'Data Input'!E51,'Data Input'!F51,'Data Input'!L51,'Data Input'!M51,'Data Input'!AB51,'Data Input'!AC51,'Data Input'!AF51,'Data Input'!AJ51,'Data Input'!AL51,'Data Input'!AN51,'Data Input'!AO51,'Data Input'!AP51,'Data Input'!AQ51,'Data Input'!AR51,'Data Input'!AS51,'Data Input'!AT51,'Data Input'!AU51,'Data Input'!AV51,'Data Input'!AW51,'Data Input'!AX51,'Data Input'!AY51))","v":""},{"$f":"IF(N47=\"\",\"\",N47/COUNTIF('Data Input'!$C$8:$AZ$8,$N$2))","v":""},null,{"$f":"IF(P47=\"\",\"\",P47/COUNTIF('Data Input'!$C$8:$AZ$8,$P$2))","v":""},{"$f":"IF(ISBLANK('Data Input'!A51),\"\",SUM('Data Input'!AH51))","v":""},{"$f":"IF(R47=\"\",\"\",R47/COUNTIF('Data Input'!$C$8:$AZ$8,$R$2))","v":""},{"$f":"IF(ISBLANK('Data Input'!$A51),\"\",SUM('Data Input'!AI51))","v":""},{"$f":"IF(T47=\"\",\"\",T47/COUNTIF('Data Input'!$C$8:$AZ$8,$T$2))","v":""},null,{"$f":"IF(V47=\"\",\"\",V47/COUNTIF('Data Input'!$C$8:$AZ$8,$V$2))","v":""}]
[{"$f":"IF('Data Input'!A52=0,\"\",'Data Input'!A52)","v":""},{"$f":"IF(F48=\"\",\"\",IF(F48>Welcome!$J$20-1,\"Exceeding\",IF(F48>Welcome!$F$20-1,\"Expected\",IF(F48<Welcome!$F$20,\"Below\"))))","v":""},{"$f":"IF(ISBLANK('Data Input'!A52),\"\",COUNTIF('Data Input'!C52:AZ52,\"\"))","v":""},{"$f":"IF(ISBLANK('Data Input'!A52),\"\",COUNTIF('Data Input'!C52:AZ52,\"0\"))","v":""},{"$f":"IF(ISBLANK('Data Input'!A52),\"\",SUM(C48,D48))","v":""},{"$f":"IF(ISBLANK('Data Input'!A52),\"\",SUM('Data Input'!C52:AZ52))","v":""},{"$f":"IF(F48=\"\",\"\",F48/(COUNTA('Data Input'!$C$8:$AZ$8)))","v":""},{"$f":"IF(ISBLANK('Data Input'!A52),\"\",SUM('Data Input'!C52,'Data Input'!H52,'Data Input'!J52,'Data Input'!N52,'Data Input'!R52,'Data Input'!T52,'Data Input'!Y52,'Data Input'!AE52,'Data Input'!AK52,'Data Input'!AM52))","v":""},{"$f":"IF(H48=\"\",\"\",H48/COUNTIF('Data Input'!$C$8:$AZ$8,$H$2))","v":""},{"$f":"IF(ISBLANK('Data Input'!A52),\"\",SUM('Data Input'!G52,'Data Input'!I52,'Data Input'!K52,'Data Input'!O52,'Data Input'!P52,'Data Input'!S52,'Data Input'!U52,'Data Input'!V52,'Data Input'!W52,'Data Input'!X52,'Data Input'!Z52,'Data Input'!AA52,'Data Input'!AD52,'Data Input'!AZ52))","v":""},{"$f":"IF(J48=\"\",\"\",J48/COUNTIF('Data Input'!$C$8:$AZ$8,$J$2))","v":""},{"$f":"IF(ISBLANK('Data Input'!A52),\"\",SUM('Data Input'!Q52,'Data Input'!AG52))","v":""},{"$f":"IF(L48=\"\",\"\",L48/COUNTIF('Data Input'!$C$8:$AZ$8,$L$2))","v":""},{"$f":"IF(ISBLANK('Data Input'!A52),\"\",SUM('Data Input'!D52,'Data Input'!E52,'Data Input'!F52,'Data Input'!L52,'Data Input'!M52,'Data Input'!AB52,'Data Input'!AC52,'Data Input'!AF52,'Data Input'!AJ52,'Data Input'!AL52,'Data Input'!AN52,'Data Input'!AO52,'Data Input'!AP52,'Data Input'!AQ52,'Data Input'!AR52,'Data Input'!AS52,'Data Input'!AT52,'Data Input'!AU52,'Data Input'!AV52,'Data Input'!AW52,'Data Input'!AX52,'Data Input'!AY52))","v":""},{"$f":"IF(N48=\"\",\"\",N48/COUNTIF('Data Input'!$C$8:$AZ$8,$N$2))","v":""},null,{"$f":"IF(P48=\"\",\"\",P48/COUNTIF('Data Input'!$C$8:$AZ$8,$P$2))","v":""},{"$f":"IF(ISBLANK('Data Input'!A52),\"\",SUM('Data Input'!AH52))","v":""},{"$f":"IF(R48=\"\",\"\",R48/COUNTIF('Data Input'!$C$8:$AZ$8,$R$2))","v":""},{"$f":"IF(ISBLANK('Data Input'!$A52),\"\",SUM('Data Input'!AI52))","v":""},{"$f":"IF(T48=\"\",\"\",T48/COUNTIF('Data Input'!$C$8:$AZ$8,$T$2))","v":""},null,{"$f":"IF(V48=\"\",\"\",V48/COUNTIF('Data Input'!$C$8:$AZ$8,$V$2))","v":""}]
[{"$f":"IF('Data Input'!A53=0,\"\",'Data Input'!A53)","v":""},{"$f":"IF(F49=\"\",\"\",IF(F49>Welcome!$J$20-1,\"Exceeding\",IF(F49>Welcome!$F$20-1,\"Expected\",IF(F49<Welcome!$F$20,\"Below\"))))","v":""},{"$f":"IF(ISBLANK('Data Input'!A53),\"\",COUNTIF('Data Input'!C53:AZ53,\"\"))","v":""},{"$f":"IF(ISBLANK('Data Input'!A53),\"\",COUNTIF('Data Input'!C53:AZ53,\"0\"))","v":""},{"$f":"IF(ISBLANK('Data Input'!A53),\"\",SUM(C49,D49))","v":""},{"$f":"IF(ISBLANK('Data Input'!A53),\"\",SUM('Data Input'!C53:AZ53))","v":""},{"$f":"IF(F49=\"\",\"\",F49/(COUNTA('Data Input'!$C$8:$AZ$8)))","v":""},{"$f":"IF(ISBLANK('Data Input'!A53),\"\",SUM('Data Input'!C53,'Data Input'!H53,'Data Input'!J53,'Data Input'!N53,'Data Input'!R53,'Data Input'!T53,'Data Input'!Y53,'Data Input'!AE53,'Data Input'!AK53,'Data Input'!AM53))","v":""},{"$f":"IF(H49=\"\",\"\",H49/COUNTIF('Data Input'!$C$8:$AZ$8,$H$2))","v":""},{"$f":"IF(ISBLANK('Data Input'!A53),\"\",SUM('Data Input'!G53,'Data Input'!I53,'Data Input'!K53,'Data Input'!O53,'Data Input'!P53,'Data Input'!S53,'Data Input'!U53,'Data Input'!V53,'Data Input'!W53,'Data Input'!X53,'Data Input'!Z53,'Data Input'!AA53,'Data Input'!AD53,'Data Input'!AZ53))","v":""},{"$f":"IF(J49=\"\",\"\",J49/COUNTIF('Data Input'!$C$8:$AZ$8,$J$2))","v":""},{"$f":"IF(ISBLANK('Data Input'!A53),\"\",SUM('Data Input'!Q53,'Data Input'!AG53))","v":""},{"$f":"IF(L49=\"\",\"\",L49/COUNTIF('Data Input'!$C$8:$AZ$8,$L$2))","v":""},{"$f":"IF(ISBLANK('Data Input'!A53),\"\",SUM('Data Input'!D53,'Data Input'!E53,'Data Input'!F53,'Data Input'!L53,'Data Input'!M53,'Data Input'!AB53,'Data Input'!AC53,'Data Input'!AF53,'Data Input'!AJ53,'Data Input'!AL53,'Data Input'!AN53,'Data Input'!AO53,'Data Input'!AP53,'Data Input'!AQ53,'Data Input'!AR53,'Data Input'!AS53,'Data Input'!AT53,'Data Input'!AU53,'Data Input'!AV53,'Data Input'!AW53,'Data Input'!AX53,'Data Input'!AY53))","v":""},{"$f":"IF(N49=\"\",\"\",N49/COUNTIF('Data Input'!$C$8:$AZ$8,$N$2))","v":""},null,{"$f":"IF(P49=\"\",\"\",P49/COUNTIF('Data Input'!$C$8:$AZ$8,$P$2))","v":""},{"$f":"IF(ISBLANK('Data Input'!A53),\"\",SUM('Data Input'!AH53))","v":""},{"$f":"IF(R49=\"\",\"\",R49/COUNTIF('Data Input'!$C$8:$AZ$8,$R$2))","v":""},{"$f":"IF(ISBLANK('Data Input'!$A53),\"\",SUM('Data Input'!AI53))","v":""},{"$f":"IF(T49=\"\",\"\",T49/COUNTIF('Data Input'!$C$8:$AZ$8,$T$2))","v":""},null,{"$f":"IF(V49=\"\",\"\",V49/COUNTIF('Data Input'!$C$8:$AZ$8,$V$2))","v":""}]
[{"$f":"IF('Data Input'!A54=0,\"\",'Data Input'!A54)","v":""},{"$f":"IF(F50=\"\",\"\",IF(F50>Welcome!$J$20-1,\"Exceeding\",IF(F50>Welcome!$F$20-1,\"Expected\",IF(F50<Welcome!$F$20,\"Below\"))))","v":""},{"$f":"IF(ISBLANK('Data Input'!A54),\"\",COUNTIF('Data Input'!C54:AZ54,\"\"))","v":""},{"$f":"IF(ISBLANK('Data Input'!A54),\"\",COUNTIF('Data Input'!C54:AZ54,\"0\"))","v":""},{"$f":"IF(ISBLANK('Data Input'!A54),\"\",SUM(C50,D50))","v":""},{"$f":"IF(ISBLANK('Data Input'!A54),\"\",SUM('Data Input'!C54:AZ54))","v":""},{"$f":"IF(F50=\"\",\"\",F50/(COUNTA('Data Input'!$C$8:$AZ$8)))","v":""},{"$f":"IF(ISBLANK('Data Input'!A54),\"\",SUM('Data Input'!C54,'Data Input'!H54,'Data Input'!J54,'Data Input'!N54,'Data Input'!R54,'Data Input'!T54,'Data Input'!Y54,'Data Input'!AE54,'Data Input'!AK54,'Data Input'!AM54))","v":""},{"$f":"IF(H50=\"\",\"\",H50/COUNTIF('Data Input'!$C$8:$AZ$8,$H$2))","v":""},{"$f":"IF(ISBLANK('Data Input'!A54),\"\",SUM('Data Input'!G54,'Data Input'!I54,'Data Input'!K54,'Data Input'!O54,'Data Input'!P54,'Data Input'!S54,'Data Input'!U54,'Data Input'!V54,'Data Input'!W54,'Data Input'!X54,'Data Input'!Z54,'Data Input'!AA54,'Data Input'!AD54,'Data Input'!AZ54))","v":""},{"$f":"IF(J50=\"\",\"\",J50/COUNTIF('Data Input'!$C$8:$AZ$8,$J$2))","v":""},{"$f":"IF(ISBLANK('Data Input'!A54),\"\",SUM('Data Input'!Q54,'Data Input'!AG54))","v":""},{"$f":"IF(L50=\"\",\"\",L50/COUNTIF('Data Input'!$C$8:$AZ$8,$L$2))","v":""},{"$f":"IF(ISBLANK('Data Input'!A54),\"\",SUM('Data Input'!D54,'Data Input'!E54,'Data Input'!F54,'Data Input'!L54,'Data Input'!M54,'Data Input'!AB54,'Data Input'!AC54,'Data Input'!AF54,'Data Input'!AJ54,'Data Input'!AL54,'Data Input'!AN54,'Data Input'!AO54,'Data Input'!AP54,'Data Input'!AQ54,'Data Input'!AR54,'Data Input'!AS54,'Data Input'!AT54,'Data Input'!AU54,'Data Input'!AV54,'Data Input'!AW54,'Data Input'!AX54,'Data Input'!AY54))","v":""},{"$f":"IF(N50=\"\",\"\",N50/COUNTIF('Data Input'!$C$8:$AZ$8,$N$2))","v":""},null,{"$f":"IF(P50=\"\",\"\",P50/COUNTIF('Data Input'!$C$8:$AZ$8,$P$2))","v":""},{"$f":"IF(ISBLANK('Data Input'!A54),\"\",SUM('Data Input'!AH54))","v":""},{"$f":"IF(R50=\"\",\"\",R50/COUNTIF('Data Input'!$C$8:$AZ$8,$R$2))","v":""},{"$f":"IF(ISBLANK('Data Input'!$A54),\"\",SUM('Data Input'!AI54))","v":""},{"$f":"IF(T50=\"\",\"\",T50/COUNTIF('Data Input'!$C$8:$AZ$8,$T$2))","v":""},null,{"$f":"IF(V50=\"\",\"\",V50/COUNTIF('Data Input'!$C$8:$AZ$8,$V$2))","v":""}]
[{"$f":"IF('Data Input'!A55=0,\"\",'Data Input'!A55)","v":""},{"$f":"IF(F51=\"\",\"\",IF(F51>Welcome!$J$20-1,\"Exceeding\",IF(F51>Welcome!$F$20-1,\"Expected\",IF(F51<Welcome!$F$20,\"Below\"))))","v":""},{"$f":"IF(ISBLANK('Data Input'!A55),\"\",COUNTIF('Data Input'!C55:AZ55,\"\"))","v":""},{"$f":"IF(ISBLANK('Data Input'!A55),\"\",COUNTIF('Data Input'!C55:AZ55,\"0\"))","v":""},{"$f":"IF(ISBLANK('Data Input'!A55),\"\",SUM(C51,D51))","v":""},{"$f":"IF(ISBLANK('Data Input'!A55),\"\",SUM('Data Input'!C55:AZ55))","v":""},{"$f":"IF(F51=\"\",\"\",F51/(COUNTA('Data Input'!$C$8:$AZ$8)))","v":""},{"$f":"IF(ISBLANK('Data Input'!A55),\"\",SUM('Data Input'!C55,'Data Input'!H55,'Data Input'!J55,'Data Input'!N55,'Data Input'!R55,'Data Input'!T55,'Data Input'!Y55,'Data Input'!AE55,'Data Input'!AK55,'Data Input'!AM55))","v":""},{"$f":"IF(H51=\"\",\"\",H51/COUNTIF('Data Input'!$C$8:$AZ$8,$H$2))","v":""},{"$f":"IF(ISBLANK('Data Input'!A55),\"\",SUM('Data Input'!G55,'Data Input'!I55,'Data Input'!K55,'Data Input'!O55,'Data Input'!P55,'Data Input'!S55,'Data Input'!U55,'Data Input'!V55,'Data Input'!W55,'Data Input'!X55,'Data Input'!Z55,'Data Input'!AA55,'Data Input'!AD55,'Data Input'!AZ55))","v":""},{"$f":"IF(J51=\"\",\"\",J51/COUNTIF('Data Input'!$C$8:$AZ$8,$J$2))","v":""},{"$f":"IF(ISBLANK('Data Input'!A55),\"\",SUM('Data Input'!Q55,'Data Input'!AG55))","v":""},{"$f":"IF(L51=\"\",\"\",L51/COUNTIF('Data Input'!$C$8:$AZ$8,$L$2))","v":""},{"$f":"IF(ISBLANK('Data Input'!A55),\"\",SUM('Data Input'!D55,'Data Input'!E55,'Data Input'!F55,'Data Input'!L55,'Data Input'!M55,'Data Input'!AB55,'Data Input'!AC55,'Data Input'!AF55,'Data Input'!AJ55,'Data Input'!AL55,'Data Input'!AN55,'Data Input'!AO55,'Data Input'!AP55,'Data Input'!AQ55,'Data Input'!AR55,'Data Input'!AS55,'Data Input'!AT55,'Data Input'!AU55,'Data Input'!AV55,'Data Input'!AW55,'Data Input'!AX55,'Data Input'!AY55))","v":""},{"$f":"IF(N51=\"\",\"\",N51/COUNTIF('Data Input'!$C$8:$AZ$8,$N$2))","v":""},null,{"$f":"IF(P51=\"\",\"\",P51/COUNTIF('Data Input'!$C$8:$AZ$8,$P$2))","v":""},{"$f":"IF(ISBLANK('Data Input'!A55),\"\",SUM('Data Input'!AH55))","v":""},{"$f":"IF(R51=\"\",\"\",R51/COUNTIF('Data Input'!$C$8:$AZ$8,$R$2))","v":""},{"$f":"IF(ISBLANK('Data Input'!$A55),\"\",SUM('Data Input'!AI55))","v":""},{"$f":"IF(T51=\"\",\"\",T51/COUNTIF('Data Input'!$C$8:$AZ$8,$T$2))","v":""},null,{"$f":"IF(V51=\"\",\"\",V51/COUNTIF('Data Input'!$C$8:$AZ$8,$V$2))","v":""}]
[{"$f":"IF('Data Input'!A56=0,\"\",'Data Input'!A56)","v":""},{"$f":"IF(F52=\"\",\"\",IF(F52>Welcome!$J$20-1,\"Exceeding\",IF(F52>Welcome!$F$20-1,\"Expected\",IF(F52<Welcome!$F$20,\"Below\"))))","v":""},{"$f":"IF(ISBLANK('Data Input'!A56),\"\",COUNTIF('Data Input'!C56:AZ56,\"\"))","v":""},{"$f":"IF(ISBLANK('Data Input'!A56),\"\",COUNTIF('Data Input'!C56:AZ56,\"0\"))","v":""},{"$f":"IF(ISBLANK('Data Input'!A56),\"\",SUM(C52,D52))","v":""},{"$f":"IF(ISBLANK('Data Input'!A56),\"\",SUM('Data Input'!C56:AZ56))","v":""},{"$f":"IF(F52=\"\",\"\",F52/(COUNTA('Data Input'!$C$8:$AZ$8)))","v":""},{"$f":"IF(ISBLANK('Data Input'!A56),\"\",SUM('Data Input'!C56,'Data Input'!H56,'Data Input'!J56,'Data Input'!N56,'Data Input'!R56,'Data Input'!T56,'Data Input'!Y56,'Data Input'!AE56,'Data Input'!AK56,'Data Input'!AM56))","v":""},{"$f":"IF(H52=\"\",\"\",H52/COUNTIF('Data Input'!$C$8:$AZ$8,$H$2))","v":""},{"$f":"IF(ISBLANK('Data Input'!A56),\"\",SUM('Data Input'!G56,'Data Input'!I56,'Data Input'!K56,'Data Input'!O56,'Data Input'!P56,'Data Input'!S56,'Data Input'!U56,'Data Input'!V56,'Data Input'!W56,'Data Input'!X56,'Data Input'!Z56,'Data Input'!AA56,'Data Input'!AD56,'Data Input'!AZ56))","v":""},{"$f":"IF(J52=\"\",\"\",J52/COUNTIF('Data Input'!$C$8:$AZ$8,$J$2))","v":""},{"$f":"IF(ISBLANK('Data Input'!A56),\"\",SUM('Data Input'!Q56,'Data Input'!AG56))","v":""},{"$f":"IF(L52=\"\",\"\",L52/COUNTIF('Data Input'!$C$8:$AZ$8,$L$2))","v":""},{"$f":"IF(ISBLANK('Data Input'!A56),\"\",SUM('Data Input'!D56,'Data Input'!E56,'Data Input'!F56,'Data Input'!L56,'Data Input'!M56,'Data Input'!AB56,'Data Input'!AC56,'Data Input'!AF56,'Data Input'!AJ56,'Data Input'!AL56,'Data Input'!AN56,'Data Input'!AO56,'Data Input'!AP56,'Data Input'!AQ56,'Data Input'!AR56,'Data Input'!AS56,'Data Input'!AT56,'Data Input'!AU56,'Data Input'!AV56,'Data Input'!AW56,'Data Input'!AX56,'Data Input'!AY56))","v":""},{"$f":"IF(N52=\"\",\"\",N52/COUNTIF('Data Input'!$C$8:$AZ$8,$N$2))","v":""},null,{"$f":"IF(P52=\"\",\"\",P52/COUNTIF('Data Input'!$C$8:$AZ$8,$P$2))","v":""},{"$f":"IF(ISBLANK('Data Input'!A56),\"\",SUM('Data Input'!AH56))","v":""},{"$f":"IF(R52=\"\",\"\",R52/COUNTIF('Data Input'!$C$8:$AZ$8,$R$2))","v":""},{"$f":"IF(ISBLANK('Data Input'!$A56),\"\",SUM('Data Input'!AI56))","v":""},{"$f":"IF(T52=\"\",\"\",T52/COUNTIF('Data Input'!$C$8:$AZ$8,$T$2))","v":""},null,{"$f":"IF(V52=\"\",\"\",V52/COUNTIF('Data Input'!$C$8:$AZ$8,$V$2))","v":""}]
[{"$f":"IF('Data Input'!A57=0,\"\",'Data Input'!A57)","v":""},{"$f":"IF(F53=\"\",\"\",IF(F53>Welcome!$J$20-1,\"Exceeding\",IF(F53>Welcome!$F$20-1,\"Expected\",IF(F53<Welcome!$F$20,\"Below\"))))","v":""},{"$f":"IF(ISBLANK('Data Input'!A57),\"\",COUNTIF('Data Input'!C57:AZ57,\"\"))","v":""},{"$f":"IF(ISBLANK('Data Input'!A57),\"\",COUNTIF('Data Input'!C57:AZ57,\"0\"))","v":""},{"$f":"IF(ISBLANK('Data Input'!A57),\"\",SUM(C53,D53))","v":""},{"$f":"IF(ISBLANK('Data Input'!A57),\"\",SUM('Data Input'!C57:AZ57))","v":""},{"$f":"IF(F53=\"\",\"\",F53/(COUNTA('Data Input'!$C$8:$AZ$8)))","v":""},{"$f":"IF(ISBLANK('Data Input'!A57),\"\",SUM('Data Input'!C57,'Data Input'!H57,'Data Input'!J57,'Data Input'!N57,'Data Input'!R57,'Data Input'!T57,'Data Input'!Y57,'Data Input'!AE57,'Data Input'!AK57,'Data Input'!AM57))","v":""},{"$f":"IF(H53=\"\",\"\",H53/COUNTIF('Data Input'!$C$8:$AZ$8,$H$2))","v":""},{"$f":"IF(ISBLANK('Data Input'!A57),\"\",SUM('Data Input'!G57,'Data Input'!I57,'Data Input'!K57,'Data Input'!O57,'Data Input'!P57,'Data Input'!S57,'Data Input'!U57,'Data Input'!V57,'Data Input'!W57,'Data Input'!X57,'Data Input'!Z57,'Data Input'!AA57,'Data Input'!AD57,'Data Input'!AZ57))","v":""},{"$f":"IF(J53=\"\",\"\",J53/COUNTIF('Data Input'!$C$8:$AZ$8,$J$2))","v":""},{"$f":"IF(ISBLANK('Data Input'!A57),\"\",SUM('Data Input'!Q57,'Data Input'!AG57))","v":""},{"$f":"IF(L53=\"\",\"\",L53/COUNTIF('Data Input'!$C$8:$AZ$8,$L$2))","v":""},{"$f":"IF(ISBLANK('Data Input'!A57),\"\",SUM('Data Input'!D57,'Data Input'!E57,'Data Input'!F57,'Data Input'!L57,'Data Input'!M57,'Data Input'!AB57,'Data Input'!AC57,'Data Input'!AF57,'Data Input'!AJ57,'Data Input'!AL57,'Data Input'!AN57,'Data Input'!AO57,'Data Input'!AP57,'Data Input'!AQ57,'Data Input'!AR57,'Data Input'!AS57,'Data Input'!AT57,'Data Input'!AU57,'Data Input'!AV57,'Data Input'!AW57,'Data Input'!AX57,'Data Input'!AY57))","v":""},{"$f":"IF(N53=\"\",\"\",N53/COUNTIF('Data Input'!$C$8:$AZ$8,$N$2))","v":""},null,{"$f":"IF(P53=\"\",\"\",P53/COUNTIF('Data Input'!$C$8:$AZ$8,$P$2))","v":""},{"$f":"IF(ISBLANK('Data Input'!A57),\"\",SUM('Data Input'!AH57))","v":""},{"$f":"IF(R53=\"\",\"\",R53/COUNTIF('Data Input'!$C$8:$AZ$8,$R$2))","v":""},{"$f":"IF(ISBLANK('Data Input'!$A57),\"\",SUM('Data Input'!AI57))","v":""},{"$f":"IF(T53=\"\",\"\",T53/COUNTIF('Data Input'!$C$8:$AZ$8,$T$2))","v":""},null,{"$f":"IF(V53=\"\",\"\",V53/COUNTIF('Data Input'!$C$8:$AZ$8,$V$2))","v":""}]
[{"$f":"IF('Data Input'!A58=0,\"\",'Data Input'!A58)","v":""},{"$f":"IF(F54=\"\",\"\",IF(F54>Welcome!$J$20-1,\"Exceeding\",IF(F54>Welcome!$F$20-1,\"Expected\",IF(F54<Welcome!$F$20,\"Below\"))))","v":""},{"$f":"IF(ISBLANK('Data Input'!A58),\"\",COUNTIF('Data Input'!C58:AZ58,\"\"))","v":""},{"$f":"IF(ISBLANK('Data Input'!A58),\"\",COUNTIF('Data Input'!C58:AZ58,\"0\"))","v":""},{"$f":"IF(ISBLANK('Data Input'!A58),\"\",SUM(C54,D54))","v":""},{"$f":"IF(ISBLANK('Data Input'!A58),\"\",SUM('Data Input'!C58:AZ58))","v":""},{"$f":"IF(F54=\"\",\"\",F54/(COUNTA('Data Input'!$C$8:$AZ$8)))","v":""},{"$f":"IF(ISBLANK('Data Input'!A58),\"\",SUM('Data Input'!C58,'Data Input'!H58,'Data Input'!J58,'Data Input'!N58,'Data Input'!R58,'Data Input'!T58,'Data Input'!Y58,'Data Input'!AE58,'Data Input'!AK58,'Data Input'!AM58))","v":""},{"$f":"IF(H54=\"\",\"\",H54/COUNTIF('Data Input'!$C$8:$AZ$8,$H$2))","v":""},{"$f":"IF(ISBLANK('Data Input'!A58),\"\",SUM('Data Input'!G58,'Data Input'!I58,'Data Input'!K58,'Data Input'!O58,'Data Input'!P58,'Data Input'!S58,'Data Input'!U58,'Data Input'!V58,'Data Input'!W58,'Data Input'!X58,'Data Input'!Z58,'Data Input'!AA58,'Data Input'!AD58,'Data Input'!AZ58))","v":""},{"$f":"IF(J54=\"\",\"\",J54/COUNTIF('Data Input'!$C$8:$AZ$8,$J$2))","v":""},{"$f":"IF(ISBLANK('Data Input'!A58),\"\",SUM('Data Input'!Q58,'Data Input'!AG58))","v":""},{"$f":"IF(L54=\"\",\"\",L54/COUNTIF('Data Input'!$C$8:$AZ$8,$L$2))","v":""},{"$f":"IF(ISBLANK('Data Input'!A58),\"\",SUM('Data Input'!D58,'Data Input'!E58,'Data Input'!F58,'Data Input'!L58,'Data Input'!M58,'Data Input'!AB58,'Data Input'!AC58,'Data Input'!AF58,'Data Input'!AJ58,'Data Input'!AL58,'Data Input'!AN58,'Data Input'!AO58,'Data Input'!AP58,'Data Input'!AQ58,'Data Input'!AR58,'Data Input'!AS58,'Data Input'!AT58,'Data Input'!AU58,'Data Input'!AV58,'Data Input'!AW58,'Data Input'!AX58,'Data Input'!AY58))","v":""},{"$f":"IF(N54=\"\",\"\",N54/COUNTIF('Data Input'!$C$8:$AZ$8,$N$2))","v":""},null,{"$f":"IF(P54=\"\",\"\",P54/COUNTIF('Data Input'!$C$8:$AZ$8,$P$2))","v":""},{"$f":"IF(ISBLANK('Data Input'!A58),\"\",SUM('Data Input'!AH58))","v":""},{"$f":"IF(R54=\"\",\"\",R54/COUNTIF('Data Input'!$C$8:$AZ$8,$R$2))","v":""},{"$f":"IF(ISBLANK('Data Input'!$A58),\"\",SUM('Data Input'!AI58))","v":""},{"$f":"IF(T54=\"\",\"\",T54/COUNTIF('Data Input'!$C$8:$AZ$8,$T$2))","v":""},null,{"$f":"IF(V54=\"\",\"\",V54/COUNTIF('Data Input'!$C$8:$AZ$8,$V$2))","v":""}]
[{"$f":"IF('Data Input'!A59=0,\"\",'Data Input'!A59)","v":""},{"$f":"IF(F55=\"\",\"\",IF(F55>Welcome!$J$20-1,\"Exceeding\",IF(F55>Welcome!$F$20-1,\"Expected\",IF(F55<Welcome!$F$20,\"Below\"))))","v":""},{"$f":"IF(ISBLANK('Data Input'!A59),\"\",COUNTIF('Data Input'!C59:AZ59,\"\"))","v":""},{"$f":"IF(ISBLANK('Data Input'!A59),\"\",COUNTIF('Data Input'!C59:AZ59,\"0\"))","v":""},{"$f":"IF(ISBLANK('Data Input'!A59),\"\",SUM(C55,D55))","v":""},{"$f":"IF(ISBLANK('Data Input'!A59),\"\",SUM('Data Input'!C59:AZ59))","v":""},{"$f":"IF(F55=\"\",\"\",F55/(COUNTA('Data Input'!$C$8:$AZ$8)))","v":""},{"$f":"IF(ISBLANK('Data Input'!A59),\"\",SUM('Data Input'!C59,'Data Input'!H59,'Data Input'!J59,'Data Input'!N59,'Data Input'!R59,'Data Input'!T59,'Data Input'!Y59,'Data Input'!AE59,'Data Input'!AK59,'Data Input'!AM59))","v":""},{"$f":"IF(H55=\"\",\"\",H55/COUNTIF('Data Input'!$C$8:$AZ$8,$H$2))","v":""},{"$f":"IF(ISBLANK('Data Input'!A59),\"\",SUM('Data Input'!G59,'Data Input'!I59,'Data Input'!K59,'Data Input'!O59,'Data Input'!P59,'Data Input'!S59,'Data Input'!U59,'Data Input'!V59,'Data Input'!W59,'Data Input'!X59,'Data Input'!Z59,'Data Input'!AA59,'Data Input'!AD59,'Data Input'!AZ59))","v":""},{"$f":"IF(J55=\"\",\"\",J55/COUNTIF('Data Input'!$C$8:$AZ$8,$J$2))","v":""},{"$f":"IF(ISBLANK('Data Input'!A59),\"\",SUM('Data Input'!Q59,'Data Input'!AG59))","v":""},{"$f":"IF(L55=\"\",\"\",L55/COUNTIF('Data Input'!$C$8:$AZ$8,$L$2))","v":""},{"$f":"IF(ISBLANK('Data Input'!A59),\"\",SUM('Data Input'!D59,'Data Input'!E59,'Data Input'!F59,'Data Input'!L59,'Data Input'!M59,'Data Input'!AB59,'Data Input'!AC59,'Data Input'!AF59,'Data Input'!AJ59,'Data Input'!AL59,'Data Input'!AN59,'Data Input'!AO59,'Data Input'!AP59,'Data Input'!AQ59,'Data Input'!AR59,'Data Input'!AS59,'Data Input'!AT59,'Data Input'!AU59,'Data Input'!AV59,'Data Input'!AW59,'Data Input'!AX59,'Data Input'!AY59))","v":""},{"$f":"IF(N55=\"\",\"\",N55/COUNTIF('Data Input'!$C$8:$AZ$8,$N$2))","v":""},null,{"$f":"IF(P55=\"\",\"\",P55/COUNTIF('Data Input'!$C$8:$AZ$8,$P$2))","v":""},{"$f":"IF(ISBLANK('Data Input'!A59),\"\",SUM('Data Input'!AH59))","v":""},{"$f":"IF(R55=\"\",\"\",R55/COUNTIF('Data Input'!$C$8:$AZ$8,$R$2))","v":""},{"$f":"IF(ISBLANK('Data Input'!$A59),\"\",SUM('Data Input'!AI59))","v":""},{"$f":"IF(T55=\"\",\"\",T55/COUNTIF('Data Input'!$C$8:$AZ$8,$T$2))","v":""},null,{"$f":"IF(V55=\"\",\"\",V55/COUNTIF('Data Input'!$C$8:$AZ$8,$V$2))","v":""}]
[{"$f":"IF('Data Input'!A60=0,\"\",'Data Input'!A60)","v":""},{"$f":"IF(F56=\"\",\"\",IF(F56>Welcome!$J$20-1,\"Exceeding\",IF(F56>Welcome!$F$20-1,\"Expected\",IF(F56<Welcome!$F$20,\"Below\"))))","v":""},{"$f":"IF(ISBLANK('Data Input'!A60),\"\",COUNTIF('Data Input'!C60:AZ60,\"\"))","v":""},{"$f":"IF(ISBLANK('Data Input'!A60),\"\",COUNTIF('Data Input'!C60:AZ60,\"0\"))","v":""},{"$f":"IF(ISBLANK('Data Input'!A60),\"\",SUM(C56,D56))","v":""},{"$f":"IF(ISBLANK('Data Input'!A60),\"\",SUM('Data Input'!C60:AZ60))","v":""},{"$f":"IF(F56=\"\",\"\",F56/(COUNTA('Data Input'!$C$8:$AZ$8)))","v":""},{"$f":"IF(ISBLANK('Data Input'!A60),\"\",SUM('Data Input'!C60,'Data Input'!H60,'Data Input'!J60,'Data Input'!N60,'Data Input'!R60,'Data Input'!T60,'Data Input'!Y60,'Data Input'!AE60,'Data Input'!AK60,'Data Input'!AM60))","v":""},{"$f":"IF(H56=\"\",\"\",H56/COUNTIF('Data Input'!$C$8:$AZ$8,$H$2))","v":""},{"$f":"IF(ISBLANK('Data Input'!A60),\"\",SUM('Data Input'!G60,'Data Input'!I60,'Data Input'!K60,'Data Input'!O60,'Data Input'!P60,'Data Input'!S60,'Data Input'!U60,'Data Input'!V60,'Data Input'!W60,'Data Input'!X60,'Data Input'!Z60,'Data Input'!AA60,'Data Input'!AD60,'Data Input'!AZ60))","v":""},{"$f":"IF(J56=\"\",\"\",J56/COUNTIF('Data Input'!$C$8:$AZ$8,$J$2))","v":""},{"$f":"IF(ISBLANK('Data Input'!A60),\"\",SUM('Data Input'!Q60,'Data Input'!AG60))","v":""},{"$f":"IF(L56=\"\",\"\",L56/COUNTIF('Data Input'!$C$8:$AZ$8,$L$2))","v":""},{"$f":"IF(ISBLANK('Data Input'!A60),\"\",SUM('Data Input'!D60,'Data Input'!E60,'Data Input'!F60,'Data Input'!L60,'Data Input'!M60,'Data Input'!AB60,'Data Input'!AC60,'Data Input'!AF60,'Data Input'!AJ60,'Data Input'!AL60,'Data Input'!AN60,'Data Input'!AO60,'Data Input'!AP60,'Data Input'!AQ60,'Data Input'!AR60,'Data Input'!AS60,'Data Input'!AT60,'Data Input'!AU60,'Data Input'!AV60,'Data Input'!AW60,'Data Input'!AX60,'Data Input'!AY60))","v":""},{"$f":"IF(N56=\"\",\"\",N56/COUNTIF('Data Input'!$C$8:$AZ$8,$N$2))","v":""},null,{"$f":"IF(P56=\"\",\"\",P56/COUNTIF('Data Input'!$C$8:$AZ$8,$P$2))","v":""},{"$f":"IF(ISBLANK('Data Input'!A60),\"\",SUM('Data Input'!AH60))","v":""},{"$f":"IF(R56=\"\",\"\",R56/COUNTIF('Data Input'!$C$8:$AZ$8,$R$2))","v":""},{"$f":"IF(ISBLANK('Data Input'!$A60),\"\",SUM('Data Input'!AI60))","v":""},{"$f":"IF(T56=\"\",\"\",T56/COUNTIF('Data Input'!$C$8:$AZ$8,$T$2))","v":""},null,{"$f":"IF(V56=\"\",\"\",V56/COUNTIF('Data Input'!$C$8:$AZ$8,$V$2))","v":""}]
[{"$f":"IF('Data Input'!A61=0,\"\",'Data Input'!A61)","v":""},{"$f":"IF(F57=\"\",\"\",IF(F57>Welcome!$J$20-1,\"Exceeding\",IF(F57>Welcome!$F$20-1,\"Expected\",IF(F57<Welcome!$F$20,\"Below\"))))","v":""},{"$f":"IF(ISBLANK('Data Input'!A61),\"\",COUNTIF('Data Input'!C61:AZ61,\"\"))","v":""},{"$f":"IF(ISBLANK('Data Input'!A61),\"\",COUNTIF('Data Input'!C61:AZ61,\"0\"))","v":""},{"$f":"IF(ISBLANK('Data Input'!A61),\"\",SUM(C57,D57))","v":""},{"$f":"IF(ISBLANK('Data Input'!A61),\"\",SUM('Data Input'!C61:AZ61))","v":""},{"$f":"IF(F57=\"\",\"\",F57/(COUNTA('Data Input'!$C$8:$AZ$8)))","v":""},{"$f":"IF(ISBLANK('Data Input'!A61),\"\",SUM('Data Input'!C61,'Data Input'!H61,'Data Input'!J61,'Data Input'!N61,'Data Input'!R61,'Data Input'!T61,'Data Input'!Y61,'Data Input'!AE61,'Data Input'!AK61,'Data Input'!AM61))","v":""},{"$f":"IF(H57=\"\",\"\",H57/COUNTIF('Data Input'!$C$8:$AZ$8,$H$2))","v":""},{"$f":"IF(ISBLANK('Data Input'!A61),\"\",SUM('Data Input'!G61,'Data Input'!I61,'Data Input'!K61,'Data Input'!O61,'Data Input'!P61,'Data Input'!S61,'Data Input'!U61,'Data Input'!V61,'Data Input'!W61,'Data Input'!X61,'Data Input'!Z61,'Data Input'!AA61,'Data Input'!AD61,'Data Input'!AZ61))","v":""},{"$f":"IF(J57=\"\",\"\",J57/COUNTIF('Data Input'!$C$8:$AZ$8,$J$2))","v":""},{"$f":"IF(ISBLANK('Data Input'!A61),\"\",SUM('Data Input'!Q61,'Data Input'!AG61))","v":""},{"$f":"IF(L57=\"\",\"\",L57/COUNTIF('Data Input'!$C$8:$AZ$8,$L$2))","v":""},{"$f":"IF(ISBLANK('Data Input'!A61),\"\",SUM('Data Input'!D61,'Data Input'!E61,'Data Input'!F61,'Data Input'!L61,'Data Input'!M61,'Data Input'!AB61,'Data Input'!AC61,'Data Input'!AF61,'Data Input'!AJ61,'Data Input'!AL61,'Data Input'!AN61,'Data Input'!AO61,'Data Input'!AP61,'Data Input'!AQ61,'Data Input'!AR61,'Data Input'!AS61,'Data Input'!AT61,'Data Input'!AU61,'Data Input'!AV61,'Data Input'!AW61,'Data Input'!AX61,'Data Input'!AY61))","v":""},{"$f":"IF(N57=\"\",\"\",N57/COUNTIF('Data Input'!$C$8:$AZ$8,$N$2))","v":""},null,{"$f":"IF(P57=\"\",\"\",P57/COUNTIF('Data Input'!$C$8:$AZ$8,$P$2))","v":""},{"$f":"IF(ISBLANK('Data Input'!A61),\"\",SUM('Data Input'!AH61))","v":""},{"$f":"IF(R57=\"\",\"\",R57/COUNTIF('Data Input'!$C$8:$AZ$8,$R$2))","v":""},{"$f":"IF(ISBLANK('Data Input'!$A61),\"\",SUM('Data Input'!AI61))","v":""},{"$f":"IF(T57=\"\",\"\",T57/COUNTIF('Data Input'!$C$8:$AZ$8,$T$2))","v":""},null,{"$f":"IF(V57=\"\",\"\",V57/COUNTIF('Data Input'!$C$8:$AZ$8,$V$2))","v":""}]
[{"$f":"IF('Data Input'!A62=0,\"\",'Data Input'!A62)","v":""},{"$f":"IF(F58=\"\",\"\",IF(F58>Welcome!$J$20-1,\"Exceeding\",IF(F58>Welcome!$F$20-1,\"Expected\",IF(F58<Welcome!$F$20,\"Below\"))))","v":""},{"$f":"IF(ISBLANK('Data Input'!A62),\"\",COUNTIF('Data Input'!C62:AZ62,\"\"))","v":""},{"$f":"IF(ISBLANK('Data Input'!A62),\"\",COUNTIF('Data Input'!C62:AZ62,\"0\"))","v":""},{"$f":"IF(ISBLANK('Data Input'!A62),\"\",SUM(C58,D58))","v":""},{"$f":"IF(ISBLANK('Data Input'!A62),\"\",SUM('Data Input'!C62:AZ62))","v":""},{"$f":"IF(F58=\"\",\"\",F58/(COUNTA('Data Input'!$C$8:$AZ$8)))","v":""},{"$f":"IF(ISBLANK('Data Input'!A62),\"\",SUM('Data Input'!C62,'Data Input'!H62,'Data Input'!J62,'Data Input'!N62,'Data Input'!R62,'Data Input'!T62,'Data Input'!Y62,'Data Input'!AE62,'Data Input'!AK62,'Data Input'!AM62))","v":""},{"$f":"IF(H58=\"\",\"\",H58/COUNTIF('Data Input'!$C$8:$AZ$8,$H$2))","v":""},{"$f":"IF(ISBLANK('Data Input'!A62),\"\",SUM('Data Input'!G62,'Data Input'!I62,'Data Input'!K62,'Data Input'!O62,'Data Input'!P62,'Data Input'!S62,'Data Input'!U62,'Data Input'!V62,'Data Input'!W62,'Data Input'!X62,'Data Input'!Z62,'Data Input'!AA62,'Data Input'!AD62,'Data Input'!AZ62))","v":""},{"$f":"IF(J58=\"\",\"\",J58/COUNTIF('Data Input'!$C$8:$AZ$8,$J$2))","v":""},{"$f":"IF(ISBLANK('Data Input'!A62),\"\",SUM('Data Input'!Q62,'Data Input'!AG62))","v":""},{"$f":"IF(L58=\"\",\"\",L58/COUNTIF('Data Input'!$C$8:$AZ$8,$L$2))","v":""},{"$f":"IF(ISBLANK('Data Input'!A62),\"\",SUM('Data Input'!D62,'Data Input'!E62,'Data Input'!F62,'Data Input'!L62,'Data Input'!M62,'Data Input'!AB62,'Data Input'!AC62,'Data Input'!AF62,'Data Input'!AJ62,'Data Input'!AL62,'Data Input'!AN62,'Data Input'!AO62,'Data Input'!AP62,'Data Input'!AQ62,'Data Input'!AR62,'Data Input'!AS62,'Data Input'!AT62,'Data Input'!AU62,'Data Input'!AV62,'Data Input'!AW62,'Data Input'!AX62,'Data Input'!AY62))","v":""},{"$f":"IF(N58=\"\",\"\",N58/COUNTIF('Data Input'!$C$8:$AZ$8,$N$2))","v":""},null,{"$f":"IF(P58=\"\",\"\",P58/COUNTIF('Data Input'!$C$8:$AZ$8,$P$2))","v":""},{"$f":"IF(ISBLANK('Data Input'!A62),\"\",SUM('Data Input'!AH62))","v":""},{"$f":"IF(R58=\"\",\"\",R58/COUNTIF('Data Input'!$C$8:$AZ$8,$R$2))","v":""},{"$f":"IF(ISBLANK('Data Input'!$A62),\"\",SUM('Data Input'!AI62))","v":""},{"$f":"IF(T58=\"\",\"\",T58/COUNTIF('Data Input'!$C$8:$AZ$8,$T$2))","v":""},null,{"$f":"IF(V58=\"\",\"\",V58/COUNTIF('Data Input'!$C$8:$AZ$8,$V$2))","v":""}]
[{"$f":"IF('Data Input'!A63=0,\"\",'Data Input'!A63)","v":""},{"$f":"IF(F59=\"\",\"\",IF(F59>Welcome!$J$20-1,\"Exceeding\",IF(F59>Welcome!$F$20-1,\"Expected\",IF(F59<Welcome!$F$20,\"Below\"))))","v":""},{"$f":"IF(ISBLANK('Data Input'!A63),\"\",COUNTIF('Data Input'!C63:AZ63,\"\"))","v":""},{"$f":"IF(ISBLANK('Data Input'!A63),\"\",COUNTIF('Data Input'!C63:AZ63,\"0\"))","v":""},{"$f":"IF(ISBLANK('Data Input'!A63),\"\",SUM(C59,D59))","v":""},{"$f":"IF(ISBLANK('Data Input'!A63),\"\",SUM('Data Input'!C63:AZ63))","v":""},{"$f":"IF(F59=\"\",\"\",F59/(COUNTA('Data Input'!$C$8:$AZ$8)))","v":""},{"$f":"IF(ISBLANK('Data Input'!A63),\"\",SUM('Data Input'!C63,'Data Input'!H63,'Data Input'!J63,'Data Input'!N63,'Data Input'!R63,'Data Input'!T63,'Data Input'!Y63,'Data Input'!AE63,'Data Input'!AK63,'Data Input'!AM63))","v":""},{"$f":"IF(H59=\"\",\"\",H59/COUNTIF('Data Input'!$C$8:$AZ$8,$H$2))","v":""},{"$f":"IF(ISBLANK('Data Input'!A63),\"\",SUM('Data Input'!G63,'Data Input'!I63,'Data Input'!K63,'Data Input'!O63,'Data Input'!P63,'Data Input'!S63,'Data Input'!U63,'Data Input'!V63,'Data Input'!W63,'Data Input'!X63,'Data Input'!Z63,'Data Input'!AA63,'Data Input'!AD63,'Data Input'!AZ63))","v":""},{"$f":"IF(J59=\"\",\"\",J59/COUNTIF('Data Input'!$C$8:$AZ$8,$J$2))","v":""},{"$f":"IF(ISBLANK('Data Input'!A63),\"\",SUM('Data Input'!Q63,'Data Input'!AG63))","v":""},{"$f":"IF(L59=\"\",\"\",L59/COUNTIF('Data Input'!$C$8:$AZ$8,$L$2))","v":""},{"$f":"IF(ISBLANK('Data Input'!A63),\"\",SUM('Data Input'!D63,'Data Input'!E63,'Data Input'!F63,'Data Input'!L63,'Data Input'!M63,'Data Input'!AB63,'Data Input'!AC63,'Data Input'!AF63,'Data Input'!AJ63,'Data Input'!AL63,'Data Input'!AN63,'Data Input'!AO63,'Data Input'!AP63,'Data Input'!AQ63,'Data Input'!AR63,'Data Input'!AS63,'Data Input'!AT63,'Data Input'!AU63,'Data Input'!AV63,'Data Input'!AW63,'Data Input'!AX63,'Data Input'!AY63))","v":""},{"$f":"IF(N59=\"\",\"\",N59/COUNTIF('Data Input'!$C$8:$AZ$8,$N$2))","v":""},null,{"$f":"IF(P59=\"\",\"\",P59/COUNTIF('Data Input'!$C$8:$AZ$8,$P$2))","v":""},{"$f":"IF(ISBLANK('Data Input'!A63),\"\",SUM('Data Input'!AH63))","v":""},{"$f":"IF(R59=\"\",\"\",R59/COUNTIF('Data Input'!$C$8:$AZ$8,$R$2))","v":""},{"$f":"IF(ISBLANK('Data Input'!$A63),\"\",SUM('Data Input'!AI63))","v":""},{"$f":"IF(T59=\"\",\"\",T59/COUNTIF('Data Input'!$C$8:$AZ$8,$T$2))","v":""},null,{"$f":"IF(V59=\"\",\"\",V59/COUNTIF('Data Input'!$C$8:$AZ$8,$V$2))","v":""}]
[{"$f":"IF('Data Input'!A64=0,\"\",'Data Input'!A64)","v":""},{"$f":"IF(F60=\"\",\"\",IF(F60>Welcome!$J$20-1,\"Exceeding\",IF(F60>Welcome!$F$20-1,\"Expected\",IF(F60<Welcome!$F$20,\"Below\"))))","v":""},{"$f":"IF(ISBLANK('Data Input'!A64),\"\",COUNTIF('Data Input'!C64:AZ64,\"\"))","v":""},{"$f":"IF(ISBLANK('Data Input'!A64),\"\",COUNTIF('Data Input'!C64:AZ64,\"0\"))","v":""},{"$f":"IF(ISBLANK('Data Input'!A64),\"\",SUM(C60,D60))","v":""},{"$f":"IF(ISBLANK('Data Input'!A64),\"\",SUM('Data Input'!C64:AZ64))","v":""},{"$f":"IF(F60=\"\",\"\",F60/(COUNTA('Data Input'!$C$8:$AZ$8)))","v":""},{"$f":"IF(ISBLANK('Data Input'!A64),\"\",SUM('Data Input'!C64,'Data Input'!H64,'Data Input'!J64,'Data Input'!N64,'Data Input'!R64,'Data Input'!T64,'Data Input'!Y64,'Data Input'!AE64,'Data Input'!AK64,'Data Input'!AM64))","v":""},{"$f":"IF(H60=\"\",\"\",H60/COUNTIF('Data Input'!$C$8:$AZ$8,$H$2))","v":""},{"$f":"IF(ISBLANK('Data Input'!A64),\"\",SUM('Data Input'!G64,'Data Input'!I64,'Data Input'!K64,'Data Input'!O64,'Data Input'!P64,'Data Input'!S64,'Data Input'!U64,'Data Input'!V64,'Data Input'!W64,'Data Input'!X64,'Data Input'!Z64,'Data Input'!AA64,'Data Input'!AD64,'Data Input'!AZ64))","v":""},{"$f":"IF(J60=\"\",\"\",J60/COUNTIF('Data Input'!$C$8:$AZ$8,$J$2))","v":""},{"$f":"IF(ISBLANK('Data Input'!A64),\"\",SUM('Data Input'!Q64,'Data Input'!AG64))","v":""},{"$f":"IF(L60=\"\",\"\",L60/COUNTIF('Data Input'!$C$8:$AZ$8,$L$2))","v":""},{"$f":"IF(ISBLANK('Data Input'!A64),\"\",SUM('Data Input'!D64,'Data Input'!E64,'Data Input'!F64,'Data Input'!L64,'Data Input'!M64,'Data Input'!AB64,'Data Input'!AC64,'Data Input'!AF64,'Data Input'!AJ64,'Data Input'!AL64,'Data Input'!AN64,'Data Input'!AO64,'Data Input'!AP64,'Data Input'!AQ64,'Data Input'!AR64,'Data Input'!AS64,'Data Input'!AT64,'Data Input'!AU64,'Data Input'!AV64,'Data Input'!AW64,'Data Input'!AX64,'Data Input'!AY64))","v":""},{"$f":"IF(N60=\"\",\"\",N60/COUNTIF('Data Input'!$C$8:$AZ$8,$N$2))","v":""},null,{"$f":"IF(P60=\"\",\"\",P60/COUNTIF('Data Input'!$C$8:$AZ$8,$P$2))","v":""},{"$f":"IF(ISBLANK('Data Input'!A64),\"\",SUM('Data Input'!AH64))","v":""},{"$f":"IF(R60=\"\",\"\",R60/COUNTIF('Data Input'!$C$8:$AZ$8,$R$2))","v":""},{"$f":"IF(ISBLANK('Data Input'!$A64),\"\",SUM('Data Input'!AI64))","v":""},{"$f":"IF(T60=\"\",\"\",T60/COUNTIF('Data Input'!$C$8:$AZ$8,$T$2))","v":""},null,{"$f":"IF(V60=\"\",\"\",V60/COUNTIF('Data Input'!$C$8:$AZ$8,$V$2))","v":""}]
[{"$f":"IF('Data Input'!A65=0,\"\",'Data Input'!A65)","v":""},{"$f":"IF(F61=\"\",\"\",IF(F61>Welcome!$J$20-1,\"Exceeding\",IF(F61>Welcome!$F$20-1,\"Expected\",IF(F61<Welcome!$F$20,\"Below\"))))","v":""},{"$f":"IF(ISBLANK('Data Input'!A65),\"\",COUNTIF('Data Input'!C65:AZ65,\"\"))","v":""},{"$f":"IF(ISBLANK('Data Input'!A65),\"\",COUNTIF('Data Input'!C65:AZ65,\"0\"))","v":""},{"$f":"IF(ISBLANK('Data Input'!A65),\"\",SUM(C61,D61))","v":""},{"$f":"IF(ISBLANK('Data Input'!A65),\"\",SUM('Data Input'!C65:AZ65))","v":""},{"$f":"IF(F61=\"\",\"\",F61/(COUNTA('Data Input'!$C$8:$AZ$8)))","v":""},{"$f":"IF(ISBLANK('Data Input'!A65),\"\",SUM('Data Input'!C65,'Data Input'!H65,'Data Input'!J65,'Data Input'!N65,'Data Input'!R65,'Data Input'!T65,'Data Input'!Y65,'Data Input'!AE65,'Data Input'!AK65,'Data Input'!AM65))","v":""},{"$f":"IF(H61=\"\",\"\",H61/COUNTIF('Data Input'!$C$8:$AZ$8,$H$2))","v":""},{"$f":"IF(ISBLANK('Data Input'!A65),\"\",SUM('Data Input'!G65,'Data Input'!I65,'Data Input'!K65,'Data Input'!O65,'Data Input'!P65,'Data Input'!S65,'Data Input'!U65,'Data Input'!V65,'Data Input'!W65,'Data Input'!X65,'Data Input'!Z65,'Data Input'!AA65,'Data Input'!AD65,'Data Input'!AZ65))","v":""},{"$f":"IF(J61=\"\",\"\",J61/COUNTIF('Data Input'!$C$8:$AZ$8,$J$2))","v":""},{"$f":"IF(ISBLANK('Data Input'!A65),\"\",SUM('Data Input'!Q65,'Data Input'!AG65))","v":""},{"$f":"IF(L61=\"\",\"\",L61/COUNTIF('Data Input'!$C$8:$AZ$8,$L$2))","v":""},{"$f":"IF(ISBLANK('Data Input'!A65),\"\",SUM('Data Input'!D65,'Data Input'!E65,'Data Input'!F65,'Data Input'!L65,'Data Input'!M65,'Data Input'!AB65,'Data Input'!AC65,'Data Input'!AF65,'Data Input'!AJ65,'Data Input'!AL65,'Data Input'!AN65,'Data Input'!AO65,'Data Input'!AP65,'Data Input'!AQ65,'Data Input'!AR65,'Data Input'!AS65,'Data Input'!AT65,'Data Input'!AU65,'Data Input'!AV65,'Data Input'!AW65,'Data Input'!AX65,'Data Input'!AY65))","v":""},{"$f":"IF(N61=\"\",\"\",N61/COUNTIF('Data Input'!$C$8:$AZ$8,$N$2))","v":""},null,{"$f":"IF(P61=\"\",\"\",P61/COUNTIF('Data Input'!$C$8:$AZ$8,$P$2))","v":""},{"$f":"IF(ISBLANK('Data Input'!A65),\"\",SUM('Data Input'!AH65))","v":""},{"$f":"IF(R61=\"\",\"\",R61/COUNTIF('Data Input'!$C$8:$AZ$8,$R$2))","v":""},{"$f":"IF(ISBLANK('Data Input'!$A65),\"\",SUM('Data Input'!AI65))","v":""},{"$f":"IF(T61=\"\",\"\",T61/COUNTIF('Data Input'!$C$8:$AZ$8,$T$2))","v":""},null,{"$f":"IF(V61=\"\",\"\",V61/COUNTIF('Data Input'!$C$8:$AZ$8,$V$2))","v":""}]
[{"$f":"IF('Data Input'!A66=0,\"\",'Data Input'!A66)","v":""},{"$f":"IF(F62=\"\",\"\",IF(F62>Welcome!$J$20-1,\"Exceeding\",IF(F62>Welcome!$F$20-1,\"Expected\",IF(F62<Welcome!$F$20,\"Below\"))))","v":""},{"$f":"IF(ISBLANK('Data Input'!A66),\"\",COUNTIF('Data Input'!C66:AZ66,\"\"))","v":""},{"$f":"IF(ISBLANK('Data Input'!A66),\"\",COUNTIF('Data Input'!C66:AZ66,\"0\"))","v":""},{"$f":"IF(ISBLANK('Data Input'!A66),\"\",SUM(C62,D62))","v":""},{"$f":"IF(ISBLANK('Data Input'!A66),\"\",SUM('Data Input'!C66:AZ66))","v":""},{"$f":"IF(F62=\"\",\"\",F62/(COUNTA('Data Input'!$C$8:$AZ$8)))","v":""},{"$f":"IF(ISBLANK('Data Input'!A66),\"\",SUM('Data Input'!C66,'Data Input'!H66,'Data Input'!J66,'Data Input'!N66,'Data Input'!R66,'Data Input'!T66,'Data Input'!Y66,'Data Input'!AE66,'Data Input'!AK66,'Data Input'!AM66))","v":""},{"$f":"IF(H62=\"\",\"\",H62/COUNTIF('Data Input'!$C$8:$AZ$8,$H$2))","v":""},{"$f":"IF(ISBLANK('Data Input'!A66),\"\",SUM('Data Input'!G66,'Data Input'!I66,'Data Input'!K66,'Data Input'!O66,'Data Input'!P66,'Data Input'!S66,'Data Input'!U66,'Data Input'!V66,'Data Input'!W66,'Data Input'!X66,'Data Input'!Z66,'Data Input'!AA66,'Data Input'!AD66,'Data Input'!AZ66))","v":""},{"$f":"IF(J62=\"\",\"\",J62/COUNTIF('Data Input'!$C$8:$AZ$8,$J$2))","v":""},{"$f":"IF(ISBLANK('Data Input'!A66),\"\",SUM('Data Input'!Q66,'Data Input'!AG66))","v":""},{"$f":"IF(L62=\"\",\"\",L62/COUNTIF('Data Input'!$C$8:$AZ$8,$L$2))","v":""},{"$f":"IF(ISBLANK('Data Input'!A66),\"\",SUM('Data Input'!D66,'Data Input'!E66,'Data Input'!F66,'Data Input'!L66,'Data Input'!M66,'Data Input'!AB66,'Data Input'!AC66,'Data Input'!AF66,'Data Input'!AJ66,'Data Input'!AL66,'Data Input'!AN66,'Data Input'!AO66,'Data Input'!AP66,'Data Input'!AQ66,'Data Input'!AR66,'Data Input'!AS66,'Data Input'!AT66,'Data Input'!AU66,'Data Input'!AV66,'Data Input'!AW66,'Data Input'!AX66,'Data Input'!AY66))","v":""},{"$f":"IF(N62=\"\",\"\",N62/COUNTIF('Data Input'!$C$8:$AZ$8,$N$2))","v":""},null,{"$f":"IF(P62=\"\",\"\",P62/COUNTIF('Data Input'!$C$8:$AZ$8,$P$2))","v":""},{"$f":"IF(ISBLANK('Data Input'!A66),\"\",SUM('Data Input'!AH66))","v":""},{"$f":"IF(R62=\"\",\"\",R62/COUNTIF('Data Input'!$C$8:$AZ$8,$R$2))","v":""},{"$f":"IF(ISBLANK('Data Input'!$A66),\"\",SUM('Data Input'!AI66))","v":""},{"$f":"IF(T62=\"\",\"\",T62/COUNTIF('Data Input'!$C$8:$AZ$8,$T$2))","v":""},null,{"$f":"IF(V62=\"\",\"\",V62/COUNTIF('Data Input'!$C$8:$AZ$8,$V$2))","v":""}]
[{"$f":"IF('Data Input'!A67=0,\"\",'Data Input'!A67)","v":""},{"$f":"IF(F63=\"\",\"\",IF(F63>Welcome!$J$20-1,\"Exceeding\",IF(F63>Welcome!$F$20-1,\"Expected\",IF(F63<Welcome!$F$20,\"Below\"))))","v":""},{"$f":"IF(ISBLANK('Data Input'!A67),\"\",COUNTIF('Data Input'!C67:AZ67,\"\"))","v":""},{"$f":"IF(ISBLANK('Data Input'!A67),\"\",COUNTIF('Data Input'!C67:AZ67,\"0\"))","v":""},{"$f":"IF(ISBLANK('Data Input'!A67),\"\",SUM(C63,D63))","v":""},{"$f":"IF(ISBLANK('Data Input'!A67),\"\",SUM('Data Input'!C67:AZ67))","v":""},{"$f":"IF(F63=\"\",\"\",F63/(COUNTA('Data Input'!$C$8:$AZ$8)))","v":""},{"$f":"IF(ISBLANK('Data Input'!A67),\"\",SUM('Data Input'!C67,'Data Input'!H67,'Data Input'!J67,'Data Input'!N67,'Data Input'!R67,'Data Input'!T67,'Data Input'!Y67,'Data Input'!AE67,'Data Input'!AK67,'Data Input'!AM67))","v":""},{"$f":"IF(H63=\"\",\"\",H63/COUNTIF('Data Input'!$C$8:$AZ$8,$H$2))","v":""},{"$f":"IF(ISBLANK('Data Input'!A67),\"\",SUM('Data Input'!G67,'Data Input'!I67,'Data Input'!K67,'Data Input'!O67,'Data Input'!P67,'Data Input'!S67,'Data Input'!U67,'Data Input'!V67,'Data Input'!W67,'Data Input'!X67,'Data Input'!Z67,'Data Input'!AA67,'Data Input'!AD67,'Data Input'!AZ67))","v":""},{"$f":"IF(J63=\"\",\"\",J63/COUNTIF('Data Input'!$C$8:$AZ$8,$J$2))","v":""},{"$f":"IF(ISBLANK('Data Input'!A67),\"\",SUM('Data Input'!Q67,'Data Input'!AG67))","v":""},{"$f":"IF(L63=\"\",\"\",L63/COUNTIF('Data Input'!$C$8:$AZ$8,$L$2))","v":""},{"$f":"IF(ISBLANK('Data Input'!A67),\"\",SUM('Data Input'!D67,'Data Input'!E67,'Data Input'!F67,'Data Input'!L67,'Data Input'!M67,'Data Input'!AB67,'Data Input'!AC67,'Data Input'!AF67,'Data Input'!AJ67,'Data Input'!AL67,'Data Input'!AN67,'Data Input'!AO67,'Data Input'!AP67,'Data Input'!AQ67,'Data Input'!AR67,'Data Input'!AS67,'Data Input'!AT67,'Data Input'!AU67,'Data Input'!AV67,'Data Input'!AW67,'Data Input'!AX67,'Data Input'!AY67))","v":""},{"$f":"IF(N63=\"\",\"\",N63/COUNTIF('Data Input'!$C$8:$AZ$8,$N$2))","v":""},null,{"$f":"IF(P63=\"\",\"\",P63/COUNTIF('Data Input'!$C$8:$AZ$8,$P$2))","v":""},{"$f":"IF(ISBLANK('Data Input'!A67),\"\",SUM('Data Input'!AH67))","v":""},{"$f":"IF(R63=\"\",\"\",R63/COUNTIF('Data Input'!$C$8:$AZ$8,$R$2))","v":""},{"$f":"IF(ISBLANK('Data Input'!$A67),\"\",SUM('Data Input'!AI67))","v":""},{"$f":"IF(T63=\"\",\"\",T63/COUNTIF('Data Input'!$C$8:$AZ$8,$T$2))","v":""},null,{"$f":"IF(V63=\"\",\"\",V63/COUNTIF('Data Input'!$C$8:$AZ$8,$V$2))","v":""}]
[{"$f":"IF('Data Input'!A68=0,\"\",'Data Input'!A68)","v":""},{"$f":"IF(F64=\"\",\"\",IF(F64>Welcome!$J$20-1,\"Exceeding\",IF(F64>Welcome!$F$20-1,\"Expected\",IF(F64<Welcome!$F$20,\"Below\"))))","v":""},{"$f":"IF(ISBLANK('Data Input'!A68),\"\",COUNTIF('Data Input'!C68:AZ68,\"\"))","v":""},{"$f":"IF(ISBLANK('Data Input'!A68),\"\",COUNTIF('Data Input'!C68:AZ68,\"0\"))","v":""},{"$f":"IF(ISBLANK('Data Input'!A68),\"\",SUM(C64,D64))","v":""},{"$f":"IF(ISBLANK('Data Input'!A68),\"\",SUM('Data Input'!C68:AZ68))","v":""},{"$f":"IF(F64=\"\",\"\",F64/(COUNTA('Data Input'!$C$8:$AZ$8)))","v":""},{"$f":"IF(ISBLANK('Data Input'!A68),\"\",SUM('Data Input'!C68,'Data Input'!H68,'Data Input'!J68,'Data Input'!N68,'Data Input'!R68,'Data Input'!T68,'Data Input'!Y68,'Data Input'!AE68,'Data Input'!AK68,'Data Input'!AM68))","v":""},{"$f":"IF(H64=\"\",\"\",H64/COUNTIF('Data Input'!$C$8:$AZ$8,$H$2))","v":""},{"$f":"IF(ISBLANK('Data Input'!A68),\"\",SUM('Data Input'!G68,'Data Input'!I68,'Data Input'!K68,'Data Input'!O68,'Data Input'!P68,'Data Input'!S68,'Data Input'!U68,'Data Input'!V68,'Data Input'!W68,'Data Input'!X68,'Data Input'!Z68,'Data Input'!AA68,'Data Input'!AD68,'Data Input'!AZ68))","v":""},{"$f":"IF(J64=\"\",\"\",J64/COUNTIF('Data Input'!$C$8:$AZ$8,$J$2))","v":""},{"$f":"IF(ISBLANK('Data Input'!A68),\"\",SUM('Data Input'!Q68,'Data Input'!AG68))","v":""},{"$f":"IF(L64=\"\",\"\",L64/COUNTIF('Data Input'!$C$8:$AZ$8,$L$2))","v":""},{"$f":"IF(ISBLANK('Data Input'!A68),\"\",SUM('Data Input'!D68,'Data Input'!E68,'Data Input'!F68,'Data Input'!L68,'Data Input'!M68,'Data Input'!AB68,'Data Input'!AC68,'Data Input'!AF68,'Data Input'!AJ68,'Data Input'!AL68,'Data Input'!AN68,'Data Input'!AO68,'Data Input'!AP68,'Data Input'!AQ68,'Data Input'!AR68,'Data Input'!AS68,'Data Input'!AT68,'Data Input'!AU68,'Data Input'!AV68,'Data Input'!AW68,'Data Input'!AX68,'Data Input'!AY68))","v":""},{"$f":"IF(N64=\"\",\"\",N64/COUNTIF('Data Input'!$C$8:$AZ$8,$N$2))","v":""},null,{"$f":"IF(P64=\"\",\"\",P64/COUNTIF('Data Input'!$C$8:$AZ$8,$P$2))","v":""},{"$f":"IF(ISBLANK('Data Input'!A68),\"\",SUM('Data Input'!AH68))","v":""},{"$f":"IF(R64=\"\",\"\",R64/COUNTIF('Data Input'!$C$8:$AZ$8,$R$2))","v":""},{"$f":"IF(ISBLANK('Data Input'!$A68),\"\",SUM('Data Input'!AI68))","v":""},{"$f":"IF(T64=\"\",\"\",T64/COUNTIF('Data Input'!$C$8:$AZ$8,$T$2))","v":""},null,{"$f":"IF(V64=\"\",\"\",V64/COUNTIF('Data Input'!$C$8:$AZ$8,$V$2))","v":""}]
[{"$f":"IF('Data Input'!A69=0,\"\",'Data Input'!A69)","v":""},{"$f":"IF(F65=\"\",\"\",IF(F65>Welcome!$J$20-1,\"Exceeding\",IF(F65>Welcome!$F$20-1,\"Expected\",IF(F65<Welcome!$F$20,\"Below\"))))","v":""},{"$f":"IF(ISBLANK('Data Input'!A69),\"\",COUNTIF('Data Input'!C69:AZ69,\"\"))","v":""},{"$f":"IF(ISBLANK('Data Input'!A69),\"\",COUNTIF('Data Input'!C69:AZ69,\"0\"))","v":""},{"$f":"IF(ISBLANK('Data Input'!A69),\"\",SUM(C65,D65))","v":""},{"$f":"IF(ISBLANK('Data Input'!A69),\"\",SUM('Data Input'!C69:AZ69))","v":""},{"$f":"IF(F65=\"\",\"\",F65/(COUNTA('Data Input'!$C$8:$AZ$8)))","v":""},{"$f":"IF(ISBLANK('Data Input'!A69),\"\",SUM('Data Input'!C69,'Data Input'!H69,'Data Input'!J69,'Data Input'!N69,'Data Input'!R69,'Data Input'!T69,'Data Input'!Y69,'Data Input'!AE69,'Data Input'!AK69,'Data Input'!AM69))","v":""},{"$f":"IF(H65=\"\",\"\",H65/COUNTIF('Data Input'!$C$8:$AZ$8,$H$2))","v":""},{"$f":"IF(ISBLANK('Data Input'!A69),\"\",SUM('Data Input'!G69,'Data Input'!I69,'Data Input'!K69,'Data Input'!O69,'Data Input'!P69,'Data Input'!S69,'Data Input'!U69,'Data Input'!V69,'Data Input'!W69,'Data Input'!X69,'Data Input'!Z69,'Data Input'!AA69,'Data Input'!AD69,'Data Input'!AZ69))","v":""},{"$f":"IF(J65=\"\",\"\",J65/COUNTIF('Data Input'!$C$8:$AZ$8,$J$2))","v":""},{"$f":"IF(ISBLANK('Data Input'!A69),\"\",SUM('Data Input'!Q69,'Data Input'!AG69))","v":""},{"$f":"IF(L65=\"\",\"\",L65/COUNTIF('Data Input'!$C$8:$AZ$8,$L$2))","v":""},{"$f":"IF(ISBLANK('Data Input'!A69),\"\",SUM('Data Input'!D69,'Data Input'!E69,'Data Input'!F69,'Data Input'!L69,'Data Input'!M69,'Data Input'!AB69,'Data Input'!AC69,'Data Input'!AF69,'Data Input'!AJ69,'Data Input'!AL69,'Data Input'!AN69,'Data Input'!AO69,'Data Input'!AP69,'Data Input'!AQ69,'Data Input'!AR69,'Data Input'!AS69,'Data Input'!AT69,'Data Input'!AU69,'Data Input'!AV69,'Data Input'!AW69,'Data Input'!AX69,'Data Input'!AY69))","v":""},{"$f":"IF(N65=\"\",\"\",N65/COUNTIF('Data Input'!$C$8:$AZ$8,$N$2))","v":""},null,{"$f":"IF(P65=\"\",\"\",P65/COUNTIF('Data Input'!$C$8:$AZ$8,$P$2))","v":""},{"$f":"IF(ISBLANK('Data Input'!A69),\"\",SUM('Data Input'!AH69))","v":""},{"$f":"IF(R65=\"\",\"\",R65/COUNTIF('Data Input'!$C$8:$AZ$8,$R$2))","v":""},{"$f":"IF(ISBLANK('Data Input'!$A69),\"\",SUM('Data Input'!AI69))","v":""},{"$f":"IF(T65=\"\",\"\",T65/COUNTIF('Data Input'!$C$8:$AZ$8,$T$2))","v":""},null,{"$f":"IF(V65=\"\",\"\",V65/COUNTIF('Data Input'!$C$8:$AZ$8,$V$2))","v":""}]
[{"$f":"IF('Data Input'!A70=0,\"\",'Data Input'!A70)","v":""},{"$f":"IF(F66=\"\",\"\",IF(F66>Welcome!$J$20-1,\"Exceeding\",IF(F66>Welcome!$F$20-1,\"Expected\",IF(F66<Welcome!$F$20,\"Below\"))))","v":""},{"$f":"IF(ISBLANK('Data Input'!A70),\"\",COUNTIF('Data Input'!C70:AZ70,\"\"))","v":""},{"$f":"IF(ISBLANK('Data Input'!A70),\"\",COUNTIF('Data Input'!C70:AZ70,\"0\"))","v":""},{"$f":"IF(ISBLANK('Data Input'!A70),\"\",SUM(C66,D66))","v":""},{"$f":"IF(ISBLANK('Data Input'!A70),\"\",SUM('Data Input'!C70:AZ70))","v":""},{"$f":"IF(F66=\"\",\"\",F66/(COUNTA('Data Input'!$C$8:$AZ$8)))","v":""},{"$f":"IF(ISBLANK('Data Input'!A70),\"\",SUM('Data Input'!C70,'Data Input'!H70,'Data Input'!J70,'Data Input'!N70,'Data Input'!R70,'Data Input'!T70,'Data Input'!Y70,'Data Input'!AE70,'Data Input'!AK70,'Data Input'!AM70))","v":""},{"$f":"IF(H66=\"\",\"\",H66/COUNTIF('Data Input'!$C$8:$AZ$8,$H$2))","v":""},{"$f":"IF(ISBLANK('Data Input'!A70),\"\",SUM('Data Input'!G70,'Data Input'!I70,'Data Input'!K70,'Data Input'!O70,'Data Input'!P70,'Data Input'!S70,'Data Input'!U70,'Data Input'!V70,'Data Input'!W70,'Data Input'!X70,'Data Input'!Z70,'Data Input'!AA70,'Data Input'!AD70,'Data Input'!AZ70))","v":""},{"$f":"IF(J66=\"\",\"\",J66/COUNTIF('Data Input'!$C$8:$AZ$8,$J$2))","v":""},{"$f":"IF(ISBLANK('Data Input'!A70),\"\",SUM('Data Input'!Q70,'Data Input'!AG70))","v":""},{"$f":"IF(L66=\"\",\"\",L66/COUNTIF('Data Input'!$C$8:$AZ$8,$L$2))","v":""},{"$f":"IF(ISBLANK('Data Input'!A70),\"\",SUM('Data Input'!D70,'Data Input'!E70,'Data Input'!F70,'Data Input'!L70,'Data Input'!M70,'Data Input'!AB70,'Data Input'!AC70,'Data Input'!AF70,'Data Input'!AJ70,'Data Input'!AL70,'Data Input'!AN70,'Data Input'!AO70,'Data Input'!AP70,'Data Input'!AQ70,'Data Input'!AR70,'Data Input'!AS70,'Data Input'!AT70,'Data Input'!AU70,'Data Input'!AV70,'Data Input'!AW70,'Data Input'!AX70,'Data Input'!AY70))","v":""},{"$f":"IF(N66=\"\",\"\",N66/COUNTIF('Data Input'!$C$8:$AZ$8,$N$2))","v":""},null,{"$f":"IF(P66=\"\",\"\",P66/COUNTIF('Data Input'!$C$8:$AZ$8,$P$2))","v":""},{"$f":"IF(ISBLANK('Data Input'!A70),\"\",SUM('Data Input'!AH70))","v":""},{"$f":"IF(R66=\"\",\"\",R66/COUNTIF('Data Input'!$C$8:$AZ$8,$R$2))","v":""},{"$f":"IF(ISBLANK('Data Input'!$A70),\"\",SUM('Data Input'!AI70))","v":""},{"$f":"IF(T66=\"\",\"\",T66/COUNTIF('Data Input'!$C$8:$AZ$8,$T$2))","v":""},null,{"$f":"IF(V66=\"\",\"\",V66/COUNTIF('Data Input'!$C$8:$AZ$8,$V$2))","v":""}]
[{"$f":"IF('Data Input'!A71=0,\"\",'Data Input'!A71)","v":""},{"$f":"IF(F67=\"\",\"\",IF(F67>Welcome!$J$20-1,\"Exceeding\",IF(F67>Welcome!$F$20-1,\"Expected\",IF(F67<Welcome!$F$20,\"Below\"))))","v":""},{"$f":"IF(ISBLANK('Data Input'!A71),\"\",COUNTIF('Data Input'!C71:AZ71,\"\"))","v":""},{"$f":"IF(ISBLANK('Data Input'!A71),\"\",COUNTIF('Data Input'!C71:AZ71,\"0\"))","v":""},{"$f":"IF(ISBLANK('Data Input'!A71),\"\",SUM(C67,D67))","v":""},{"$f":"IF(ISBLANK('Data Input'!A71),\"\",SUM('Data Input'!C71:AZ71))","v":""},{"$f":"IF(F67=\"\",\"\",F67/(COUNTA('Data Input'!$C$8:$AZ$8)))","v":""},{"$f":"IF(ISBLANK('Data Input'!A71),\"\",SUM('Data Input'!C71,'Data Input'!H71,'Data Input'!J71,'Data Input'!N71,'Data Input'!R71,'Data Input'!T71,'Data Input'!Y71,'Data Input'!AE71,'Data Input'!AK71,'Data Input'!AM71))","v":""},{"$f":"IF(H67=\"\",\"\",H67/COUNTIF('Data Input'!$C$8:$AZ$8,$H$2))","v":""},{"$f":"IF(ISBLANK('Data Input'!A71),\"\",SUM('Data Input'!G71,'Data Input'!I71,'Data Input'!K71,'Data Input'!O71,'Data Input'!P71,'Data Input'!S71,'Data Input'!U71,'Data Input'!V71,'Data Input'!W71,'Data Input'!X71,'Data Input'!Z71,'Data Input'!AA71,'Data Input'!AD71,'Data Input'!AZ71))","v":""},{"$f":"IF(J67=\"\",\"\",J67/COUNTIF('Data Input'!$C$8:$AZ$8,$J$2))","v":""},{"$f":"IF(ISBLANK('Data Input'!A71),\"\",SUM('Data Input'!Q71,'Data Input'!AG71))","v":""},{"$f":"IF(L67=\"\",\"\",L67/COUNTIF('Data Input'!$C$8:$AZ$8,$L$2))","v":""},{"$f":"IF(ISBLANK('Data Input'!A71),\"\",SUM('Data Input'!D71,'Data Input'!E71,'Data Input'!F71,'Data Input'!L71,'Data Input'!M71,'Data Input'!AB71,'Data Input'!AC71,'Data Input'!AF71,'Data Input'!AJ71,'Data Input'!AL71,'Data Input'!AN71,'Data Input'!AO71,'Data Input'!AP71,'Data Input'!AQ71,'Data Input'!AR71,'Data Input'!AS71,'Data Input'!AT71,'Data Input'!AU71,'Data Input'!AV71,'Data Input'!AW71,'Data Input'!AX71,'Data Input'!AY71))","v":""},{"$f":"IF(N67=\"\",\"\",N67/COUNTIF('Data Input'!$C$8:$AZ$8,$N$2))","v":""},null,{"$f":"IF(P67=\"\",\"\",P67/COUNTIF('Data Input'!$C$8:$AZ$8,$P$2))","v":""},{"$f":"IF(ISBLANK('Data Input'!A71),\"\",SUM('Data Input'!AH71))","v":""},{"$f":"IF(R67=\"\",\"\",R67/COUNTIF('Data Input'!$C$8:$AZ$8,$R$2))","v":""},{"$f":"IF(ISBLANK('Data Input'!$A71),\"\",SUM('Data Input'!AI71))","v":""},{"$f":"IF(T67=\"\",\"\",T67/COUNTIF('Data Input'!$C$8:$AZ$8,$T$2))","v":""},null,{"$f":"IF(V67=\"\",\"\",V67/COUNTIF('Data Input'!$C$8:$AZ$8,$V$2))","v":""}]
[{"$f":"IF('Data Input'!A72=0,\"\",'Data Input'!A72)","v":""},{"$f":"IF(F68=\"\",\"\",IF(F68>Welcome!$J$20-1,\"Exceeding\",IF(F68>Welcome!$F$20-1,\"Expected\",IF(F68<Welcome!$F$20,\"Below\"))))","v":""},{"$f":"IF(ISBLANK('Data Input'!A72),\"\",COUNTIF('Data Input'!C72:AZ72,\"\"))","v":""},{"$f":"IF(ISBLANK('Data Input'!A72),\"\",COUNTIF('Data Input'!C72:AZ72,\"0\"))","v":""},{"$f":"IF(ISBLANK('Data Input'!A72),\"\",SUM(C68,D68))","v":""},{"$f":"IF(ISBLANK('Data Input'!A72),\"\",SUM('Data Input'!C72:AZ72))","v":""},{"$f":"IF(F68=\"\",\"\",F68/(COUNTA('Data Input'!$C$8:$AZ$8)))","v":""},{"$f":"IF(ISBLANK('Data Input'!A72),\"\",SUM('Data Input'!C72,'Data Input'!H72,'Data Input'!J72,'Data Input'!N72,'Data Input'!R72,'Data Input'!T72,'Data Input'!Y72,'Data Input'!AE72,'Data Input'!AK72,'Data Input'!AM72))","v":""},{"$f":"IF(H68=\"\",\"\",H68/COUNTIF('Data Input'!$C$8:$AZ$8,$H$2))","v":""},{"$f":"IF(ISBLANK('Data Input'!A72),\"\",SUM('Data Input'!G72,'Data Input'!I72,'Data Input'!K72,'Data Input'!O72,'Data Input'!P72,'Data Input'!S72,'Data Input'!U72,'Data Input'!V72,'Data Input'!W72,'Data Input'!X72,'Data Input'!Z72,'Data Input'!AA72,'Data Input'!AD72,'Data Input'!AZ72))","v":""},{"$f":"IF(J68=\"\",\"\",J68/COUNTIF('Data Input'!$C$8:$AZ$8,$J$2))","v":""},{"$f":"IF(ISBLANK('Data Input'!A72),\"\",SUM('Data Input'!Q72,'Data Input'!AG72))","v":""},{"$f":"IF(L68=\"\",\"\",L68/COUNTIF('Data Input'!$C$8:$AZ$8,$L$2))","v":""},{"$f":"IF(ISBLANK('Data Input'!A72),\"\",SUM('Data Input'!D72,'Data Input'!E72,'Data Input'!F72,'Data Input'!L72,'Data Input'!M72,'Data Input'!AB72,'Data Input'!AC72,'Data Input'!AF72,'Data Input'!AJ72,'Data Input'!AL72,'Data Input'!AN72,'Data Input'!AO72,'Data Input'!AP72,'Data Input'!AQ72,'Data Input'!AR72,'Data Input'!AS72,'Data Input'!AT72,'Data Input'!AU72,'Data Input'!AV72,'Data Input'!AW72,'Data Input'!AX72,'Data Input'!AY72))","v":""},{"$f":"IF(N68=\"\",\"\",N68/COUNTIF('Data Input'!$C$8:$AZ$8,$N$2))","v":""},null,{"$f":"IF(P68=\"\",\"\",P68/COUNTIF('Data Input'!$C$8:$AZ$8,$P$2))","v":""},{"$f":"IF(ISBLANK('Data Input'!A72),\"\",SUM('Data Input'!AH72))","v":""},{"$f":"IF(R68=\"\",\"\",R68/COUNTIF('Data Input'!$C$8:$AZ$8,$R$2))","v":""},{"$f":"IF(ISBLANK('Data Input'!$A72),\"\",SUM('Data Input'!AI72))","v":""},{"$f":"IF(T68=\"\",\"\",T68/COUNTIF('Data Input'!$C$8:$AZ$8,$T$2))","v":""},null,{"$f":"IF(V68=\"\",\"\",V68/COUNTIF('Data Input'!$C$8:$AZ$8,$V$2))","v":""}]
[{"$f":"IF('Data Input'!A73=0,\"\",'Data Input'!A73)","v":""},{"$f":"IF(F69=\"\",\"\",IF(F69>Welcome!$J$20-1,\"Exceeding\",IF(F69>Welcome!$F$20-1,\"Expected\",IF(F69<Welcome!$F$20,\"Below\"))))","v":""},{"$f":"IF(ISBLANK('Data Input'!A73),\"\",COUNTIF('Data Input'!C73:AZ73,\"\"))","v":""},{"$f":"IF(ISBLANK('Data Input'!A73),\"\",COUNTIF('Data Input'!C73:AZ73,\"0\"))","v":""},{"$f":"IF(ISBLANK('Data Input'!A73),\"\",SUM(C69,D69))","v":""},{"$f":"IF(ISBLANK('Data Input'!A73),\"\",SUM('Data Input'!C73:AZ73))","v":""},{"$f":"IF(F69=\"\",\"\",F69/(COUNTA('Data Input'!$C$8:$AZ$8)))","v":""},{"$f":"IF(ISBLANK('Data Input'!A73),\"\",SUM('Data Input'!C73,'Data Input'!H73,'Data Input'!J73,'Data Input'!N73,'Data Input'!R73,'Data Input'!T73,'Data Input'!Y73,'Data Input'!AE73,'Data Input'!AK73,'Data Input'!AM73))","v":""},{"$f":"IF(H69=\"\",\"\",H69/COUNTIF('Data Input'!$C$8:$AZ$8,$H$2))","v":""},{"$f":"IF(ISBLANK('Data Input'!A73),\"\",SUM('Data Input'!G73,'Data Input'!I73,'Data Input'!K73,'Data Input'!O73,'Data Input'!P73,'Data Input'!S73,'Data Input'!U73,'Data Input'!V73,'Data Input'!W73,'Data Input'!X73,'Data Input'!Z73,'Data Input'!AA73,'Data Input'!AD73,'Data Input'!AZ73))","v":""},{"$f":"IF(J69=\"\",\"\",J69/COUNTIF('Data Input'!$C$8:$AZ$8,$J$2))","v":""},{"$f":"IF(ISBLANK('Data Input'!A73),\"\",SUM('Data Input'!Q73,'Data Input'!AG73))","v":""},{"$f":"IF(L69=\"\",\"\",L69/COUNTIF('Data Input'!$C$8:$AZ$8,$L$2))","v":""},{"$f":"IF(ISBLANK('Data Input'!A73),\"\",SUM('Data Input'!D73,'Data Input'!E73,'Data Input'!F73,'Data Input'!L73,'Data Input'!M73,'Data Input'!AB73,'Data Input'!AC73,'Data Input'!AF73,'Data Input'!AJ73,'Data Input'!AL73,'Data Input'!AN73,'Data Input'!AO73,'Data Input'!AP73,'Data Input'!AQ73,'Data Input'!AR73,'Data Input'!AS73,'Data Input'!AT73,'Data Input'!AU73,'Data Input'!AV73,'Data Input'!AW73,'Data Input'!AX73,'Data Input'!AY73))","v":""},{"$f":"IF(N69=\"\",\"\",N69/COUNTIF('Data Input'!$C$8:$AZ$8,$N$2))","v":""},null,{"$f":"IF(P69=\"\",\"\",P69/COUNTIF('Data Input'!$C$8:$AZ$8,$P$2))","v":""},{"$f":"IF(ISBLANK('Data Input'!A73),\"\",SUM('Data Input'!AH73))","v":""},{"$f":"IF(R69=\"\",\"\",R69/COUNTIF('Data Input'!$C$8:$AZ$8,$R$2))","v":""},{"$f":"IF(ISBLANK('Data Input'!$A73),\"\",SUM('Data Input'!AI73))","v":""},{"$f":"IF(T69=\"\",\"\",T69/COUNTIF('Data Input'!$C$8:$AZ$8,$T$2))","v":""},null,{"$f":"IF(V69=\"\",\"\",V69/COUNTIF('Data Input'!$C$8:$AZ$8,$V$2))","v":""}]
[{"$f":"IF('Data Input'!A74=0,\"\",'Data Input'!A74)","v":""},{"$f":"IF(F70=\"\",\"\",IF(F70>Welcome!$J$20-1,\"Exceeding\",IF(F70>Welcome!$F$20-1,\"Expected\",IF(F70<Welcome!$F$20,\"Below\"))))","v":""},{"$f":"IF(ISBLANK('Data Input'!A74),\"\",COUNTIF('Data Input'!C74:AZ74,\"\"))","v":""},{"$f":"IF(ISBLANK('Data Input'!A74),\"\",COUNTIF('Data Input'!C74:AZ74,\"0\"))","v":""},{"$f":"IF(ISBLANK('Data Input'!A74),\"\",SUM(C70,D70))","v":""},{"$f":"IF(ISBLANK('Data Input'!A74),\"\",SUM('Data Input'!C74:AZ74))","v":""},{"$f":"IF(F70=\"\",\"\",F70/(COUNTA('Data Input'!$C$8:$AZ$8)))","v":""},{"$f":"IF(ISBLANK('Data Input'!A74),\"\",SUM('Data Input'!C74,'Data Input'!H74,'Data Input'!J74,'Data Input'!N74,'Data Input'!R74,'Data Input'!T74,'Data Input'!Y74,'Data Input'!AE74,'Data Input'!AK74,'Data Input'!AM74))","v":""},{"$f":"IF(H70=\"\",\"\",H70/COUNTIF('Data Input'!$C$8:$AZ$8,$H$2))","v":""},{"$f":"IF(ISBLANK('Data Input'!A74),\"\",SUM('Data Input'!G74,'Data Input'!I74,'Data Input'!K74,'Data Input'!O74,'Data Input'!P74,'Data Input'!S74,'Data Input'!U74,'Data Input'!V74,'Data Input'!W74,'Data Input'!X74,'Data Input'!Z74,'Data Input'!AA74,'Data Input'!AD74,'Data Input'!AZ74))","v":""},{"$f":"IF(J70=\"\",\"\",J70/COUNTIF('Data Input'!$C$8:$AZ$8,$J$2))","v":""},{"$f":"IF(ISBLANK('Data Input'!A74),\"\",SUM('Data Input'!Q74,'Data Input'!AG74))","v":""},{"$f":"IF(L70=\"\",\"\",L70/COUNTIF('Data Input'!$C$8:$AZ$8,$L$2))","v":""},{"$f":"IF(ISBLANK('Data Input'!A74),\"\",SUM('Data Input'!D74,'Data Input'!E74,'Data Input'!F74,'Data Input'!L74,'Data Input'!M74,'Data Input'!AB74,'Data Input'!AC74,'Data Input'!AF74,'Data Input'!AJ74,'Data Input'!AL74,'Data Input'!AN74,'Data Input'!AO74,'Data Input'!AP74,'Data Input'!AQ74,'Data Input'!AR74,'Data Input'!AS74,'Data Input'!AT74,'Data Input'!AU74,'Data Input'!AV74,'Data Input'!AW74,'Data Input'!AX74,'Data Input'!AY74))","v":""},{"$f":"IF(N70=\"\",\"\",N70/COUNTIF('Data Input'!$C$8:$AZ$8,$N$2))","v":""},null,{"$f":"IF(P70=\"\",\"\",P70/COUNTIF('Data Input'!$C$8:$AZ$8,$P$2))","v":""},{"$f":"IF(ISBLANK('Data Input'!A74),\"\",SUM('Data Input'!AH74))","v":""},{"$f":"IF(R70=\"\",\"\",R70/COUNTIF('Data Input'!$C$8:$AZ$8,$R$2))","v":""},{"$f":"IF(ISBLANK('Data Input'!$A74),\"\",SUM('Data Input'!AI74))","v":""},{"$f":"IF(T70=\"\",\"\",T70/COUNTIF('Data Input'!$C$8:$AZ$8,$T$2))","v":""},null,{"$f":"IF(V70=\"\",\"\",V70/COUNTIF('Data Input'!$C$8:$AZ$8,$V$2))","v":""}]
[{"$f":"IF('Data Input'!A75=0,\"\",'Data Input'!A75)","v":""},{"$f":"IF(F71=\"\",\"\",IF(F71>Welcome!$J$20-1,\"Exceeding\",IF(F71>Welcome!$F$20-1,\"Expected\",IF(F71<Welcome!$F$20,\"Below\"))))","v":""},{"$f":"IF(ISBLANK('Data Input'!A75),\"\",COUNTIF('Data Input'!C75:AZ75,\"\"))","v":""},{"$f":"IF(ISBLANK('Data Input'!A75),\"\",COUNTIF('Data Input'!C75:AZ75,\"0\"))","v":""},{"$f":"IF(ISBLANK('Data Input'!A75),\"\",SUM(C71,D71))","v":""},{"$f":"IF(ISBLANK('Data Input'!A75),\"\",SUM('Data Input'!C75:AZ75))","v":""},{"$f":"IF(F71=\"\",\"\",F71/(COUNTA('Data Input'!$C$8:$AZ$8)))","v":""},{"$f":"IF(ISBLANK('Data Input'!A75),\"\",SUM('Data Input'!C75,'Data Input'!H75,'Data Input'!J75,'Data Input'!N75,'Data Input'!R75,'Data Input'!T75,'Data Input'!Y75,'Data Input'!AE75,'Data Input'!AK75,'Data Input'!AM75))","v":""},{"$f":"IF(H71=\"\",\"\",H71/COUNTIF('Data Input'!$C$8:$AZ$8,$H$2))","v":""},{"$f":"IF(ISBLANK('Data Input'!A75),\"\",SUM('Data Input'!G75,'Data Input'!I75,'Data Input'!K75,'Data Input'!O75,'Data Input'!P75,'Data Input'!S75,'Data Input'!U75,'Data Input'!V75,'Data Input'!W75,'Data Input'!X75,'Data Input'!Z75,'Data Input'!AA75,'Data Input'!AD75,'Data Input'!AZ75))","v":""},{"$f":"IF(J71=\"\",\"\",J71/COUNTIF('Data Input'!$C$8:$AZ$8,$J$2))","v":""},{"$f":"IF(ISBLANK('Data Input'!A75),\"\",SUM('Data Input'!Q75,'Data Input'!AG75))","v":""},{"$f":"IF(L71=\"\",\"\",L71/COUNTIF('Data Input'!$C$8:$AZ$8,$L$2))","v":""},{"$f":"IF(ISBLANK('Data Input'!A75),\"\",SUM('Data Input'!D75,'Data Input'!E75,'Data Input'!F75,'Data Input'!L75,'Data Input'!M75,'Data Input'!AB75,'Data Input'!AC75,'Data Input'!AF75,'Data Input'!AJ75,'Data Input'!AL75,'Data Input'!AN75,'Data Input'!AO75,'Data Input'!AP75,'Data Input'!AQ75,'Data Input'!AR75,'Data Input'!AS75,'Data Input'!AT75,'Data Input'!AU75,'Data Input'!AV75,'Data Input'!AW75,'Data Input'!AX75,'Data Input'!AY75))","v":""},{"$f":"IF(N71=\"\",\"\",N71/COUNTIF('Data Input'!$C$8:$AZ$8,$N$2))","v":""},null,{"$f":"IF(P71=\"\",\"\",P71/COUNTIF('Data Input'!$C$8:$AZ$8,$P$2))","v":""},{"$f":"IF(ISBLANK('Data Input'!A75),\"\",SUM('Data Input'!AH75))","v":""},{"$f":"IF(R71=\"\",\"\",R71/COUNTIF('Data Input'!$C$8:$AZ$8,$R$2))","v":""},{"$f":"IF(ISBLANK('Data Input'!$A75),\"\",SUM('Data Input'!AI75))","v":""},{"$f":"IF(T71=\"\",\"\",T71/COUNTIF('Data Input'!$C$8:$AZ$8,$T$2))","v":""},null,{"$f":"IF(V71=\"\",\"\",V71/COUNTIF('Data Input'!$C$8:$AZ$8,$V$2))","v":""}]
[{"$f":"IF('Data Input'!A76=0,\"\",'Data Input'!A76)","v":""},{"$f":"IF(F72=\"\",\"\",IF(F72>Welcome!$J$20-1,\"Exceeding\",IF(F72>Welcome!$F$20-1,\"Expected\",IF(F72<Welcome!$F$20,\"Below\"))))","v":""},{"$f":"IF(ISBLANK('Data Input'!A76),\"\",COUNTIF('Data Input'!C76:AZ76,\"\"))","v":""},{"$f":"IF(ISBLANK('Data Input'!A76),\"\",COUNTIF('Data Input'!C76:AZ76,\"0\"))","v":""},{"$f":"IF(ISBLANK('Data Input'!A76),\"\",SUM(C72,D72))","v":""},{"$f":"IF(ISBLANK('Data Input'!A76),\"\",SUM('Data Input'!C76:AZ76))","v":""},{"$f":"IF(F72=\"\",\"\",F72/(COUNTA('Data Input'!$C$8:$AZ$8)))","v":""},{"$f":"IF(ISBLANK('Data Input'!A76),\"\",SUM('Data Input'!C76,'Data Input'!H76,'Data Input'!J76,'Data Input'!N76,'Data Input'!R76,'Data Input'!T76,'Data Input'!Y76,'Data Input'!AE76,'Data Input'!AK76,'Data Input'!AM76))","v":""},{"$f":"IF(H72=\"\",\"\",H72/COUNTIF('Data Input'!$C$8:$AZ$8,$H$2))","v":""},{"$f":"IF(ISBLANK('Data Input'!A76),\"\",SUM('Data Input'!G76,'Data Input'!I76,'Data Input'!K76,'Data Input'!O76,'Data Input'!P76,'Data Input'!S76,'Data Input'!U76,'Data Input'!V76,'Data Input'!W76,'Data Input'!X76,'Data Input'!Z76,'Data Input'!AA76,'Data Input'!AD76,'Data Input'!AZ76))","v":""},{"$f":"IF(J72=\"\",\"\",J72/COUNTIF('Data Input'!$C$8:$AZ$8,$J$2))","v":""},{"$f":"IF(ISBLANK('Data Input'!A76),\"\",SUM('Data Input'!Q76,'Data Input'!AG76))","v":""},{"$f":"IF(L72=\"\",\"\",L72/COUNTIF('Data Input'!$C$8:$AZ$8,$L$2))","v":""},{"$f":"IF(ISBLANK('Data Input'!A76),\"\",SUM('Data Input'!D76,'Data Input'!E76,'Data Input'!F76,'Data Input'!L76,'Data Input'!M76,'Data Input'!AB76,'Data Input'!AC76,'Data Input'!AF76,'Data Input'!AJ76,'Data Input'!AL76,'Data Input'!AN76,'Data Input'!AO76,'Data Input'!AP76,'Data Input'!AQ76,'Data Input'!AR76,'Data Input'!AS76,'Data Input'!AT76,'Data Input'!AU76,'Data Input'!AV76,'Data Input'!AW76,'Data Input'!AX76,'Data Input'!AY76))","v":""},{"$f":"IF(N72=\"\",\"\",N72/COUNTIF('Data Input'!$C$8:$AZ$8,$N$2))","v":""},null,{"$f":"IF(P72=\"\",\"\",P72/COUNTIF('Data Input'!$C$8:$AZ$8,$P$2))","v":""},{"$f":"IF(ISBLANK('Data Input'!A76),\"\",SUM('Data Input'!AH76))","v":""},{"$f":"IF(R72=\"\",\"\",R72/COUNTIF('Data Input'!$C$8:$AZ$8,$R$2))","v":""},{"$f":"IF(ISBLANK('Data Input'!$A76),\"\",SUM('Data Input'!AI76))","v":""},{"$f":"IF(T72=\"\",\"\",T72/COUNTIF('Data Input'!$C$8:$AZ$8,$T$2))","v":""},null,{"$f":"IF(V72=\"\",\"\",V72/COUNTIF('Data Input'!$C$8:$AZ$8,$V$2))","v":""}]
[{"$f":"IF('Data Input'!A77=0,\"\",'Data Input'!A77)","v":""},{"$f":"IF(F73=\"\",\"\",IF(F73>Welcome!$J$20-1,\"Exceeding\",IF(F73>Welcome!$F$20-1,\"Expected\",IF(F73<Welcome!$F$20,\"Below\"))))","v":""},{"$f":"IF(ISBLANK('Data Input'!A77),\"\",COUNTIF('Data Input'!C77:AZ77,\"\"))","v":""},{"$f":"IF(ISBLANK('Data Input'!A77),\"\",COUNTIF('Data Input'!C77:AZ77,\"0\"))","v":""},{"$f":"IF(ISBLANK('Data Input'!A77),\"\",SUM(C73,D73))","v":""},{"$f":"IF(ISBLANK('Data Input'!A77),\"\",SUM('Data Input'!C77:AZ77))","v":""},{"$f":"IF(F73=\"\",\"\",F73/(COUNTA('Data Input'!$C$8:$AZ$8)))","v":""},{"$f":"IF(ISBLANK('Data Input'!A77),\"\",SUM('Data Input'!C77,'Data Input'!H77,'Data Input'!J77,'Data Input'!N77,'Data Input'!R77,'Data Input'!T77,'Data Input'!Y77,'Data Input'!AE77,'Data Input'!AK77,'Data Input'!AM77))","v":""},{"$f":"IF(H73=\"\",\"\",H73/COUNTIF('Data Input'!$C$8:$AZ$8,$H$2))","v":""},{"$f":"IF(ISBLANK('Data Input'!A77),\"\",SUM('Data Input'!G77,'Data Input'!I77,'Data Input'!K77,'Data Input'!O77,'Data Input'!P77,'Data Input'!S77,'Data Input'!U77,'Data Input'!V77,'Data Input'!W77,'Data Input'!X77,'Data Input'!Z77,'Data Input'!AA77,'Data Input'!AD77,'Data Input'!AZ77))","v":""},{"$f":"IF(J73=\"\",\"\",J73/COUNTIF('Data Input'!$C$8:$AZ$8,$J$2))","v":""},{"$f":"IF(ISBLANK('Data Input'!A77),\"\",SUM('Data Input'!Q77,'Data Input'!AG77))","v":""},{"$f":"IF(L73=\"\",\"\",L73/COUNTIF('Data Input'!$C$8:$AZ$8,$L$2))","v":""},{"$f":"IF(ISBLANK('Data Input'!A77),\"\",SUM('Data Input'!D77,'Data Input'!E77,'Data Input'!F77,'Data Input'!L77,'Data Input'!M77,'Data Input'!AB77,'Data Input'!AC77,'Data Input'!AF77,'Data Input'!AJ77,'Data Input'!AL77,'Data Input'!AN77,'Data Input'!AO77,'Data Input'!AP77,'Data Input'!AQ77,'Data Input'!AR77,'Data Input'!AS77,'Data Input'!AT77,'Data Input'!AU77,'Data Input'!AV77,'Data Input'!AW77,'Data Input'!AX77,'Data Input'!AY77))","v":""},{"$f":"IF(N73=\"\",\"\",N73/COUNTIF('Data Input'!$C$8:$AZ$8,$N$2))","v":""},null,{"$f":"IF(P73=\"\",\"\",P73/COUNTIF('Data Input'!$C$8:$AZ$8,$P$2))","v":""},{"$f":"IF(ISBLANK('Data Input'!A77),\"\",SUM('Data Input'!AH77))","v":""},{"$f":"IF(R73=\"\",\"\",R73/COUNTIF('Data Input'!$C$8:$AZ$8,$R$2))","v":""},{"$f":"IF(ISBLANK('Data Input'!$A77),\"\",SUM('Data Input'!AI77))","v":""},{"$f":"IF(T73=\"\",\"\",T73/COUNTIF('Data Input'!$C$8:$AZ$8,$T$2))","v":""},null,{"$f":"IF(V73=\"\",\"\",V73/COUNTIF('Data Input'!$C$8:$AZ$8,$V$2))","v":""}]
[{"$f":"IF('Data Input'!A78=0,\"\",'Data Input'!A78)","v":""},{"$f":"IF(F74=\"\",\"\",IF(F74>Welcome!$J$20-1,\"Exceeding\",IF(F74>Welcome!$F$20-1,\"Expected\",IF(F74<Welcome!$F$20,\"Below\"))))","v":""},{"$f":"IF(ISBLANK('Data Input'!A78),\"\",COUNTIF('Data Input'!C78:AZ78,\"\"))","v":""},{"$f":"IF(ISBLANK('Data Input'!A78),\"\",COUNTIF('Data Input'!C78:AZ78,\"0\"))","v":""},{"$f":"IF(ISBLANK('Data Input'!A78),\"\",SUM(C74,D74))","v":""},{"$f":"IF(ISBLANK('Data Input'!A78),\"\",SUM('Data Input'!C78:AZ78))","v":""},{"$f":"IF(F74=\"\",\"\",F74/(COUNTA('Data Input'!$C$8:$AZ$8)))","v":""},{"$f":"IF(ISBLANK('Data Input'!A78),\"\",SUM('Data Input'!C78,'Data Input'!H78,'Data Input'!J78,'Data Input'!N78,'Data Input'!R78,'Data Input'!T78,'Data Input'!Y78,'Data Input'!AE78,'Data Input'!AK78,'Data Input'!AM78))","v":""},{"$f":"IF(H74=\"\",\"\",H74/COUNTIF('Data Input'!$C$8:$AZ$8,$H$2))","v":""},{"$f":"IF(ISBLANK('Data Input'!A78),\"\",SUM('Data Input'!G78,'Data Input'!I78,'Data Input'!K78,'Data Input'!O78,'Data Input'!P78,'Data Input'!S78,'Data Input'!U78,'Data Input'!V78,'Data Input'!W78,'Data Input'!X78,'Data Input'!Z78,'Data Input'!AA78,'Data Input'!AD78,'Data Input'!AZ78))","v":""},{"$f":"IF(J74=\"\",\"\",J74/COUNTIF('Data Input'!$C$8:$AZ$8,$J$2))","v":""},{"$f":"IF(ISBLANK('Data Input'!A78),\"\",SUM('Data Input'!Q78,'Data Input'!AG78))","v":""},{"$f":"IF(L74=\"\",\"\",L74/COUNTIF('Data Input'!$C$8:$AZ$8,$L$2))","v":""},{"$f":"IF(ISBLANK('Data Input'!A78),\"\",SUM('Data Input'!D78,'Data Input'!E78,'Data Input'!F78,'Data Input'!L78,'Data Input'!M78,'Data Input'!AB78,'Data Input'!AC78,'Data Input'!AF78,'Data Input'!AJ78,'Data Input'!AL78,'Data Input'!AN78,'Data Input'!AO78,'Data Input'!AP78,'Data Input'!AQ78,'Data Input'!AR78,'Data Input'!AS78,'Data Input'!AT78,'Data Input'!AU78,'Data Input'!AV78,'Data Input'!AW78,'Data Input'!AX78,'Data Input'!AY78))","v":""},{"$f":"IF(N74=\"\",\"\",N74/COUNTIF('Data Input'!$C$8:$AZ$8,$N$2))","v":""},null,{"$f":"IF(P74=\"\",\"\",P74/COUNTIF('Data Input'!$C$8:$AZ$8,$P$2))","v":""},{"$f":"IF(ISBLANK('Data Input'!A78),\"\",SUM('Data Input'!AH78))","v":""},{"$f":"IF(R74=\"\",\"\",R74/COUNTIF('Data Input'!$C$8:$AZ$8,$R$2))","v":""},{"$f":"IF(ISBLANK('Data Input'!$A78),\"\",SUM('Data Input'!AI78))","v":""},{"$f":"IF(T74=\"\",\"\",T74/COUNTIF('Data Input'!$C$8:$AZ$8,$T$2))","v":""},null,{"$f":"IF(V74=\"\",\"\",V74/COUNTIF('Data Input'!$C$8:$AZ$8,$V$2))","v":""}]
[{"$f":"IF('Data Input'!A79=0,\"\",'Data Input'!A79)","v":""},{"$f":"IF(F75=\"\",\"\",IF(F75>Welcome!$J$20-1,\"Exceeding\",IF(F75>Welcome!$F$20-1,\"Expected\",IF(F75<Welcome!$F$20,\"Below\"))))","v":""},{"$f":"IF(ISBLANK('Data Input'!A79),\"\",COUNTIF('Data Input'!C79:AZ79,\"\"))","v":""},{"$f":"IF(ISBLANK('Data Input'!A79),\"\",COUNTIF('Data Input'!C79:AZ79,\"0\"))","v":""},{"$f":"IF(ISBLANK('Data Input'!A79),\"\",SUM(C75,D75))","v":""},{"$f":"IF(ISBLANK('Data Input'!A79),\"\",SUM('Data Input'!C79:AZ79))","v":""},{"$f":"IF(F75=\"\",\"\",F75/(COUNTA('Data Input'!$C$8:$AZ$8)))","v":""},{"$f":"IF(ISBLANK('Data Input'!A79),\"\",SUM('Data Input'!C79,'Data Input'!H79,'Data Input'!J79,'Data Input'!N79,'Data Input'!R79,'Data Input'!T79,'Data Input'!Y79,'Data Input'!AE79,'Data Input'!AK79,'Data Input'!AM79))","v":""},{"$f":"IF(H75=\"\",\"\",H75/COUNTIF('Data Input'!$C$8:$AZ$8,$H$2))","v":""},{"$f":"IF(ISBLANK('Data Input'!A79),\"\",SUM('Data Input'!G79,'Data Input'!I79,'Data Input'!K79,'Data Input'!O79,'Data Input'!P79,'Data Input'!S79,'Data Input'!U79,'Data Input'!V79,'Data Input'!W79,'Data Input'!X79,'Data Input'!Z79,'Data Input'!AA79,'Data Input'!AD79,'Data Input'!AZ79))","v":""},{"$f":"IF(J75=\"\",\"\",J75/COUNTIF('Data Input'!$C$8:$AZ$8,$J$2))","v":""},{"$f":"IF(ISBLANK('Data Input'!A79),\"\",SUM('Data Input'!Q79,'Data Input'!AG79))","v":""},{"$f":"IF(L75=\"\",\"\",L75/COUNTIF('Data Input'!$C$8:$AZ$8,$L$2))","v":""},{"$f":"IF(ISBLANK('Data Input'!A79),\"\",SUM('Data Input'!D79,'Data Input'!E79,'Data Input'!F79,'Data Input'!L79,'Data Input'!M79,'Data Input'!AB79,'Data Input'!AC79,'Data Input'!AF79,'Data Input'!AJ79,'Data Input'!AL79,'Data Input'!AN79,'Data Input'!AO79,'Data Input'!AP79,'Data Input'!AQ79,'Data Input'!AR79,'Data Input'!AS79,'Data Input'!AT79,'Data Input'!AU79,'Data Input'!AV79,'Data Input'!AW79,'Data Input'!AX79,'Data Input'!AY79))","v":""},{"$f":"IF(N75=\"\",\"\",N75/COUNTIF('Data Input'!$C$8:$AZ$8,$N$2))","v":""},null,{"$f":"IF(P75=\"\",\"\",P75/COUNTIF('Data Input'!$C$8:$AZ$8,$P$2))","v":""},{"$f":"IF(ISBLANK('Data Input'!A79),\"\",SUM('Data Input'!AH79))","v":""},{"$f":"IF(R75=\"\",\"\",R75/COUNTIF('Data Input'!$C$8:$AZ$8,$R$2))","v":""},{"$f":"IF(ISBLANK('Data Input'!$A79),\"\",SUM('Data Input'!AI79))","v":""},{"$f":"IF(T75=\"\",\"\",T75/COUNTIF('Data Input'!$C$8:$AZ$8,$T$2))","v":""},null,{"$f":"IF(V75=\"\",\"\",V75/COUNTIF('Data Input'!$C$8:$AZ$8,$V$2))","v":""}]
[{"$f":"IF('Data Input'!A80=0,\"\",'Data Input'!A80)","v":""},{"$f":"IF(F76=\"\",\"\",IF(F76>Welcome!$J$20-1,\"Exceeding\",IF(F76>Welcome!$F$20-1,\"Expected\",IF(F76<Welcome!$F$20,\"Below\"))))","v":""},{"$f":"IF(ISBLANK('Data Input'!A80),\"\",COUNTIF('Data Input'!C80:AZ80,\"\"))","v":""},{"$f":"IF(ISBLANK('Data Input'!A80),\"\",COUNTIF('Data Input'!C80:AZ80,\"0\"))","v":""},{"$f":"IF(ISBLANK('Data Input'!A80),\"\",SUM(C76,D76))","v":""},{"$f":"IF(ISBLANK('Data Input'!A80),\"\",SUM('Data Input'!C80:AZ80))","v":""},{"$f":"IF(F76=\"\",\"\",F76/(COUNTA('Data Input'!$C$8:$AZ$8)))","v":""},{"$f":"IF(ISBLANK('Data Input'!A80),\"\",SUM('Data Input'!C80,'Data Input'!H80,'Data Input'!J80,'Data Input'!N80,'Data Input'!R80,'Data Input'!T80,'Data Input'!Y80,'Data Input'!AE80,'Data Input'!AK80,'Data Input'!AM80))","v":""},{"$f":"IF(H76=\"\",\"\",H76/COUNTIF('Data Input'!$C$8:$AZ$8,$H$2))","v":""},{"$f":"IF(ISBLANK('Data Input'!A80),\"\",SUM('Data Input'!G80,'Data Input'!I80,'Data Input'!K80,'Data Input'!O80,'Data Input'!P80,'Data Input'!S80,'Data Input'!U80,'Data Input'!V80,'Data Input'!W80,'Data Input'!X80,'Data Input'!Z80,'Data Input'!AA80,'Data Input'!AD80,'Data Input'!AZ80))","v":""},{"$f":"IF(J76=\"\",\"\",J76/COUNTIF('Data Input'!$C$8:$AZ$8,$J$2))","v":""},{"$f":"IF(ISBLANK('Data Input'!A80),\"\",SUM('Data Input'!Q80,'Data Input'!AG80))","v":""},{"$f":"IF(L76=\"\",\"\",L76/COUNTIF('Data Input'!$C$8:$AZ$8,$L$2))","v":""},{"$f":"IF(ISBLANK('Data Input'!A80),\"\",SUM('Data Input'!D80,'Data Input'!E80,'Data Input'!F80,'Data Input'!L80,'Data Input'!M80,'Data Input'!AB80,'Data Input'!AC80,'Data Input'!AF80,'Data Input'!AJ80,'Data Input'!AL80,'Data Input'!AN80,'Data Input'!AO80,'Data Input'!AP80,'Data Input'!AQ80,'Data Input'!AR80,'Data Input'!AS80,'Data Input'!AT80,'Data Input'!AU80,'Data Input'!AV80,'Data Input'!AW80,'Data Input'!AX80,'Data Input'!AY80))","v":""},{"$f":"IF(N76=\"\",\"\",N76/COUNTIF('Data Input'!$C$8:$AZ$8,$N$2))","v":""},null,{"$f":"IF(P76=\"\",\"\",P76/COUNTIF('Data Input'!$C$8:$AZ$8,$P$2))","v":""},{"$f":"IF(ISBLANK('Data Input'!A80),\"\",SUM('Data Input'!AH80))","v":""},{"$f":"IF(R76=\"\",\"\",R76/COUNTIF('Data Input'!$C$8:$AZ$8,$R$2))","v":""},{"$f":"IF(ISBLANK('Data Input'!$A80),\"\",SUM('Data Input'!AI80))","v":""},{"$f":"IF(T76=\"\",\"\",T76/COUNTIF('Data Input'!$C$8:$AZ$8,$T$2))","v":""},null,{"$f":"IF(V76=\"\",\"\",V76/COUNTIF('Data Input'!$C$8:$AZ$8,$V$2))","v":""}]
[{"$f":"IF('Data Input'!A81=0,\"\",'Data Input'!A81)","v":""},{"$f":"IF(F77=\"\",\"\",IF(F77>Welcome!$J$20-1,\"Exceeding\",IF(F77>Welcome!$F$20-1,\"Expected\",IF(F77<Welcome!$F$20,\"Below\"))))","v":""},{"$f":"IF(ISBLANK('Data Input'!A81),\"\",COUNTIF('Data Input'!C81:AZ81,\"\"))","v":""},{"$f":"IF(ISBLANK('Data Input'!A81),\"\",COUNTIF('Data Input'!C81:AZ81,\"0\"))","v":""},{"$f":"IF(ISBLANK('Data Input'!A81),\"\",SUM(C77,D77))","v":""},{"$f":"IF(ISBLANK('Data Input'!A81),\"\",SUM('Data Input'!C81:AZ81))","v":""},{"$f":"IF(F77=\"\",\"\",F77/(COUNTA('Data Input'!$C$8:$AZ$8)))","v":""},{"$f":"IF(ISBLANK('Data Input'!A81),\"\",SUM('Data Input'!C81,'Data Input'!H81,'Data Input'!J81,'Data Input'!N81,'Data Input'!R81,'Data Input'!T81,'Data Input'!Y81,'Data Input'!AE81,'Data Input'!AK81,'Data Input'!AM81))","v":""},{"$f":"IF(H77=\"\",\"\",H77/COUNTIF('Data Input'!$C$8:$AZ$8,$H$2))","v":""},{"$f":"IF(ISBLANK('Data Input'!A81),\"\",SUM('Data Input'!G81,'Data Input'!I81,'Data Input'!K81,'Data Input'!O81,'Data Input'!P81,'Data Input'!S81,'Data Input'!U81,'Data Input'!V81,'Data Input'!W81,'Data Input'!X81,'Data Input'!Z81,'Data Input'!AA81,'Data Input'!AD81,'Data Input'!AZ81))","v":""},{"$f":"IF(J77=\"\",\"\",J77/COUNTIF('Data Input'!$C$8:$AZ$8,$J$2))","v":""},{"$f":"IF(ISBLANK('Data Input'!A81),\"\",SUM('Data Input'!Q81,'Data Input'!AG81))","v":""},{"$f":"IF(L77=\"\",\"\",L77/COUNTIF('Data Input'!$C$8:$AZ$8,$L$2))","v":""},{"$f":"IF(ISBLANK('Data Input'!A81),\"\",SUM('Data Input'!D81,'Data Input'!E81,'Data Input'!F81,'Data Input'!L81,'Data Input'!M81,'Data Input'!AB81,'Data Input'!AC81,'Data Input'!AF81,'Data Input'!AJ81,'Data Input'!AL81,'Data Input'!AN81,'Data Input'!AO81,'Data Input'!AP81,'Data Input'!AQ81,'Data Input'!AR81,'Data Input'!AS81,'Data Input'!AT81,'Data Input'!AU81,'Data Input'!AV81,'Data Input'!AW81,'Data Input'!AX81,'Data Input'!AY81))","v":""},{"$f":"IF(N77=\"\",\"\",N77/COUNTIF('Data Input'!$C$8:$AZ$8,$N$2))","v":""},null,{"$f":"IF(P77=\"\",\"\",P77/COUNTIF('Data Input'!$C$8:$AZ$8,$P$2))","v":""},{"$f":"IF(ISBLANK('Data Input'!A81),\"\",SUM('Data Input'!AH81))","v":""},{"$f":"IF(R77=\"\",\"\",R77/COUNTIF('Data Input'!$C$8:$AZ$8,$R$2))","v":""},{"$f":"IF(ISBLANK('Data Input'!$A81),\"\",SUM('Data Input'!AI81))","v":""},{"$f":"IF(T77=\"\",\"\",T77/COUNTIF('Data Input'!$C$8:$AZ$8,$T$2))","v":""},null,{"$f":"IF(V77=\"\",\"\",V77/COUNTIF('Data Input'!$C$8:$AZ$8,$V$2))","v":""}]
[{"$f":"IF('Data Input'!A82=0,\"\",'Data Input'!A82)","v":""},{"$f":"IF(F78=\"\",\"\",IF(F78>Welcome!$J$20-1,\"Exceeding\",IF(F78>Welcome!$F$20-1,\"Expected\",IF(F78<Welcome!$F$20,\"Below\"))))","v":""},{"$f":"IF(ISBLANK('Data Input'!A82),\"\",COUNTIF('Data Input'!C82:AZ82,\"\"))","v":""},{"$f":"IF(ISBLANK('Data Input'!A82),\"\",COUNTIF('Data Input'!C82:AZ82,\"0\"))","v":""},{"$f":"IF(ISBLANK('Data Input'!A82),\"\",SUM(C78,D78))","v":""},{"$f":"IF(ISBLANK('Data Input'!A82),\"\",SUM('Data Input'!C82:AZ82))","v":""},{"$f":"IF(F78=\"\",\"\",F78/(COUNTA('Data Input'!$C$8:$AZ$8)))","v":""},{"$f":"IF(ISBLANK('Data Input'!A82),\"\",SUM('Data Input'!C82,'Data Input'!H82,'Data Input'!J82,'Data Input'!N82,'Data Input'!R82,'Data Input'!T82,'Data Input'!Y82,'Data Input'!AE82,'Data Input'!AK82,'Data Input'!AM82))","v":""},{"$f":"IF(H78=\"\",\"\",H78/COUNTIF('Data Input'!$C$8:$AZ$8,$H$2))","v":""},{"$f":"IF(ISBLANK('Data Input'!A82),\"\",SUM('Data Input'!G82,'Data Input'!I82,'Data Input'!K82,'Data Input'!O82,'Data Input'!P82,'Data Input'!S82,'Data Input'!U82,'Data Input'!V82,'Data Input'!W82,'Data Input'!X82,'Data Input'!Z82,'Data Input'!AA82,'Data Input'!AD82,'Data Input'!AZ82))","v":""},{"$f":"IF(J78=\"\",\"\",J78/COUNTIF('Data Input'!$C$8:$AZ$8,$J$2))","v":""},{"$f":"IF(ISBLANK('Data Input'!A82),\"\",SUM('Data Input'!Q82,'Data Input'!AG82))","v":""},{"$f":"IF(L78=\"\",\"\",L78/COUNTIF('Data Input'!$C$8:$AZ$8,$L$2))","v":""},{"$f":"IF(ISBLANK('Data Input'!A82),\"\",SUM('Data Input'!D82,'Data Input'!E82,'Data Input'!F82,'Data Input'!L82,'Data Input'!M82,'Data Input'!AB82,'Data Input'!AC82,'Data Input'!AF82,'Data Input'!AJ82,'Data Input'!AL82,'Data Input'!AN82,'Data Input'!AO82,'Data Input'!AP82,'Data Input'!AQ82,'Data Input'!AR82,'Data Input'!AS82,'Data Input'!AT82,'Data Input'!AU82,'Data Input'!AV82,'Data Input'!AW82,'Data Input'!AX82,'Data Input'!AY82))","v":""},{"$f":"IF(N78=\"\",\"\",N78/COUNTIF('Data Input'!$C$8:$AZ$8,$N$2))","v":""},null,{"$f":"IF(P78=\"\",\"\",P78/COUNTIF('Data Input'!$C$8:$AZ$8,$P$2))","v":""},{"$f":"IF(ISBLANK('Data Input'!A82),\"\",SUM('Data Input'!AH82))","v":""},{"$f":"IF(R78=\"\",\"\",R78/COUNTIF('Data Input'!$C$8:$AZ$8,$R$2))","v":""},{"$f":"IF(ISBLANK('Data Input'!$A82),\"\",SUM('Data Input'!AI82))","v":""},{"$f":"IF(T78=\"\",\"\",T78/COUNTIF('Data Input'!$C$8:$AZ$8,$T$2))","v":""},null,{"$f":"IF(V78=\"\",\"\",V78/COUNTIF('Data Input'!$C$8:$AZ$8,$V$2))","v":""}]
[{"$f":"IF('Data Input'!A83=0,\"\",'Data Input'!A83)","v":""},{"$f":"IF(F79=\"\",\"\",IF(F79>Welcome!$J$20-1,\"Exceeding\",IF(F79>Welcome!$F$20-1,\"Expected\",IF(F79<Welcome!$F$20,\"Below\"))))","v":""},{"$f":"IF(ISBLANK('Data Input'!A83),\"\",COUNTIF('Data Input'!C83:AZ83,\"\"))","v":""},{"$f":"IF(ISBLANK('Data Input'!A83),\"\",COUNTIF('Data Input'!C83:AZ83,\"0\"))","v":""},{"$f":"IF(ISBLANK('Data Input'!A83),\"\",SUM(C79,D79))","v":""},{"$f":"IF(ISBLANK('Data Input'!A83),\"\",SUM('Data Input'!C83:AZ83))","v":""},{"$f":"IF(F79=\"\",\"\",F79/(COUNTA('Data Input'!$C$8:$AZ$8)))","v":""},{"$f":"IF(ISBLANK('Data Input'!A83),\"\",SUM('Data Input'!C83,'Data Input'!H83,'Data Input'!J83,'Data Input'!N83,'Data Input'!R83,'Data Input'!T83,'Data Input'!Y83,'Data Input'!AE83,'Data Input'!AK83,'Data Input'!AM83))","v":""},{"$f":"IF(H79=\"\",\"\",H79/COUNTIF('Data Input'!$C$8:$AZ$8,$H$2))","v":""},{"$f":"IF(ISBLANK('Data Input'!A83),\"\",SUM('Data Input'!G83,'Data Input'!I83,'Data Input'!K83,'Data Input'!O83,'Data Input'!P83,'Data Input'!S83,'Data Input'!U83,'Data Input'!V83,'Data Input'!W83,'Data Input'!X83,'Data Input'!Z83,'Data Input'!AA83,'Data Input'!AD83,'Data Input'!AZ83))","v":""},{"$f":"IF(J79=\"\",\"\",J79/COUNTIF('Data Input'!$C$8:$AZ$8,$J$2))","v":""},{"$f":"IF(ISBLANK('Data Input'!A83),\"\",SUM('Data Input'!Q83,'Data Input'!AG83))","v":""},{"$f":"IF(L79=\"\",\"\",L79/COUNTIF('Data Input'!$C$8:$AZ$8,$L$2))","v":""},{"$f":"IF(ISBLANK('Data Input'!A83),\"\",SUM('Data Input'!D83,'Data Input'!E83,'Data Input'!F83,'Data Input'!L83,'Data Input'!M83,'Data Input'!AB83,'Data Input'!AC83,'Data Input'!AF83,'Data Input'!AJ83,'Data Input'!AL83,'Data Input'!AN83,'Data Input'!AO83,'Data Input'!AP83,'Data Input'!AQ83,'Data Input'!AR83,'Data Input'!AS83,'Data Input'!AT83,'Data Input'!AU83,'Data Input'!AV83,'Data Input'!AW83,'Data Input'!AX83,'Data Input'!AY83))","v":""},{"$f":"IF(N79=\"\",\"\",N79/COUNTIF('Data Input'!$C$8:$AZ$8,$N$2))","v":""},null,{"$f":"IF(P79=\"\",\"\",P79/COUNTIF('Data Input'!$C$8:$AZ$8,$P$2))","v":""},{"$f":"IF(ISBLANK('Data Input'!A83),\"\",SUM('Data Input'!AH83))","v":""},{"$f":"IF(R79=\"\",\"\",R79/COUNTIF('Data Input'!$C$8:$AZ$8,$R$2))","v":""},{"$f":"IF(ISBLANK('Data Input'!$A83),\"\",SUM('Data Input'!AI83))","v":""},{"$f":"IF(T79=\"\",\"\",T79/COUNTIF('Data Input'!$C$8:$AZ$8,$T$2))","v":""},null,{"$f":"IF(V79=\"\",\"\",V79/COUNTIF('Data Input'!$C$8:$AZ$8,$V$2))","v":""}]
[{"$f":"IF('Data Input'!A84=0,\"\",'Data Input'!A84)","v":""},{"$f":"IF(F80=\"\",\"\",IF(F80>Welcome!$J$20-1,\"Exceeding\",IF(F80>Welcome!$F$20-1,\"Expected\",IF(F80<Welcome!$F$20,\"Below\"))))","v":""},{"$f":"IF(ISBLANK('Data Input'!A84),\"\",COUNTIF('Data Input'!C84:AZ84,\"\"))","v":""},{"$f":"IF(ISBLANK('Data Input'!A84),\"\",COUNTIF('Data Input'!C84:AZ84,\"0\"))","v":""},{"$f":"IF(ISBLANK('Data Input'!A84),\"\",SUM(C80,D80))","v":""},{"$f":"IF(ISBLANK('Data Input'!A84),\"\",SUM('Data Input'!C84:AZ84))","v":""},{"$f":"IF(F80=\"\",\"\",F80/(COUNTA('Data Input'!$C$8:$AZ$8)))","v":""},{"$f":"IF(ISBLANK('Data Input'!A84),\"\",SUM('Data Input'!C84,'Data Input'!H84,'Data Input'!J84,'Data Input'!N84,'Data Input'!R84,'Data Input'!T84,'Data Input'!Y84,'Data Input'!AE84,'Data Input'!AK84,'Data Input'!AM84))","v":""},{"$f":"IF(H80=\"\",\"\",H80/COUNTIF('Data Input'!$C$8:$AZ$8,$H$2))","v":""},{"$f":"IF(ISBLANK('Data Input'!A84),\"\",SUM('Data Input'!G84,'Data Input'!I84,'Data Input'!K84,'Data Input'!O84,'Data Input'!P84,'Data Input'!S84,'Data Input'!U84,'Data Input'!V84,'Data Input'!W84,'Data Input'!X84,'Data Input'!Z84,'Data Input'!AA84,'Data Input'!AD84,'Data Input'!AZ84))","v":""},{"$f":"IF(J80=\"\",\"\",J80/COUNTIF('Data Input'!$C$8:$AZ$8,$J$2))","v":""},{"$f":"IF(ISBLANK('Data Input'!A84),\"\",SUM('Data Input'!Q84,'Data Input'!AG84))","v":""},{"$f":"IF(L80=\"\",\"\",L80/COUNTIF('Data Input'!$C$8:$AZ$8,$L$2))","v":""},{"$f":"IF(ISBLANK('Data Input'!A84),\"\",SUM('Data Input'!D84,'Data Input'!E84,'Data Input'!F84,'Data Input'!L84,'Data Input'!M84,'Data Input'!AB84,'Data Input'!AC84,'Data Input'!AF84,'Data Input'!AJ84,'Data Input'!AL84,'Data Input'!AN84,'Data Input'!AO84,'Data Input'!AP84,'Data Input'!AQ84,'Data Input'!AR84,'Data Input'!AS84,'Data Input'!AT84,'Data Input'!AU84,'Data Input'!AV84,'Data Input'!AW84,'Data Input'!AX84,'Data Input'!AY84))","v":""},{"$f":"IF(N80=\"\",\"\",N80/COUNTIF('Data Input'!$C$8:$AZ$8,$N$2))","v":""},null,{"$f":"IF(P80=\"\",\"\",P80/COUNTIF('Data Input'!$C$8:$AZ$8,$P$2))","v":""},{"$f":"IF(ISBLANK('Data Input'!A84),\"\",SUM('Data Input'!AH84))","v":""},{"$f":"IF(R80=\"\",\"\",R80/COUNTIF('Data Input'!$C$8:$AZ$8,$R$2))","v":""},{"$f":"IF(ISBLANK('Data Input'!$A84),\"\",SUM('Data Input'!AI84))","v":""},{"$f":"IF(T80=\"\",\"\",T80/COUNTIF('Data Input'!$C$8:$AZ$8,$T$2))","v":""},null,{"$f":"IF(V80=\"\",\"\",V80/COUNTIF('Data Input'!$C$8:$AZ$8,$V$2))","v":""}]
[{"$f":"IF('Data Input'!A85=0,\"\",'Data Input'!A85)","v":""},{"$f":"IF(F81=\"\",\"\",IF(F81>Welcome!$J$20-1,\"Exceeding\",IF(F81>Welcome!$F$20-1,\"Expected\",IF(F81<Welcome!$F$20,\"Below\"))))","v":""},{"$f":"IF(ISBLANK('Data Input'!A85),\"\",COUNTIF('Data Input'!C85:AZ85,\"\"))","v":""},{"$f":"IF(ISBLANK('Data Input'!A85),\"\",COUNTIF('Data Input'!C85:AZ85,\"0\"))","v":""},{"$f":"IF(ISBLANK('Data Input'!A85),\"\",SUM(C81,D81))","v":""},{"$f":"IF(ISBLANK('Data Input'!A85),\"\",SUM('Data Input'!C85:AZ85))","v":""},{"$f":"IF(F81=\"\",\"\",F81/(COUNTA('Data Input'!$C$8:$AZ$8)))","v":""},{"$f":"IF(ISBLANK('Data Input'!A85),\"\",SUM('Data Input'!C85,'Data Input'!H85,'Data Input'!J85,'Data Input'!N85,'Data Input'!R85,'Data Input'!T85,'Data Input'!Y85,'Data Input'!AE85,'Data Input'!AK85,'Data Input'!AM85))","v":""},{"$f":"IF(H81=\"\",\"\",H81/COUNTIF('Data Input'!$C$8:$AZ$8,$H$2))","v":""},{"$f":"IF(ISBLANK('Data Input'!A85),\"\",SUM('Data Input'!G85,'Data Input'!I85,'Data Input'!K85,'Data Input'!O85,'Data Input'!P85,'Data Input'!S85,'Data Input'!U85,'Data Input'!V85,'Data Input'!W85,'Data Input'!X85,'Data Input'!Z85,'Data Input'!AA85,'Data Input'!AD85,'Data Input'!AZ85))","v":""},{"$f":"IF(J81=\"\",\"\",J81/COUNTIF('Data Input'!$C$8:$AZ$8,$J$2))","v":""},{"$f":"IF(ISBLANK('Data Input'!A85),\"\",SUM('Data Input'!Q85,'Data Input'!AG85))","v":""},{"$f":"IF(L81=\"\",\"\",L81/COUNTIF('Data Input'!$C$8:$AZ$8,$L$2))","v":""},{"$f":"IF(ISBLANK('Data Input'!A85),\"\",SUM('Data Input'!D85,'Data Input'!E85,'Data Input'!F85,'Data Input'!L85,'Data Input'!M85,'Data Input'!AB85,'Data Input'!AC85,'Data Input'!AF85,'Data Input'!AJ85,'Data Input'!AL85,'Data Input'!AN85,'Data Input'!AO85,'Data Input'!AP85,'Data Input'!AQ85,'Data Input'!AR85,'Data Input'!AS85,'Data Input'!AT85,'Data Input'!AU85,'Data Input'!AV85,'Data Input'!AW85,'Data Input'!AX85,'Data Input'!AY85))","v":""},{"$f":"IF(N81=\"\",\"\",N81/COUNTIF('Data Input'!$C$8:$AZ$8,$N$2))","v":""},null,{"$f":"IF(P81=\"\",\"\",P81/COUNTIF('Data Input'!$C$8:$AZ$8,$P$2))","v":""},{"$f":"IF(ISBLANK('Data Input'!A85),\"\",SUM('Data Input'!AH85))","v":""},{"$f":"IF(R81=\"\",\"\",R81/COUNTIF('Data Input'!$C$8:$AZ$8,$R$2))","v":""},{"$f":"IF(ISBLANK('Data Input'!$A85),\"\",SUM('Data Input'!AI85))","v":""},{"$f":"IF(T81=\"\",\"\",T81/COUNTIF('Data Input'!$C$8:$AZ$8,$T$2))","v":""},null,{"$f":"IF(V81=\"\",\"\",V81/COUNTIF('Data Input'!$C$8:$AZ$8,$V$2))","v":""}]
[{"$f":"IF('Data Input'!A86=0,\"\",'Data Input'!A86)","v":""},{"$f":"IF(F82=\"\",\"\",IF(F82>Welcome!$J$20-1,\"Exceeding\",IF(F82>Welcome!$F$20-1,\"Expected\",IF(F82<Welcome!$F$20,\"Below\"))))","v":""},{"$f":"IF(ISBLANK('Data Input'!A86),\"\",COUNTIF('Data Input'!C86:AZ86,\"\"))","v":""},{"$f":"IF(ISBLANK('Data Input'!A86),\"\",COUNTIF('Data Input'!C86:AZ86,\"0\"))","v":""},{"$f":"IF(ISBLANK('Data Input'!A86),\"\",SUM(C82,D82))","v":""},{"$f":"IF(ISBLANK('Data Input'!A86),\"\",SUM('Data Input'!C86:AZ86))","v":""},{"$f":"IF(F82=\"\",\"\",F82/(COUNTA('Data Input'!$C$8:$AZ$8)))","v":""},{"$f":"IF(ISBLANK('Data Input'!A86),\"\",SUM('Data Input'!C86,'Data Input'!H86,'Data Input'!J86,'Data Input'!N86,'Data Input'!R86,'Data Input'!T86,'Data Input'!Y86,'Data Input'!AE86,'Data Input'!AK86,'Data Input'!AM86))","v":""},{"$f":"IF(H82=\"\",\"\",H82/COUNTIF('Data Input'!$C$8:$AZ$8,$H$2))","v":""},{"$f":"IF(ISBLANK('Data Input'!A86),\"\",SUM('Data Input'!G86,'Data Input'!I86,'Data Input'!K86,'Data Input'!O86,'Data Input'!P86,'Data Input'!S86,'Data Input'!U86,'Data Input'!V86,'Data Input'!W86,'Data Input'!X86,'Data Input'!Z86,'Data Input'!AA86,'Data Input'!AD86,'Data Input'!AZ86))","v":""},{"$f":"IF(J82=\"\",\"\",J82/COUNTIF('Data Input'!$C$8:$AZ$8,$J$2))","v":""},{"$f":"IF(ISBLANK('Data Input'!A86),\"\",SUM('Data Input'!Q86,'Data Input'!AG86))","v":""},{"$f":"IF(L82=\"\",\"\",L82/COUNTIF('Data Input'!$C$8:$AZ$8,$L$2))","v":""},{"$f":"IF(ISBLANK('Data Input'!A86),\"\",SUM('Data Input'!D86,'Data Input'!E86,'Data Input'!F86,'Data Input'!L86,'Data Input'!M86,'Data Input'!AB86,'Data Input'!AC86,'Data Input'!AF86,'Data Input'!AJ86,'Data Input'!AL86,'Data Input'!AN86,'Data Input'!AO86,'Data Input'!AP86,'Data Input'!AQ86,'Data Input'!AR86,'Data Input'!AS86,'Data Input'!AT86,'Data Input'!AU86,'Data Input'!AV86,'Data Input'!AW86,'Data Input'!AX86,'Data Input'!AY86))","v":""},{"$f":"IF(N82=\"\",\"\",N82/COUNTIF('Data Input'!$C$8:$AZ$8,$N$2))","v":""},null,{"$f":"IF(P82=\"\",\"\",P82/COUNTIF('Data Input'!$C$8:$AZ$8,$P$2))","v":""},{"$f":"IF(ISBLANK('Data Input'!A86),\"\",SUM('Data Input'!AH86))","v":""},{"$f":"IF(R82=\"\",\"\",R82/COUNTIF('Data Input'!$C$8:$AZ$8,$R$2))","v":""},{"$f":"IF(ISBLANK('Data Input'!$A86),\"\",SUM('Data Input'!AI86))","v":""},{"$f":"IF(T82=\"\",\"\",T82/COUNTIF('Data Input'!$C$8:$AZ$8,$T$2))","v":""},null,{"$f":"IF(V82=\"\",\"\",V82/COUNTIF('Data Input'!$C$8:$AZ$8,$V$2))","v":""}]
[{"$f":"IF('Data Input'!A87=0,\"\",'Data Input'!A87)","v":""},{"$f":"IF(F83=\"\",\"\",IF(F83>Welcome!$J$20-1,\"Exceeding\",IF(F83>Welcome!$F$20-1,\"Expected\",IF(F83<Welcome!$F$20,\"Below\"))))","v":""},{"$f":"IF(ISBLANK('Data Input'!A87),\"\",COUNTIF('Data Input'!C87:AZ87,\"\"))","v":""},{"$f":"IF(ISBLANK('Data Input'!A87),\"\",COUNTIF('Data Input'!C87:AZ87,\"0\"))","v":""},{"$f":"IF(ISBLANK('Data Input'!A87),\"\",SUM(C83,D83))","v":""},{"$f":"IF(ISBLANK('Data Input'!A87),\"\",SUM('Data Input'!C87:AZ87))","v":""},{"$f":"IF(F83=\"\",\"\",F83/(COUNTA('Data Input'!$C$8:$AZ$8)))","v":""},{"$f":"IF(ISBLANK('Data Input'!A87),\"\",SUM('Data Input'!C87,'Data Input'!H87,'Data Input'!J87,'Data Input'!N87,'Data Input'!R87,'Data Input'!T87,'Data Input'!Y87,'Data Input'!AE87,'Data Input'!AK87,'Data Input'!AM87))","v":""},{"$f":"IF(H83=\"\",\"\",H83/COUNTIF('Data Input'!$C$8:$AZ$8,$H$2))","v":""},{"$f":"IF(ISBLANK('Data Input'!A87),\"\",SUM('Data Input'!G87,'Data Input'!I87,'Data Input'!K87,'Data Input'!O87,'Data Input'!P87,'Data Input'!S87,'Data Input'!U87,'Data Input'!V87,'Data Input'!W87,'Data Input'!X87,'Data Input'!Z87,'Data Input'!AA87,'Data Input'!AD87,'Data Input'!AZ87))","v":""},{"$f":"IF(J83=\"\",\"\",J83/COUNTIF('Data Input'!$C$8:$AZ$8,$J$2))","v":""},{"$f":"IF(ISBLANK('Data Input'!A87),\"\",SUM('Data Input'!Q87,'Data Input'!AG87))","v":""},{"$f":"IF(L83=\"\",\"\",L83/COUNTIF('Data Input'!$C$8:$AZ$8,$L$2))","v":""},{"$f":"IF(ISBLANK('Data Input'!A87),\"\",SUM('Data Input'!D87,'Data Input'!E87,'Data Input'!F87,'Data Input'!L87,'Data Input'!M87,'Data Input'!AB87,'Data Input'!AC87,'Data Input'!AF87,'Data Input'!AJ87,'Data Input'!AL87,'Data Input'!AN87,'Data Input'!AO87,'Data Input'!AP87,'Data Input'!AQ87,'Data Input'!AR87,'Data Input'!AS87,'Data Input'!AT87,'Data Input'!AU87,'Data Input'!AV87,'Data Input'!AW87,'Data Input'!AX87,'Data Input'!AY87))","v":""},{"$f":"IF(N83=\"\",\"\",N83/COUNTIF('Data Input'!$C$8:$AZ$8,$N$2))","v":""},null,{"$f":"IF(P83=\"\",\"\",P83/COUNTIF('Data Input'!$C$8:$AZ$8,$P$2))","v":""},{"$f":"IF(ISBLANK('Data Input'!A87),\"\",SUM('Data Input'!AH87))","v":""},{"$f":"IF(R83=\"\",\"\",R83/COUNTIF('Data Input'!$C$8:$AZ$8,$R$2))","v":""},{"$f":"IF(ISBLANK('Data Input'!$A87),\"\",SUM('Data Input'!AI87))","v":""},{"$f":"IF(T83=\"\",\"\",T83/COUNTIF('Data Input'!$C$8:$AZ$8,$T$2))","v":""},null,{"$f":"IF(V83=\"\",\"\",V83/COUNTIF('Data Input'!$C$8:$AZ$8,$V$2))","v":""}]
[{"$f":"IF('Data Input'!A88=0,\"\",'Data Input'!A88)","v":""},{"$f":"IF(F84=\"\",\"\",IF(F84>Welcome!$J$20-1,\"Exceeding\",IF(F84>Welcome!$F$20-1,\"Expected\",IF(F84<Welcome!$F$20,\"Below\"))))","v":""},{"$f":"IF(ISBLANK('Data Input'!A88),\"\",COUNTIF('Data Input'!C88:AZ88,\"\"))","v":""},{"$f":"IF(ISBLANK('Data Input'!A88),\"\",COUNTIF('Data Input'!C88:AZ88,\"0\"))","v":""},{"$f":"IF(ISBLANK('Data Input'!A88),\"\",SUM(C84,D84))","v":""},{"$f":"IF(ISBLANK('Data Input'!A88),\"\",SUM('Data Input'!C88:AZ88))","v":""},{"$f":"IF(F84=\"\",\"\",F84/(COUNTA('Data Input'!$C$8:$AZ$8)))","v":""},{"$f":"IF(ISBLANK('Data Input'!A88),\"\",SUM('Data Input'!C88,'Data Input'!H88,'Data Input'!J88,'Data Input'!N88,'Data Input'!R88,'Data Input'!T88,'Data Input'!Y88,'Data Input'!AE88,'Data Input'!AK88,'Data Input'!AM88))","v":""},{"$f":"IF(H84=\"\",\"\",H84/COUNTIF('Data Input'!$C$8:$AZ$8,$H$2))","v":""},{"$f":"IF(ISBLANK('Data Input'!A88),\"\",SUM('Data Input'!G88,'Data Input'!I88,'Data Input'!K88,'Data Input'!O88,'Data Input'!P88,'Data Input'!S88,'Data Input'!U88,'Data Input'!V88,'Data Input'!W88,'Data Input'!X88,'Data Input'!Z88,'Data Input'!AA88,'Data Input'!AD88,'Data Input'!AZ88))","v":""},{"$f":"IF(J84=\"\",\"\",J84/COUNTIF('Data Input'!$C$8:$AZ$8,$J$2))","v":""},{"$f":"IF(ISBLANK('Data Input'!A88),\"\",SUM('Data Input'!Q88,'Data Input'!AG88))","v":""},{"$f":"IF(L84=\"\",\"\",L84/COUNTIF('Data Input'!$C$8:$AZ$8,$L$2))","v":""},{"$f":"IF(ISBLANK('Data Input'!A88),\"\",SUM('Data Input'!D88,'Data Input'!E88,'Data Input'!F88,'Data Input'!L88,'Data Input'!M88,'Data Input'!AB88,'Data Input'!AC88,'Data Input'!AF88,'Data Input'!AJ88,'Data Input'!AL88,'Data Input'!AN88,'Data Input'!AO88,'Data Input'!AP88,'Data Input'!AQ88,'Data Input'!AR88,'Data Input'!AS88,'Data Input'!AT88,'Data Input'!AU88,'Data Input'!AV88,'Data Input'!AW88,'Data Input'!AX88,'Data Input'!AY88))","v":""},{"$f":"IF(N84=\"\",\"\",N84/COUNTIF('Data Input'!$C$8:$AZ$8,$N$2))","v":""},null,{"$f":"IF(P84=\"\",\"\",P84/COUNTIF('Data Input'!$C$8:$AZ$8,$P$2))","v":""},{"$f":"IF(ISBLANK('Data Input'!A88),\"\",SUM('Data Input'!AH88))","v":""},{"$f":"IF(R84=\"\",\"\",R84/COUNTIF('Data Input'!$C$8:$AZ$8,$R$2))","v":""},{"$f":"IF(ISBLANK('Data Input'!$A88),\"\",SUM('Data Input'!AI88))","v":""},{"$f":"IF(T84=\"\",\"\",T84/COUNTIF('Data Input'!$C$8:$AZ$8,$T$2))","v":""},null,{"$f":"IF(V84=\"\",\"\",V84/COUNTIF('Data Input'!$C$8:$AZ$8,$V$2))","v":""}]
[{"$f":"IF('Data Input'!A89=0,\"\",'Data Input'!A89)","v":""},{"$f":"IF(F85=\"\",\"\",IF(F85>Welcome!$J$20-1,\"Exceeding\",IF(F85>Welcome!$F$20-1,\"Expected\",IF(F85<Welcome!$F$20,\"Below\"))))","v":""},{"$f":"IF(ISBLANK('Data Input'!A89),\"\",COUNTIF('Data Input'!C89:AZ89,\"\"))","v":""},{"$f":"IF(ISBLANK('Data Input'!A89),\"\",COUNTIF('Data Input'!C89:AZ89,\"0\"))","v":""},{"$f":"IF(ISBLANK('Data Input'!A89),\"\",SUM(C85,D85))","v":""},{"$f":"IF(ISBLANK('Data Input'!A89),\"\",SUM('Data Input'!C89:AZ89))","v":""},{"$f":"IF(F85=\"\",\"\",F85/(COUNTA('Data Input'!$C$8:$AZ$8)))","v":""},{"$f":"IF(ISBLANK('Data Input'!A89),\"\",SUM('Data Input'!C89,'Data Input'!H89,'Data Input'!J89,'Data Input'!N89,'Data Input'!R89,'Data Input'!T89,'Data Input'!Y89,'Data Input'!AE89,'Data Input'!AK89,'Data Input'!AM89))","v":""},{"$f":"IF(H85=\"\",\"\",H85/COUNTIF('Data Input'!$C$8:$AZ$8,$H$2))","v":""},{"$f":"IF(ISBLANK('Data Input'!A89),\"\",SUM('Data Input'!G89,'Data Input'!I89,'Data Input'!K89,'Data Input'!O89,'Data Input'!P89,'Data Input'!S89,'Data Input'!U89,'Data Input'!V89,'Data Input'!W89,'Data Input'!X89,'Data Input'!Z89,'Data Input'!AA89,'Data Input'!AD89,'Data Input'!AZ89))","v":""},{"$f":"IF(J85=\"\",\"\",J85/COUNTIF('Data Input'!$C$8:$AZ$8,$J$2))","v":""},{"$f":"IF(ISBLANK('Data Input'!A89),\"\",SUM('Data Input'!Q89,'Data Input'!AG89))","v":""},{"$f":"IF(L85=\"\",\"\",L85/COUNTIF('Data Input'!$C$8:$AZ$8,$L$2))","v":""},{"$f":"IF(ISBLANK('Data Input'!A89),\"\",SUM('Data Input'!D89,'Data Input'!E89,'Data Input'!F89,'Data Input'!L89,'Data Input'!M89,'Data Input'!AB89,'Data Input'!AC89,'Data Input'!AF89,'Data Input'!AJ89,'Data Input'!AL89,'Data Input'!AN89,'Data Input'!AO89,'Data Input'!AP89,'Data Input'!AQ89,'Data Input'!AR89,'Data Input'!AS89,'Data Input'!AT89,'Data Input'!AU89,'Data Input'!AV89,'Data Input'!AW89,'Data Input'!AX89,'Data Input'!AY89))","v":""},{"$f":"IF(N85=\"\",\"\",N85/COUNTIF('Data Input'!$C$8:$AZ$8,$N$2))","v":""},null,{"$f":"IF(P85=\"\",\"\",P85/COUNTIF('Data Input'!$C$8:$AZ$8,$P$2))","v":""},{"$f":"IF(ISBLANK('Data Input'!A89),\"\",SUM('Data Input'!AH89))","v":""},{"$f":"IF(R85=\"\",\"\",R85/COUNTIF('Data Input'!$C$8:$AZ$8,$R$2))","v":""},{"$f":"IF(ISBLANK('Data Input'!$A89),\"\",SUM('Data Input'!AI89))","v":""},{"$f":"IF(T85=\"\",\"\",T85/COUNTIF('Data Input'!$C$8:$AZ$8,$T$2))","v":""},null,{"$f":"IF(V85=\"\",\"\",V85/COUNTIF('Data Input'!$C$8:$AZ$8,$V$2))","v":""}]
[{"$f":"IF('Data Input'!A90=0,\"\",'Data Input'!A90)","v":""},{"$f":"IF(F86=\"\",\"\",IF(F86>Welcome!$J$20-1,\"Exceeding\",IF(F86>Welcome!$F$20-1,\"Expected\",IF(F86<Welcome!$F$20,\"Below\"))))","v":""},{"$f":"IF(ISBLANK('Data Input'!A90),\"\",COUNTIF('Data Input'!C90:AZ90,\"\"))","v":""},{"$f":"IF(ISBLANK('Data Input'!A90),\"\",COUNTIF('Data Input'!C90:AZ90,\"0\"))","v":""},{"$f":"IF(ISBLANK('Data Input'!A90),\"\",SUM(C86,D86))","v":""},{"$f":"IF(ISBLANK('Data Input'!A90),\"\",SUM('Data Input'!C90:AZ90))","v":""},{"$f":"IF(F86=\"\",\"\",F86/(COUNTA('Data Input'!$C$8:$AZ$8)))","v":""},{"$f":"IF(ISBLANK('Data Input'!A90),\"\",SUM('Data Input'!C90,'Data Input'!H90,'Data Input'!J90,'Data Input'!N90,'Data Input'!R90,'Data Input'!T90,'Data Input'!Y90,'Data Input'!AE90,'Data Input'!AK90,'Data Input'!AM90))","v":""},{"$f":"IF(H86=\"\",\"\",H86/COUNTIF('Data Input'!$C$8:$AZ$8,$H$2))","v":""},{"$f":"IF(ISBLANK('Data Input'!A90),\"\",SUM('Data Input'!G90,'Data Input'!I90,'Data Input'!K90,'Data Input'!O90,'Data Input'!P90,'Data Input'!S90,'Data Input'!U90,'Data Input'!V90,'Data Input'!W90,'Data Input'!X90,'Data Input'!Z90,'Data Input'!AA90,'Data Input'!AD90,'Data Input'!AZ90))","v":""},{"$f":"IF(J86=\"\",\"\",J86/COUNTIF('Data Input'!$C$8:$AZ$8,$J$2))","v":""},{"$f":"IF(ISBLANK('Data Input'!A90),\"\",SUM('Data Input'!Q90,'Data Input'!AG90))","v":""},{"$f":"IF(L86=\"\",\"\",L86/COUNTIF('Data Input'!$C$8:$AZ$8,$L$2))","v":""},{"$f":"IF(ISBLANK('Data Input'!A90),\"\",SUM('Data Input'!D90,'Data Input'!E90,'Data Input'!F90,'Data Input'!L90,'Data Input'!M90,'Data Input'!AB90,'Data Input'!AC90,'Data Input'!AF90,'Data Input'!AJ90,'Data Input'!AL90,'Data Input'!AN90,'Data Input'!AO90,'Data Input'!AP90,'Data Input'!AQ90,'Data Input'!AR90,'Data Input'!AS90,'Data Input'!AT90,'Data Input'!AU90,'Data Input'!AV90,'Data Input'!AW90,'Data Input'!AX90,'Data Input'!AY90))","v":""},{"$f":"IF(N86=\"\",\"\",N86/COUNTIF('Data Input'!$C$8:$AZ$8,$N$2))","v":""},null,{"$f":"IF(P86=\"\",\"\",P86/COUNTIF('Data Input'!$C$8:$AZ$8,$P$2))","v":""},{"$f":"IF(ISBLANK('Data Input'!A90),\"\",SUM('Data Input'!AH90))","v":""},{"$f":"IF(R86=\"\",\"\",R86/COUNTIF('Data Input'!$C$8:$AZ$8,$R$2))","v":""},{"$f":"IF(ISBLANK('Data Input'!$A90),\"\",SUM('Data Input'!AI90))","v":""},{"$f":"IF(T86=\"\",\"\",T86/COUNTIF('Data Input'!$C$8:$AZ$8,$T$2))","v":""},null,{"$f":"IF(V86=\"\",\"\",V86/COUNTIF('Data Input'!$C$8:$AZ$8,$V$2))","v":""}]
[{"$f":"IF('Data Input'!A91=0,\"\",'Data Input'!A91)","v":""},{"$f":"IF(F87=\"\",\"\",IF(F87>Welcome!$J$20-1,\"Exceeding\",IF(F87>Welcome!$F$20-1,\"Expected\",IF(F87<Welcome!$F$20,\"Below\"))))","v":""},{"$f":"IF(ISBLANK('Data Input'!A91),\"\",COUNTIF('Data Input'!C91:AZ91,\"\"))","v":""},{"$f":"IF(ISBLANK('Data Input'!A91),\"\",COUNTIF('Data Input'!C91:AZ91,\"0\"))","v":""},{"$f":"IF(ISBLANK('Data Input'!A91),\"\",SUM(C87,D87))","v":""},{"$f":"IF(ISBLANK('Data Input'!A91),\"\",SUM('Data Input'!C91:AZ91))","v":""},{"$f":"IF(F87=\"\",\"\",F87/(COUNTA('Data Input'!$C$8:$AZ$8)))","v":""},{"$f":"IF(ISBLANK('Data Input'!A91),\"\",SUM('Data Input'!C91,'Data Input'!H91,'Data Input'!J91,'Data Input'!N91,'Data Input'!R91,'Data Input'!T91,'Data Input'!Y91,'Data Input'!AE91,'Data Input'!AK91,'Data Input'!AM91))","v":""},{"$f":"IF(H87=\"\",\"\",H87/COUNTIF('Data Input'!$C$8:$AZ$8,$H$2))","v":""},{"$f":"IF(ISBLANK('Data Input'!A91),\"\",SUM('Data Input'!G91,'Data Input'!I91,'Data Input'!K91,'Data Input'!O91,'Data Input'!P91,'Data Input'!S91,'Data Input'!U91,'Data Input'!V91,'Data Input'!W91,'Data Input'!X91,'Data Input'!Z91,'Data Input'!AA91,'Data Input'!AD91,'Data Input'!AZ91))","v":""},{"$f":"IF(J87=\"\",\"\",J87/COUNTIF('Data Input'!$C$8:$AZ$8,$J$2))","v":""},{"$f":"IF(ISBLANK('Data Input'!A91),\"\",SUM('Data Input'!Q91,'Data Input'!AG91))","v":""},{"$f":"IF(L87=\"\",\"\",L87/COUNTIF('Data Input'!$C$8:$AZ$8,$L$2))","v":""},{"$f":"IF(ISBLANK('Data Input'!A91),\"\",SUM('Data Input'!D91,'Data Input'!E91,'Data Input'!F91,'Data Input'!L91,'Data Input'!M91,'Data Input'!AB91,'Data Input'!AC91,'Data Input'!AF91,'Data Input'!AJ91,'Data Input'!AL91,'Data Input'!AN91,'Data Input'!AO91,'Data Input'!AP91,'Data Input'!AQ91,'Data Input'!AR91,'Data Input'!AS91,'Data Input'!AT91,'Data Input'!AU91,'Data Input'!AV91,'Data Input'!AW91,'Data Input'!AX91,'Data Input'!AY91))","v":""},{"$f":"IF(N87=\"\",\"\",N87/COUNTIF('Data Input'!$C$8:$AZ$8,$N$2))","v":""},null,{"$f":"IF(P87=\"\",\"\",P87/COUNTIF('Data Input'!$C$8:$AZ$8,$P$2))","v":""},{"$f":"IF(ISBLANK('Data Input'!A91),\"\",SUM('Data Input'!AH91))","v":""},{"$f":"IF(R87=\"\",\"\",R87/COUNTIF('Data Input'!$C$8:$AZ$8,$R$2))","v":""},{"$f":"IF(ISBLANK('Data Input'!$A91),\"\",SUM('Data Input'!AI91))","v":""},{"$f":"IF(T87=\"\",\"\",T87/COUNTIF('Data Input'!$C$8:$AZ$8,$T$2))","v":""},null,{"$f":"IF(V87=\"\",\"\",V87/COUNTIF('Data Input'!$C$8:$AZ$8,$V$2))","v":""}]
[{"$f":"IF('Data Input'!A92=0,\"\",'Data Input'!A92)","v":""},{"$f":"IF(F88=\"\",\"\",IF(F88>Welcome!$J$20-1,\"Exceeding\",IF(F88>Welcome!$F$20-1,\"Expected\",IF(F88<Welcome!$F$20,\"Below\"))))","v":""},{"$f":"IF(ISBLANK('Data Input'!A92),\"\",COUNTIF('Data Input'!C92:AZ92,\"\"))","v":""},{"$f":"IF(ISBLANK('Data Input'!A92),\"\",COUNTIF('Data Input'!C92:AZ92,\"0\"))","v":""},{"$f":"IF(ISBLANK('Data Input'!A92),\"\",SUM(C88,D88))","v":""},{"$f":"IF(ISBLANK('Data Input'!A92),\"\",SUM('Data Input'!C92:AZ92))","v":""},{"$f":"IF(F88=\"\",\"\",F88/(COUNTA('Data Input'!$C$8:$AZ$8)))","v":""},{"$f":"IF(ISBLANK('Data Input'!A92),\"\",SUM('Data Input'!C92,'Data Input'!H92,'Data Input'!J92,'Data Input'!N92,'Data Input'!R92,'Data Input'!T92,'Data Input'!Y92,'Data Input'!AE92,'Data Input'!AK92,'Data Input'!AM92))","v":""},{"$f":"IF(H88=\"\",\"\",H88/COUNTIF('Data Input'!$C$8:$AZ$8,$H$2))","v":""},{"$f":"IF(ISBLANK('Data Input'!A92),\"\",SUM('Data Input'!G92,'Data Input'!I92,'Data Input'!K92,'Data Input'!O92,'Data Input'!P92,'Data Input'!S92,'Data Input'!U92,'Data Input'!V92,'Data Input'!W92,'Data Input'!X92,'Data Input'!Z92,'Data Input'!AA92,'Data Input'!AD92,'Data Input'!AZ92))","v":""},{"$f":"IF(J88=\"\",\"\",J88/COUNTIF('Data Input'!$C$8:$AZ$8,$J$2))","v":""},{"$f":"IF(ISBLANK('Data Input'!A92),\"\",SUM('Data Input'!Q92,'Data Input'!AG92))","v":""},{"$f":"IF(L88=\"\",\"\",L88/COUNTIF('Data Input'!$C$8:$AZ$8,$L$2))","v":""},{"$f":"IF(ISBLANK('Data Input'!A92),\"\",SUM('Data Input'!D92,'Data Input'!E92,'Data Input'!F92,'Data Input'!L92,'Data Input'!M92,'Data Input'!AB92,'Data Input'!AC92,'Data Input'!AF92,'Data Input'!AJ92,'Data Input'!AL92,'Data Input'!AN92,'Data Input'!AO92,'Data Input'!AP92,'Data Input'!AQ92,'Data Input'!AR92,'Data Input'!AS92,'Data Input'!AT92,'Data Input'!AU92,'Data Input'!AV92,'Data Input'!AW92,'Data Input'!AX92,'Data Input'!AY92))","v":""},{"$f":"IF(N88=\"\",\"\",N88/COUNTIF('Data Input'!$C$8:$AZ$8,$N$2))","v":""},null,{"$f":"IF(P88=\"\",\"\",P88/COUNTIF('Data Input'!$C$8:$AZ$8,$P$2))","v":""},{"$f":"IF(ISBLANK('Data Input'!A92),\"\",SUM('Data Input'!AH92))","v":""},{"$f":"IF(R88=\"\",\"\",R88/COUNTIF('Data Input'!$C$8:$AZ$8,$R$2))","v":""},{"$f":"IF(ISBLANK('Data Input'!$A92),\"\",SUM('Data Input'!AI92))","v":""},{"$f":"IF(T88=\"\",\"\",T88/COUNTIF('Data Input'!$C$8:$AZ$8,$T$2))","v":""},null,{"$f":"IF(V88=\"\",\"\",V88/COUNTIF('Data Input'!$C$8:$AZ$8,$V$2))","v":""}]
[{"$f":"IF('Data Input'!A93=0,\"\",'Data Input'!A93)","v":""},{"$f":"IF(F89=\"\",\"\",IF(F89>Welcome!$J$20-1,\"Exceeding\",IF(F89>Welcome!$F$20-1,\"Expected\",IF(F89<Welcome!$F$20,\"Below\"))))","v":""},{"$f":"IF(ISBLANK('Data Input'!A93),\"\",COUNTIF('Data Input'!C93:AZ93,\"\"))","v":""},{"$f":"IF(ISBLANK('Data Input'!A93),\"\",COUNTIF('Data Input'!C93:AZ93,\"0\"))","v":""},{"$f":"IF(ISBLANK('Data Input'!A93),\"\",SUM(C89,D89))","v":""},{"$f":"IF(ISBLANK('Data Input'!A93),\"\",SUM('Data Input'!C93:AZ93))","v":""},{"$f":"IF(F89=\"\",\"\",F89/(COUNTA('Data Input'!$C$8:$AZ$8)))","v":""},{"$f":"IF(ISBLANK('Data Input'!A93),\"\",SUM('Data Input'!C93,'Data Input'!H93,'Data Input'!J93,'Data Input'!N93,'Data Input'!R93,'Data Input'!T93,'Data Input'!Y93,'Data Input'!AE93,'Data Input'!AK93,'Data Input'!AM93))","v":""},{"$f":"IF(H89=\"\",\"\",H89/COUNTIF('Data Input'!$C$8:$AZ$8,$H$2))","v":""},{"$f":"IF(ISBLANK('Data Input'!A93),\"\",SUM('Data Input'!G93,'Data Input'!I93,'Data Input'!K93,'Data Input'!O93,'Data Input'!P93,'Data Input'!S93,'Data Input'!U93,'Data Input'!V93,'Data Input'!W93,'Data Input'!X93,'Data Input'!Z93,'Data Input'!AA93,'Data Input'!AD93,'Data Input'!AZ93))","v":""},{"$f":"IF(J89=\"\",\"\",J89/COUNTIF('Data Input'!$C$8:$AZ$8,$J$2))","v":""},{"$f":"IF(ISBLANK('Data Input'!A93),\"\",SUM('Data Input'!Q93,'Data Input'!AG93))","v":""},{"$f":"IF(L89=\"\",\"\",L89/COUNTIF('Data Input'!$C$8:$AZ$8,$L$2))","v":""},{"$f":"IF(ISBLANK('Data Input'!A93),\"\",SUM('Data Input'!D93,'Data Input'!E93,'Data Input'!F93,'Data Input'!L93,'Data Input'!M93,'Data Input'!AB93,'Data Input'!AC93,'Data Input'!AF93,'Data Input'!AJ93,'Data Input'!AL93,'Data Input'!AN93,'Data Input'!AO93,'Data Input'!AP93,'Data Input'!AQ93,'Data Input'!AR93,'Data Input'!AS93,'Data Input'!AT93,'Data Input'!AU93,'Data Input'!AV93,'Data Input'!AW93,'Data Input'!AX93,'Data Input'!AY93))","v":""},{"$f":"IF(N89=\"\",\"\",N89/COUNTIF('Data Input'!$C$8:$AZ$8,$N$2))","v":""},null,{"$f":"IF(P89=\"\",\"\",P89/COUNTIF('Data Input'!$C$8:$AZ$8,$P$2))","v":""},{"$f":"IF(ISBLANK('Data Input'!A93),\"\",SUM('Data Input'!AH93))","v":""},{"$f":"IF(R89=\"\",\"\",R89/COUNTIF('Data Input'!$C$8:$AZ$8,$R$2))","v":""},{"$f":"IF(ISBLANK('Data Input'!$A93),\"\",SUM('Data Input'!AI93))","v":""},{"$f":"IF(T89=\"\",\"\",T89/COUNTIF('Data Input'!$C$8:$AZ$8,$T$2))","v":""},null,{"$f":"IF(V89=\"\",\"\",V89/COUNTIF('Data Input'!$C$8:$AZ$8,$V$2))","v":""}]
[{"$f":"IF('Data Input'!A94=0,\"\",'Data Input'!A94)","v":""},{"$f":"IF(F90=\"\",\"\",IF(F90>Welcome!$J$20-1,\"Exceeding\",IF(F90>Welcome!$F$20-1,\"Expected\",IF(F90<Welcome!$F$20,\"Below\"))))","v":""},{"$f":"IF(ISBLANK('Data Input'!A94),\"\",COUNTIF('Data Input'!C94:AZ94,\"\"))","v":""},{"$f":"IF(ISBLANK('Data Input'!A94),\"\",COUNTIF('Data Input'!C94:AZ94,\"0\"))","v":""},{"$f":"IF(ISBLANK('Data Input'!A94),\"\",SUM(C90,D90))","v":""},{"$f":"IF(ISBLANK('Data Input'!A94),\"\",SUM('Data Input'!C94:AZ94))","v":""},{"$f":"IF(F90=\"\",\"\",F90/(COUNTA('Data Input'!$C$8:$AZ$8)))","v":""},{"$f":"IF(ISBLANK('Data Input'!A94),\"\",SUM('Data Input'!C94,'Data Input'!H94,'Data Input'!J94,'Data Input'!N94,'Data Input'!R94,'Data Input'!T94,'Data Input'!Y94,'Data Input'!AE94,'Data Input'!AK94,'Data Input'!AM94))","v":""},{"$f":"IF(H90=\"\",\"\",H90/COUNTIF('Data Input'!$C$8:$AZ$8,$H$2))","v":""},{"$f":"IF(ISBLANK('Data Input'!A94),\"\",SUM('Data Input'!G94,'Data Input'!I94,'Data Input'!K94,'Data Input'!O94,'Data Input'!P94,'Data Input'!S94,'Data Input'!U94,'Data Input'!V94,'Data Input'!W94,'Data Input'!X94,'Data Input'!Z94,'Data Input'!AA94,'Data Input'!AD94,'Data Input'!AZ94))","v":""},{"$f":"IF(J90=\"\",\"\",J90/COUNTIF('Data Input'!$C$8:$AZ$8,$J$2))","v":""},{"$f":"IF(ISBLANK('Data Input'!A94),\"\",SUM('Data Input'!Q94,'Data Input'!AG94))","v":""},{"$f":"IF(L90=\"\",\"\",L90/COUNTIF('Data Input'!$C$8:$AZ$8,$L$2))","v":""},{"$f":"IF(ISBLANK('Data Input'!A94),\"\",SUM('Data Input'!D94,'Data Input'!E94,'Data Input'!F94,'Data Input'!L94,'Data Input'!M94,'Data Input'!AB94,'Data Input'!AC94,'Data Input'!AF94,'Data Input'!AJ94,'Data Input'!AL94,'Data Input'!AN94,'Data Input'!AO94,'Data Input'!AP94,'Data Input'!AQ94,'Data Input'!AR94,'Data Input'!AS94,'Data Input'!AT94,'Data Input'!AU94,'Data Input'!AV94,'Data Input'!AW94,'Data Input'!AX94,'Data Input'!AY94))","v":""},{"$f":"IF(N90=\"\",\"\",N90/COUNTIF('Data Input'!$C$8:$AZ$8,$N$2))","v":""},null,{"$f":"IF(P90=\"\",\"\",P90/COUNTIF('Data Input'!$C$8:$AZ$8,$P$2))","v":""},{"$f":"IF(ISBLANK('Data Input'!A94),\"\",SUM('Data Input'!AH94))","v":""},{"$f":"IF(R90=\"\",\"\",R90/COUNTIF('Data Input'!$C$8:$AZ$8,$R$2))","v":""},{"$f":"IF(ISBLANK('Data Input'!$A94),\"\",SUM('Data Input'!AI94))","v":""},{"$f":"IF(T90=\"\",\"\",T90/COUNTIF('Data Input'!$C$8:$AZ$8,$T$2))","v":""},null,{"$f":"IF(V90=\"\",\"\",V90/COUNTIF('Data Input'!$C$8:$AZ$8,$V$2))","v":""}]
[{"$f":"IF('Data Input'!A95=0,\"\",'Data Input'!A95)","v":""},{"$f":"IF(F91=\"\",\"\",IF(F91>Welcome!$J$20-1,\"Exceeding\",IF(F91>Welcome!$F$20-1,\"Expected\",IF(F91<Welcome!$F$20,\"Below\"))))","v":""},{"$f":"IF(ISBLANK('Data Input'!A95),\"\",COUNTIF('Data Input'!C95:AZ95,\"\"))","v":""},{"$f":"IF(ISBLANK('Data Input'!A95),\"\",COUNTIF('Data Input'!C95:AZ95,\"0\"))","v":""},{"$f":"IF(ISBLANK('Data Input'!A95),\"\",SUM(C91,D91))","v":""},{"$f":"IF(ISBLANK('Data Input'!A95),\"\",SUM('Data Input'!C95:AZ95))","v":""},{"$f":"IF(F91=\"\",\"\",F91/(COUNTA('Data Input'!$C$8:$AZ$8)))","v":""},{"$f":"IF(ISBLANK('Data Input'!A95),\"\",SUM('Data Input'!C95,'Data Input'!H95,'Data Input'!J95,'Data Input'!N95,'Data Input'!R95,'Data Input'!T95,'Data Input'!Y95,'Data Input'!AE95,'Data Input'!AK95,'Data Input'!AM95))","v":""},{"$f":"IF(H91=\"\",\"\",H91/COUNTIF('Data Input'!$C$8:$AZ$8,$H$2))","v":""},{"$f":"IF(ISBLANK('Data Input'!A95),\"\",SUM('Data Input'!G95,'Data Input'!I95,'Data Input'!K95,'Data Input'!O95,'Data Input'!P95,'Data Input'!S95,'Data Input'!U95,'Data Input'!V95,'Data Input'!W95,'Data Input'!X95,'Data Input'!Z95,'Data Input'!AA95,'Data Input'!AD95,'Data Input'!AZ95))","v":""},{"$f":"IF(J91=\"\",\"\",J91/COUNTIF('Data Input'!$C$8:$AZ$8,$J$2))","v":""},{"$f":"IF(ISBLANK('Data Input'!A95),\"\",SUM('Data Input'!Q95,'Data Input'!AG95))","v":""},{"$f":"IF(L91=\"\",\"\",L91/COUNTIF('Data Input'!$C$8:$AZ$8,$L$2))","v":""},{"$f":"IF(ISBLANK('Data Input'!A95),\"\",SUM('Data Input'!D95,'Data Input'!E95,'Data Input'!F95,'Data Input'!L95,'Data Input'!M95,'Data Input'!AB95,'Data Input'!AC95,'Data Input'!AF95,'Data Input'!AJ95,'Data Input'!AL95,'Data Input'!AN95,'Data Input'!AO95,'Data Input'!AP95,'Data Input'!AQ95,'Data Input'!AR95,'Data Input'!AS95,'Data Input'!AT95,'Data Input'!AU95,'Data Input'!AV95,'Data Input'!AW95,'Data Input'!AX95,'Data Input'!AY95))","v":""},{"$f":"IF(N91=\"\",\"\",N91/COUNTIF('Data Input'!$C$8:$AZ$8,$N$2))","v":""},null,{"$f":"IF(P91=\"\",\"\",P91/COUNTIF('Data Input'!$C$8:$AZ$8,$P$2))","v":""},{"$f":"IF(ISBLANK('Data Input'!A95),\"\",SUM('Data Input'!AH95))","v":""},{"$f":"IF(R91=\"\",\"\",R91/COUNTIF('Data Input'!$C$8:$AZ$8,$R$2))","v":""},{"$f":"IF(ISBLANK('Data Input'!$A95),\"\",SUM('Data Input'!AI95))","v":""},{"$f":"IF(T91=\"\",\"\",T91/COUNTIF('Data Input'!$C$8:$AZ$8,$T$2))","v":""},null,{"$f":"IF(V91=\"\",\"\",V91/COUNTIF('Data Input'!$C$8:$AZ$8,$V$2))","v":""}]
[{"$f":"IF('Data Input'!A96=0,\"\",'Data Input'!A96)","v":""},{"$f":"IF(F92=\"\",\"\",IF(F92>Welcome!$J$20-1,\"Exceeding\",IF(F92>Welcome!$F$20-1,\"Expected\",IF(F92<Welcome!$F$20,\"Below\"))))","v":""},{"$f":"IF(ISBLANK('Data Input'!A96),\"\",COUNTIF('Data Input'!C96:AZ96,\"\"))","v":""},{"$f":"IF(ISBLANK('Data Input'!A96),\"\",COUNTIF('Data Input'!C96:AZ96,\"0\"))","v":""},{"$f":"IF(ISBLANK('Data Input'!A96),\"\",SUM(C92,D92))","v":""},{"$f":"IF(ISBLANK('Data Input'!A96),\"\",SUM('Data Input'!C96:AZ96))","v":""},{"$f":"IF(F92=\"\",\"\",F92/(COUNTA('Data Input'!$C$8:$AZ$8)))","v":""},{"$f":"IF(ISBLANK('Data Input'!A96),\"\",SUM('Data Input'!C96,'Data Input'!H96,'Data Input'!J96,'Data Input'!N96,'Data Input'!R96,'Data Input'!T96,'Data Input'!Y96,'Data Input'!AE96,'Data Input'!AK96,'Data Input'!AM96))","v":""},{"$f":"IF(H92=\"\",\"\",H92/COUNTIF('Data Input'!$C$8:$AZ$8,$H$2))","v":""},{"$f":"IF(ISBLANK('Data Input'!A96),\"\",SUM('Data Input'!G96,'Data Input'!I96,'Data Input'!K96,'Data Input'!O96,'Data Input'!P96,'Data Input'!S96,'Data Input'!U96,'Data Input'!V96,'Data Input'!W96,'Data Input'!X96,'Data Input'!Z96,'Data Input'!AA96,'Data Input'!AD96,'Data Input'!AZ96))","v":""},{"$f":"IF(J92=\"\",\"\",J92/COUNTIF('Data Input'!$C$8:$AZ$8,$J$2))","v":""},{"$f":"IF(ISBLANK('Data Input'!A96),\"\",SUM('Data Input'!Q96,'Data Input'!AG96))","v":""},{"$f":"IF(L92=\"\",\"\",L92/COUNTIF('Data Input'!$C$8:$AZ$8,$L$2))","v":""},{"$f":"IF(ISBLANK('Data Input'!A96),\"\",SUM('Data Input'!D96,'Data Input'!E96,'Data Input'!F96,'Data Input'!L96,'Data Input'!M96,'Data Input'!AB96,'Data Input'!AC96,'Data Input'!AF96,'Data Input'!AJ96,'Data Input'!AL96,'Data Input'!AN96,'Data Input'!AO96,'Data Input'!AP96,'Data Input'!AQ96,'Data Input'!AR96,'Data Input'!AS96,'Data Input'!AT96,'Data Input'!AU96,'Data Input'!AV96,'Data Input'!AW96,'Data Input'!AX96,'Data Input'!AY96))","v":""},{"$f":"IF(N92=\"\",\"\",N92/COUNTIF('Data Input'!$C$8:$AZ$8,$N$2))","v":""},null,{"$f":"IF(P92=\"\",\"\",P92/COUNTIF('Data Input'!$C$8:$AZ$8,$P$2))","v":""},{"$f":"IF(ISBLANK('Data Input'!A96),\"\",SUM('Data Input'!AH96))","v":""},{"$f":"IF(R92=\"\",\"\",R92/COUNTIF('Data Input'!$C$8:$AZ$8,$R$2))","v":""},{"$f":"IF(ISBLANK('Data Input'!$A96),\"\",SUM('Data Input'!AI96))","v":""},{"$f":"IF(T92=\"\",\"\",T92/COUNTIF('Data Input'!$C$8:$AZ$8,$T$2))","v":""},null,{"$f":"IF(V92=\"\",\"\",V92/COUNTIF('Data Input'!$C$8:$AZ$8,$V$2))","v":""}]
[{"$f":"IF('Data Input'!A97=0,\"\",'Data Input'!A97)","v":""},{"$f":"IF(F93=\"\",\"\",IF(F93>Welcome!$J$20-1,\"Exceeding\",IF(F93>Welcome!$F$20-1,\"Expected\",IF(F93<Welcome!$F$20,\"Below\"))))","v":""},{"$f":"IF(ISBLANK('Data Input'!A97),\"\",COUNTIF('Data Input'!C97:AZ97,\"\"))","v":""},{"$f":"IF(ISBLANK('Data Input'!A97),\"\",COUNTIF('Data Input'!C97:AZ97,\"0\"))","v":""},{"$f":"IF(ISBLANK('Data Input'!A97),\"\",SUM(C93,D93))","v":""},{"$f":"IF(ISBLANK('Data Input'!A97),\"\",SUM('Data Input'!C97:AZ97))","v":""},{"$f":"IF(F93=\"\",\"\",F93/(COUNTA('Data Input'!$C$8:$AZ$8)))","v":""},{"$f":"IF(ISBLANK('Data Input'!A97),\"\",SUM('Data Input'!C97,'Data Input'!H97,'Data Input'!J97,'Data Input'!N97,'Data Input'!R97,'Data Input'!T97,'Data Input'!Y97,'Data Input'!AE97,'Data Input'!AK97,'Data Input'!AM97))","v":""},{"$f":"IF(H93=\"\",\"\",H93/COUNTIF('Data Input'!$C$8:$AZ$8,$H$2))","v":""},{"$f":"IF(ISBLANK('Data Input'!A97),\"\",SUM('Data Input'!G97,'Data Input'!I97,'Data Input'!K97,'Data Input'!O97,'Data Input'!P97,'Data Input'!S97,'Data Input'!U97,'Data Input'!V97,'Data Input'!W97,'Data Input'!X97,'Data Input'!Z97,'Data Input'!AA97,'Data Input'!AD97,'Data Input'!AZ97))","v":""},{"$f":"IF(J93=\"\",\"\",J93/COUNTIF('Data Input'!$C$8:$AZ$8,$J$2))","v":""},{"$f":"IF(ISBLANK('Data Input'!A97),\"\",SUM('Data Input'!Q97,'Data Input'!AG97))","v":""},{"$f":"IF(L93=\"\",\"\",L93/COUNTIF('Data Input'!$C$8:$AZ$8,$L$2))","v":""},{"$f":"IF(ISBLANK('Data Input'!A97),\"\",SUM('Data Input'!D97,'Data Input'!E97,'Data Input'!F97,'Data Input'!L97,'Data Input'!M97,'Data Input'!AB97,'Data Input'!AC97,'Data Input'!AF97,'Data Input'!AJ97,'Data Input'!AL97,'Data Input'!AN97,'Data Input'!AO97,'Data Input'!AP97,'Data Input'!AQ97,'Data Input'!AR97,'Data Input'!AS97,'Data Input'!AT97,'Data Input'!AU97,'Data Input'!AV97,'Data Input'!AW97,'Data Input'!AX97,'Data Input'!AY97))","v":""},{"$f":"IF(N93=\"\",\"\",N93/COUNTIF('Data Input'!$C$8:$AZ$8,$N$2))","v":""},null,{"$f":"IF(P93=\"\",\"\",P93/COUNTIF('Data Input'!$C$8:$AZ$8,$P$2))","v":""},{"$f":"IF(ISBLANK('Data Input'!A97),\"\",SUM('Data Input'!AH97))","v":""},{"$f":"IF(R93=\"\",\"\",R93/COUNTIF('Data Input'!$C$8:$AZ$8,$R$2))","v":""},{"$f":"IF(ISBLANK('Data Input'!$A97),\"\",SUM('Data Input'!AI97))","v":""},{"$f":"IF(T93=\"\",\"\",T93/COUNTIF('Data Input'!$C$8:$AZ$8,$T$2))","v":""},null,{"$f":"IF(V93=\"\",\"\",V93/COUNTIF('Data Input'!$C$8:$AZ$8,$V$2))","v":""}]
[{"$f":"IF('Data Input'!A98=0,\"\",'Data Input'!A98)","v":""},{"$f":"IF(F94=\"\",\"\",IF(F94>Welcome!$J$20-1,\"Exceeding\",IF(F94>Welcome!$F$20-1,\"Expected\",IF(F94<Welcome!$F$20,\"Below\"))))","v":""},{"$f":"IF(ISBLANK('Data Input'!A98),\"\",COUNTIF('Data Input'!C98:AZ98,\"\"))","v":""},{"$f":"IF(ISBLANK('Data Input'!A98),\"\",COUNTIF('Data Input'!C98:AZ98,\"0\"))","v":""},{"$f":"IF(ISBLANK('Data Input'!A98),\"\",SUM(C94,D94))","v":""},{"$f":"IF(ISBLANK('Data Input'!A98),\"\",SUM('Data Input'!C98:AZ98))","v":""},{"$f":"IF(F94=\"\",\"\",F94/(COUNTA('Data Input'!$C$8:$AZ$8)))","v":""},{"$f":"IF(ISBLANK('Data Input'!A98),\"\",SUM('Data Input'!C98,'Data Input'!H98,'Data Input'!J98,'Data Input'!N98,'Data Input'!R98,'Data Input'!T98,'Data Input'!Y98,'Data Input'!AE98,'Data Input'!AK98,'Data Input'!AM98))","v":""},{"$f":"IF(H94=\"\",\"\",H94/COUNTIF('Data Input'!$C$8:$AZ$8,$H$2))","v":""},{"$f":"IF(ISBLANK('Data Input'!A98),\"\",SUM('Data Input'!G98,'Data Input'!I98,'Data Input'!K98,'Data Input'!O98,'Data Input'!P98,'Data Input'!S98,'Data Input'!U98,'Data Input'!V98,'Data Input'!W98,'Data Input'!X98,'Data Input'!Z98,'Data Input'!AA98,'Data Input'!AD98,'Data Input'!AZ98))","v":""},{"$f":"IF(J94=\"\",\"\",J94/COUNTIF('Data Input'!$C$8:$AZ$8,$J$2))","v":""},{"$f":"IF(ISBLANK('Data Input'!A98),\"\",SUM('Data Input'!Q98,'Data Input'!AG98))","v":""},{"$f":"IF(L94=\"\",\"\",L94/COUNTIF('Data Input'!$C$8:$AZ$8,$L$2))","v":""},{"$f":"IF(ISBLANK('Data Input'!A98),\"\",SUM('Data Input'!D98,'Data Input'!E98,'Data Input'!F98,'Data Input'!L98,'Data Input'!M98,'Data Input'!AB98,'Data Input'!AC98,'Data Input'!AF98,'Data Input'!AJ98,'Data Input'!AL98,'Data Input'!AN98,'Data Input'!AO98,'Data Input'!AP98,'Data Input'!AQ98,'Data Input'!AR98,'Data Input'!AS98,'Data Input'!AT98,'Data Input'!AU98,'Data Input'!AV98,'Data Input'!AW98,'Data Input'!AX98,'Data Input'!AY98))","v":""},{"$f":"IF(N94=\"\",\"\",N94/COUNTIF('Data Input'!$C$8:$AZ$8,$N$2))","v":""},null,{"$f":"IF(P94=\"\",\"\",P94/COUNTIF('Data Input'!$C$8:$AZ$8,$P$2))","v":""},{"$f":"IF(ISBLANK('Data Input'!A98),\"\",SUM('Data Input'!AH98))","v":""},{"$f":"IF(R94=\"\",\"\",R94/COUNTIF('Data Input'!$C$8:$AZ$8,$R$2))","v":""},{"$f":"IF(ISBLANK('Data Input'!$A98),\"\",SUM('Data Input'!AI98))","v":""},{"$f":"IF(T94=\"\",\"\",T94/COUNTIF('Data Input'!$C$8:$AZ$8,$T$2))","v":""},null,{"$f":"IF(V94=\"\",\"\",V94/COUNTIF('Data Input'!$C$8:$AZ$8,$V$2))","v":""}]
[{"$f":"IF('Data Input'!A99=0,\"\",'Data Input'!A99)","v":""},{"$f":"IF(F95=\"\",\"\",IF(F95>Welcome!$J$20-1,\"Exceeding\",IF(F95>Welcome!$F$20-1,\"Expected\",IF(F95<Welcome!$F$20,\"Below\"))))","v":""},{"$f":"IF(ISBLANK('Data Input'!A99),\"\",COUNTIF('Data Input'!C99:AZ99,\"\"))","v":""},{"$f":"IF(ISBLANK('Data Input'!A99),\"\",COUNTIF('Data Input'!C99:AZ99,\"0\"))","v":""},{"$f":"IF(ISBLANK('Data Input'!A99),\"\",SUM(C95,D95))","v":""},{"$f":"IF(ISBLANK('Data Input'!A99),\"\",SUM('Data Input'!C99:AZ99))","v":""},{"$f":"IF(F95=\"\",\"\",F95/(COUNTA('Data Input'!$C$8:$AZ$8)))","v":""},{"$f":"IF(ISBLANK('Data Input'!A99),\"\",SUM('Data Input'!C99,'Data Input'!H99,'Data Input'!J99,'Data Input'!N99,'Data Input'!R99,'Data Input'!T99,'Data Input'!Y99,'Data Input'!AE99,'Data Input'!AK99,'Data Input'!AM99))","v":""},{"$f":"IF(H95=\"\",\"\",H95/COUNTIF('Data Input'!$C$8:$AZ$8,$H$2))","v":""},{"$f":"IF(ISBLANK('Data Input'!A99),\"\",SUM('Data Input'!G99,'Data Input'!I99,'Data Input'!K99,'Data Input'!O99,'Data Input'!P99,'Data Input'!S99,'Data Input'!U99,'Data Input'!V99,'Data Input'!W99,'Data Input'!X99,'Data Input'!Z99,'Data Input'!AA99,'Data Input'!AD99,'Data Input'!AZ99))","v":""},{"$f":"IF(J95=\"\",\"\",J95/COUNTIF('Data Input'!$C$8:$AZ$8,$J$2))","v":""},{"$f":"IF(ISBLANK('Data Input'!A99),\"\",SUM('Data Input'!Q99,'Data Input'!AG99))","v":""},{"$f":"IF(L95=\"\",\"\",L95/COUNTIF('Data Input'!$C$8:$AZ$8,$L$2))","v":""},{"$f":"IF(ISBLANK('Data Input'!A99),\"\",SUM('Data Input'!D99,'Data Input'!E99,'Data Input'!F99,'Data Input'!L99,'Data Input'!M99,'Data Input'!AB99,'Data Input'!AC99,'Data Input'!AF99,'Data Input'!AJ99,'Data Input'!AL99,'Data Input'!AN99,'Data Input'!AO99,'Data Input'!AP99,'Data Input'!AQ99,'Data Input'!AR99,'Data Input'!AS99,'Data Input'!AT99,'Data Input'!AU99,'Data Input'!AV99,'Data Input'!AW99,'Data Input'!AX99,'Data Input'!AY99))","v":""},{"$f":"IF(N95=\"\",\"\",N95/COUNTIF('Data Input'!$C$8:$AZ$8,$N$2))","v":""},null,{"$f":"IF(P95=\"\",\"\",P95/COUNTIF('Data Input'!$C$8:$AZ$8,$P$2))","v":""},{"$f":"IF(ISBLANK('Data Input'!A99),\"\",SUM('Data Input'!AH99))","v":""},{"$f":"IF(R95=\"\",\"\",R95/COUNTIF('Data Input'!$C$8:$AZ$8,$R$2))","v":""},{"$f":"IF(ISBLANK('Data Input'!$A99),\"\",SUM('Data Input'!AI99))","v":""},{"$f":"IF(T95=\"\",\"\",T95/COUNTIF('Data Input'!$C$8:$AZ$8,$T$2))","v":""},null,{"$f":"IF(V95=\"\",\"\",V95/COUNTIF('Data Input'!$C$8:$AZ$8,$V$2))","v":""}]
[{"$f":"IF('Data Input'!A100=0,\"\",'Data Input'!A100)","v":""},{"$f":"IF(F96=\"\",\"\",IF(F96>Welcome!$J$20-1,\"Exceeding\",IF(F96>Welcome!$F$20-1,\"Expected\",IF(F96<Welcome!$F$20,\"Below\"))))","v":""},{"$f":"IF(ISBLANK('Data Input'!A100),\"\",COUNTIF('Data Input'!C100:AZ100,\"\"))","v":""},{"$f":"IF(ISBLANK('Data Input'!A100),\"\",COUNTIF('Data Input'!C100:AZ100,\"0\"))","v":""},{"$f":"IF(ISBLANK('Data Input'!A100),\"\",SUM(C96,D96))","v":""},{"$f":"IF(ISBLANK('Data Input'!A100),\"\",SUM('Data Input'!C100:AZ100))","v":""},{"$f":"IF(F96=\"\",\"\",F96/(COUNTA('Data Input'!$C$8:$AZ$8)))","v":""},{"$f":"IF(ISBLANK('Data Input'!A100),\"\",SUM('Data Input'!C100,'Data Input'!H100,'Data Input'!J100,'Data Input'!N100,'Data Input'!R100,'Data Input'!T100,'Data Input'!Y100,'Data Input'!AE100,'Data Input'!AK100,'Data Input'!AM100))","v":""},{"$f":"IF(H96=\"\",\"\",H96/COUNTIF('Data Input'!$C$8:$AZ$8,$H$2))","v":""},{"$f":"IF(ISBLANK('Data Input'!A100),\"\",SUM('Data Input'!G100,'Data Input'!I100,'Data Input'!K100,'Data Input'!O100,'Data Input'!P100,'Data Input'!S100,'Data Input'!U100,'Data Input'!V100,'Data Input'!W100,'Data Input'!X100,'Data Input'!Z100,'Data Input'!AA100,'Data Input'!AD100,'Data Input'!AZ100))","v":""},{"$f":"IF(J96=\"\",\"\",J96/COUNTIF('Data Input'!$C$8:$AZ$8,$J$2))","v":""},{"$f":"IF(ISBLANK('Data Input'!A100),\"\",SUM('Data Input'!Q100,'Data Input'!AG100))","v":""},{"$f":"IF(L96=\"\",\"\",L96/COUNTIF('Data Input'!$C$8:$AZ$8,$L$2))","v":""},{"$f":"IF(ISBLANK('Data Input'!A100),\"\",SUM('Data Input'!D100,'Data Input'!E100,'Data Input'!F100,'Data Input'!L100,'Data Input'!M100,'Data Input'!AB100,'Data Input'!AC100,'Data Input'!AF100,'Data Input'!AJ100,'Data Input'!AL100,'Data Input'!AN100,'Data Input'!AO100,'Data Input'!AP100,'Data Input'!AQ100,'Data Input'!AR100,'Data Input'!AS100,'Data Input'!AT100,'Data Input'!AU100,'Data Input'!AV100,'Data Input'!AW100,'Data Input'!AX100,'Data Input'!AY100))","v":""},{"$f":"IF(N96=\"\",\"\",N96/COUNTIF('Data Input'!$C$8:$AZ$8,$N$2))","v":""},null,{"$f":"IF(P96=\"\",\"\",P96/COUNTIF('Data Input'!$C$8:$AZ$8,$P$2))","v":""},{"$f":"IF(ISBLANK('Data Input'!A100),\"\",SUM('Data Input'!AH100))","v":""},{"$f":"IF(R96=\"\",\"\",R96/COUNTIF('Data Input'!$C$8:$AZ$8,$R$2))","v":""},{"$f":"IF(ISBLANK('Data Input'!$A100),\"\",SUM('Data Input'!AI100))","v":""},{"$f":"IF(T96=\"\",\"\",T96/COUNTIF('Data Input'!$C$8:$AZ$8,$T$2))","v":""},null,{"$f":"IF(V96=\"\",\"\",V96/COUNTIF('Data Input'!$C$8:$AZ$8,$V$2))","v":""}]
[{"$f":"IF('Data Input'!A101=0,\"\",'Data Input'!A101)","v":""},{"$f":"IF(F97=\"\",\"\",IF(F97>Welcome!$J$20-1,\"Exceeding\",IF(F97>Welcome!$F$20-1,\"Expected\",IF(F97<Welcome!$F$20,\"Below\"))))","v":""},{"$f":"IF(ISBLANK('Data Input'!A101),\"\",COUNTIF('Data Input'!C101:AZ101,\"\"))","v":""},{"$f":"IF(ISBLANK('Data Input'!A101),\"\",COUNTIF('Data Input'!C101:AZ101,\"0\"))","v":""},{"$f":"IF(ISBLANK('Data Input'!A101),\"\",SUM(C97,D97))","v":""},{"$f":"IF(ISBLANK('Data Input'!A101),\"\",SUM('Data Input'!C101:AZ101))","v":""},{"$f":"IF(F97=\"\",\"\",F97/(COUNTA('Data Input'!$C$8:$AZ$8)))","v":""},{"$f":"IF(ISBLANK('Data Input'!A101),\"\",SUM('Data Input'!C101,'Data Input'!H101,'Data Input'!J101,'Data Input'!N101,'Data Input'!R101,'Data Input'!T101,'Data Input'!Y101,'Data Input'!AE101,'Data Input'!AK101,'Data Input'!AM101))","v":""},{"$f":"IF(H97=\"\",\"\",H97/COUNTIF('Data Input'!$C$8:$AZ$8,$H$2))","v":""},{"$f":"IF(ISBLANK('Data Input'!A101),\"\",SUM('Data Input'!G101,'Data Input'!I101,'Data Input'!K101,'Data Input'!O101,'Data Input'!P101,'Data Input'!S101,'Data Input'!U101,'Data Input'!V101,'Data Input'!W101,'Data Input'!X101,'Data Input'!Z101,'Data Input'!AA101,'Data Input'!AD101,'Data Input'!AZ101))","v":""},{"$f":"IF(J97=\"\",\"\",J97/COUNTIF('Data Input'!$C$8:$AZ$8,$J$2))","v":""},{"$f":"IF(ISBLANK('Data Input'!A101),\"\",SUM('Data Input'!Q101,'Data Input'!AG101))","v":""},{"$f":"IF(L97=\"\",\"\",L97/COUNTIF('Data Input'!$C$8:$AZ$8,$L$2))","v":""},{"$f":"IF(ISBLANK('Data Input'!A101),\"\",SUM('Data Input'!D101,'Data Input'!E101,'Data Input'!F101,'Data Input'!L101,'Data Input'!M101,'Data Input'!AB101,'Data Input'!AC101,'Data Input'!AF101,'Data Input'!AJ101,'Data Input'!AL101,'Data Input'!AN101,'Data Input'!AO101,'Data Input'!AP101,'Data Input'!AQ101,'Data Input'!AR101,'Data Input'!AS101,'Data Input'!AT101,'Data Input'!AU101,'Data Input'!AV101,'Data Input'!AW101,'Data Input'!AX101,'Data Input'!AY101))","v":""},{"$f":"IF(N97=\"\",\"\",N97/COUNTIF('Data Input'!$C$8:$AZ$8,$N$2))","v":""},null,{"$f":"IF(P97=\"\",\"\",P97/COUNTIF('Data Input'!$C$8:$AZ$8,$P$2))","v":""},{"$f":"IF(ISBLANK('Data Input'!A101),\"\",SUM('Data Input'!AH101))","v":""},{"$f":"IF(R97=\"\",\"\",R97/COUNTIF('Data Input'!$C$8:$AZ$8,$R$2))","v":""},{"$f":"IF(ISBLANK('Data Input'!$A101),\"\",SUM('Data Input'!AI101))","v":""},{"$f":"IF(T97=\"\",\"\",T97/COUNTIF('Data Input'!$C$8:$AZ$8,$T$2))","v":""},null,{"$f":"IF(V97=\"\",\"\",V97/COUNTIF('Data Input'!$C$8:$AZ$8,$V$2))","v":""}]
[{"$f":"IF('Data Input'!A102=0,\"\",'Data Input'!A102)","v":""},{"$f":"IF(F98=\"\",\"\",IF(F98>Welcome!$J$20-1,\"Exceeding\",IF(F98>Welcome!$F$20-1,\"Expected\",IF(F98<Welcome!$F$20,\"Below\"))))","v":""},{"$f":"IF(ISBLANK('Data Input'!A102),\"\",COUNTIF('Data Input'!C102:AZ102,\"\"))","v":""},{"$f":"IF(ISBLANK('Data Input'!A102),\"\",COUNTIF('Data Input'!C102:AZ102,\"0\"))","v":""},{"$f":"IF(ISBLANK('Data Input'!A102),\"\",SUM(C98,D98))","v":""},{"$f":"IF(ISBLANK('Data Input'!A102),\"\",SUM('Data Input'!C102:AZ102))","v":""},{"$f":"IF(F98=\"\",\"\",F98/(COUNTA('Data Input'!$C$8:$AZ$8)))","v":""},{"$f":"IF(ISBLANK('Data Input'!A102),\"\",SUM('Data Input'!C102,'Data Input'!H102,'Data Input'!J102,'Data Input'!N102,'Data Input'!R102,'Data Input'!T102,'Data Input'!Y102,'Data Input'!AE102,'Data Input'!AK102,'Data Input'!AM102))","v":""},{"$f":"IF(H98=\"\",\"\",H98/COUNTIF('Data Input'!$C$8:$AZ$8,$H$2))","v":""},{"$f":"IF(ISBLANK('Data Input'!A102),\"\",SUM('Data Input'!G102,'Data Input'!I102,'Data Input'!K102,'Data Input'!O102,'Data Input'!P102,'Data Input'!S102,'Data Input'!U102,'Data Input'!V102,'Data Input'!W102,'Data Input'!X102,'Data Input'!Z102,'Data Input'!AA102,'Data Input'!AD102,'Data Input'!AZ102))","v":""},{"$f":"IF(J98=\"\",\"\",J98/COUNTIF('Data Input'!$C$8:$AZ$8,$J$2))","v":""},{"$f":"IF(ISBLANK('Data Input'!A102),\"\",SUM('Data Input'!Q102,'Data Input'!AG102))","v":""},{"$f":"IF(L98=\"\",\"\",L98/COUNTIF('Data Input'!$C$8:$AZ$8,$L$2))","v":""},{"$f":"IF(ISBLANK('Data Input'!A102),\"\",SUM('Data Input'!D102,'Data Input'!E102,'Data Input'!F102,'Data Input'!L102,'Data Input'!M102,'Data Input'!AB102,'Data Input'!AC102,'Data Input'!AF102,'Data Input'!AJ102,'Data Input'!AL102,'Data Input'!AN102,'Data Input'!AO102,'Data Input'!AP102,'Data Input'!AQ102,'Data Input'!AR102,'Data Input'!AS102,'Data Input'!AT102,'Data Input'!AU102,'Data Input'!AV102,'Data Input'!AW102,'Data Input'!AX102,'Data Input'!AY102))","v":""},{"$f":"IF(N98=\"\",\"\",N98/COUNTIF('Data Input'!$C$8:$AZ$8,$N$2))","v":""},null,{"$f":"IF(P98=\"\",\"\",P98/COUNTIF('Data Input'!$C$8:$AZ$8,$P$2))","v":""},{"$f":"IF(ISBLANK('Data Input'!A102),\"\",SUM('Data Input'!AH102))","v":""},{"$f":"IF(R98=\"\",\"\",R98/COUNTIF('Data Input'!$C$8:$AZ$8,$R$2))","v":""},{"$f":"IF(ISBLANK('Data Input'!$A102),\"\",SUM('Data Input'!AI102))","v":""},{"$f":"IF(T98=\"\",\"\",T98/COUNTIF('Data Input'!$C$8:$AZ$8,$T$2))","v":""},null,{"$f":"IF(V98=\"\",\"\",V98/COUNTIF('Data Input'!$C$8:$AZ$8,$V$2))","v":""}]
[{"$f":"IF('Data Input'!A103=0,\"\",'Data Input'!A103)","v":""},{"$f":"IF(F99=\"\",\"\",IF(F99>Welcome!$J$20-1,\"Exceeding\",IF(F99>Welcome!$F$20-1,\"Expected\",IF(F99<Welcome!$F$20,\"Below\"))))","v":""},{"$f":"IF(ISBLANK('Data Input'!A103),\"\",COUNTIF('Data Input'!C103:AZ103,\"\"))","v":""},{"$f":"IF(ISBLANK('Data Input'!A103),\"\",COUNTIF('Data Input'!C103:AZ103,\"0\"))","v":""},{"$f":"IF(ISBLANK('Data Input'!A103),\"\",SUM(C99,D99))","v":""},{"$f":"IF(ISBLANK('Data Input'!A103),\"\",SUM('Data Input'!C103:AZ103))","v":""},{"$f":"IF(F99=\"\",\"\",F99/(COUNTA('Data Input'!$C$8:$AZ$8)))","v":""},{"$f":"IF(ISBLANK('Data Input'!A103),\"\",SUM('Data Input'!C103,'Data Input'!H103,'Data Input'!J103,'Data Input'!N103,'Data Input'!R103,'Data Input'!T103,'Data Input'!Y103,'Data Input'!AE103,'Data Input'!AK103,'Data Input'!AM103))","v":""},{"$f":"IF(H99=\"\",\"\",H99/COUNTIF('Data Input'!$C$8:$AZ$8,$H$2))","v":""},{"$f":"IF(ISBLANK('Data Input'!A103),\"\",SUM('Data Input'!G103,'Data Input'!I103,'Data Input'!K103,'Data Input'!O103,'Data Input'!P103,'Data Input'!S103,'Data Input'!U103,'Data Input'!V103,'Data Input'!W103,'Data Input'!X103,'Data Input'!Z103,'Data Input'!AA103,'Data Input'!AD103,'Data Input'!AZ103))","v":""},{"$f":"IF(J99=\"\",\"\",J99/COUNTIF('Data Input'!$C$8:$AZ$8,$J$2))","v":""},{"$f":"IF(ISBLANK('Data Input'!A103),\"\",SUM('Data Input'!Q103,'Data Input'!AG103))","v":""},{"$f":"IF(L99=\"\",\"\",L99/COUNTIF('Data Input'!$C$8:$AZ$8,$L$2))","v":""},{"$f":"IF(ISBLANK('Data Input'!A103),\"\",SUM('Data Input'!D103,'Data Input'!E103,'Data Input'!F103,'Data Input'!L103,'Data Input'!M103,'Data Input'!AB103,'Data Input'!AC103,'Data Input'!AF103,'Data Input'!AJ103,'Data Input'!AL103,'Data Input'!AN103,'Data Input'!AO103,'Data Input'!AP103,'Data Input'!AQ103,'Data Input'!AR103,'Data Input'!AS103,'Data Input'!AT103,'Data Input'!AU103,'Data Input'!AV103,'Data Input'!AW103,'Data Input'!AX103,'Data Input'!AY103))","v":""},{"$f":"IF(N99=\"\",\"\",N99/COUNTIF('Data Input'!$C$8:$AZ$8,$N$2))","v":""},null,{"$f":"IF(P99=\"\",\"\",P99/COUNTIF('Data Input'!$C$8:$AZ$8,$P$2))","v":""},{"$f":"IF(ISBLANK('Data Input'!A103),\"\",SUM('Data Input'!AH103))","v":""},{"$f":"IF(R99=\"\",\"\",R99/COUNTIF('Data Input'!$C$8:$AZ$8,$R$2))","v":""},{"$f":"IF(ISBLANK('Data Input'!$A103),\"\",SUM('Data Input'!AI103))","v":""},{"$f":"IF(T99=\"\",\"\",T99/COUNTIF('Data Input'!$C$8:$AZ$8,$T$2))","v":""},null,{"$f":"IF(V99=\"\",\"\",V99/COUNTIF('Data Input'!$C$8:$AZ$8,$V$2))","v":""}]
[{"$f":"IF('Data Input'!A104=0,\"\",'Data Input'!A104)","v":""},{"$f":"IF(F100=\"\",\"\",IF(F100>Welcome!$J$20-1,\"Exceeding\",IF(F100>Welcome!$F$20-1,\"Expected\",IF(F100<Welcome!$F$20,\"Below\"))))","v":""},{"$f":"IF(ISBLANK('Data Input'!A104),\"\",COUNTIF('Data Input'!C104:AZ104,\"\"))","v":""},{"$f":"IF(ISBLANK('Data Input'!A104),\"\",COUNTIF('Data Input'!C104:AZ104,\"0\"))","v":""},{"$f":"IF(ISBLANK('Data Input'!A104),\"\",SUM(C100,D100))","v":""},{"$f":"IF(ISBLANK('Data Input'!A104),\"\",SUM('Data Input'!C104:AZ104))","v":""},{"$f":"IF(F100=\"\",\"\",F100/(COUNTA('Data Input'!$C$8:$AZ$8)))","v":""},{"$f":"IF(ISBLANK('Data Input'!A104),\"\",SUM('Data Input'!C104,'Data Input'!H104,'Data Input'!J104,'Data Input'!N104,'Data Input'!R104,'Data Input'!T104,'Data Input'!Y104,'Data Input'!AE104,'Data Input'!AK104,'Data Input'!AM104))","v":""},{"$f":"IF(H100=\"\",\"\",H100/COUNTIF('Data Input'!$C$8:$AZ$8,$H$2))","v":""},{"$f":"IF(ISBLANK('Data Input'!A104),\"\",SUM('Data Input'!G104,'Data Input'!I104,'Data Input'!K104,'Data Input'!O104,'Data Input'!P104,'Data Input'!S104,'Data Input'!U104,'Data Input'!V104,'Data Input'!W104,'Data Input'!X104,'Data Input'!Z104,'Data Input'!AA104,'Data Input'!AD104,'Data Input'!AZ104))","v":""},{"$f":"IF(J100=\"\",\"\",J100/COUNTIF('Data Input'!$C$8:$AZ$8,$J$2))","v":""},{"$f":"IF(ISBLANK('Data Input'!A104),\"\",SUM('Data Input'!Q104,'Data Input'!AG104))","v":""},{"$f":"IF(L100=\"\",\"\",L100/COUNTIF('Data Input'!$C$8:$AZ$8,$L$2))","v":""},{"$f":"IF(ISBLANK('Data Input'!A104),\"\",SUM('Data Input'!D104,'Data Input'!E104,'Data Input'!F104,'Data Input'!L104,'Data Input'!M104,'Data Input'!AB104,'Data Input'!AC104,'Data Input'!AF104,'Data Input'!AJ104,'Data Input'!AL104,'Data Input'!AN104,'Data Input'!AO104,'Data Input'!AP104,'Data Input'!AQ104,'Data Input'!AR104,'Data Input'!AS104,'Data Input'!AT104,'Data Input'!AU104,'Data Input'!AV104,'Data Input'!AW104,'Data Input'!AX104,'Data Input'!AY104))","v":""},{"$f":"IF(N100=\"\",\"\",N100/COUNTIF('Data Input'!$C$8:$AZ$8,$N$2))","v":""},null,{"$f":"IF(P100=\"\",\"\",P100/COUNTIF('Data Input'!$C$8:$AZ$8,$P$2))","v":""},{"$f":"IF(ISBLANK('Data Input'!A104),\"\",SUM('Data Input'!AH104))","v":""},{"$f":"IF(R100=\"\",\"\",R100/COUNTIF('Data Input'!$C$8:$AZ$8,$R$2))","v":""},{"$f":"IF(ISBLANK('Data Input'!$A104),\"\",SUM('Data Input'!AI104))","v":""},{"$f":"IF(T100=\"\",\"\",T100/COUNTIF('Data Input'!$C$8:$AZ$8,$T$2))","v":""},null,{"$f":"IF(V100=\"\",\"\",V100/COUNTIF('Data Input'!$C$8:$AZ$8,$V$2))","v":""}]
[{"$f":"IF('Data Input'!A105=0,\"\",'Data Input'!A105)","v":""},{"$f":"IF(F101=\"\",\"\",IF(F101>Welcome!$J$20-1,\"Exceeding\",IF(F101>Welcome!$F$20-1,\"Expected\",IF(F101<Welcome!$F$20,\"Below\"))))","v":""},{"$f":"IF(ISBLANK('Data Input'!A105),\"\",COUNTIF('Data Input'!C105:AZ105,\"\"))","v":""},{"$f":"IF(ISBLANK('Data Input'!A105),\"\",COUNTIF('Data Input'!C105:AZ105,\"0\"))","v":""},{"$f":"IF(ISBLANK('Data Input'!A105),\"\",SUM(C101,D101))","v":""},{"$f":"IF(ISBLANK('Data Input'!A105),\"\",SUM('Data Input'!C105:AZ105))","v":""},{"$f":"IF(F101=\"\",\"\",F101/(COUNTA('Data Input'!$C$8:$AZ$8)))","v":""},{"$f":"IF(ISBLANK('Data Input'!A105),\"\",SUM('Data Input'!C105,'Data Input'!H105,'Data Input'!J105,'Data Input'!N105,'Data Input'!R105,'Data Input'!T105,'Data Input'!Y105,'Data Input'!AE105,'Data Input'!AK105,'Data Input'!AM105))","v":""},{"$f":"IF(H101=\"\",\"\",H101/COUNTIF('Data Input'!$C$8:$AZ$8,$H$2))","v":""},{"$f":"IF(ISBLANK('Data Input'!A105),\"\",SUM('Data Input'!G105,'Data Input'!I105,'Data Input'!K105,'Data Input'!O105,'Data Input'!P105,'Data Input'!S105,'Data Input'!U105,'Data Input'!V105,'Data Input'!W105,'Data Input'!X105,'Data Input'!Z105,'Data Input'!AA105,'Data Input'!AD105,'Data Input'!AZ105))","v":""},{"$f":"IF(J101=\"\",\"\",J101/COUNTIF('Data Input'!$C$8:$AZ$8,$J$2))","v":""},{"$f":"IF(ISBLANK('Data Input'!A105),\"\",SUM('Data Input'!Q105,'Data Input'!AG105))","v":""},{"$f":"IF(L101=\"\",\"\",L101/COUNTIF('Data Input'!$C$8:$AZ$8,$L$2))","v":""},{"$f":"IF(ISBLANK('Data Input'!A105),\"\",SUM('Data Input'!D105,'Data Input'!E105,'Data Input'!F105,'Data Input'!L105,'Data Input'!M105,'Data Input'!AB105,'Data Input'!AC105,'Data Input'!AF105,'Data Input'!AJ105,'Data Input'!AL105,'Data Input'!AN105,'Data Input'!AO105,'Data Input'!AP105,'Data Input'!AQ105,'Data Input'!AR105,'Data Input'!AS105,'Data Input'!AT105,'Data Input'!AU105,'Data Input'!AV105,'Data Input'!AW105,'Data Input'!AX105,'Data Input'!AY105))","v":""},{"$f":"IF(N101=\"\",\"\",N101/COUNTIF('Data Input'!$C$8:$AZ$8,$N$2))","v":""},null,{"$f":"IF(P101=\"\",\"\",P101/COUNTIF('Data Input'!$C$8:$AZ$8,$P$2))","v":""},{"$f":"IF(ISBLANK('Data Input'!A105),\"\",SUM('Data Input'!AH105))","v":""},{"$f":"IF(R101=\"\",\"\",R101/COUNTIF('Data Input'!$C$8:$AZ$8,$R$2))","v":""},{"$f":"IF(ISBLANK('Data Input'!$A105),\"\",SUM('Data Input'!AI105))","v":""},{"$f":"IF(T101=\"\",\"\",T101/COUNTIF('Data Input'!$C$8:$AZ$8,$T$2))","v":""},null,{"$f":"IF(V101=\"\",\"\",V101/COUNTIF('Data Input'!$C$8:$AZ$8,$V$2))","v":""}]
[{"$f":"IF('Data Input'!A106=0,\"\",'Data Input'!A106)","v":""},{"$f":"IF(F102=\"\",\"\",IF(F102>Welcome!$J$20-1,\"Exceeding\",IF(F102>Welcome!$F$20-1,\"Expected\",IF(F102<Welcome!$F$20,\"Below\"))))","v":""},{"$f":"IF(ISBLANK('Data Input'!A106),\"\",COUNTIF('Data Input'!C106:AZ106,\"\"))","v":""},{"$f":"IF(ISBLANK('Data Input'!A106),\"\",COUNTIF('Data Input'!C106:AZ106,\"0\"))","v":""},{"$f":"IF(ISBLANK('Data Input'!A106),\"\",SUM(C102,D102))","v":""},{"$f":"IF(ISBLANK('Data Input'!A106),\"\",SUM('Data Input'!C106:AZ106))","v":""},{"$f":"IF(F102=\"\",\"\",F102/(COUNTA('Data Input'!$C$8:$AZ$8)))","v":""},{"$f":"IF(ISBLANK('Data Input'!A106),\"\",SUM('Data Input'!C106,'Data Input'!H106,'Data Input'!J106,'Data Input'!N106,'Data Input'!R106,'Data Input'!T106,'Data Input'!Y106,'Data Input'!AE106,'Data Input'!AK106,'Data Input'!AM106))","v":""},{"$f":"IF(H102=\"\",\"\",H102/COUNTIF('Data Input'!$C$8:$AZ$8,$H$2))","v":""},{"$f":"IF(ISBLANK('Data Input'!A106),\"\",SUM('Data Input'!G106,'Data Input'!I106,'Data Input'!K106,'Data Input'!O106,'Data Input'!P106,'Data Input'!S106,'Data Input'!U106,'Data Input'!V106,'Data Input'!W106,'Data Input'!X106,'Data Input'!Z106,'Data Input'!AA106,'Data Input'!AD106,'Data Input'!AZ106))","v":""},{"$f":"IF(J102=\"\",\"\",J102/COUNTIF('Data Input'!$C$8:$AZ$8,$J$2))","v":""},{"$f":"IF(ISBLANK('Data Input'!A106),\"\",SUM('Data Input'!Q106,'Data Input'!AG106))","v":""},{"$f":"IF(L102=\"\",\"\",L102/COUNTIF('Data Input'!$C$8:$AZ$8,$L$2))","v":""},{"$f":"IF(ISBLANK('Data Input'!A106),\"\",SUM('Data Input'!D106,'Data Input'!E106,'Data Input'!F106,'Data Input'!L106,'Data Input'!M106,'Data Input'!AB106,'Data Input'!AC106,'Data Input'!AF106,'Data Input'!AJ106,'Data Input'!AL106,'Data Input'!AN106,'Data Input'!AO106,'Data Input'!AP106,'Data Input'!AQ106,'Data Input'!AR106,'Data Input'!AS106,'Data Input'!AT106,'Data Input'!AU106,'Data Input'!AV106,'Data Input'!AW106,'Data Input'!AX106,'Data Input'!AY106))","v":""},{"$f":"IF(N102=\"\",\"\",N102/COUNTIF('Data Input'!$C$8:$AZ$8,$N$2))","v":""},null,{"$f":"IF(P102=\"\",\"\",P102/COUNTIF('Data Input'!$C$8:$AZ$8,$P$2))","v":""},{"$f":"IF(ISBLANK('Data Input'!A106),\"\",SUM('Data Input'!AH106))","v":""},{"$f":"IF(R102=\"\",\"\",R102/COUNTIF('Data Input'!$C$8:$AZ$8,$R$2))","v":""},{"$f":"IF(ISBLANK('Data Input'!$A106),\"\",SUM('Data Input'!AI106))","v":""},{"$f":"IF(T102=\"\",\"\",T102/COUNTIF('Data Input'!$C$8:$AZ$8,$T$2))","v":""},null,{"$f":"IF(V102=\"\",\"\",V102/COUNTIF('Data Input'!$C$8:$AZ$8,$V$2))","v":""}]
[{"$f":"IF('Data Input'!A107=0,\"\",'Data Input'!A107)","v":""},{"$f":"IF(F103=\"\",\"\",IF(F103>Welcome!$J$20-1,\"Exceeding\",IF(F103>Welcome!$F$20-1,\"Expected\",IF(F103<Welcome!$F$20,\"Below\"))))","v":""},{"$f":"IF(ISBLANK('Data Input'!A107),\"\",COUNTIF('Data Input'!C107:AZ107,\"\"))","v":""},{"$f":"IF(ISBLANK('Data Input'!A107),\"\",COUNTIF('Data Input'!C107:AZ107,\"0\"))","v":""},{"$f":"IF(ISBLANK('Data Input'!A107),\"\",SUM(C103,D103))","v":""},{"$f":"IF(ISBLANK('Data Input'!A107),\"\",SUM('Data Input'!C107:AZ107))","v":""},{"$f":"IF(F103=\"\",\"\",F103/(COUNTA('Data Input'!$C$8:$AZ$8)))","v":""},{"$f":"IF(ISBLANK('Data Input'!A107),\"\",SUM('Data Input'!C107,'Data Input'!H107,'Data Input'!J107,'Data Input'!N107,'Data Input'!R107,'Data Input'!T107,'Data Input'!Y107,'Data Input'!AE107,'Data Input'!AK107,'Data Input'!AM107))","v":""},{"$f":"IF(H103=\"\",\"\",H103/COUNTIF('Data Input'!$C$8:$AZ$8,$H$2))","v":""},{"$f":"IF(ISBLANK('Data Input'!A107),\"\",SUM('Data Input'!G107,'Data Input'!I107,'Data Input'!K107,'Data Input'!O107,'Data Input'!P107,'Data Input'!S107,'Data Input'!U107,'Data Input'!V107,'Data Input'!W107,'Data Input'!X107,'Data Input'!Z107,'Data Input'!AA107,'Data Input'!AD107,'Data Input'!AZ107))","v":""},{"$f":"IF(J103=\"\",\"\",J103/COUNTIF('Data Input'!$C$8:$AZ$8,$J$2))","v":""},{"$f":"IF(ISBLANK('Data Input'!A107),\"\",SUM('Data Input'!Q107,'Data Input'!AG107))","v":""},{"$f":"IF(L103=\"\",\"\",L103/COUNTIF('Data Input'!$C$8:$AZ$8,$L$2))","v":""},{"$f":"IF(ISBLANK('Data Input'!A107),\"\",SUM('Data Input'!D107,'Data Input'!E107,'Data Input'!F107,'Data Input'!L107,'Data Input'!M107,'Data Input'!AB107,'Data Input'!AC107,'Data Input'!AF107,'Data Input'!AJ107,'Data Input'!AL107,'Data Input'!AN107,'Data Input'!AO107,'Data Input'!AP107,'Data Input'!AQ107,'Data Input'!AR107,'Data Input'!AS107,'Data Input'!AT107,'Data Input'!AU107,'Data Input'!AV107,'Data Input'!AW107,'Data Input'!AX107,'Data Input'!AY107))","v":""},{"$f":"IF(N103=\"\",\"\",N103/COUNTIF('Data Input'!$C$8:$AZ$8,$N$2))","v":""},null,{"$f":"IF(P103=\"\",\"\",P103/COUNTIF('Data Input'!$C$8:$AZ$8,$P$2))","v":""},{"$f":"IF(ISBLANK('Data Input'!A107),\"\",SUM('Data Input'!AH107))","v":""},{"$f":"IF(R103=\"\",\"\",R103/COUNTIF('Data Input'!$C$8:$AZ$8,$R$2))","v":""},{"$f":"IF(ISBLANK('Data Input'!$A107),\"\",SUM('Data Input'!AI107))","v":""},{"$f":"IF(T103=\"\",\"\",T103/COUNTIF('Data Input'!$C$8:$AZ$8,$T$2))","v":""},null,{"$f":"IF(V103=\"\",\"\",V103/COUNTIF('Data Input'!$C$8:$AZ$8,$V$2))","v":""}]
[{"$f":"IF('Data Input'!A108=0,\"\",'Data Input'!A108)","v":""},{"$f":"IF(F104=\"\",\"\",IF(F104>Welcome!$J$20-1,\"Exceeding\",IF(F104>Welcome!$F$20-1,\"Expected\",IF(F104<Welcome!$F$20,\"Below\"))))","v":""},{"$f":"IF(ISBLANK('Data Input'!A108),\"\",COUNTIF('Data Input'!C108:AZ108,\"\"))","v":""},{"$f":"IF(ISBLANK('Data Input'!A108),\"\",COUNTIF('Data Input'!C108:AZ108,\"0\"))","v":""},{"$f":"IF(ISBLANK('Data Input'!A108),\"\",SUM(C104,D104))","v":""},{"$f":"IF(ISBLANK('Data Input'!A108),\"\",SUM('Data Input'!C108:AZ108))","v":""},{"$f":"IF(F104=\"\",\"\",F104/(COUNTA('Data Input'!$C$8:$AZ$8)))","v":""},{"$f":"IF(ISBLANK('Data Input'!A108),\"\",SUM('Data Input'!C108,'Data Input'!H108,'Data Input'!J108,'Data Input'!N108,'Data Input'!R108,'Data Input'!T108,'Data Input'!Y108,'Data Input'!AE108,'Data Input'!AK108,'Data Input'!AM108))","v":""},{"$f":"IF(H104=\"\",\"\",H104/COUNTIF('Data Input'!$C$8:$AZ$8,$H$2))","v":""},{"$f":"IF(ISBLANK('Data Input'!A108),\"\",SUM('Data Input'!G108,'Data Input'!I108,'Data Input'!K108,'Data Input'!O108,'Data Input'!P108,'Data Input'!S108,'Data Input'!U108,'Data Input'!V108,'Data Input'!W108,'Data Input'!X108,'Data Input'!Z108,'Data Input'!AA108,'Data Input'!AD108,'Data Input'!AZ108))","v":""},{"$f":"IF(J104=\"\",\"\",J104/COUNTIF('Data Input'!$C$8:$AZ$8,$J$2))","v":""},{"$f":"IF(ISBLANK('Data Input'!A108),\"\",SUM('Data Input'!Q108,'Data Input'!AG108))","v":""},{"$f":"IF(L104=\"\",\"\",L104/COUNTIF('Data Input'!$C$8:$AZ$8,$L$2))","v":""},{"$f":"IF(ISBLANK('Data Input'!A108),\"\",SUM('Data Input'!D108,'Data Input'!E108,'Data Input'!F108,'Data Input'!L108,'Data Input'!M108,'Data Input'!AB108,'Data Input'!AC108,'Data Input'!AF108,'Data Input'!AJ108,'Data Input'!AL108,'Data Input'!AN108,'Data Input'!AO108,'Data Input'!AP108,'Data Input'!AQ108,'Data Input'!AR108,'Data Input'!AS108,'Data Input'!AT108,'Data Input'!AU108,'Data Input'!AV108,'Data Input'!AW108,'Data Input'!AX108,'Data Input'!AY108))","v":""},{"$f":"IF(N104=\"\",\"\",N104/COUNTIF('Data Input'!$C$8:$AZ$8,$N$2))","v":""},null,{"$f":"IF(P104=\"\",\"\",P104/COUNTIF('Data Input'!$C$8:$AZ$8,$P$2))","v":""},{"$f":"IF(ISBLANK('Data Input'!A108),\"\",SUM('Data Input'!AH108))","v":""},{"$f":"IF(R104=\"\",\"\",R104/COUNTIF('Data Input'!$C$8:$AZ$8,$R$2))","v":""},{"$f":"IF(ISBLANK('Data Input'!$A108),\"\",SUM('Data Input'!AI108))","v":""},{"$f":"IF(T104=\"\",\"\",T104/COUNTIF('Data Input'!$C$8:$AZ$8,$T$2))","v":""},null,{"$f":"IF(V104=\"\",\"\",V104/COUNTIF('Data Input'!$C$8:$AZ$8,$V$2))","v":""}]
[{"$f":"IF('Data Input'!A109=0,\"\",'Data Input'!A109)","v":""},{"$f":"IF(F105=\"\",\"\",IF(F105>Welcome!$J$20-1,\"Exceeding\",IF(F105>Welcome!$F$20-1,\"Expected\",IF(F105<Welcome!$F$20,\"Below\"))))","v":""},{"$f":"IF(ISBLANK('Data Input'!A109),\"\",COUNTIF('Data Input'!C109:AZ109,\"\"))","v":""},{"$f":"IF(ISBLANK('Data Input'!A109),\"\",COUNTIF('Data Input'!C109:AZ109,\"0\"))","v":""},{"$f":"IF(ISBLANK('Data Input'!A109),\"\",SUM(C105,D105))","v":""},{"$f":"IF(ISBLANK('Data Input'!A109),\"\",SUM('Data Input'!C109:AZ109))","v":""},{"$f":"IF(F105=\"\",\"\",F105/(COUNTA('Data Input'!$C$8:$AZ$8)))","v":""},{"$f":"IF(ISBLANK('Data Input'!A109),\"\",SUM('Data Input'!C109,'Data Input'!H109,'Data Input'!J109,'Data Input'!N109,'Data Input'!R109,'Data Input'!T109,'Data Input'!Y109,'Data Input'!AE109,'Data Input'!AK109,'Data Input'!AM109))","v":""},{"$f":"IF(H105=\"\",\"\",H105/COUNTIF('Data Input'!$C$8:$AZ$8,$H$2))","v":""},{"$f":"IF(ISBLANK('Data Input'!A109),\"\",SUM('Data Input'!G109,'Data Input'!I109,'Data Input'!K109,'Data Input'!O109,'Data Input'!P109,'Data Input'!S109,'Data Input'!U109,'Data Input'!V109,'Data Input'!W109,'Data Input'!X109,'Data Input'!Z109,'Data Input'!AA109,'Data Input'!AD109,'Data Input'!AZ109))","v":""},{"$f":"IF(J105=\"\",\"\",J105/COUNTIF('Data Input'!$C$8:$AZ$8,$J$2))","v":""},{"$f":"IF(ISBLANK('Data Input'!A109),\"\",SUM('Data Input'!Q109,'Data Input'!AG109))","v":""},{"$f":"IF(L105=\"\",\"\",L105/COUNTIF('Data Input'!$C$8:$AZ$8,$L$2))","v":""},{"$f":"IF(ISBLANK('Data Input'!A109),\"\",SUM('Data Input'!D109,'Data Input'!E109,'Data Input'!F109,'Data Input'!L109,'Data Input'!M109,'Data Input'!AB109,'Data Input'!AC109,'Data Input'!AF109,'Data Input'!AJ109,'Data Input'!AL109,'Data Input'!AN109,'Data Input'!AO109,'Data Input'!AP109,'Data Input'!AQ109,'Data Input'!AR109,'Data Input'!AS109,'Data Input'!AT109,'Data Input'!AU109,'Data Input'!AV109,'Data Input'!AW109,'Data Input'!AX109,'Data Input'!AY109))","v":""},{"$f":"IF(N105=\"\",\"\",N105/COUNTIF('Data Input'!$C$8:$AZ$8,$N$2))","v":""},null,{"$f":"IF(P105=\"\",\"\",P105/COUNTIF('Data Input'!$C$8:$AZ$8,$P$2))","v":""},{"$f":"IF(ISBLANK('Data Input'!A109),\"\",SUM('Data Input'!AH109))","v":""},{"$f":"IF(R105=\"\",\"\",R105/COUNTIF('Data Input'!$C$8:$AZ$8,$R$2))","v":""},{"$f":"IF(ISBLANK('Data Input'!$A109),\"\",SUM('Data Input'!AI109))","v":""},{"$f":"IF(T105=\"\",\"\",T105/COUNTIF('Data Input'!$C$8:$AZ$8,$T$2))","v":""},null,{"$f":"IF(V105=\"\",\"\",V105/COUNTIF('Data Input'!$C$8:$AZ$8,$V$2))","v":""}]
[{"$f":"IF('Data Input'!A110=0,\"\",'Data Input'!A110)","v":""},{"$f":"IF(F106=\"\",\"\",IF(F106>Welcome!$J$20-1,\"Exceeding\",IF(F106>Welcome!$F$20-1,\"Expected\",IF(F106<Welcome!$F$20,\"Below\"))))","v":""},{"$f":"IF(ISBLANK('Data Input'!A110),\"\",COUNTIF('Data Input'!C110:AZ110,\"\"))","v":""},{"$f":"IF(ISBLANK('Data Input'!A110),\"\",COUNTIF('Data Input'!C110:AZ110,\"0\"))","v":""},{"$f":"IF(ISBLANK('Data Input'!A110),\"\",SUM(C106,D106))","v":""},{"$f":"IF(ISBLANK('Data Input'!A110),\"\",SUM('Data Input'!C110:AZ110))","v":""},{"$f":"IF(F106=\"\",\"\",F106/(COUNTA('Data Input'!$C$8:$AZ$8)))","v":""},{"$f":"IF(ISBLANK('Data Input'!A110),\"\",SUM('Data Input'!C110,'Data Input'!H110,'Data Input'!J110,'Data Input'!N110,'Data Input'!R110,'Data Input'!T110,'Data Input'!Y110,'Data Input'!AE110,'Data Input'!AK110,'Data Input'!AM110))","v":""},{"$f":"IF(H106=\"\",\"\",H106/COUNTIF('Data Input'!$C$8:$AZ$8,$H$2))","v":""},{"$f":"IF(ISBLANK('Data Input'!A110),\"\",SUM('Data Input'!G110,'Data Input'!I110,'Data Input'!K110,'Data Input'!O110,'Data Input'!P110,'Data Input'!S110,'Data Input'!U110,'Data Input'!V110,'Data Input'!W110,'Data Input'!X110,'Data Input'!Z110,'Data Input'!AA110,'Data Input'!AD110,'Data Input'!AZ110))","v":""},{"$f":"IF(J106=\"\",\"\",J106/COUNTIF('Data Input'!$C$8:$AZ$8,$J$2))","v":""},{"$f":"IF(ISBLANK('Data Input'!A110),\"\",SUM('Data Input'!Q110,'Data Input'!AG110))","v":""},{"$f":"IF(L106=\"\",\"\",L106/COUNTIF('Data Input'!$C$8:$AZ$8,$L$2))","v":""},{"$f":"IF(ISBLANK('Data Input'!A110),\"\",SUM('Data Input'!D110,'Data Input'!E110,'Data Input'!F110,'Data Input'!L110,'Data Input'!M110,'Data Input'!AB110,'Data Input'!AC110,'Data Input'!AF110,'Data Input'!AJ110,'Data Input'!AL110,'Data Input'!AN110,'Data Input'!AO110,'Data Input'!AP110,'Data Input'!AQ110,'Data Input'!AR110,'Data Input'!AS110,'Data Input'!AT110,'Data Input'!AU110,'Data Input'!AV110,'Data Input'!AW110,'Data Input'!AX110,'Data Input'!AY110))","v":""},{"$f":"IF(N106=\"\",\"\",N106/COUNTIF('Data Input'!$C$8:$AZ$8,$N$2))","v":""},null,{"$f":"IF(P106=\"\",\"\",P106/COUNTIF('Data Input'!$C$8:$AZ$8,$P$2))","v":""},{"$f":"IF(ISBLANK('Data Input'!A110),\"\",SUM('Data Input'!AH110))","v":""},{"$f":"IF(R106=\"\",\"\",R106/COUNTIF('Data Input'!$C$8:$AZ$8,$R$2))","v":""},{"$f":"IF(ISBLANK('Data Input'!$A110),\"\",SUM('Data Input'!AI110))","v":""},{"$f":"IF(T106=\"\",\"\",T106/COUNTIF('Data Input'!$C$8:$AZ$8,$T$2))","v":""},null,{"$f":"IF(V106=\"\",\"\",V106/COUNTIF('Data Input'!$C$8:$AZ$8,$V$2))","v":""}]
[{"$f":"IF('Data Input'!A111=0,\"\",'Data Input'!A111)","v":""},{"$f":"IF(F107=\"\",\"\",IF(F107>Welcome!$J$20-1,\"Exceeding\",IF(F107>Welcome!$F$20-1,\"Expected\",IF(F107<Welcome!$F$20,\"Below\"))))","v":""},{"$f":"IF(ISBLANK('Data Input'!A111),\"\",COUNTIF('Data Input'!C111:AZ111,\"\"))","v":""},{"$f":"IF(ISBLANK('Data Input'!A111),\"\",COUNTIF('Data Input'!C111:AZ111,\"0\"))","v":""},{"$f":"IF(ISBLANK('Data Input'!A111),\"\",SUM(C107,D107))","v":""},{"$f":"IF(ISBLANK('Data Input'!A111),\"\",SUM('Data Input'!C111:AZ111))","v":""},{"$f":"IF(F107=\"\",\"\",F107/(COUNTA('Data Input'!$C$8:$AZ$8)))","v":""},{"$f":"IF(ISBLANK('Data Input'!A111),\"\",SUM('Data Input'!C111,'Data Input'!H111,'Data Input'!J111,'Data Input'!N111,'Data Input'!R111,'Data Input'!T111,'Data Input'!Y111,'Data Input'!AE111,'Data Input'!AK111,'Data Input'!AM111))","v":""},{"$f":"IF(H107=\"\",\"\",H107/COUNTIF('Data Input'!$C$8:$AZ$8,$H$2))","v":""},{"$f":"IF(ISBLANK('Data Input'!A111),\"\",SUM('Data Input'!G111,'Data Input'!I111,'Data Input'!K111,'Data Input'!O111,'Data Input'!P111,'Data Input'!S111,'Data Input'!U111,'Data Input'!V111,'Data Input'!W111,'Data Input'!X111,'Data Input'!Z111,'Data Input'!AA111,'Data Input'!AD111,'Data Input'!AZ111))","v":""},{"$f":"IF(J107=\"\",\"\",J107/COUNTIF('Data Input'!$C$8:$AZ$8,$J$2))","v":""},{"$f":"IF(ISBLANK('Data Input'!A111),\"\",SUM('Data Input'!Q111,'Data Input'!AG111))","v":""},{"$f":"IF(L107=\"\",\"\",L107/COUNTIF('Data Input'!$C$8:$AZ$8,$L$2))","v":""},{"$f":"IF(ISBLANK('Data Input'!A111),\"\",SUM('Data Input'!D111,'Data Input'!E111,'Data Input'!F111,'Data Input'!L111,'Data Input'!M111,'Data Input'!AB111,'Data Input'!AC111,'Data Input'!AF111,'Data Input'!AJ111,'Data Input'!AL111,'Data Input'!AN111,'Data Input'!AO111,'Data Input'!AP111,'Data Input'!AQ111,'Data Input'!AR111,'Data Input'!AS111,'Data Input'!AT111,'Data Input'!AU111,'Data Input'!AV111,'Data Input'!AW111,'Data Input'!AX111,'Data Input'!AY111))","v":""},{"$f":"IF(N107=\"\",\"\",N107/COUNTIF('Data Input'!$C$8:$AZ$8,$N$2))","v":""},null,{"$f":"IF(P107=\"\",\"\",P107/COUNTIF('Data Input'!$C$8:$AZ$8,$P$2))","v":""},{"$f":"IF(ISBLANK('Data Input'!A111),\"\",SUM('Data Input'!AH111))","v":""},{"$f":"IF(R107=\"\",\"\",R107/COUNTIF('Data Input'!$C$8:$AZ$8,$R$2))","v":""},{"$f":"IF(ISBLANK('Data Input'!$A111),\"\",SUM('Data Input'!AI111))","v":""},{"$f":"IF(T107=\"\",\"\",T107/COUNTIF('Data Input'!$C$8:$AZ$8,$T$2))","v":""},null,{"$f":"IF(V107=\"\",\"\",V107/COUNTIF('Data Input'!$C$8:$AZ$8,$V$2))","v":""}]
[{"$f":"IF('Data Input'!A112=0,\"\",'Data Input'!A112)","v":""},{"$f":"IF(F108=\"\",\"\",IF(F108>Welcome!$J$20-1,\"Exceeding\",IF(F108>Welcome!$F$20-1,\"Expected\",IF(F108<Welcome!$F$20,\"Below\"))))","v":""},{"$f":"IF(ISBLANK('Data Input'!A112),\"\",COUNTIF('Data Input'!C112:AZ112,\"\"))","v":""},{"$f":"IF(ISBLANK('Data Input'!A112),\"\",COUNTIF('Data Input'!C112:AZ112,\"0\"))","v":""},{"$f":"IF(ISBLANK('Data Input'!A112),\"\",SUM(C108,D108))","v":""},{"$f":"IF(ISBLANK('Data Input'!A112),\"\",SUM('Data Input'!C112:AZ112))","v":""},{"$f":"IF(F108=\"\",\"\",F108/(COUNTA('Data Input'!$C$8:$AZ$8)))","v":""},{"$f":"IF(ISBLANK('Data Input'!A112),\"\",SUM('Data Input'!C112,'Data Input'!H112,'Data Input'!J112,'Data Input'!N112,'Data Input'!R112,'Data Input'!T112,'Data Input'!Y112,'Data Input'!AE112,'Data Input'!AK112,'Data Input'!AM112))","v":""},{"$f":"IF(H108=\"\",\"\",H108/COUNTIF('Data Input'!$C$8:$AZ$8,$H$2))","v":""},{"$f":"IF(ISBLANK('Data Input'!A112),\"\",SUM('Data Input'!G112,'Data Input'!I112,'Data Input'!K112,'Data Input'!O112,'Data Input'!P112,'Data Input'!S112,'Data Input'!U112,'Data Input'!V112,'Data Input'!W112,'Data Input'!X112,'Data Input'!Z112,'Data Input'!AA112,'Data Input'!AD112,'Data Input'!AZ112))","v":""},{"$f":"IF(J108=\"\",\"\",J108/COUNTIF('Data Input'!$C$8:$AZ$8,$J$2))","v":""},{"$f":"IF(ISBLANK('Data Input'!A112),\"\",SUM('Data Input'!Q112,'Data Input'!AG112))","v":""},{"$f":"IF(L108=\"\",\"\",L108/COUNTIF('Data Input'!$C$8:$AZ$8,$L$2))","v":""},{"$f":"IF(ISBLANK('Data Input'!A112),\"\",SUM('Data Input'!D112,'Data Input'!E112,'Data Input'!F112,'Data Input'!L112,'Data Input'!M112,'Data Input'!AB112,'Data Input'!AC112,'Data Input'!AF112,'Data Input'!AJ112,'Data Input'!AL112,'Data Input'!AN112,'Data Input'!AO112,'Data Input'!AP112,'Data Input'!AQ112,'Data Input'!AR112,'Data Input'!AS112,'Data Input'!AT112,'Data Input'!AU112,'Data Input'!AV112,'Data Input'!AW112,'Data Input'!AX112,'Data Input'!AY112))","v":""},{"$f":"IF(N108=\"\",\"\",N108/COUNTIF('Data Input'!$C$8:$AZ$8,$N$2))","v":""},null,{"$f":"IF(P108=\"\",\"\",P108/COUNTIF('Data Input'!$C$8:$AZ$8,$P$2))","v":""},{"$f":"IF(ISBLANK('Data Input'!A112),\"\",SUM('Data Input'!AH112))","v":""},{"$f":"IF(R108=\"\",\"\",R108/COUNTIF('Data Input'!$C$8:$AZ$8,$R$2))","v":""},{"$f":"IF(ISBLANK('Data Input'!$A112),\"\",SUM('Data Input'!AI112))","v":""},{"$f":"IF(T108=\"\",\"\",T108/COUNTIF('Data Input'!$C$8:$AZ$8,$T$2))","v":""},null,{"$f":"IF(V108=\"\",\"\",V108/COUNTIF('Data Input'!$C$8:$AZ$8,$V$2))","v":""}]
[{"$f":"IF('Data Input'!A113=0,\"\",'Data Input'!A113)","v":""},{"$f":"IF(F109=\"\",\"\",IF(F109>Welcome!$J$20-1,\"Exceeding\",IF(F109>Welcome!$F$20-1,\"Expected\",IF(F109<Welcome!$F$20,\"Below\"))))","v":""},{"$f":"IF(ISBLANK('Data Input'!A113),\"\",COUNTIF('Data Input'!C113:AZ113,\"\"))","v":""},{"$f":"IF(ISBLANK('Data Input'!A113),\"\",COUNTIF('Data Input'!C113:AZ113,\"0\"))","v":""},{"$f":"IF(ISBLANK('Data Input'!A113),\"\",SUM(C109,D109))","v":""},{"$f":"IF(ISBLANK('Data Input'!A113),\"\",SUM('Data Input'!C113:AZ113))","v":""},{"$f":"IF(F109=\"\",\"\",F109/(COUNTA('Data Input'!$C$8:$AZ$8)))","v":""},{"$f":"IF(ISBLANK('Data Input'!A113),\"\",SUM('Data Input'!C113,'Data Input'!H113,'Data Input'!J113,'Data Input'!N113,'Data Input'!R113,'Data Input'!T113,'Data Input'!Y113,'Data Input'!AE113,'Data Input'!AK113,'Data Input'!AM113))","v":""},{"$f":"IF(H109=\"\",\"\",H109/COUNTIF('Data Input'!$C$8:$AZ$8,$H$2))","v":""},{"$f":"IF(ISBLANK('Data Input'!A113),\"\",SUM('Data Input'!G113,'Data Input'!I113,'Data Input'!K113,'Data Input'!O113,'Data Input'!P113,'Data Input'!S113,'Data Input'!U113,'Data Input'!V113,'Data Input'!W113,'Data Input'!X113,'Data Input'!Z113,'Data Input'!AA113,'Data Input'!AD113,'Data Input'!AZ113))","v":""},{"$f":"IF(J109=\"\",\"\",J109/COUNTIF('Data Input'!$C$8:$AZ$8,$J$2))","v":""},{"$f":"IF(ISBLANK('Data Input'!A113),\"\",SUM('Data Input'!Q113,'Data Input'!AG113))","v":""},{"$f":"IF(L109=\"\",\"\",L109/COUNTIF('Data Input'!$C$8:$AZ$8,$L$2))","v":""},{"$f":"IF(ISBLANK('Data Input'!A113),\"\",SUM('Data Input'!D113,'Data Input'!E113,'Data Input'!F113,'Data Input'!L113,'Data Input'!M113,'Data Input'!AB113,'Data Input'!AC113,'Data Input'!AF113,'Data Input'!AJ113,'Data Input'!AL113,'Data Input'!AN113,'Data Input'!AO113,'Data Input'!AP113,'Data Input'!AQ113,'Data Input'!AR113,'Data Input'!AS113,'Data Input'!AT113,'Data Input'!AU113,'Data Input'!AV113,'Data Input'!AW113,'Data Input'!AX113,'Data Input'!AY113))","v":""},{"$f":"IF(N109=\"\",\"\",N109/COUNTIF('Data Input'!$C$8:$AZ$8,$N$2))","v":""},null,{"$f":"IF(P109=\"\",\"\",P109/COUNTIF('Data Input'!$C$8:$AZ$8,$P$2))","v":""},{"$f":"IF(ISBLANK('Data Input'!A113),\"\",SUM('Data Input'!AH113))","v":""},{"$f":"IF(R109=\"\",\"\",R109/COUNTIF('Data Input'!$C$8:$AZ$8,$R$2))","v":""},{"$f":"IF(ISBLANK('Data Input'!$A113),\"\",SUM('Data Input'!AI113))","v":""},{"$f":"IF(T109=\"\",\"\",T109/COUNTIF('Data Input'!$C$8:$AZ$8,$T$2))","v":""},null,{"$f":"IF(V109=\"\",\"\",V109/COUNTIF('Data Input'!$C$8:$AZ$8,$V$2))","v":""}]
[{"$f":"IF('Data Input'!A114=0,\"\",'Data Input'!A114)","v":""},{"$f":"IF(F110=\"\",\"\",IF(F110>Welcome!$J$20-1,\"Exceeding\",IF(F110>Welcome!$F$20-1,\"Expected\",IF(F110<Welcome!$F$20,\"Below\"))))","v":""},{"$f":"IF(ISBLANK('Data Input'!A114),\"\",COUNTIF('Data Input'!C114:AZ114,\"\"))","v":""},{"$f":"IF(ISBLANK('Data Input'!A114),\"\",COUNTIF('Data Input'!C114:AZ114,\"0\"))","v":""},{"$f":"IF(ISBLANK('Data Input'!A114),\"\",SUM(C110,D110))","v":""},{"$f":"IF(ISBLANK('Data Input'!A114),\"\",SUM('Data Input'!C114:AZ114))","v":""},{"$f":"IF(F110=\"\",\"\",F110/(COUNTA('Data Input'!$C$8:$AZ$8)))","v":""},{"$f":"IF(ISBLANK('Data Input'!A114),\"\",SUM('Data Input'!C114,'Data Input'!H114,'Data Input'!J114,'Data Input'!N114,'Data Input'!R114,'Data Input'!T114,'Data Input'!Y114,'Data Input'!AE114,'Data Input'!AK114,'Data Input'!AM114))","v":""},{"$f":"IF(H110=\"\",\"\",H110/COUNTIF('Data Input'!$C$8:$AZ$8,$H$2))","v":""},{"$f":"IF(ISBLANK('Data Input'!A114),\"\",SUM('Data Input'!G114,'Data Input'!I114,'Data Input'!K114,'Data Input'!O114,'Data Input'!P114,'Data Input'!S114,'Data Input'!U114,'Data Input'!V114,'Data Input'!W114,'Data Input'!X114,'Data Input'!Z114,'Data Input'!AA114,'Data Input'!AD114,'Data Input'!AZ114))","v":""},{"$f":"IF(J110=\"\",\"\",J110/COUNTIF('Data Input'!$C$8:$AZ$8,$J$2))","v":""},{"$f":"IF(ISBLANK('Data Input'!A114),\"\",SUM('Data Input'!Q114,'Data Input'!AG114))","v":""},{"$f":"IF(L110=\"\",\"\",L110/COUNTIF('Data Input'!$C$8:$AZ$8,$L$2))","v":""},{"$f":"IF(ISBLANK('Data Input'!A114),\"\",SUM('Data Input'!D114,'Data Input'!E114,'Data Input'!F114,'Data Input'!L114,'Data Input'!M114,'Data Input'!AB114,'Data Input'!AC114,'Data Input'!AF114,'Data Input'!AJ114,'Data Input'!AL114,'Data Input'!AN114,'Data Input'!AO114,'Data Input'!AP114,'Data Input'!AQ114,'Data Input'!AR114,'Data Input'!AS114,'Data Input'!AT114,'Data Input'!AU114,'Data Input'!AV114,'Data Input'!AW114,'Data Input'!AX114,'Data Input'!AY114))","v":""},{"$f":"IF(N110=\"\",\"\",N110/COUNTIF('Data Input'!$C$8:$AZ$8,$N$2))","v":""},null,{"$f":"IF(P110=\"\",\"\",P110/COUNTIF('Data Input'!$C$8:$AZ$8,$P$2))","v":""},{"$f":"IF(ISBLANK('Data Input'!A114),\"\",SUM('Data Input'!AH114))","v":""},{"$f":"IF(R110=\"\",\"\",R110/COUNTIF('Data Input'!$C$8:$AZ$8,$R$2))","v":""},{"$f":"IF(ISBLANK('Data Input'!$A114),\"\",SUM('Data Input'!AI114))","v":""},{"$f":"IF(T110=\"\",\"\",T110/COUNTIF('Data Input'!$C$8:$AZ$8,$T$2))","v":""},null,{"$f":"IF(V110=\"\",\"\",V110/COUNTIF('Data Input'!$C$8:$AZ$8,$V$2))","v":""}]
[{"$f":"IF('Data Input'!A115=0,\"\",'Data Input'!A115)","v":""},{"$f":"IF(F111=\"\",\"\",IF(F111>Welcome!$J$20-1,\"Exceeding\",IF(F111>Welcome!$F$20-1,\"Expected\",IF(F111<Welcome!$F$20,\"Below\"))))","v":""},{"$f":"IF(ISBLANK('Data Input'!A115),\"\",COUNTIF('Data Input'!C115:AZ115,\"\"))","v":""},{"$f":"IF(ISBLANK('Data Input'!A115),\"\",COUNTIF('Data Input'!C115:AZ115,\"0\"))","v":""},{"$f":"IF(ISBLANK('Data Input'!A115),\"\",SUM(C111,D111))","v":""},{"$f":"IF(ISBLANK('Data Input'!A115),\"\",SUM('Data Input'!C115:AZ115))","v":""},{"$f":"IF(F111=\"\",\"\",F111/(COUNTA('Data Input'!$C$8:$AZ$8)))","v":""},{"$f":"IF(ISBLANK('Data Input'!A115),\"\",SUM('Data Input'!C115,'Data Input'!H115,'Data Input'!J115,'Data Input'!N115,'Data Input'!R115,'Data Input'!T115,'Data Input'!Y115,'Data Input'!AE115,'Data Input'!AK115,'Data Input'!AM115))","v":""},{"$f":"IF(H111=\"\",\"\",H111/COUNTIF('Data Input'!$C$8:$AZ$8,$H$2))","v":""},{"$f":"IF(ISBLANK('Data Input'!A115),\"\",SUM('Data Input'!G115,'Data Input'!I115,'Data Input'!K115,'Data Input'!O115,'Data Input'!P115,'Data Input'!S115,'Data Input'!U115,'Data Input'!V115,'Data Input'!W115,'Data Input'!X115,'Data Input'!Z115,'Data Input'!AA115,'Data Input'!AD115,'Data Input'!AZ115))","v":""},{"$f":"IF(J111=\"\",\"\",J111/COUNTIF('Data Input'!$C$8:$AZ$8,$J$2))","v":""},{"$f":"IF(ISBLANK('Data Input'!A115),\"\",SUM('Data Input'!Q115,'Data Input'!AG115))","v":""},{"$f":"IF(L111=\"\",\"\",L111/COUNTIF('Data Input'!$C$8:$AZ$8,$L$2))","v":""},{"$f":"IF(ISBLANK('Data Input'!A115),\"\",SUM('Data Input'!D115,'Data Input'!E115,'Data Input'!F115,'Data Input'!L115,'Data Input'!M115,'Data Input'!AB115,'Data Input'!AC115,'Data Input'!AF115,'Data Input'!AJ115,'Data Input'!AL115,'Data Input'!AN115,'Data Input'!AO115,'Data Input'!AP115,'Data Input'!AQ115,'Data Input'!AR115,'Data Input'!AS115,'Data Input'!AT115,'Data Input'!AU115,'Data Input'!AV115,'Data Input'!AW115,'Data Input'!AX115,'Data Input'!AY115))","v":""},{"$f":"IF(N111=\"\",\"\",N111/COUNTIF('Data Input'!$C$8:$AZ$8,$N$2))","v":""},null,{"$f":"IF(P111=\"\",\"\",P111/COUNTIF('Data Input'!$C$8:$AZ$8,$P$2))","v":""},{"$f":"IF(ISBLANK('Data Input'!A115),\"\",SUM('Data Input'!AH115))","v":""},{"$f":"IF(R111=\"\",\"\",R111/COUNTIF('Data Input'!$C$8:$AZ$8,$R$2))","v":""},{"$f":"IF(ISBLANK('Data Input'!$A115),\"\",SUM('Data Input'!AI115))","v":""},{"$f":"IF(T111=\"\",\"\",T111/COUNTIF('Data Input'!$C$8:$AZ$8,$T$2))","v":""},null,{"$f":"IF(V111=\"\",\"\",V111/COUNTIF('Data Input'!$C$8:$AZ$8,$V$2))","v":""}]
[{"$f":"IF('Data Input'!A116=0,\"\",'Data Input'!A116)","v":""},{"$f":"IF(F112=\"\",\"\",IF(F112>Welcome!$J$20-1,\"Exceeding\",IF(F112>Welcome!$F$20-1,\"Expected\",IF(F112<Welcome!$F$20,\"Below\"))))","v":""},{"$f":"IF(ISBLANK('Data Input'!A116),\"\",COUNTIF('Data Input'!C116:AZ116,\"\"))","v":""},{"$f":"IF(ISBLANK('Data Input'!A116),\"\",COUNTIF('Data Input'!C116:AZ116,\"0\"))","v":""},{"$f":"IF(ISBLANK('Data Input'!A116),\"\",SUM(C112,D112))","v":""},{"$f":"IF(ISBLANK('Data Input'!A116),\"\",SUM('Data Input'!C116:AZ116))","v":""},{"$f":"IF(F112=\"\",\"\",F112/(COUNTA('Data Input'!$C$8:$AZ$8)))","v":""},{"$f":"IF(ISBLANK('Data Input'!A116),\"\",SUM('Data Input'!C116,'Data Input'!H116,'Data Input'!J116,'Data Input'!N116,'Data Input'!R116,'Data Input'!T116,'Data Input'!Y116,'Data Input'!AE116,'Data Input'!AK116,'Data Input'!AM116))","v":""},{"$f":"IF(H112=\"\",\"\",H112/COUNTIF('Data Input'!$C$8:$AZ$8,$H$2))","v":""},{"$f":"IF(ISBLANK('Data Input'!A116),\"\",SUM('Data Input'!G116,'Data Input'!I116,'Data Input'!K116,'Data Input'!O116,'Data Input'!P116,'Data Input'!S116,'Data Input'!U116,'Data Input'!V116,'Data Input'!W116,'Data Input'!X116,'Data Input'!Z116,'Data Input'!AA116,'Data Input'!AD116,'Data Input'!AZ116))","v":""},{"$f":"IF(J112=\"\",\"\",J112/COUNTIF('Data Input'!$C$8:$AZ$8,$J$2))","v":""},{"$f":"IF(ISBLANK('Data Input'!A116),\"\",SUM('Data Input'!Q116,'Data Input'!AG116))","v":""},{"$f":"IF(L112=\"\",\"\",L112/COUNTIF('Data Input'!$C$8:$AZ$8,$L$2))","v":""},{"$f":"IF(ISBLANK('Data Input'!A116),\"\",SUM('Data Input'!D116,'Data Input'!E116,'Data Input'!F116,'Data Input'!L116,'Data Input'!M116,'Data Input'!AB116,'Data Input'!AC116,'Data Input'!AF116,'Data Input'!AJ116,'Data Input'!AL116,'Data Input'!AN116,'Data Input'!AO116,'Data Input'!AP116,'Data Input'!AQ116,'Data Input'!AR116,'Data Input'!AS116,'Data Input'!AT116,'Data Input'!AU116,'Data Input'!AV116,'Data Input'!AW116,'Data Input'!AX116,'Data Input'!AY116))","v":""},{"$f":"IF(N112=\"\",\"\",N112/COUNTIF('Data Input'!$C$8:$AZ$8,$N$2))","v":""},null,{"$f":"IF(P112=\"\",\"\",P112/COUNTIF('Data Input'!$C$8:$AZ$8,$P$2))","v":""},{"$f":"IF(ISBLANK('Data Input'!A116),\"\",SUM('Data Input'!AH116))","v":""},{"$f":"IF(R112=\"\",\"\",R112/COUNTIF('Data Input'!$C$8:$AZ$8,$R$2))","v":""},{"$f":"IF(ISBLANK('Data Input'!$A116),\"\",SUM('Data Input'!AI116))","v":""},{"$f":"IF(T112=\"\",\"\",T112/COUNTIF('Data Input'!$C$8:$AZ$8,$T$2))","v":""},null,{"$f":"IF(V112=\"\",\"\",V112/COUNTIF('Data Input'!$C$8:$AZ$8,$V$2))","v":""}]
[{"$f":"IF('Data Input'!A117=0,\"\",'Data Input'!A117)","v":""},{"$f":"IF(F113=\"\",\"\",IF(F113>Welcome!$J$20-1,\"Exceeding\",IF(F113>Welcome!$F$20-1,\"Expected\",IF(F113<Welcome!$F$20,\"Below\"))))","v":""},{"$f":"IF(ISBLANK('Data Input'!A117),\"\",COUNTIF('Data Input'!C117:AZ117,\"\"))","v":""},{"$f":"IF(ISBLANK('Data Input'!A117),\"\",COUNTIF('Data Input'!C117:AZ117,\"0\"))","v":""},{"$f":"IF(ISBLANK('Data Input'!A117),\"\",SUM(C113,D113))","v":""},{"$f":"IF(ISBLANK('Data Input'!A117),\"\",SUM('Data Input'!C117:AZ117))","v":""},{"$f":"IF(F113=\"\",\"\",F113/(COUNTA('Data Input'!$C$8:$AZ$8)))","v":""},{"$f":"IF(ISBLANK('Data Input'!A117),\"\",SUM('Data Input'!C117,'Data Input'!H117,'Data Input'!J117,'Data Input'!N117,'Data Input'!R117,'Data Input'!T117,'Data Input'!Y117,'Data Input'!AE117,'Data Input'!AK117,'Data Input'!AM117))","v":""},{"$f":"IF(H113=\"\",\"\",H113/COUNTIF('Data Input'!$C$8:$AZ$8,$H$2))","v":""},{"$f":"IF(ISBLANK('Data Input'!A117),\"\",SUM('Data Input'!G117,'Data Input'!I117,'Data Input'!K117,'Data Input'!O117,'Data Input'!P117,'Data Input'!S117,'Data Input'!U117,'Data Input'!V117,'Data Input'!W117,'Data Input'!X117,'Data Input'!Z117,'Data Input'!AA117,'Data Input'!AD117,'Data Input'!AZ117))","v":""},{"$f":"IF(J113=\"\",\"\",J113/COUNTIF('Data Input'!$C$8:$AZ$8,$J$2))","v":""},{"$f":"IF(ISBLANK('Data Input'!A117),\"\",SUM('Data Input'!Q117,'Data Input'!AG117))","v":""},{"$f":"IF(L113=\"\",\"\",L113/COUNTIF('Data Input'!$C$8:$AZ$8,$L$2))","v":""},{"$f":"IF(ISBLANK('Data Input'!A117),\"\",SUM('Data Input'!D117,'Data Input'!E117,'Data Input'!F117,'Data Input'!L117,'Data Input'!M117,'Data Input'!AB117,'Data Input'!AC117,'Data Input'!AF117,'Data Input'!AJ117,'Data Input'!AL117,'Data Input'!AN117,'Data Input'!AO117,'Data Input'!AP117,'Data Input'!AQ117,'Data Input'!AR117,'Data Input'!AS117,'Data Input'!AT117,'Data Input'!AU117,'Data Input'!AV117,'Data Input'!AW117,'Data Input'!AX117,'Data Input'!AY117))","v":""},{"$f":"IF(N113=\"\",\"\",N113/COUNTIF('Data Input'!$C$8:$AZ$8,$N$2))","v":""},null,{"$f":"IF(P113=\"\",\"\",P113/COUNTIF('Data Input'!$C$8:$AZ$8,$P$2))","v":""},{"$f":"IF(ISBLANK('Data Input'!A117),\"\",SUM('Data Input'!AH117))","v":""},{"$f":"IF(R113=\"\",\"\",R113/COUNTIF('Data Input'!$C$8:$AZ$8,$R$2))","v":""},{"$f":"IF(ISBLANK('Data Input'!$A117),\"\",SUM('Data Input'!AI117))","v":""},{"$f":"IF(T113=\"\",\"\",T113/COUNTIF('Data Input'!$C$8:$AZ$8,$T$2))","v":""},null,{"$f":"IF(V113=\"\",\"\",V113/COUNTIF('Data Input'!$C$8:$AZ$8,$V$2))","v":""}]
[{"$f":"IF('Data Input'!A118=0,\"\",'Data Input'!A118)","v":""},{"$f":"IF(F114=\"\",\"\",IF(F114>Welcome!$J$20-1,\"Exceeding\",IF(F114>Welcome!$F$20-1,\"Expected\",IF(F114<Welcome!$F$20,\"Below\"))))","v":""},{"$f":"IF(ISBLANK('Data Input'!A118),\"\",COUNTIF('Data Input'!C118:AZ118,\"\"))","v":""},{"$f":"IF(ISBLANK('Data Input'!A118),\"\",COUNTIF('Data Input'!C118:AZ118,\"0\"))","v":""},{"$f":"IF(ISBLANK('Data Input'!A118),\"\",SUM(C114,D114))","v":""},{"$f":"IF(ISBLANK('Data Input'!A118),\"\",SUM('Data Input'!C118:AZ118))","v":""},{"$f":"IF(F114=\"\",\"\",F114/(COUNTA('Data Input'!$C$8:$AZ$8)))","v":""},{"$f":"IF(ISBLANK('Data Input'!A118),\"\",SUM('Data Input'!C118,'Data Input'!H118,'Data Input'!J118,'Data Input'!N118,'Data Input'!R118,'Data Input'!T118,'Data Input'!Y118,'Data Input'!AE118,'Data Input'!AK118,'Data Input'!AM118))","v":""},{"$f":"IF(H114=\"\",\"\",H114/COUNTIF('Data Input'!$C$8:$AZ$8,$H$2))","v":""},{"$f":"IF(ISBLANK('Data Input'!A118),\"\",SUM('Data Input'!G118,'Data Input'!I118,'Data Input'!K118,'Data Input'!O118,'Data Input'!P118,'Data Input'!S118,'Data Input'!U118,'Data Input'!V118,'Data Input'!W118,'Data Input'!X118,'Data Input'!Z118,'Data Input'!AA118,'Data Input'!AD118,'Data Input'!AZ118))","v":""},{"$f":"IF(J114=\"\",\"\",J114/COUNTIF('Data Input'!$C$8:$AZ$8,$J$2))","v":""},{"$f":"IF(ISBLANK('Data Input'!A118),\"\",SUM('Data Input'!Q118,'Data Input'!AG118))","v":""},{"$f":"IF(L114=\"\",\"\",L114/COUNTIF('Data Input'!$C$8:$AZ$8,$L$2))","v":""},{"$f":"IF(ISBLANK('Data Input'!A118),\"\",SUM('Data Input'!D118,'Data Input'!E118,'Data Input'!F118,'Data Input'!L118,'Data Input'!M118,'Data Input'!AB118,'Data Input'!AC118,'Data Input'!AF118,'Data Input'!AJ118,'Data Input'!AL118,'Data Input'!AN118,'Data Input'!AO118,'Data Input'!AP118,'Data Input'!AQ118,'Data Input'!AR118,'Data Input'!AS118,'Data Input'!AT118,'Data Input'!AU118,'Data Input'!AV118,'Data Input'!AW118,'Data Input'!AX118,'Data Input'!AY118))","v":""},{"$f":"IF(N114=\"\",\"\",N114/COUNTIF('Data Input'!$C$8:$AZ$8,$N$2))","v":""},null,{"$f":"IF(P114=\"\",\"\",P114/COUNTIF('Data Input'!$C$8:$AZ$8,$P$2))","v":""},{"$f":"IF(ISBLANK('Data Input'!A118),\"\",SUM('Data Input'!AH118))","v":""},{"$f":"IF(R114=\"\",\"\",R114/COUNTIF('Data Input'!$C$8:$AZ$8,$R$2))","v":""},{"$f":"IF(ISBLANK('Data Input'!$A118),\"\",SUM('Data Input'!AI118))","v":""},{"$f":"IF(T114=\"\",\"\",T114/COUNTIF('Data Input'!$C$8:$AZ$8,$T$2))","v":""},null,{"$f":"IF(V114=\"\",\"\",V114/COUNTIF('Data Input'!$C$8:$AZ$8,$V$2))","v":""}]
[{"$f":"IF('Data Input'!A119=0,\"\",'Data Input'!A119)","v":""},{"$f":"IF(F115=\"\",\"\",IF(F115>Welcome!$J$20-1,\"Exceeding\",IF(F115>Welcome!$F$20-1,\"Expected\",IF(F115<Welcome!$F$20,\"Below\"))))","v":""},{"$f":"IF(ISBLANK('Data Input'!A119),\"\",COUNTIF('Data Input'!C119:AZ119,\"\"))","v":""},{"$f":"IF(ISBLANK('Data Input'!A119),\"\",COUNTIF('Data Input'!C119:AZ119,\"0\"))","v":""},{"$f":"IF(ISBLANK('Data Input'!A119),\"\",SUM(C115,D115))","v":""},{"$f":"IF(ISBLANK('Data Input'!A119),\"\",SUM('Data Input'!C119:AZ119))","v":""},{"$f":"IF(F115=\"\",\"\",F115/(COUNTA('Data Input'!$C$8:$AZ$8)))","v":""},{"$f":"IF(ISBLANK('Data Input'!A119),\"\",SUM('Data Input'!C119,'Data Input'!H119,'Data Input'!J119,'Data Input'!N119,'Data Input'!R119,'Data Input'!T119,'Data Input'!Y119,'Data Input'!AE119,'Data Input'!AK119,'Data Input'!AM119))","v":""},{"$f":"IF(H115=\"\",\"\",H115/COUNTIF('Data Input'!$C$8:$AZ$8,$H$2))","v":""},{"$f":"IF(ISBLANK('Data Input'!A119),\"\",SUM('Data Input'!G119,'Data Input'!I119,'Data Input'!K119,'Data Input'!O119,'Data Input'!P119,'Data Input'!S119,'Data Input'!U119,'Data Input'!V119,'Data Input'!W119,'Data Input'!X119,'Data Input'!Z119,'Data Input'!AA119,'Data Input'!AD119,'Data Input'!AZ119))","v":""},{"$f":"IF(J115=\"\",\"\",J115/COUNTIF('Data Input'!$C$8:$AZ$8,$J$2))","v":""},{"$f":"IF(ISBLANK('Data Input'!A119),\"\",SUM('Data Input'!Q119,'Data Input'!AG119))","v":""},{"$f":"IF(L115=\"\",\"\",L115/COUNTIF('Data Input'!$C$8:$AZ$8,$L$2))","v":""},{"$f":"IF(ISBLANK('Data Input'!A119),\"\",SUM('Data Input'!D119,'Data Input'!E119,'Data Input'!F119,'Data Input'!L119,'Data Input'!M119,'Data Input'!AB119,'Data Input'!AC119,'Data Input'!AF119,'Data Input'!AJ119,'Data Input'!AL119,'Data Input'!AN119,'Data Input'!AO119,'Data Input'!AP119,'Data Input'!AQ119,'Data Input'!AR119,'Data Input'!AS119,'Data Input'!AT119,'Data Input'!AU119,'Data Input'!AV119,'Data Input'!AW119,'Data Input'!AX119,'Data Input'!AY119))","v":""},{"$f":"IF(N115=\"\",\"\",N115/COUNTIF('Data Input'!$C$8:$AZ$8,$N$2))","v":""},null,{"$f":"IF(P115=\"\",\"\",P115/COUNTIF('Data Input'!$C$8:$AZ$8,$P$2))","v":""},{"$f":"IF(ISBLANK('Data Input'!A119),\"\",SUM('Data Input'!AH119))","v":""},{"$f":"IF(R115=\"\",\"\",R115/COUNTIF('Data Input'!$C$8:$AZ$8,$R$2))","v":""},{"$f":"IF(ISBLANK('Data Input'!$A119),\"\",SUM('Data Input'!AI119))","v":""},{"$f":"IF(T115=\"\",\"\",T115/COUNTIF('Data Input'!$C$8:$AZ$8,$T$2))","v":""},null,{"$f":"IF(V115=\"\",\"\",V115/COUNTIF('Data Input'!$C$8:$AZ$8,$V$2))","v":""}]
[{"$f":"IF('Data Input'!A120=0,\"\",'Data Input'!A120)","v":""},{"$f":"IF(F116=\"\",\"\",IF(F116>Welcome!$J$20-1,\"Exceeding\",IF(F116>Welcome!$F$20-1,\"Expected\",IF(F116<Welcome!$F$20,\"Below\"))))","v":""},{"$f":"IF(ISBLANK('Data Input'!A120),\"\",COUNTIF('Data Input'!C120:AZ120,\"\"))","v":""},{"$f":"IF(ISBLANK('Data Input'!A120),\"\",COUNTIF('Data Input'!C120:AZ120,\"0\"))","v":""},{"$f":"IF(ISBLANK('Data Input'!A120),\"\",SUM(C116,D116))","v":""},{"$f":"IF(ISBLANK('Data Input'!A120),\"\",SUM('Data Input'!C120:AZ120))","v":""},{"$f":"IF(F116=\"\",\"\",F116/(COUNTA('Data Input'!$C$8:$AZ$8)))","v":""},{"$f":"IF(ISBLANK('Data Input'!A120),\"\",SUM('Data Input'!C120,'Data Input'!H120,'Data Input'!J120,'Data Input'!N120,'Data Input'!R120,'Data Input'!T120,'Data Input'!Y120,'Data Input'!AE120,'Data Input'!AK120,'Data Input'!AM120))","v":""},{"$f":"IF(H116=\"\",\"\",H116/COUNTIF('Data Input'!$C$8:$AZ$8,$H$2))","v":""},{"$f":"IF(ISBLANK('Data Input'!A120),\"\",SUM('Data Input'!G120,'Data Input'!I120,'Data Input'!K120,'Data Input'!O120,'Data Input'!P120,'Data Input'!S120,'Data Input'!U120,'Data Input'!V120,'Data Input'!W120,'Data Input'!X120,'Data Input'!Z120,'Data Input'!AA120,'Data Input'!AD120,'Data Input'!AZ120))","v":""},{"$f":"IF(J116=\"\",\"\",J116/COUNTIF('Data Input'!$C$8:$AZ$8,$J$2))","v":""},{"$f":"IF(ISBLANK('Data Input'!A120),\"\",SUM('Data Input'!Q120,'Data Input'!AG120))","v":""},{"$f":"IF(L116=\"\",\"\",L116/COUNTIF('Data Input'!$C$8:$AZ$8,$L$2))","v":""},{"$f":"IF(ISBLANK('Data Input'!A120),\"\",SUM('Data Input'!D120,'Data Input'!E120,'Data Input'!F120,'Data Input'!L120,'Data Input'!M120,'Data Input'!AB120,'Data Input'!AC120,'Data Input'!AF120,'Data Input'!AJ120,'Data Input'!AL120,'Data Input'!AN120,'Data Input'!AO120,'Data Input'!AP120,'Data Input'!AQ120,'Data Input'!AR120,'Data Input'!AS120,'Data Input'!AT120,'Data Input'!AU120,'Data Input'!AV120,'Data Input'!AW120,'Data Input'!AX120,'Data Input'!AY120))","v":""},{"$f":"IF(N116=\"\",\"\",N116/COUNTIF('Data Input'!$C$8:$AZ$8,$N$2))","v":""},null,{"$f":"IF(P116=\"\",\"\",P116/COUNTIF('Data Input'!$C$8:$AZ$8,$P$2))","v":""},{"$f":"IF(ISBLANK('Data Input'!A120),\"\",SUM('Data Input'!AH120))","v":""},{"$f":"IF(R116=\"\",\"\",R116/COUNTIF('Data Input'!$C$8:$AZ$8,$R$2))","v":""},{"$f":"IF(ISBLANK('Data Input'!$A120),\"\",SUM('Data Input'!AI120))","v":""},{"$f":"IF(T116=\"\",\"\",T116/COUNTIF('Data Input'!$C$8:$AZ$8,$T$2))","v":""},null,{"$f":"IF(V116=\"\",\"\",V116/COUNTIF('Data Input'!$C$8:$AZ$8,$V$2))","v":""}]
[{"$f":"IF('Data Input'!A121=0,\"\",'Data Input'!A121)","v":""},{"$f":"IF(F117=\"\",\"\",IF(F117>Welcome!$J$20-1,\"Exceeding\",IF(F117>Welcome!$F$20-1,\"Expected\",IF(F117<Welcome!$F$20,\"Below\"))))","v":""},{"$f":"IF(ISBLANK('Data Input'!A121),\"\",COUNTIF('Data Input'!C121:AZ121,\"\"))","v":""},{"$f":"IF(ISBLANK('Data Input'!A121),\"\",COUNTIF('Data Input'!C121:AZ121,\"0\"))","v":""},{"$f":"IF(ISBLANK('Data Input'!A121),\"\",SUM(C117,D117))","v":""},{"$f":"IF(ISBLANK('Data Input'!A121),\"\",SUM('Data Input'!C121:AZ121))","v":""},{"$f":"IF(F117=\"\",\"\",F117/(COUNTA('Data Input'!$C$8:$AZ$8)))","v":""},{"$f":"IF(ISBLANK('Data Input'!A121),\"\",SUM('Data Input'!C121,'Data Input'!H121,'Data Input'!J121,'Data Input'!N121,'Data Input'!R121,'Data Input'!T121,'Data Input'!Y121,'Data Input'!AE121,'Data Input'!AK121,'Data Input'!AM121))","v":""},{"$f":"IF(H117=\"\",\"\",H117/COUNTIF('Data Input'!$C$8:$AZ$8,$H$2))","v":""},{"$f":"IF(ISBLANK('Data Input'!A121),\"\",SUM('Data Input'!G121,'Data Input'!I121,'Data Input'!K121,'Data Input'!O121,'Data Input'!P121,'Data Input'!S121,'Data Input'!U121,'Data Input'!V121,'Data Input'!W121,'Data Input'!X121,'Data Input'!Z121,'Data Input'!AA121,'Data Input'!AD121,'Data Input'!AZ121))","v":""},{"$f":"IF(J117=\"\",\"\",J117/COUNTIF('Data Input'!$C$8:$AZ$8,$J$2))","v":""},{"$f":"IF(ISBLANK('Data Input'!A121),\"\",SUM('Data Input'!Q121,'Data Input'!AG121))","v":""},{"$f":"IF(L117=\"\",\"\",L117/COUNTIF('Data Input'!$C$8:$AZ$8,$L$2))","v":""},{"$f":"IF(ISBLANK('Data Input'!A121),\"\",SUM('Data Input'!D121,'Data Input'!E121,'Data Input'!F121,'Data Input'!L121,'Data Input'!M121,'Data Input'!AB121,'Data Input'!AC121,'Data Input'!AF121,'Data Input'!AJ121,'Data Input'!AL121,'Data Input'!AN121,'Data Input'!AO121,'Data Input'!AP121,'Data Input'!AQ121,'Data Input'!AR121,'Data Input'!AS121,'Data Input'!AT121,'Data Input'!AU121,'Data Input'!AV121,'Data Input'!AW121,'Data Input'!AX121,'Data Input'!AY121))","v":""},{"$f":"IF(N117=\"\",\"\",N117/COUNTIF('Data Input'!$C$8:$AZ$8,$N$2))","v":""},null,{"$f":"IF(P117=\"\",\"\",P117/COUNTIF('Data Input'!$C$8:$AZ$8,$P$2))","v":""},{"$f":"IF(ISBLANK('Data Input'!A121),\"\",SUM('Data Input'!AH121))","v":""},{"$f":"IF(R117=\"\",\"\",R117/COUNTIF('Data Input'!$C$8:$AZ$8,$R$2))","v":""},{"$f":"IF(ISBLANK('Data Input'!$A121),\"\",SUM('Data Input'!AI121))","v":""},{"$f":"IF(T117=\"\",\"\",T117/COUNTIF('Data Input'!$C$8:$AZ$8,$T$2))","v":""},null,{"$f":"IF(V117=\"\",\"\",V117/COUNTIF('Data Input'!$C$8:$AZ$8,$V$2))","v":""}]
[{"$f":"IF('Data Input'!A122=0,\"\",'Data Input'!A122)","v":""},{"$f":"IF(F118=\"\",\"\",IF(F118>Welcome!$J$20-1,\"Exceeding\",IF(F118>Welcome!$F$20-1,\"Expected\",IF(F118<Welcome!$F$20,\"Below\"))))","v":""},{"$f":"IF(ISBLANK('Data Input'!A122),\"\",COUNTIF('Data Input'!C122:AZ122,\"\"))","v":""},{"$f":"IF(ISBLANK('Data Input'!A122),\"\",COUNTIF('Data Input'!C122:AZ122,\"0\"))","v":""},{"$f":"IF(ISBLANK('Data Input'!A122),\"\",SUM(C118,D118))","v":""},{"$f":"IF(ISBLANK('Data Input'!A122),\"\",SUM('Data Input'!C122:AZ122))","v":""},{"$f":"IF(F118=\"\",\"\",F118/(COUNTA('Data Input'!$C$8:$AZ$8)))","v":""},{"$f":"IF(ISBLANK('Data Input'!A122),\"\",SUM('Data Input'!C122,'Data Input'!H122,'Data Input'!J122,'Data Input'!N122,'Data Input'!R122,'Data Input'!T122,'Data Input'!Y122,'Data Input'!AE122,'Data Input'!AK122,'Data Input'!AM122))","v":""},{"$f":"IF(H118=\"\",\"\",H118/COUNTIF('Data Input'!$C$8:$AZ$8,$H$2))","v":""},{"$f":"IF(ISBLANK('Data Input'!A122),\"\",SUM('Data Input'!G122,'Data Input'!I122,'Data Input'!K122,'Data Input'!O122,'Data Input'!P122,'Data Input'!S122,'Data Input'!U122,'Data Input'!V122,'Data Input'!W122,'Data Input'!X122,'Data Input'!Z122,'Data Input'!AA122,'Data Input'!AD122,'Data Input'!AZ122))","v":""},{"$f":"IF(J118=\"\",\"\",J118/COUNTIF('Data Input'!$C$8:$AZ$8,$J$2))","v":""},{"$f":"IF(ISBLANK('Data Input'!A122),\"\",SUM('Data Input'!Q122,'Data Input'!AG122))","v":""},{"$f":"IF(L118=\"\",\"\",L118/COUNTIF('Data Input'!$C$8:$AZ$8,$L$2))","v":""},{"$f":"IF(ISBLANK('Data Input'!A122),\"\",SUM('Data Input'!D122,'Data Input'!E122,'Data Input'!F122,'Data Input'!L122,'Data Input'!M122,'Data Input'!AB122,'Data Input'!AC122,'Data Input'!AF122,'Data Input'!AJ122,'Data Input'!AL122,'Data Input'!AN122,'Data Input'!AO122,'Data Input'!AP122,'Data Input'!AQ122,'Data Input'!AR122,'Data Input'!AS122,'Data Input'!AT122,'Data Input'!AU122,'Data Input'!AV122,'Data Input'!AW122,'Data Input'!AX122,'Data Input'!AY122))","v":""},{"$f":"IF(N118=\"\",\"\",N118/COUNTIF('Data Input'!$C$8:$AZ$8,$N$2))","v":""},null,{"$f":"IF(P118=\"\",\"\",P118/COUNTIF('Data Input'!$C$8:$AZ$8,$P$2))","v":""},{"$f":"IF(ISBLANK('Data Input'!A122),\"\",SUM('Data Input'!AH122))","v":""},{"$f":"IF(R118=\"\",\"\",R118/COUNTIF('Data Input'!$C$8:$AZ$8,$R$2))","v":""},{"$f":"IF(ISBLANK('Data Input'!$A122),\"\",SUM('Data Input'!AI122))","v":""},{"$f":"IF(T118=\"\",\"\",T118/COUNTIF('Data Input'!$C$8:$AZ$8,$T$2))","v":""},null,{"$f":"IF(V118=\"\",\"\",V118/COUNTIF('Data Input'!$C$8:$AZ$8,$V$2))","v":""}]
[{"$f":"IF('Data Input'!A123=0,\"\",'Data Input'!A123)","v":""},{"$f":"IF(F119=\"\",\"\",IF(F119>Welcome!$J$20-1,\"Exceeding\",IF(F119>Welcome!$F$20-1,\"Expected\",IF(F119<Welcome!$F$20,\"Below\"))))","v":""},{"$f":"IF(ISBLANK('Data Input'!A123),\"\",COUNTIF('Data Input'!C123:AZ123,\"\"))","v":""},{"$f":"IF(ISBLANK('Data Input'!A123),\"\",COUNTIF('Data Input'!C123:AZ123,\"0\"))","v":""},{"$f":"IF(ISBLANK('Data Input'!A123),\"\",SUM(C119,D119))","v":""},{"$f":"IF(ISBLANK('Data Input'!A123),\"\",SUM('Data Input'!C123:AZ123))","v":""},{"$f":"IF(F119=\"\",\"\",F119/(COUNTA('Data Input'!$C$8:$AZ$8)))","v":""},{"$f":"IF(ISBLANK('Data Input'!A123),\"\",SUM('Data Input'!C123,'Data Input'!H123,'Data Input'!J123,'Data Input'!N123,'Data Input'!R123,'Data Input'!T123,'Data Input'!Y123,'Data Input'!AE123,'Data Input'!AK123,'Data Input'!AM123))","v":""},{"$f":"IF(H119=\"\",\"\",H119/COUNTIF('Data Input'!$C$8:$AZ$8,$H$2))","v":""},{"$f":"IF(ISBLANK('Data Input'!A123),\"\",SUM('Data Input'!G123,'Data Input'!I123,'Data Input'!K123,'Data Input'!O123,'Data Input'!P123,'Data Input'!S123,'Data Input'!U123,'Data Input'!V123,'Data Input'!W123,'Data Input'!X123,'Data Input'!Z123,'Data Input'!AA123,'Data Input'!AD123,'Data Input'!AZ123))","v":""},{"$f":"IF(J119=\"\",\"\",J119/COUNTIF('Data Input'!$C$8:$AZ$8,$J$2))","v":""},{"$f":"IF(ISBLANK('Data Input'!A123),\"\",SUM('Data Input'!Q123,'Data Input'!AG123))","v":""},{"$f":"IF(L119=\"\",\"\",L119/COUNTIF('Data Input'!$C$8:$AZ$8,$L$2))","v":""},{"$f":"IF(ISBLANK('Data Input'!A123),\"\",SUM('Data Input'!D123,'Data Input'!E123,'Data Input'!F123,'Data Input'!L123,'Data Input'!M123,'Data Input'!AB123,'Data Input'!AC123,'Data Input'!AF123,'Data Input'!AJ123,'Data Input'!AL123,'Data Input'!AN123,'Data Input'!AO123,'Data Input'!AP123,'Data Input'!AQ123,'Data Input'!AR123,'Data Input'!AS123,'Data Input'!AT123,'Data Input'!AU123,'Data Input'!AV123,'Data Input'!AW123,'Data Input'!AX123,'Data Input'!AY123))","v":""},{"$f":"IF(N119=\"\",\"\",N119/COUNTIF('Data Input'!$C$8:$AZ$8,$N$2))","v":""},null,{"$f":"IF(P119=\"\",\"\",P119/COUNTIF('Data Input'!$C$8:$AZ$8,$P$2))","v":""},{"$f":"IF(ISBLANK('Data Input'!A123),\"\",SUM('Data Input'!AH123))","v":""},{"$f":"IF(R119=\"\",\"\",R119/COUNTIF('Data Input'!$C$8:$AZ$8,$R$2))","v":""},{"$f":"IF(ISBLANK('Data Input'!$A123),\"\",SUM('Data Input'!AI123))","v":""},{"$f":"IF(T119=\"\",\"\",T119/COUNTIF('Data Input'!$C$8:$AZ$8,$T$2))","v":""},null,{"$f":"IF(V119=\"\",\"\",V119/COUNTIF('Data Input'!$C$8:$AZ$8,$V$2))","v":""}]
[{"$f":"IF('Data Input'!A124=0,\"\",'Data Input'!A124)","v":""},{"$f":"IF(F120=\"\",\"\",IF(F120>Welcome!$J$20-1,\"Exceeding\",IF(F120>Welcome!$F$20-1,\"Expected\",IF(F120<Welcome!$F$20,\"Below\"))))","v":""},{"$f":"IF(ISBLANK('Data Input'!A124),\"\",COUNTIF('Data Input'!C124:AZ124,\"\"))","v":""},{"$f":"IF(ISBLANK('Data Input'!A124),\"\",COUNTIF('Data Input'!C124:AZ124,\"0\"))","v":""},{"$f":"IF(ISBLANK('Data Input'!A124),\"\",SUM(C120,D120))","v":""},{"$f":"IF(ISBLANK('Data Input'!A124),\"\",SUM('Data Input'!C124:AZ124))","v":""},{"$f":"IF(F120=\"\",\"\",F120/(COUNTA('Data Input'!$C$8:$AZ$8)))","v":""},{"$f":"IF(ISBLANK('Data Input'!A124),\"\",SUM('Data Input'!C124,'Data Input'!H124,'Data Input'!J124,'Data Input'!N124,'Data Input'!R124,'Data Input'!T124,'Data Input'!Y124,'Data Input'!AE124,'Data Input'!AK124,'Data Input'!AM124))","v":""},{"$f":"IF(H120=\"\",\"\",H120/COUNTIF('Data Input'!$C$8:$AZ$8,$H$2))","v":""},{"$f":"IF(ISBLANK('Data Input'!A124),\"\",SUM('Data Input'!G124,'Data Input'!I124,'Data Input'!K124,'Data Input'!O124,'Data Input'!P124,'Data Input'!S124,'Data Input'!U124,'Data Input'!V124,'Data Input'!W124,'Data Input'!X124,'Data Input'!Z124,'Data Input'!AA124,'Data Input'!AD124,'Data Input'!AZ124))","v":""},{"$f":"IF(J120=\"\",\"\",J120/COUNTIF('Data Input'!$C$8:$AZ$8,$J$2))","v":""},{"$f":"IF(ISBLANK('Data Input'!A124),\"\",SUM('Data Input'!Q124,'Data Input'!AG124))","v":""},{"$f":"IF(L120=\"\",\"\",L120/COUNTIF('Data Input'!$C$8:$AZ$8,$L$2))","v":""},{"$f":"IF(ISBLANK('Data Input'!A124),\"\",SUM('Data Input'!D124,'Data Input'!E124,'Data Input'!F124,'Data Input'!L124,'Data Input'!M124,'Data Input'!AB124,'Data Input'!AC124,'Data Input'!AF124,'Data Input'!AJ124,'Data Input'!AL124,'Data Input'!AN124,'Data Input'!AO124,'Data Input'!AP124,'Data Input'!AQ124,'Data Input'!AR124,'Data Input'!AS124,'Data Input'!AT124,'Data Input'!AU124,'Data Input'!AV124,'Data Input'!AW124,'Data Input'!AX124,'Data Input'!AY124))","v":""},{"$f":"IF(N120=\"\",\"\",N120/COUNTIF('Data Input'!$C$8:$AZ$8,$N$2))","v":""},null,{"$f":"IF(P120=\"\",\"\",P120/COUNTIF('Data Input'!$C$8:$AZ$8,$P$2))","v":""},{"$f":"IF(ISBLANK('Data Input'!A124),\"\",SUM('Data Input'!AH124))","v":""},{"$f":"IF(R120=\"\",\"\",R120/COUNTIF('Data Input'!$C$8:$AZ$8,$R$2))","v":""},{"$f":"IF(ISBLANK('Data Input'!$A124),\"\",SUM('Data Input'!AI124))","v":""},{"$f":"IF(T120=\"\",\"\",T120/COUNTIF('Data Input'!$C$8:$AZ$8,$T$2))","v":""},null,{"$f":"IF(V120=\"\",\"\",V120/COUNTIF('Data Input'!$C$8:$AZ$8,$V$2))","v":""}]
[{"$f":"IF('Data Input'!A125=0,\"\",'Data Input'!A125)","v":""},{"$f":"IF(F121=\"\",\"\",IF(F121>Welcome!$J$20-1,\"Exceeding\",IF(F121>Welcome!$F$20-1,\"Expected\",IF(F121<Welcome!$F$20,\"Below\"))))","v":""},{"$f":"IF(ISBLANK('Data Input'!A125),\"\",COUNTIF('Data Input'!C125:AZ125,\"\"))","v":""},{"$f":"IF(ISBLANK('Data Input'!A125),\"\",COUNTIF('Data Input'!C125:AZ125,\"0\"))","v":""},{"$f":"IF(ISBLANK('Data Input'!A125),\"\",SUM(C121,D121))","v":""},{"$f":"IF(ISBLANK('Data Input'!A125),\"\",SUM('Data Input'!C125:AZ125))","v":""},{"$f":"IF(F121=\"\",\"\",F121/(COUNTA('Data Input'!$C$8:$AZ$8)))","v":""},{"$f":"IF(ISBLANK('Data Input'!A125),\"\",SUM('Data Input'!C125,'Data Input'!H125,'Data Input'!J125,'Data Input'!N125,'Data Input'!R125,'Data Input'!T125,'Data Input'!Y125,'Data Input'!AE125,'Data Input'!AK125,'Data Input'!AM125))","v":""},{"$f":"IF(H121=\"\",\"\",H121/COUNTIF('Data Input'!$C$8:$AZ$8,$H$2))","v":""},{"$f":"IF(ISBLANK('Data Input'!A125),\"\",SUM('Data Input'!G125,'Data Input'!I125,'Data Input'!K125,'Data Input'!O125,'Data Input'!P125,'Data Input'!S125,'Data Input'!U125,'Data Input'!V125,'Data Input'!W125,'Data Input'!X125,'Data Input'!Z125,'Data Input'!AA125,'Data Input'!AD125,'Data Input'!AZ125))","v":""},{"$f":"IF(J121=\"\",\"\",J121/COUNTIF('Data Input'!$C$8:$AZ$8,$J$2))","v":""},{"$f":"IF(ISBLANK('Data Input'!A125),\"\",SUM('Data Input'!Q125,'Data Input'!AG125))","v":""},{"$f":"IF(L121=\"\",\"\",L121/COUNTIF('Data Input'!$C$8:$AZ$8,$L$2))","v":""},{"$f":"IF(ISBLANK('Data Input'!A125),\"\",SUM('Data Input'!D125,'Data Input'!E125,'Data Input'!F125,'Data Input'!L125,'Data Input'!M125,'Data Input'!AB125,'Data Input'!AC125,'Data Input'!AF125,'Data Input'!AJ125,'Data Input'!AL125,'Data Input'!AN125,'Data Input'!AO125,'Data Input'!AP125,'Data Input'!AQ125,'Data Input'!AR125,'Data Input'!AS125,'Data Input'!AT125,'Data Input'!AU125,'Data Input'!AV125,'Data Input'!AW125,'Data Input'!AX125,'Data Input'!AY125))","v":""},{"$f":"IF(N121=\"\",\"\",N121/COUNTIF('Data Input'!$C$8:$AZ$8,$N$2))","v":""},null,{"$f":"IF(P121=\"\",\"\",P121/COUNTIF('Data Input'!$C$8:$AZ$8,$P$2))","v":""},{"$f":"IF(ISBLANK('Data Input'!A125),\"\",SUM('Data Input'!AH125))","v":""},{"$f":"IF(R121=\"\",\"\",R121/COUNTIF('Data Input'!$C$8:$AZ$8,$R$2))","v":""},{"$f":"IF(ISBLANK('Data Input'!$A125),\"\",SUM('Data Input'!AI125))","v":""},{"$f":"IF(T121=\"\",\"\",T121/COUNTIF('Data Input'!$C$8:$AZ$8,$T$2))","v":""},null,{"$f":"IF(V121=\"\",\"\",V121/COUNTIF('Data Input'!$C$8:$AZ$8,$V$2))","v":""}]
[{"$f":"IF('Data Input'!A126=0,\"\",'Data Input'!A126)","v":""},{"$f":"IF(F122=\"\",\"\",IF(F122>Welcome!$J$20-1,\"Exceeding\",IF(F122>Welcome!$F$20-1,\"Expected\",IF(F122<Welcome!$F$20,\"Below\"))))","v":""},{"$f":"IF(ISBLANK('Data Input'!A126),\"\",COUNTIF('Data Input'!C126:AZ126,\"\"))","v":""},{"$f":"IF(ISBLANK('Data Input'!A126),\"\",COUNTIF('Data Input'!C126:AZ126,\"0\"))","v":""},{"$f":"IF(ISBLANK('Data Input'!A126),\"\",SUM(C122,D122))","v":""},{"$f":"IF(ISBLANK('Data Input'!A126),\"\",SUM('Data Input'!C126:AZ126))","v":""},{"$f":"IF(F122=\"\",\"\",F122/(COUNTA('Data Input'!$C$8:$AZ$8)))","v":""},{"$f":"IF(ISBLANK('Data Input'!A126),\"\",SUM('Data Input'!C126,'Data Input'!H126,'Data Input'!J126,'Data Input'!N126,'Data Input'!R126,'Data Input'!T126,'Data Input'!Y126,'Data Input'!AE126,'Data Input'!AK126,'Data Input'!AM126))","v":""},{"$f":"IF(H122=\"\",\"\",H122/COUNTIF('Data Input'!$C$8:$AZ$8,$H$2))","v":""},{"$f":"IF(ISBLANK('Data Input'!A126),\"\",SUM('Data Input'!G126,'Data Input'!I126,'Data Input'!K126,'Data Input'!O126,'Data Input'!P126,'Data Input'!S126,'Data Input'!U126,'Data Input'!V126,'Data Input'!W126,'Data Input'!X126,'Data Input'!Z126,'Data Input'!AA126,'Data Input'!AD126,'Data Input'!AZ126))","v":""},{"$f":"IF(J122=\"\",\"\",J122/COUNTIF('Data Input'!$C$8:$AZ$8,$J$2))","v":""},{"$f":"IF(ISBLANK('Data Input'!A126),\"\",SUM('Data Input'!Q126,'Data Input'!AG126))","v":""},{"$f":"IF(L122=\"\",\"\",L122/COUNTIF('Data Input'!$C$8:$AZ$8,$L$2))","v":""},{"$f":"IF(ISBLANK('Data Input'!A126),\"\",SUM('Data Input'!D126,'Data Input'!E126,'Data Input'!F126,'Data Input'!L126,'Data Input'!M126,'Data Input'!AB126,'Data Input'!AC126,'Data Input'!AF126,'Data Input'!AJ126,'Data Input'!AL126,'Data Input'!AN126,'Data Input'!AO126,'Data Input'!AP126,'Data Input'!AQ126,'Data Input'!AR126,'Data Input'!AS126,'Data Input'!AT126,'Data Input'!AU126,'Data Input'!AV126,'Data Input'!AW126,'Data Input'!AX126,'Data Input'!AY126))","v":""},{"$f":"IF(N122=\"\",\"\",N122/COUNTIF('Data Input'!$C$8:$AZ$8,$N$2))","v":""},null,{"$f":"IF(P122=\"\",\"\",P122/COUNTIF('Data Input'!$C$8:$AZ$8,$P$2))","v":""},{"$f":"IF(ISBLANK('Data Input'!A126),\"\",SUM('Data Input'!AH126))","v":""},{"$f":"IF(R122=\"\",\"\",R122/COUNTIF('Data Input'!$C$8:$AZ$8,$R$2))","v":""},{"$f":"IF(ISBLANK('Data Input'!$A126),\"\",SUM('Data Input'!AI126))","v":""},{"$f":"IF(T122=\"\",\"\",T122/COUNTIF('Data Input'!$C$8:$AZ$8,$T$2))","v":""},null,{"$f":"IF(V122=\"\",\"\",V122/COUNTIF('Data Input'!$C$8:$AZ$8,$V$2))","v":""}]
[{"$f":"IF('Data Input'!A127=0,\"\",'Data Input'!A127)","v":""},{"$f":"IF(F123=\"\",\"\",IF(F123>Welcome!$J$20-1,\"Exceeding\",IF(F123>Welcome!$F$20-1,\"Expected\",IF(F123<Welcome!$F$20,\"Below\"))))","v":""},{"$f":"IF(ISBLANK('Data Input'!A127),\"\",COUNTIF('Data Input'!C127:AZ127,\"\"))","v":""},{"$f":"IF(ISBLANK('Data Input'!A127),\"\",COUNTIF('Data Input'!C127:AZ127,\"0\"))","v":""},{"$f":"IF(ISBLANK('Data Input'!A127),\"\",SUM(C123,D123))","v":""},{"$f":"IF(ISBLANK('Data Input'!A127),\"\",SUM('Data Input'!C127:AZ127))","v":""},{"$f":"IF(F123=\"\",\"\",F123/(COUNTA('Data Input'!$C$8:$AZ$8)))","v":""},{"$f":"IF(ISBLANK('Data Input'!A127),\"\",SUM('Data Input'!C127,'Data Input'!H127,'Data Input'!J127,'Data Input'!N127,'Data Input'!R127,'Data Input'!T127,'Data Input'!Y127,'Data Input'!AE127,'Data Input'!AK127,'Data Input'!AM127))","v":""},{"$f":"IF(H123=\"\",\"\",H123/COUNTIF('Data Input'!$C$8:$AZ$8,$H$2))","v":""},{"$f":"IF(ISBLANK('Data Input'!A127),\"\",SUM('Data Input'!G127,'Data Input'!I127,'Data Input'!K127,'Data Input'!O127,'Data Input'!P127,'Data Input'!S127,'Data Input'!U127,'Data Input'!V127,'Data Input'!W127,'Data Input'!X127,'Data Input'!Z127,'Data Input'!AA127,'Data Input'!AD127,'Data Input'!AZ127))","v":""},{"$f":"IF(J123=\"\",\"\",J123/COUNTIF('Data Input'!$C$8:$AZ$8,$J$2))","v":""},{"$f":"IF(ISBLANK('Data Input'!A127),\"\",SUM('Data Input'!Q127,'Data Input'!AG127))","v":""},{"$f":"IF(L123=\"\",\"\",L123/COUNTIF('Data Input'!$C$8:$AZ$8,$L$2))","v":""},{"$f":"IF(ISBLANK('Data Input'!A127),\"\",SUM('Data Input'!D127,'Data Input'!E127,'Data Input'!F127,'Data Input'!L127,'Data Input'!M127,'Data Input'!AB127,'Data Input'!AC127,'Data Input'!AF127,'Data Input'!AJ127,'Data Input'!AL127,'Data Input'!AN127,'Data Input'!AO127,'Data Input'!AP127,'Data Input'!AQ127,'Data Input'!AR127,'Data Input'!AS127,'Data Input'!AT127,'Data Input'!AU127,'Data Input'!AV127,'Data Input'!AW127,'Data Input'!AX127,'Data Input'!AY127))","v":""},{"$f":"IF(N123=\"\",\"\",N123/COUNTIF('Data Input'!$C$8:$AZ$8,$N$2))","v":""},null,{"$f":"IF(P123=\"\",\"\",P123/COUNTIF('Data Input'!$C$8:$AZ$8,$P$2))","v":""},{"$f":"IF(ISBLANK('Data Input'!A127),\"\",SUM('Data Input'!AH127))","v":""},{"$f":"IF(R123=\"\",\"\",R123/COUNTIF('Data Input'!$C$8:$AZ$8,$R$2))","v":""},{"$f":"IF(ISBLANK('Data Input'!$A127),\"\",SUM('Data Input'!AI127))","v":""},{"$f":"IF(T123=\"\",\"\",T123/COUNTIF('Data Input'!$C$8:$AZ$8,$T$2))","v":""},null,{"$f":"IF(V123=\"\",\"\",V123/COUNTIF('Data Input'!$C$8:$AZ$8,$V$2))","v":""}]
[{"$f":"IF('Data Input'!A128=0,\"\",'Data Input'!A128)","v":""},{"$f":"IF(F124=\"\",\"\",IF(F124>Welcome!$J$20-1,\"Exceeding\",IF(F124>Welcome!$F$20-1,\"Expected\",IF(F124<Welcome!$F$20,\"Below\"))))","v":""},{"$f":"IF(ISBLANK('Data Input'!A128),\"\",COUNTIF('Data Input'!C128:AZ128,\"\"))","v":""},{"$f":"IF(ISBLANK('Data Input'!A128),\"\",COUNTIF('Data Input'!C128:AZ128,\"0\"))","v":""},{"$f":"IF(ISBLANK('Data Input'!A128),\"\",SUM(C124,D124))","v":""},{"$f":"IF(ISBLANK('Data Input'!A128),\"\",SUM('Data Input'!C128:AZ128))","v":""},{"$f":"IF(F124=\"\",\"\",F124/(COUNTA('Data Input'!$C$8:$AZ$8)))","v":""},{"$f":"IF(ISBLANK('Data Input'!A128),\"\",SUM('Data Input'!C128,'Data Input'!H128,'Data Input'!J128,'Data Input'!N128,'Data Input'!R128,'Data Input'!T128,'Data Input'!Y128,'Data Input'!AE128,'Data Input'!AK128,'Data Input'!AM128))","v":""},{"$f":"IF(H124=\"\",\"\",H124/COUNTIF('Data Input'!$C$8:$AZ$8,$H$2))","v":""},{"$f":"IF(ISBLANK('Data Input'!A128),\"\",SUM('Data Input'!G128,'Data Input'!I128,'Data Input'!K128,'Data Input'!O128,'Data Input'!P128,'Data Input'!S128,'Data Input'!U128,'Data Input'!V128,'Data Input'!W128,'Data Input'!X128,'Data Input'!Z128,'Data Input'!AA128,'Data Input'!AD128,'Data Input'!AZ128))","v":""},{"$f":"IF(J124=\"\",\"\",J124/COUNTIF('Data Input'!$C$8:$AZ$8,$J$2))","v":""},{"$f":"IF(ISBLANK('Data Input'!A128),\"\",SUM('Data Input'!Q128,'Data Input'!AG128))","v":""},{"$f":"IF(L124=\"\",\"\",L124/COUNTIF('Data Input'!$C$8:$AZ$8,$L$2))","v":""},{"$f":"IF(ISBLANK('Data Input'!A128),\"\",SUM('Data Input'!D128,'Data Input'!E128,'Data Input'!F128,'Data Input'!L128,'Data Input'!M128,'Data Input'!AB128,'Data Input'!AC128,'Data Input'!AF128,'Data Input'!AJ128,'Data Input'!AL128,'Data Input'!AN128,'Data Input'!AO128,'Data Input'!AP128,'Data Input'!AQ128,'Data Input'!AR128,'Data Input'!AS128,'Data Input'!AT128,'Data Input'!AU128,'Data Input'!AV128,'Data Input'!AW128,'Data Input'!AX128,'Data Input'!AY128))","v":""},{"$f":"IF(N124=\"\",\"\",N124/COUNTIF('Data Input'!$C$8:$AZ$8,$N$2))","v":""},null,{"$f":"IF(P124=\"\",\"\",P124/COUNTIF('Data Input'!$C$8:$AZ$8,$P$2))","v":""},{"$f":"IF(ISBLANK('Data Input'!A128),\"\",SUM('Data Input'!AH128))","v":""},{"$f":"IF(R124=\"\",\"\",R124/COUNTIF('Data Input'!$C$8:$AZ$8,$R$2))","v":""},{"$f":"IF(ISBLANK('Data Input'!$A128),\"\",SUM('Data Input'!AI128))","v":""},{"$f":"IF(T124=\"\",\"\",T124/COUNTIF('Data Input'!$C$8:$AZ$8,$T$2))","v":""},null,{"$f":"IF(V124=\"\",\"\",V124/COUNTIF('Data Input'!$C$8:$AZ$8,$V$2))","v":""}]
[{"$f":"IF('Data Input'!A129=0,\"\",'Data Input'!A129)","v":""},{"$f":"IF(F125=\"\",\"\",IF(F125>Welcome!$J$20-1,\"Exceeding\",IF(F125>Welcome!$F$20-1,\"Expected\",IF(F125<Welcome!$F$20,\"Below\"))))","v":""},{"$f":"IF(ISBLANK('Data Input'!A129),\"\",COUNTIF('Data Input'!C129:AZ129,\"\"))","v":""},{"$f":"IF(ISBLANK('Data Input'!A129),\"\",COUNTIF('Data Input'!C129:AZ129,\"0\"))","v":""},{"$f":"IF(ISBLANK('Data Input'!A129),\"\",SUM(C125,D125))","v":""},{"$f":"IF(ISBLANK('Data Input'!A129),\"\",SUM('Data Input'!C129:AZ129))","v":""},{"$f":"IF(F125=\"\",\"\",F125/(COUNTA('Data Input'!$C$8:$AZ$8)))","v":""},{"$f":"IF(ISBLANK('Data Input'!A129),\"\",SUM('Data Input'!C129,'Data Input'!H129,'Data Input'!J129,'Data Input'!N129,'Data Input'!R129,'Data Input'!T129,'Data Input'!Y129,'Data Input'!AE129,'Data Input'!AK129,'Data Input'!AM129))","v":""},{"$f":"IF(H125=\"\",\"\",H125/COUNTIF('Data Input'!$C$8:$AZ$8,$H$2))","v":""},{"$f":"IF(ISBLANK('Data Input'!A129),\"\",SUM('Data Input'!G129,'Data Input'!I129,'Data Input'!K129,'Data Input'!O129,'Data Input'!P129,'Data Input'!S129,'Data Input'!U129,'Data Input'!V129,'Data Input'!W129,'Data Input'!X129,'Data Input'!Z129,'Data Input'!AA129,'Data Input'!AD129,'Data Input'!AZ129))","v":""},{"$f":"IF(J125=\"\",\"\",J125/COUNTIF('Data Input'!$C$8:$AZ$8,$J$2))","v":""},{"$f":"IF(ISBLANK('Data Input'!A129),\"\",SUM('Data Input'!Q129,'Data Input'!AG129))","v":""},{"$f":"IF(L125=\"\",\"\",L125/COUNTIF('Data Input'!$C$8:$AZ$8,$L$2))","v":""},{"$f":"IF(ISBLANK('Data Input'!A129),\"\",SUM('Data Input'!D129,'Data Input'!E129,'Data Input'!F129,'Data Input'!L129,'Data Input'!M129,'Data Input'!AB129,'Data Input'!AC129,'Data Input'!AF129,'Data Input'!AJ129,'Data Input'!AL129,'Data Input'!AN129,'Data Input'!AO129,'Data Input'!AP129,'Data Input'!AQ129,'Data Input'!AR129,'Data Input'!AS129,'Data Input'!AT129,'Data Input'!AU129,'Data Input'!AV129,'Data Input'!AW129,'Data Input'!AX129,'Data Input'!AY129))","v":""},{"$f":"IF(N125=\"\",\"\",N125/COUNTIF('Data Input'!$C$8:$AZ$8,$N$2))","v":""},null,{"$f":"IF(P125=\"\",\"\",P125/COUNTIF('Data Input'!$C$8:$AZ$8,$P$2))","v":""},{"$f":"IF(ISBLANK('Data Input'!A129),\"\",SUM('Data Input'!AH129))","v":""},{"$f":"IF(R125=\"\",\"\",R125/COUNTIF('Data Input'!$C$8:$AZ$8,$R$2))","v":""},{"$f":"IF(ISBLANK('Data Input'!$A129),\"\",SUM('Data Input'!AI129))","v":""},{"$f":"IF(T125=\"\",\"\",T125/COUNTIF('Data Input'!$C$8:$AZ$8,$T$2))","v":""},null,{"$f":"IF(V125=\"\",\"\",V125/COUNTIF('Data Input'!$C$8:$AZ$8,$V$2))","v":""}]
[{"$f":"IF('Data Input'!A130=0,\"\",'Data Input'!A130)","v":""},{"$f":"IF(F126=\"\",\"\",IF(F126>Welcome!$J$20-1,\"Exceeding\",IF(F126>Welcome!$F$20-1,\"Expected\",IF(F126<Welcome!$F$20,\"Below\"))))","v":""},{"$f":"IF(ISBLANK('Data Input'!A130),\"\",COUNTIF('Data Input'!C130:AZ130,\"\"))","v":""},{"$f":"IF(ISBLANK('Data Input'!A130),\"\",COUNTIF('Data Input'!C130:AZ130,\"0\"))","v":""},{"$f":"IF(ISBLANK('Data Input'!A130),\"\",SUM(C126,D126))","v":""},{"$f":"IF(ISBLANK('Data Input'!A130),\"\",SUM('Data Input'!C130:AZ130))","v":""},{"$f":"IF(F126=\"\",\"\",F126/(COUNTA('Data Input'!$C$8:$AZ$8)))","v":""},{"$f":"IF(ISBLANK('Data Input'!A130),\"\",SUM('Data Input'!C130,'Data Input'!H130,'Data Input'!J130,'Data Input'!N130,'Data Input'!R130,'Data Input'!T130,'Data Input'!Y130,'Data Input'!AE130,'Data Input'!AK130,'Data Input'!AM130))","v":""},{"$f":"IF(H126=\"\",\"\",H126/COUNTIF('Data Input'!$C$8:$AZ$8,$H$2))","v":""},{"$f":"IF(ISBLANK('Data Input'!A130),\"\",SUM('Data Input'!G130,'Data Input'!I130,'Data Input'!K130,'Data Input'!O130,'Data Input'!P130,'Data Input'!S130,'Data Input'!U130,'Data Input'!V130,'Data Input'!W130,'Data Input'!X130,'Data Input'!Z130,'Data Input'!AA130,'Data Input'!AD130,'Data Input'!AZ130))","v":""},{"$f":"IF(J126=\"\",\"\",J126/COUNTIF('Data Input'!$C$8:$AZ$8,$J$2))","v":""},{"$f":"IF(ISBLANK('Data Input'!A130),\"\",SUM('Data Input'!Q130,'Data Input'!AG130))","v":""},{"$f":"IF(L126=\"\",\"\",L126/COUNTIF('Data Input'!$C$8:$AZ$8,$L$2))","v":""},{"$f":"IF(ISBLANK('Data Input'!A130),\"\",SUM('Data Input'!D130,'Data Input'!E130,'Data Input'!F130,'Data Input'!L130,'Data Input'!M130,'Data Input'!AB130,'Data Input'!AC130,'Data Input'!AF130,'Data Input'!AJ130,'Data Input'!AL130,'Data Input'!AN130,'Data Input'!AO130,'Data Input'!AP130,'Data Input'!AQ130,'Data Input'!AR130,'Data Input'!AS130,'Data Input'!AT130,'Data Input'!AU130,'Data Input'!AV130,'Data Input'!AW130,'Data Input'!AX130,'Data Input'!AY130))","v":""},{"$f":"IF(N126=\"\",\"\",N126/COUNTIF('Data Input'!$C$8:$AZ$8,$N$2))","v":""},null,{"$f":"IF(P126=\"\",\"\",P126/COUNTIF('Data Input'!$C$8:$AZ$8,$P$2))","v":""},{"$f":"IF(ISBLANK('Data Input'!A130),\"\",SUM('Data Input'!AH130))","v":""},{"$f":"IF(R126=\"\",\"\",R126/COUNTIF('Data Input'!$C$8:$AZ$8,$R$2))","v":""},{"$f":"IF(ISBLANK('Data Input'!$A130),\"\",SUM('Data Input'!AI130))","v":""},{"$f":"IF(T126=\"\",\"\",T126/COUNTIF('Data Input'!$C$8:$AZ$8,$T$2))","v":""},null,{"$f":"IF(V126=\"\",\"\",V126/COUNTIF('Data Input'!$C$8:$AZ$8,$V$2))","v":""}]
[{"$f":"IF('Data Input'!A131=0,\"\",'Data Input'!A131)","v":""},{"$f":"IF(F127=\"\",\"\",IF(F127>Welcome!$J$20-1,\"Exceeding\",IF(F127>Welcome!$F$20-1,\"Expected\",IF(F127<Welcome!$F$20,\"Below\"))))","v":""},{"$f":"IF(ISBLANK('Data Input'!A131),\"\",COUNTIF('Data Input'!C131:AZ131,\"\"))","v":""},{"$f":"IF(ISBLANK('Data Input'!A131),\"\",COUNTIF('Data Input'!C131:AZ131,\"0\"))","v":""},{"$f":"IF(ISBLANK('Data Input'!A131),\"\",SUM(C127,D127))","v":""},{"$f":"IF(ISBLANK('Data Input'!A131),\"\",SUM('Data Input'!C131:AZ131))","v":""},{"$f":"IF(F127=\"\",\"\",F127/(COUNTA('Data Input'!$C$8:$AZ$8)))","v":""},{"$f":"IF(ISBLANK('Data Input'!A131),\"\",SUM('Data Input'!C131,'Data Input'!H131,'Data Input'!J131,'Data Input'!N131,'Data Input'!R131,'Data Input'!T131,'Data Input'!Y131,'Data Input'!AE131,'Data Input'!AK131,'Data Input'!AM131))","v":""},{"$f":"IF(H127=\"\",\"\",H127/COUNTIF('Data Input'!$C$8:$AZ$8,$H$2))","v":""},{"$f":"IF(ISBLANK('Data Input'!A131),\"\",SUM('Data Input'!G131,'Data Input'!I131,'Data Input'!K131,'Data Input'!O131,'Data Input'!P131,'Data Input'!S131,'Data Input'!U131,'Data Input'!V131,'Data Input'!W131,'Data Input'!X131,'Data Input'!Z131,'Data Input'!AA131,'Data Input'!AD131,'Data Input'!AZ131))","v":""},{"$f":"IF(J127=\"\",\"\",J127/COUNTIF('Data Input'!$C$8:$AZ$8,$J$2))","v":""},{"$f":"IF(ISBLANK('Data Input'!A131),\"\",SUM('Data Input'!Q131,'Data Input'!AG131))","v":""},{"$f":"IF(L127=\"\",\"\",L127/COUNTIF('Data Input'!$C$8:$AZ$8,$L$2))","v":""},{"$f":"IF(ISBLANK('Data Input'!A131),\"\",SUM('Data Input'!D131,'Data Input'!E131,'Data Input'!F131,'Data Input'!L131,'Data Input'!M131,'Data Input'!AB131,'Data Input'!AC131,'Data Input'!AF131,'Data Input'!AJ131,'Data Input'!AL131,'Data Input'!AN131,'Data Input'!AO131,'Data Input'!AP131,'Data Input'!AQ131,'Data Input'!AR131,'Data Input'!AS131,'Data Input'!AT131,'Data Input'!AU131,'Data Input'!AV131,'Data Input'!AW131,'Data Input'!AX131,'Data Input'!AY131))","v":""},{"$f":"IF(N127=\"\",\"\",N127/COUNTIF('Data Input'!$C$8:$AZ$8,$N$2))","v":""},null,{"$f":"IF(P127=\"\",\"\",P127/COUNTIF('Data Input'!$C$8:$AZ$8,$P$2))","v":""},{"$f":"IF(ISBLANK('Data Input'!A131),\"\",SUM('Data Input'!AH131))","v":""},{"$f":"IF(R127=\"\",\"\",R127/COUNTIF('Data Input'!$C$8:$AZ$8,$R$2))","v":""},{"$f":"IF(ISBLANK('Data Input'!$A131),\"\",SUM('Data Input'!AI131))","v":""},{"$f":"IF(T127=\"\",\"\",T127/COUNTIF('Data Input'!$C$8:$AZ$8,$T$2))","v":""},null,{"$f":"IF(V127=\"\",\"\",V127/COUNTIF('Data Input'!$C$8:$AZ$8,$V$2))","v":""}]
[{"$f":"IF('Data Input'!A132=0,\"\",'Data Input'!A132)","v":""},{"$f":"IF(F128=\"\",\"\",IF(F128>Welcome!$J$20-1,\"Exceeding\",IF(F128>Welcome!$F$20-1,\"Expected\",IF(F128<Welcome!$F$20,\"Below\"))))","v":""},{"$f":"IF(ISBLANK('Data Input'!A132),\"\",COUNTIF('Data Input'!C132:AZ132,\"\"))","v":""},{"$f":"IF(ISBLANK('Data Input'!A132),\"\",COUNTIF('Data Input'!C132:AZ132,\"0\"))","v":""},{"$f":"IF(ISBLANK('Data Input'!A132),\"\",SUM(C128,D128))","v":""},{"$f":"IF(ISBLANK('Data Input'!A132),\"\",SUM('Data Input'!C132:AZ132))","v":""},{"$f":"IF(F128=\"\",\"\",F128/(COUNTA('Data Input'!$C$8:$AZ$8)))","v":""},{"$f":"IF(ISBLANK('Data Input'!A132),\"\",SUM('Data Input'!C132,'Data Input'!H132,'Data Input'!J132,'Data Input'!N132,'Data Input'!R132,'Data Input'!T132,'Data Input'!Y132,'Data Input'!AE132,'Data Input'!AK132,'Data Input'!AM132))","v":""},{"$f":"IF(H128=\"\",\"\",H128/COUNTIF('Data Input'!$C$8:$AZ$8,$H$2))","v":""},{"$f":"IF(ISBLANK('Data Input'!A132),\"\",SUM('Data Input'!G132,'Data Input'!I132,'Data Input'!K132,'Data Input'!O132,'Data Input'!P132,'Data Input'!S132,'Data Input'!U132,'Data Input'!V132,'Data Input'!W132,'Data Input'!X132,'Data Input'!Z132,'Data Input'!AA132,'Data Input'!AD132,'Data Input'!AZ132))","v":""},{"$f":"IF(J128=\"\",\"\",J128/COUNTIF('Data Input'!$C$8:$AZ$8,$J$2))","v":""},{"$f":"IF(ISBLANK('Data Input'!A132),\"\",SUM('Data Input'!Q132,'Data Input'!AG132))","v":""},{"$f":"IF(L128=\"\",\"\",L128/COUNTIF('Data Input'!$C$8:$AZ$8,$L$2))","v":""},{"$f":"IF(ISBLANK('Data Input'!A132),\"\",SUM('Data Input'!D132,'Data Input'!E132,'Data Input'!F132,'Data Input'!L132,'Data Input'!M132,'Data Input'!AB132,'Data Input'!AC132,'Data Input'!AF132,'Data Input'!AJ132,'Data Input'!AL132,'Data Input'!AN132,'Data Input'!AO132,'Data Input'!AP132,'Data Input'!AQ132,'Data Input'!AR132,'Data Input'!AS132,'Data Input'!AT132,'Data Input'!AU132,'Data Input'!AV132,'Data Input'!AW132,'Data Input'!AX132,'Data Input'!AY132))","v":""},{"$f":"IF(N128=\"\",\"\",N128/COUNTIF('Data Input'!$C$8:$AZ$8,$N$2))","v":""},null,{"$f":"IF(P128=\"\",\"\",P128/COUNTIF('Data Input'!$C$8:$AZ$8,$P$2))","v":""},{"$f":"IF(ISBLANK('Data Input'!A132),\"\",SUM('Data Input'!AH132))","v":""},{"$f":"IF(R128=\"\",\"\",R128/COUNTIF('Data Input'!$C$8:$AZ$8,$R$2))","v":""},{"$f":"IF(ISBLANK('Data Input'!$A132),\"\",SUM('Data Input'!AI132))","v":""},{"$f":"IF(T128=\"\",\"\",T128/COUNTIF('Data Input'!$C$8:$AZ$8,$T$2))","v":""},null,{"$f":"IF(V128=\"\",\"\",V128/COUNTIF('Data Input'!$C$8:$AZ$8,$V$2))","v":""}]
[{"$f":"IF('Data Input'!A133=0,\"\",'Data Input'!A133)","v":""},{"$f":"IF(F129=\"\",\"\",IF(F129>Welcome!$J$20-1,\"Exceeding\",IF(F129>Welcome!$F$20-1,\"Expected\",IF(F129<Welcome!$F$20,\"Below\"))))","v":""},{"$f":"IF(ISBLANK('Data Input'!A133),\"\",COUNTIF('Data Input'!C133:AZ133,\"\"))","v":""},{"$f":"IF(ISBLANK('Data Input'!A133),\"\",COUNTIF('Data Input'!C133:AZ133,\"0\"))","v":""},{"$f":"IF(ISBLANK('Data Input'!A133),\"\",SUM(C129,D129))","v":""},{"$f":"IF(ISBLANK('Data Input'!A133),\"\",SUM('Data Input'!C133:AZ133))","v":""},{"$f":"IF(F129=\"\",\"\",F129/(COUNTA('Data Input'!$C$8:$AZ$8)))","v":""},{"$f":"IF(ISBLANK('Data Input'!A133),\"\",SUM('Data Input'!C133,'Data Input'!H133,'Data Input'!J133,'Data Input'!N133,'Data Input'!R133,'Data Input'!T133,'Data Input'!Y133,'Data Input'!AE133,'Data Input'!AK133,'Data Input'!AM133))","v":""},{"$f":"IF(H129=\"\",\"\",H129/COUNTIF('Data Input'!$C$8:$AZ$8,$H$2))","v":""},{"$f":"IF(ISBLANK('Data Input'!A133),\"\",SUM('Data Input'!G133,'Data Input'!I133,'Data Input'!K133,'Data Input'!O133,'Data Input'!P133,'Data Input'!S133,'Data Input'!U133,'Data Input'!V133,'Data Input'!W133,'Data Input'!X133,'Data Input'!Z133,'Data Input'!AA133,'Data Input'!AD133,'Data Input'!AZ133))","v":""},{"$f":"IF(J129=\"\",\"\",J129/COUNTIF('Data Input'!$C$8:$AZ$8,$J$2))","v":""},{"$f":"IF(ISBLANK('Data Input'!A133),\"\",SUM('Data Input'!Q133,'Data Input'!AG133))","v":""},{"$f":"IF(L129=\"\",\"\",L129/COUNTIF('Data Input'!$C$8:$AZ$8,$L$2))","v":""},{"$f":"IF(ISBLANK('Data Input'!A133),\"\",SUM('Data Input'!D133,'Data Input'!E133,'Data Input'!F133,'Data Input'!L133,'Data Input'!M133,'Data Input'!AB133,'Data Input'!AC133,'Data Input'!AF133,'Data Input'!AJ133,'Data Input'!AL133,'Data Input'!AN133,'Data Input'!AO133,'Data Input'!AP133,'Data Input'!AQ133,'Data Input'!AR133,'Data Input'!AS133,'Data Input'!AT133,'Data Input'!AU133,'Data Input'!AV133,'Data Input'!AW133,'Data Input'!AX133,'Data Input'!AY133))","v":""},{"$f":"IF(N129=\"\",\"\",N129/COUNTIF('Data Input'!$C$8:$AZ$8,$N$2))","v":""},null,{"$f":"IF(P129=\"\",\"\",P129/COUNTIF('Data Input'!$C$8:$AZ$8,$P$2))","v":""},{"$f":"IF(ISBLANK('Data Input'!A133),\"\",SUM('Data Input'!AH133))","v":""},{"$f":"IF(R129=\"\",\"\",R129/COUNTIF('Data Input'!$C$8:$AZ$8,$R$2))","v":""},{"$f":"IF(ISBLANK('Data Input'!$A133),\"\",SUM('Data Input'!AI133))","v":""},{"$f":"IF(T129=\"\",\"\",T129/COUNTIF('Data Input'!$C$8:$AZ$8,$T$2))","v":""},null,{"$f":"IF(V129=\"\",\"\",V129/COUNTIF('Data Input'!$C$8:$AZ$8,$V$2))","v":""}]
[{"$f":"IF('Data Input'!A134=0,\"\",'Data Input'!A134)","v":""},{"$f":"IF(F130=\"\",\"\",IF(F130>Welcome!$J$20-1,\"Exceeding\",IF(F130>Welcome!$F$20-1,\"Expected\",IF(F130<Welcome!$F$20,\"Below\"))))","v":""},{"$f":"IF(ISBLANK('Data Input'!A134),\"\",COUNTIF('Data Input'!C134:AZ134,\"\"))","v":""},{"$f":"IF(ISBLANK('Data Input'!A134),\"\",COUNTIF('Data Input'!C134:AZ134,\"0\"))","v":""},{"$f":"IF(ISBLANK('Data Input'!A134),\"\",SUM(C130,D130))","v":""},{"$f":"IF(ISBLANK('Data Input'!A134),\"\",SUM('Data Input'!C134:AZ134))","v":""},{"$f":"IF(F130=\"\",\"\",F130/(COUNTA('Data Input'!$C$8:$AZ$8)))","v":""},{"$f":"IF(ISBLANK('Data Input'!A134),\"\",SUM('Data Input'!C134,'Data Input'!H134,'Data Input'!J134,'Data Input'!N134,'Data Input'!R134,'Data Input'!T134,'Data Input'!Y134,'Data Input'!AE134,'Data Input'!AK134,'Data Input'!AM134))","v":""},{"$f":"IF(H130=\"\",\"\",H130/COUNTIF('Data Input'!$C$8:$AZ$8,$H$2))","v":""},{"$f":"IF(ISBLANK('Data Input'!A134),\"\",SUM('Data Input'!G134,'Data Input'!I134,'Data Input'!K134,'Data Input'!O134,'Data Input'!P134,'Data Input'!S134,'Data Input'!U134,'Data Input'!V134,'Data Input'!W134,'Data Input'!X134,'Data Input'!Z134,'Data Input'!AA134,'Data Input'!AD134,'Data Input'!AZ134))","v":""},{"$f":"IF(J130=\"\",\"\",J130/COUNTIF('Data Input'!$C$8:$AZ$8,$J$2))","v":""},{"$f":"IF(ISBLANK('Data Input'!A134),\"\",SUM('Data Input'!Q134,'Data Input'!AG134))","v":""},{"$f":"IF(L130=\"\",\"\",L130/COUNTIF('Data Input'!$C$8:$AZ$8,$L$2))","v":""},{"$f":"IF(ISBLANK('Data Input'!A134),\"\",SUM('Data Input'!D134,'Data Input'!E134,'Data Input'!F134,'Data Input'!L134,'Data Input'!M134,'Data Input'!AB134,'Data Input'!AC134,'Data Input'!AF134,'Data Input'!AJ134,'Data Input'!AL134,'Data Input'!AN134,'Data Input'!AO134,'Data Input'!AP134,'Data Input'!AQ134,'Data Input'!AR134,'Data Input'!AS134,'Data Input'!AT134,'Data Input'!AU134,'Data Input'!AV134,'Data Input'!AW134,'Data Input'!AX134,'Data Input'!AY134))","v":""},{"$f":"IF(N130=\"\",\"\",N130/COUNTIF('Data Input'!$C$8:$AZ$8,$N$2))","v":""},null,{"$f":"IF(P130=\"\",\"\",P130/COUNTIF('Data Input'!$C$8:$AZ$8,$P$2))","v":""},{"$f":"IF(ISBLANK('Data Input'!A134),\"\",SUM('Data Input'!AH134))","v":""},{"$f":"IF(R130=\"\",\"\",R130/COUNTIF('Data Input'!$C$8:$AZ$8,$R$2))","v":""},{"$f":"IF(ISBLANK('Data Input'!$A134),\"\",SUM('Data Input'!AI134))","v":""},{"$f":"IF(T130=\"\",\"\",T130/COUNTIF('Data Input'!$C$8:$AZ$8,$T$2))","v":""},null,{"$f":"IF(V130=\"\",\"\",V130/COUNTIF('Data Input'!$C$8:$AZ$8,$V$2))","v":""}]
[{"$f":"IF('Data Input'!A135=0,\"\",'Data Input'!A135)","v":""},{"$f":"IF(F131=\"\",\"\",IF(F131>Welcome!$J$20-1,\"Exceeding\",IF(F131>Welcome!$F$20-1,\"Expected\",IF(F131<Welcome!$F$20,\"Below\"))))","v":""},{"$f":"IF(ISBLANK('Data Input'!A135),\"\",COUNTIF('Data Input'!C135:AZ135,\"\"))","v":""},{"$f":"IF(ISBLANK('Data Input'!A135),\"\",COUNTIF('Data Input'!C135:AZ135,\"0\"))","v":""},{"$f":"IF(ISBLANK('Data Input'!A135),\"\",SUM(C131,D131))","v":""},{"$f":"IF(ISBLANK('Data Input'!A135),\"\",SUM('Data Input'!C135:AZ135))","v":""},{"$f":"IF(F131=\"\",\"\",F131/(COUNTA('Data Input'!$C$8:$AZ$8)))","v":""},{"$f":"IF(ISBLANK('Data Input'!A135),\"\",SUM('Data Input'!C135,'Data Input'!H135,'Data Input'!J135,'Data Input'!N135,'Data Input'!R135,'Data Input'!T135,'Data Input'!Y135,'Data Input'!AE135,'Data Input'!AK135,'Data Input'!AM135))","v":""},{"$f":"IF(H131=\"\",\"\",H131/COUNTIF('Data Input'!$C$8:$AZ$8,$H$2))","v":""},{"$f":"IF(ISBLANK('Data Input'!A135),\"\",SUM('Data Input'!G135,'Data Input'!I135,'Data Input'!K135,'Data Input'!O135,'Data Input'!P135,'Data Input'!S135,'Data Input'!U135,'Data Input'!V135,'Data Input'!W135,'Data Input'!X135,'Data Input'!Z135,'Data Input'!AA135,'Data Input'!AD135,'Data Input'!AZ135))","v":""},{"$f":"IF(J131=\"\",\"\",J131/COUNTIF('Data Input'!$C$8:$AZ$8,$J$2))","v":""},{"$f":"IF(ISBLANK('Data Input'!A135),\"\",SUM('Data Input'!Q135,'Data Input'!AG135))","v":""},{"$f":"IF(L131=\"\",\"\",L131/COUNTIF('Data Input'!$C$8:$AZ$8,$L$2))","v":""},{"$f":"IF(ISBLANK('Data Input'!A135),\"\",SUM('Data Input'!D135,'Data Input'!E135,'Data Input'!F135,'Data Input'!L135,'Data Input'!M135,'Data Input'!AB135,'Data Input'!AC135,'Data Input'!AF135,'Data Input'!AJ135,'Data Input'!AL135,'Data Input'!AN135,'Data Input'!AO135,'Data Input'!AP135,'Data Input'!AQ135,'Data Input'!AR135,'Data Input'!AS135,'Data Input'!AT135,'Data Input'!AU135,'Data Input'!AV135,'Data Input'!AW135,'Data Input'!AX135,'Data Input'!AY135))","v":""},{"$f":"IF(N131=\"\",\"\",N131/COUNTIF('Data Input'!$C$8:$AZ$8,$N$2))","v":""},null,{"$f":"IF(P131=\"\",\"\",P131/COUNTIF('Data Input'!$C$8:$AZ$8,$P$2))","v":""},{"$f":"IF(ISBLANK('Data Input'!A135),\"\",SUM('Data Input'!AH135))","v":""},{"$f":"IF(R131=\"\",\"\",R131/COUNTIF('Data Input'!$C$8:$AZ$8,$R$2))","v":""},{"$f":"IF(ISBLANK('Data Input'!$A135),\"\",SUM('Data Input'!AI135))","v":""},{"$f":"IF(T131=\"\",\"\",T131/COUNTIF('Data Input'!$C$8:$AZ$8,$T$2))","v":""},null,{"$f":"IF(V131=\"\",\"\",V131/COUNTIF('Data Input'!$C$8:$AZ$8,$V$2))","v":""}]
[{"$f":"IF('Data Input'!A136=0,\"\",'Data Input'!A136)","v":""},{"$f":"IF(F132=\"\",\"\",IF(F132>Welcome!$J$20-1,\"Exceeding\",IF(F132>Welcome!$F$20-1,\"Expected\",IF(F132<Welcome!$F$20,\"Below\"))))","v":""},{"$f":"IF(ISBLANK('Data Input'!A136),\"\",COUNTIF('Data Input'!C136:AZ136,\"\"))","v":""},{"$f":"IF(ISBLANK('Data Input'!A136),\"\",COUNTIF('Data Input'!C136:AZ136,\"0\"))","v":""},{"$f":"IF(ISBLANK('Data Input'!A136),\"\",SUM(C132,D132))","v":""},{"$f":"IF(ISBLANK('Data Input'!A136),\"\",SUM('Data Input'!C136:AZ136))","v":""},{"$f":"IF(F132=\"\",\"\",F132/(COUNTA('Data Input'!$C$8:$AZ$8)))","v":""},{"$f":"IF(ISBLANK('Data Input'!A136),\"\",SUM('Data Input'!C136,'Data Input'!H136,'Data Input'!J136,'Data Input'!N136,'Data Input'!R136,'Data Input'!T136,'Data Input'!Y136,'Data Input'!AE136,'Data Input'!AK136,'Data Input'!AM136))","v":""},{"$f":"IF(H132=\"\",\"\",H132/COUNTIF('Data Input'!$C$8:$AZ$8,$H$2))","v":""},{"$f":"IF(ISBLANK('Data Input'!A136),\"\",SUM('Data Input'!G136,'Data Input'!I136,'Data Input'!K136,'Data Input'!O136,'Data Input'!P136,'Data Input'!S136,'Data Input'!U136,'Data Input'!V136,'Data Input'!W136,'Data Input'!X136,'Data Input'!Z136,'Data Input'!AA136,'Data Input'!AD136,'Data Input'!AZ136))","v":""},{"$f":"IF(J132=\"\",\"\",J132/COUNTIF('Data Input'!$C$8:$AZ$8,$J$2))","v":""},{"$f":"IF(ISBLANK('Data Input'!A136),\"\",SUM('Data Input'!Q136,'Data Input'!AG136))","v":""},{"$f":"IF(L132=\"\",\"\",L132/COUNTIF('Data Input'!$C$8:$AZ$8,$L$2))","v":""},{"$f":"IF(ISBLANK('Data Input'!A136),\"\",SUM('Data Input'!D136,'Data Input'!E136,'Data Input'!F136,'Data Input'!L136,'Data Input'!M136,'Data Input'!AB136,'Data Input'!AC136,'Data Input'!AF136,'Data Input'!AJ136,'Data Input'!AL136,'Data Input'!AN136,'Data Input'!AO136,'Data Input'!AP136,'Data Input'!AQ136,'Data Input'!AR136,'Data Input'!AS136,'Data Input'!AT136,'Data Input'!AU136,'Data Input'!AV136,'Data Input'!AW136,'Data Input'!AX136,'Data Input'!AY136))","v":""},{"$f":"IF(N132=\"\",\"\",N132/COUNTIF('Data Input'!$C$8:$AZ$8,$N$2))","v":""},null,{"$f":"IF(P132=\"\",\"\",P132/COUNTIF('Data Input'!$C$8:$AZ$8,$P$2))","v":""},{"$f":"IF(ISBLANK('Data Input'!A136),\"\",SUM('Data Input'!AH136))","v":""},{"$f":"IF(R132=\"\",\"\",R132/COUNTIF('Data Input'!$C$8:$AZ$8,$R$2))","v":""},{"$f":"IF(ISBLANK('Data Input'!$A136),\"\",SUM('Data Input'!AI136))","v":""},{"$f":"IF(T132=\"\",\"\",T132/COUNTIF('Data Input'!$C$8:$AZ$8,$T$2))","v":""},null,{"$f":"IF(V132=\"\",\"\",V132/COUNTIF('Data Input'!$C$8:$AZ$8,$V$2))","v":""}]
[{"$f":"IF('Data Input'!A137=0,\"\",'Data Input'!A137)","v":""},{"$f":"IF(F133=\"\",\"\",IF(F133>Welcome!$J$20-1,\"Exceeding\",IF(F133>Welcome!$F$20-1,\"Expected\",IF(F133<Welcome!$F$20,\"Below\"))))","v":""},{"$f":"IF(ISBLANK('Data Input'!A137),\"\",COUNTIF('Data Input'!C137:AZ137,\"\"))","v":""},{"$f":"IF(ISBLANK('Data Input'!A137),\"\",COUNTIF('Data Input'!C137:AZ137,\"0\"))","v":""},{"$f":"IF(ISBLANK('Data Input'!A137),\"\",SUM(C133,D133))","v":""},{"$f":"IF(ISBLANK('Data Input'!A137),\"\",SUM('Data Input'!C137:AZ137))","v":""},{"$f":"IF(F133=\"\",\"\",F133/(COUNTA('Data Input'!$C$8:$AZ$8)))","v":""},{"$f":"IF(ISBLANK('Data Input'!A137),\"\",SUM('Data Input'!C137,'Data Input'!H137,'Data Input'!J137,'Data Input'!N137,'Data Input'!R137,'Data Input'!T137,'Data Input'!Y137,'Data Input'!AE137,'Data Input'!AK137,'Data Input'!AM137))","v":""},{"$f":"IF(H133=\"\",\"\",H133/COUNTIF('Data Input'!$C$8:$AZ$8,$H$2))","v":""},{"$f":"IF(ISBLANK('Data Input'!A137),\"\",SUM('Data Input'!G137,'Data Input'!I137,'Data Input'!K137,'Data Input'!O137,'Data Input'!P137,'Data Input'!S137,'Data Input'!U137,'Data Input'!V137,'Data Input'!W137,'Data Input'!X137,'Data Input'!Z137,'Data Input'!AA137,'Data Input'!AD137,'Data Input'!AZ137))","v":""},{"$f":"IF(J133=\"\",\"\",J133/COUNTIF('Data Input'!$C$8:$AZ$8,$J$2))","v":""},{"$f":"IF(ISBLANK('Data Input'!A137),\"\",SUM('Data Input'!Q137,'Data Input'!AG137))","v":""},{"$f":"IF(L133=\"\",\"\",L133/COUNTIF('Data Input'!$C$8:$AZ$8,$L$2))","v":""},{"$f":"IF(ISBLANK('Data Input'!A137),\"\",SUM('Data Input'!D137,'Data Input'!E137,'Data Input'!F137,'Data Input'!L137,'Data Input'!M137,'Data Input'!AB137,'Data Input'!AC137,'Data Input'!AF137,'Data Input'!AJ137,'Data Input'!AL137,'Data Input'!AN137,'Data Input'!AO137,'Data Input'!AP137,'Data Input'!AQ137,'Data Input'!AR137,'Data Input'!AS137,'Data Input'!AT137,'Data Input'!AU137,'Data Input'!AV137,'Data Input'!AW137,'Data Input'!AX137,'Data Input'!AY137))","v":""},{"$f":"IF(N133=\"\",\"\",N133/COUNTIF('Data Input'!$C$8:$AZ$8,$N$2))","v":""},null,{"$f":"IF(P133=\"\",\"\",P133/COUNTIF('Data Input'!$C$8:$AZ$8,$P$2))","v":""},{"$f":"IF(ISBLANK('Data Input'!A137),\"\",SUM('Data Input'!AH137))","v":""},{"$f":"IF(R133=\"\",\"\",R133/COUNTIF('Data Input'!$C$8:$AZ$8,$R$2))","v":""},{"$f":"IF(ISBLANK('Data Input'!$A137),\"\",SUM('Data Input'!AI137))","v":""},{"$f":"IF(T133=\"\",\"\",T133/COUNTIF('Data Input'!$C$8:$AZ$8,$T$2))","v":""},null,{"$f":"IF(V133=\"\",\"\",V133/COUNTIF('Data Input'!$C$8:$AZ$8,$V$2))","v":""}]
[{"$f":"IF('Data Input'!A138=0,\"\",'Data Input'!A138)","v":""},{"$f":"IF(F134=\"\",\"\",IF(F134>Welcome!$J$20-1,\"Exceeding\",IF(F134>Welcome!$F$20-1,\"Expected\",IF(F134<Welcome!$F$20,\"Below\"))))","v":""},{"$f":"IF(ISBLANK('Data Input'!A138),\"\",COUNTIF('Data Input'!C138:AZ138,\"\"))","v":""},{"$f":"IF(ISBLANK('Data Input'!A138),\"\",COUNTIF('Data Input'!C138:AZ138,\"0\"))","v":""},{"$f":"IF(ISBLANK('Data Input'!A138),\"\",SUM(C134,D134))","v":""},{"$f":"IF(ISBLANK('Data Input'!A138),\"\",SUM('Data Input'!C138:AZ138))","v":""},{"$f":"IF(F134=\"\",\"\",F134/(COUNTA('Data Input'!$C$8:$AZ$8)))","v":""},{"$f":"IF(ISBLANK('Data Input'!A138),\"\",SUM('Data Input'!C138,'Data Input'!H138,'Data Input'!J138,'Data Input'!N138,'Data Input'!R138,'Data Input'!T138,'Data Input'!Y138,'Data Input'!AE138,'Data Input'!AK138,'Data Input'!AM138))","v":""},{"$f":"IF(H134=\"\",\"\",H134/COUNTIF('Data Input'!$C$8:$AZ$8,$H$2))","v":""},{"$f":"IF(ISBLANK('Data Input'!A138),\"\",SUM('Data Input'!G138,'Data Input'!I138,'Data Input'!K138,'Data Input'!O138,'Data Input'!P138,'Data Input'!S138,'Data Input'!U138,'Data Input'!V138,'Data Input'!W138,'Data Input'!X138,'Data Input'!Z138,'Data Input'!AA138,'Data Input'!AD138,'Data Input'!AZ138))","v":""},{"$f":"IF(J134=\"\",\"\",J134/COUNTIF('Data Input'!$C$8:$AZ$8,$J$2))","v":""},{"$f":"IF(ISBLANK('Data Input'!A138),\"\",SUM('Data Input'!Q138,'Data Input'!AG138))","v":""},{"$f":"IF(L134=\"\",\"\",L134/COUNTIF('Data Input'!$C$8:$AZ$8,$L$2))","v":""},{"$f":"IF(ISBLANK('Data Input'!A138),\"\",SUM('Data Input'!D138,'Data Input'!E138,'Data Input'!F138,'Data Input'!L138,'Data Input'!M138,'Data Input'!AB138,'Data Input'!AC138,'Data Input'!AF138,'Data Input'!AJ138,'Data Input'!AL138,'Data Input'!AN138,'Data Input'!AO138,'Data Input'!AP138,'Data Input'!AQ138,'Data Input'!AR138,'Data Input'!AS138,'Data Input'!AT138,'Data Input'!AU138,'Data Input'!AV138,'Data Input'!AW138,'Data Input'!AX138,'Data Input'!AY138))","v":""},{"$f":"IF(N134=\"\",\"\",N134/COUNTIF('Data Input'!$C$8:$AZ$8,$N$2))","v":""},null,{"$f":"IF(P134=\"\",\"\",P134/COUNTIF('Data Input'!$C$8:$AZ$8,$P$2))","v":""},{"$f":"IF(ISBLANK('Data Input'!A138),\"\",SUM('Data Input'!AH138))","v":""},{"$f":"IF(R134=\"\",\"\",R134/COUNTIF('Data Input'!$C$8:$AZ$8,$R$2))","v":""},{"$f":"IF(ISBLANK('Data Input'!$A138),\"\",SUM('Data Input'!AI138))","v":""},{"$f":"IF(T134=\"\",\"\",T134/COUNTIF('Data Input'!$C$8:$AZ$8,$T$2))","v":""},null,{"$f":"IF(V134=\"\",\"\",V134/COUNTIF('Data Input'!$C$8:$AZ$8,$V$2))","v":""}]
[{"$f":"IF('Data Input'!A139=0,\"\",'Data Input'!A139)","v":""},{"$f":"IF(F135=\"\",\"\",IF(F135>Welcome!$J$20-1,\"Exceeding\",IF(F135>Welcome!$F$20-1,\"Expected\",IF(F135<Welcome!$F$20,\"Below\"))))","v":""},{"$f":"IF(ISBLANK('Data Input'!A139),\"\",COUNTIF('Data Input'!C139:AZ139,\"\"))","v":""},{"$f":"IF(ISBLANK('Data Input'!A139),\"\",COUNTIF('Data Input'!C139:AZ139,\"0\"))","v":""},{"$f":"IF(ISBLANK('Data Input'!A139),\"\",SUM(C135,D135))","v":""},{"$f":"IF(ISBLANK('Data Input'!A139),\"\",SUM('Data Input'!C139:AZ139))","v":""},{"$f":"IF(F135=\"\",\"\",F135/(COUNTA('Data Input'!$C$8:$AZ$8)))","v":""},{"$f":"IF(ISBLANK('Data Input'!A139),\"\",SUM('Data Input'!C139,'Data Input'!H139,'Data Input'!J139,'Data Input'!N139,'Data Input'!R139,'Data Input'!T139,'Data Input'!Y139,'Data Input'!AE139,'Data Input'!AK139,'Data Input'!AM139))","v":""},{"$f":"IF(H135=\"\",\"\",H135/COUNTIF('Data Input'!$C$8:$AZ$8,$H$2))","v":""},{"$f":"IF(ISBLANK('Data Input'!A139),\"\",SUM('Data Input'!G139,'Data Input'!I139,'Data Input'!K139,'Data Input'!O139,'Data Input'!P139,'Data Input'!S139,'Data Input'!U139,'Data Input'!V139,'Data Input'!W139,'Data Input'!X139,'Data Input'!Z139,'Data Input'!AA139,'Data Input'!AD139,'Data Input'!AZ139))","v":""},{"$f":"IF(J135=\"\",\"\",J135/COUNTIF('Data Input'!$C$8:$AZ$8,$J$2))","v":""},{"$f":"IF(ISBLANK('Data Input'!A139),\"\",SUM('Data Input'!Q139,'Data Input'!AG139))","v":""},{"$f":"IF(L135=\"\",\"\",L135/COUNTIF('Data Input'!$C$8:$AZ$8,$L$2))","v":""},{"$f":"IF(ISBLANK('Data Input'!A139),\"\",SUM('Data Input'!D139,'Data Input'!E139,'Data Input'!F139,'Data Input'!L139,'Data Input'!M139,'Data Input'!AB139,'Data Input'!AC139,'Data Input'!AF139,'Data Input'!AJ139,'Data Input'!AL139,'Data Input'!AN139,'Data Input'!AO139,'Data Input'!AP139,'Data Input'!AQ139,'Data Input'!AR139,'Data Input'!AS139,'Data Input'!AT139,'Data Input'!AU139,'Data Input'!AV139,'Data Input'!AW139,'Data Input'!AX139,'Data Input'!AY139))","v":""},{"$f":"IF(N135=\"\",\"\",N135/COUNTIF('Data Input'!$C$8:$AZ$8,$N$2))","v":""},null,{"$f":"IF(P135=\"\",\"\",P135/COUNTIF('Data Input'!$C$8:$AZ$8,$P$2))","v":""},{"$f":"IF(ISBLANK('Data Input'!A139),\"\",SUM('Data Input'!AH139))","v":""},{"$f":"IF(R135=\"\",\"\",R135/COUNTIF('Data Input'!$C$8:$AZ$8,$R$2))","v":""},{"$f":"IF(ISBLANK('Data Input'!$A139),\"\",SUM('Data Input'!AI139))","v":""},{"$f":"IF(T135=\"\",\"\",T135/COUNTIF('Data Input'!$C$8:$AZ$8,$T$2))","v":""},null,{"$f":"IF(V135=\"\",\"\",V135/COUNTIF('Data Input'!$C$8:$AZ$8,$V$2))","v":""}]
[{"$f":"IF('Data Input'!A140=0,\"\",'Data Input'!A140)","v":""},{"$f":"IF(F136=\"\",\"\",IF(F136>Welcome!$J$20-1,\"Exceeding\",IF(F136>Welcome!$F$20-1,\"Expected\",IF(F136<Welcome!$F$20,\"Below\"))))","v":""},{"$f":"IF(ISBLANK('Data Input'!A140),\"\",COUNTIF('Data Input'!C140:AZ140,\"\"))","v":""},{"$f":"IF(ISBLANK('Data Input'!A140),\"\",COUNTIF('Data Input'!C140:AZ140,\"0\"))","v":""},{"$f":"IF(ISBLANK('Data Input'!A140),\"\",SUM(C136,D136))","v":""},{"$f":"IF(ISBLANK('Data Input'!A140),\"\",SUM('Data Input'!C140:AZ140))","v":""},{"$f":"IF(F136=\"\",\"\",F136/(COUNTA('Data Input'!$C$8:$AZ$8)))","v":""},{"$f":"IF(ISBLANK('Data Input'!A140),\"\",SUM('Data Input'!C140,'Data Input'!H140,'Data Input'!J140,'Data Input'!N140,'Data Input'!R140,'Data Input'!T140,'Data Input'!Y140,'Data Input'!AE140,'Data Input'!AK140,'Data Input'!AM140))","v":""},{"$f":"IF(H136=\"\",\"\",H136/COUNTIF('Data Input'!$C$8:$AZ$8,$H$2))","v":""},{"$f":"IF(ISBLANK('Data Input'!A140),\"\",SUM('Data Input'!G140,'Data Input'!I140,'Data Input'!K140,'Data Input'!O140,'Data Input'!P140,'Data Input'!S140,'Data Input'!U140,'Data Input'!V140,'Data Input'!W140,'Data Input'!X140,'Data Input'!Z140,'Data Input'!AA140,'Data Input'!AD140,'Data Input'!AZ140))","v":""},{"$f":"IF(J136=\"\",\"\",J136/COUNTIF('Data Input'!$C$8:$AZ$8,$J$2))","v":""},{"$f":"IF(ISBLANK('Data Input'!A140),\"\",SUM('Data Input'!Q140,'Data Input'!AG140))","v":""},{"$f":"IF(L136=\"\",\"\",L136/COUNTIF('Data Input'!$C$8:$AZ$8,$L$2))","v":""},{"$f":"IF(ISBLANK('Data Input'!A140),\"\",SUM('Data Input'!D140,'Data Input'!E140,'Data Input'!F140,'Data Input'!L140,'Data Input'!M140,'Data Input'!AB140,'Data Input'!AC140,'Data Input'!AF140,'Data Input'!AJ140,'Data Input'!AL140,'Data Input'!AN140,'Data Input'!AO140,'Data Input'!AP140,'Data Input'!AQ140,'Data Input'!AR140,'Data Input'!AS140,'Data Input'!AT140,'Data Input'!AU140,'Data Input'!AV140,'Data Input'!AW140,'Data Input'!AX140,'Data Input'!AY140))","v":""},{"$f":"IF(N136=\"\",\"\",N136/COUNTIF('Data Input'!$C$8:$AZ$8,$N$2))","v":""},null,{"$f":"IF(P136=\"\",\"\",P136/COUNTIF('Data Input'!$C$8:$AZ$8,$P$2))","v":""},{"$f":"IF(ISBLANK('Data Input'!A140),\"\",SUM('Data Input'!AH140))","v":""},{"$f":"IF(R136=\"\",\"\",R136/COUNTIF('Data Input'!$C$8:$AZ$8,$R$2))","v":""},{"$f":"IF(ISBLANK('Data Input'!$A140),\"\",SUM('Data Input'!AI140))","v":""},{"$f":"IF(T136=\"\",\"\",T136/COUNTIF('Data Input'!$C$8:$AZ$8,$T$2))","v":""},null,{"$f":"IF(V136=\"\",\"\",V136/COUNTIF('Data Input'!$C$8:$AZ$8,$V$2))","v":""}]
[{"$f":"IF('Data Input'!A141=0,\"\",'Data Input'!A141)","v":""},{"$f":"IF(F137=\"\",\"\",IF(F137>Welcome!$J$20-1,\"Exceeding\",IF(F137>Welcome!$F$20-1,\"Expected\",IF(F137<Welcome!$F$20,\"Below\"))))","v":""},{"$f":"IF(ISBLANK('Data Input'!A141),\"\",COUNTIF('Data Input'!C141:AZ141,\"\"))","v":""},{"$f":"IF(ISBLANK('Data Input'!A141),\"\",COUNTIF('Data Input'!C141:AZ141,\"0\"))","v":""},{"$f":"IF(ISBLANK('Data Input'!A141),\"\",SUM(C137,D137))","v":""},{"$f":"IF(ISBLANK('Data Input'!A141),\"\",SUM('Data Input'!C141:AZ141))","v":""},{"$f":"IF(F137=\"\",\"\",F137/(COUNTA('Data Input'!$C$8:$AZ$8)))","v":""},{"$f":"IF(ISBLANK('Data Input'!A141),\"\",SUM('Data Input'!C141,'Data Input'!H141,'Data Input'!J141,'Data Input'!N141,'Data Input'!R141,'Data Input'!T141,'Data Input'!Y141,'Data Input'!AE141,'Data Input'!AK141,'Data Input'!AM141))","v":""},{"$f":"IF(H137=\"\",\"\",H137/COUNTIF('Data Input'!$C$8:$AZ$8,$H$2))","v":""},{"$f":"IF(ISBLANK('Data Input'!A141),\"\",SUM('Data Input'!G141,'Data Input'!I141,'Data Input'!K141,'Data Input'!O141,'Data Input'!P141,'Data Input'!S141,'Data Input'!U141,'Data Input'!V141,'Data Input'!W141,'Data Input'!X141,'Data Input'!Z141,'Data Input'!AA141,'Data Input'!AD141,'Data Input'!AZ141))","v":""},{"$f":"IF(J137=\"\",\"\",J137/COUNTIF('Data Input'!$C$8:$AZ$8,$J$2))","v":""},{"$f":"IF(ISBLANK('Data Input'!A141),\"\",SUM('Data Input'!Q141,'Data Input'!AG141))","v":""},{"$f":"IF(L137=\"\",\"\",L137/COUNTIF('Data Input'!$C$8:$AZ$8,$L$2))","v":""},{"$f":"IF(ISBLANK('Data Input'!A141),\"\",SUM('Data Input'!D141,'Data Input'!E141,'Data Input'!F141,'Data Input'!L141,'Data Input'!M141,'Data Input'!AB141,'Data Input'!AC141,'Data Input'!AF141,'Data Input'!AJ141,'Data Input'!AL141,'Data Input'!AN141,'Data Input'!AO141,'Data Input'!AP141,'Data Input'!AQ141,'Data Input'!AR141,'Data Input'!AS141,'Data Input'!AT141,'Data Input'!AU141,'Data Input'!AV141,'Data Input'!AW141,'Data Input'!AX141,'Data Input'!AY141))","v":""},{"$f":"IF(N137=\"\",\"\",N137/COUNTIF('Data Input'!$C$8:$AZ$8,$N$2))","v":""},null,{"$f":"IF(P137=\"\",\"\",P137/COUNTIF('Data Input'!$C$8:$AZ$8,$P$2))","v":""},{"$f":"IF(ISBLANK('Data Input'!A141),\"\",SUM('Data Input'!AH141))","v":""},{"$f":"IF(R137=\"\",\"\",R137/COUNTIF('Data Input'!$C$8:$AZ$8,$R$2))","v":""},{"$f":"IF(ISBLANK('Data Input'!$A141),\"\",SUM('Data Input'!AI141))","v":""},{"$f":"IF(T137=\"\",\"\",T137/COUNTIF('Data Input'!$C$8:$AZ$8,$T$2))","v":""},null,{"$f":"IF(V137=\"\",\"\",V137/COUNTIF('Data Input'!$C$8:$AZ$8,$V$2))","v":""}]
[{"$f":"IF('Data Input'!A142=0,\"\",'Data Input'!A142)","v":""},{"$f":"IF(F138=\"\",\"\",IF(F138>Welcome!$J$20-1,\"Exceeding\",IF(F138>Welcome!$F$20-1,\"Expected\",IF(F138<Welcome!$F$20,\"Below\"))))","v":""},{"$f":"IF(ISBLANK('Data Input'!A142),\"\",COUNTIF('Data Input'!C142:AZ142,\"\"))","v":""},{"$f":"IF(ISBLANK('Data Input'!A142),\"\",COUNTIF('Data Input'!C142:AZ142,\"0\"))","v":""},{"$f":"IF(ISBLANK('Data Input'!A142),\"\",SUM(C138,D138))","v":""},{"$f":"IF(ISBLANK('Data Input'!A142),\"\",SUM('Data Input'!C142:AZ142))","v":""},{"$f":"IF(F138=\"\",\"\",F138/(COUNTA('Data Input'!$C$8:$AZ$8)))","v":""},{"$f":"IF(ISBLANK('Data Input'!A142),\"\",SUM('Data Input'!C142,'Data Input'!H142,'Data Input'!J142,'Data Input'!N142,'Data Input'!R142,'Data Input'!T142,'Data Input'!Y142,'Data Input'!AE142,'Data Input'!AK142,'Data Input'!AM142))","v":""},{"$f":"IF(H138=\"\",\"\",H138/COUNTIF('Data Input'!$C$8:$AZ$8,$H$2))","v":""},{"$f":"IF(ISBLANK('Data Input'!A142),\"\",SUM('Data Input'!G142,'Data Input'!I142,'Data Input'!K142,'Data Input'!O142,'Data Input'!P142,'Data Input'!S142,'Data Input'!U142,'Data Input'!V142,'Data Input'!W142,'Data Input'!X142,'Data Input'!Z142,'Data Input'!AA142,'Data Input'!AD142,'Data Input'!AZ142))","v":""},{"$f":"IF(J138=\"\",\"\",J138/COUNTIF('Data Input'!$C$8:$AZ$8,$J$2))","v":""},{"$f":"IF(ISBLANK('Data Input'!A142),\"\",SUM('Data Input'!Q142,'Data Input'!AG142))","v":""},{"$f":"IF(L138=\"\",\"\",L138/COUNTIF('Data Input'!$C$8:$AZ$8,$L$2))","v":""},{"$f":"IF(ISBLANK('Data Input'!A142),\"\",SUM('Data Input'!D142,'Data Input'!E142,'Data Input'!F142,'Data Input'!L142,'Data Input'!M142,'Data Input'!AB142,'Data Input'!AC142,'Data Input'!AF142,'Data Input'!AJ142,'Data Input'!AL142,'Data Input'!AN142,'Data Input'!AO142,'Data Input'!AP142,'Data Input'!AQ142,'Data Input'!AR142,'Data Input'!AS142,'Data Input'!AT142,'Data Input'!AU142,'Data Input'!AV142,'Data Input'!AW142,'Data Input'!AX142,'Data Input'!AY142))","v":""},{"$f":"IF(N138=\"\",\"\",N138/COUNTIF('Data Input'!$C$8:$AZ$8,$N$2))","v":""},null,{"$f":"IF(P138=\"\",\"\",P138/COUNTIF('Data Input'!$C$8:$AZ$8,$P$2))","v":""},{"$f":"IF(ISBLANK('Data Input'!A142),\"\",SUM('Data Input'!AH142))","v":""},{"$f":"IF(R138=\"\",\"\",R138/COUNTIF('Data Input'!$C$8:$AZ$8,$R$2))","v":""},{"$f":"IF(ISBLANK('Data Input'!$A142),\"\",SUM('Data Input'!AI142))","v":""},{"$f":"IF(T138=\"\",\"\",T138/COUNTIF('Data Input'!$C$8:$AZ$8,$T$2))","v":""},null,{"$f":"IF(V138=\"\",\"\",V138/COUNTIF('Data Input'!$C$8:$AZ$8,$V$2))","v":""}]
[{"$f":"IF('Data Input'!A143=0,\"\",'Data Input'!A143)","v":""},{"$f":"IF(F139=\"\",\"\",IF(F139>Welcome!$J$20-1,\"Exceeding\",IF(F139>Welcome!$F$20-1,\"Expected\",IF(F139<Welcome!$F$20,\"Below\"))))","v":""},{"$f":"IF(ISBLANK('Data Input'!A143),\"\",COUNTIF('Data Input'!C143:AZ143,\"\"))","v":""},{"$f":"IF(ISBLANK('Data Input'!A143),\"\",COUNTIF('Data Input'!C143:AZ143,\"0\"))","v":""},{"$f":"IF(ISBLANK('Data Input'!A143),\"\",SUM(C139,D139))","v":""},{"$f":"IF(ISBLANK('Data Input'!A143),\"\",SUM('Data Input'!C143:AZ143))","v":""},{"$f":"IF(F139=\"\",\"\",F139/(COUNTA('Data Input'!$C$8:$AZ$8)))","v":""},{"$f":"IF(ISBLANK('Data Input'!A143),\"\",SUM('Data Input'!C143,'Data Input'!H143,'Data Input'!J143,'Data Input'!N143,'Data Input'!R143,'Data Input'!T143,'Data Input'!Y143,'Data Input'!AE143,'Data Input'!AK143,'Data Input'!AM143))","v":""},{"$f":"IF(H139=\"\",\"\",H139/COUNTIF('Data Input'!$C$8:$AZ$8,$H$2))","v":""},{"$f":"IF(ISBLANK('Data Input'!A143),\"\",SUM('Data Input'!G143,'Data Input'!I143,'Data Input'!K143,'Data Input'!O143,'Data Input'!P143,'Data Input'!S143,'Data Input'!U143,'Data Input'!V143,'Data Input'!W143,'Data Input'!X143,'Data Input'!Z143,'Data Input'!AA143,'Data Input'!AD143,'Data Input'!AZ143))","v":""},{"$f":"IF(J139=\"\",\"\",J139/COUNTIF('Data Input'!$C$8:$AZ$8,$J$2))","v":""},{"$f":"IF(ISBLANK('Data Input'!A143),\"\",SUM('Data Input'!Q143,'Data Input'!AG143))","v":""},{"$f":"IF(L139=\"\",\"\",L139/COUNTIF('Data Input'!$C$8:$AZ$8,$L$2))","v":""},{"$f":"IF(ISBLANK('Data Input'!A143),\"\",SUM('Data Input'!D143,'Data Input'!E143,'Data Input'!F143,'Data Input'!L143,'Data Input'!M143,'Data Input'!AB143,'Data Input'!AC143,'Data Input'!AF143,'Data Input'!AJ143,'Data Input'!AL143,'Data Input'!AN143,'Data Input'!AO143,'Data Input'!AP143,'Data Input'!AQ143,'Data Input'!AR143,'Data Input'!AS143,'Data Input'!AT143,'Data Input'!AU143,'Data Input'!AV143,'Data Input'!AW143,'Data Input'!AX143,'Data Input'!AY143))","v":""},{"$f":"IF(N139=\"\",\"\",N139/COUNTIF('Data Input'!$C$8:$AZ$8,$N$2))","v":""},null,{"$f":"IF(P139=\"\",\"\",P139/COUNTIF('Data Input'!$C$8:$AZ$8,$P$2))","v":""},{"$f":"IF(ISBLANK('Data Input'!A143),\"\",SUM('Data Input'!AH143))","v":""},{"$f":"IF(R139=\"\",\"\",R139/COUNTIF('Data Input'!$C$8:$AZ$8,$R$2))","v":""},{"$f":"IF(ISBLANK('Data Input'!$A143),\"\",SUM('Data Input'!AI143))","v":""},{"$f":"IF(T139=\"\",\"\",T139/COUNTIF('Data Input'!$C$8:$AZ$8,$T$2))","v":""},null,{"$f":"IF(V139=\"\",\"\",V139/COUNTIF('Data Input'!$C$8:$AZ$8,$V$2))","v":""}]
[{"$f":"IF('Data Input'!A144=0,\"\",'Data Input'!A144)","v":""},{"$f":"IF(F140=\"\",\"\",IF(F140>Welcome!$J$20-1,\"Exceeding\",IF(F140>Welcome!$F$20-1,\"Expected\",IF(F140<Welcome!$F$20,\"Below\"))))","v":""},{"$f":"IF(ISBLANK('Data Input'!A144),\"\",COUNTIF('Data Input'!C144:AZ144,\"\"))","v":""},{"$f":"IF(ISBLANK('Data Input'!A144),\"\",COUNTIF('Data Input'!C144:AZ144,\"0\"))","v":""},{"$f":"IF(ISBLANK('Data Input'!A144),\"\",SUM(C140,D140))","v":""},{"$f":"IF(ISBLANK('Data Input'!A144),\"\",SUM('Data Input'!C144:AZ144))","v":""},{"$f":"IF(F140=\"\",\"\",F140/(COUNTA('Data Input'!$C$8:$AZ$8)))","v":""},{"$f":"IF(ISBLANK('Data Input'!A144),\"\",SUM('Data Input'!C144,'Data Input'!H144,'Data Input'!J144,'Data Input'!N144,'Data Input'!R144,'Data Input'!T144,'Data Input'!Y144,'Data Input'!AE144,'Data Input'!AK144,'Data Input'!AM144))","v":""},{"$f":"IF(H140=\"\",\"\",H140/COUNTIF('Data Input'!$C$8:$AZ$8,$H$2))","v":""},{"$f":"IF(ISBLANK('Data Input'!A144),\"\",SUM('Data Input'!G144,'Data Input'!I144,'Data Input'!K144,'Data Input'!O144,'Data Input'!P144,'Data Input'!S144,'Data Input'!U144,'Data Input'!V144,'Data Input'!W144,'Data Input'!X144,'Data Input'!Z144,'Data Input'!AA144,'Data Input'!AD144,'Data Input'!AZ144))","v":""},{"$f":"IF(J140=\"\",\"\",J140/COUNTIF('Data Input'!$C$8:$AZ$8,$J$2))","v":""},{"$f":"IF(ISBLANK('Data Input'!A144),\"\",SUM('Data Input'!Q144,'Data Input'!AG144))","v":""},{"$f":"IF(L140=\"\",\"\",L140/COUNTIF('Data Input'!$C$8:$AZ$8,$L$2))","v":""},{"$f":"IF(ISBLANK('Data Input'!A144),\"\",SUM('Data Input'!D144,'Data Input'!E144,'Data Input'!F144,'Data Input'!L144,'Data Input'!M144,'Data Input'!AB144,'Data Input'!AC144,'Data Input'!AF144,'Data Input'!AJ144,'Data Input'!AL144,'Data Input'!AN144,'Data Input'!AO144,'Data Input'!AP144,'Data Input'!AQ144,'Data Input'!AR144,'Data Input'!AS144,'Data Input'!AT144,'Data Input'!AU144,'Data Input'!AV144,'Data Input'!AW144,'Data Input'!AX144,'Data Input'!AY144))","v":""},{"$f":"IF(N140=\"\",\"\",N140/COUNTIF('Data Input'!$C$8:$AZ$8,$N$2))","v":""},null,{"$f":"IF(P140=\"\",\"\",P140/COUNTIF('Data Input'!$C$8:$AZ$8,$P$2))","v":""},{"$f":"IF(ISBLANK('Data Input'!A144),\"\",SUM('Data Input'!AH144))","v":""},{"$f":"IF(R140=\"\",\"\",R140/COUNTIF('Data Input'!$C$8:$AZ$8,$R$2))","v":""},{"$f":"IF(ISBLANK('Data Input'!$A144),\"\",SUM('Data Input'!AI144))","v":""},{"$f":"IF(T140=\"\",\"\",T140/COUNTIF('Data Input'!$C$8:$AZ$8,$T$2))","v":""},null,{"$f":"IF(V140=\"\",\"\",V140/COUNTIF('Data Input'!$C$8:$AZ$8,$V$2))","v":""}]
[{"$f":"IF('Data Input'!A145=0,\"\",'Data Input'!A145)","v":""},{"$f":"IF(F141=\"\",\"\",IF(F141>Welcome!$J$20-1,\"Exceeding\",IF(F141>Welcome!$F$20-1,\"Expected\",IF(F141<Welcome!$F$20,\"Below\"))))","v":""},{"$f":"IF(ISBLANK('Data Input'!A145),\"\",COUNTIF('Data Input'!C145:AZ145,\"\"))","v":""},{"$f":"IF(ISBLANK('Data Input'!A145),\"\",COUNTIF('Data Input'!C145:AZ145,\"0\"))","v":""},{"$f":"IF(ISBLANK('Data Input'!A145),\"\",SUM(C141,D141))","v":""},{"$f":"IF(ISBLANK('Data Input'!A145),\"\",SUM('Data Input'!C145:AZ145))","v":""},{"$f":"IF(F141=\"\",\"\",F141/(COUNTA('Data Input'!$C$8:$AZ$8)))","v":""},{"$f":"IF(ISBLANK('Data Input'!A145),\"\",SUM('Data Input'!C145,'Data Input'!H145,'Data Input'!J145,'Data Input'!N145,'Data Input'!R145,'Data Input'!T145,'Data Input'!Y145,'Data Input'!AE145,'Data Input'!AK145,'Data Input'!AM145))","v":""},{"$f":"IF(H141=\"\",\"\",H141/COUNTIF('Data Input'!$C$8:$AZ$8,$H$2))","v":""},{"$f":"IF(ISBLANK('Data Input'!A145),\"\",SUM('Data Input'!G145,'Data Input'!I145,'Data Input'!K145,'Data Input'!O145,'Data Input'!P145,'Data Input'!S145,'Data Input'!U145,'Data Input'!V145,'Data Input'!W145,'Data Input'!X145,'Data Input'!Z145,'Data Input'!AA145,'Data Input'!AD145,'Data Input'!AZ145))","v":""},{"$f":"IF(J141=\"\",\"\",J141/COUNTIF('Data Input'!$C$8:$AZ$8,$J$2))","v":""},{"$f":"IF(ISBLANK('Data Input'!A145),\"\",SUM('Data Input'!Q145,'Data Input'!AG145))","v":""},{"$f":"IF(L141=\"\",\"\",L141/COUNTIF('Data Input'!$C$8:$AZ$8,$L$2))","v":""},{"$f":"IF(ISBLANK('Data Input'!A145),\"\",SUM('Data Input'!D145,'Data Input'!E145,'Data Input'!F145,'Data Input'!L145,'Data Input'!M145,'Data Input'!AB145,'Data Input'!AC145,'Data Input'!AF145,'Data Input'!AJ145,'Data Input'!AL145,'Data Input'!AN145,'Data Input'!AO145,'Data Input'!AP145,'Data Input'!AQ145,'Data Input'!AR145,'Data Input'!AS145,'Data Input'!AT145,'Data Input'!AU145,'Data Input'!AV145,'Data Input'!AW145,'Data Input'!AX145,'Data Input'!AY145))","v":""},{"$f":"IF(N141=\"\",\"\",N141/COUNTIF('Data Input'!$C$8:$AZ$8,$N$2))","v":""},null,{"$f":"IF(P141=\"\",\"\",P141/COUNTIF('Data Input'!$C$8:$AZ$8,$P$2))","v":""},{"$f":"IF(ISBLANK('Data Input'!A145),\"\",SUM('Data Input'!AH145))","v":""},{"$f":"IF(R141=\"\",\"\",R141/COUNTIF('Data Input'!$C$8:$AZ$8,$R$2))","v":""},{"$f":"IF(ISBLANK('Data Input'!$A145),\"\",SUM('Data Input'!AI145))","v":""},{"$f":"IF(T141=\"\",\"\",T141/COUNTIF('Data Input'!$C$8:$AZ$8,$T$2))","v":""},null,{"$f":"IF(V141=\"\",\"\",V141/COUNTIF('Data Input'!$C$8:$AZ$8,$V$2))","v":""}]
[{"$f":"IF('Data Input'!A146=0,\"\",'Data Input'!A146)","v":""},{"$f":"IF(F142=\"\",\"\",IF(F142>Welcome!$J$20-1,\"Exceeding\",IF(F142>Welcome!$F$20-1,\"Expected\",IF(F142<Welcome!$F$20,\"Below\"))))","v":""},{"$f":"IF(ISBLANK('Data Input'!A146),\"\",COUNTIF('Data Input'!C146:AZ146,\"\"))","v":""},{"$f":"IF(ISBLANK('Data Input'!A146),\"\",COUNTIF('Data Input'!C146:AZ146,\"0\"))","v":""},{"$f":"IF(ISBLANK('Data Input'!A146),\"\",SUM(C142,D142))","v":""},{"$f":"IF(ISBLANK('Data Input'!A146),\"\",SUM('Data Input'!C146:AZ146))","v":""},{"$f":"IF(F142=\"\",\"\",F142/(COUNTA('Data Input'!$C$8:$AZ$8)))","v":""},{"$f":"IF(ISBLANK('Data Input'!A146),\"\",SUM('Data Input'!C146,'Data Input'!H146,'Data Input'!J146,'Data Input'!N146,'Data Input'!R146,'Data Input'!T146,'Data Input'!Y146,'Data Input'!AE146,'Data Input'!AK146,'Data Input'!AM146))","v":""},{"$f":"IF(H142=\"\",\"\",H142/COUNTIF('Data Input'!$C$8:$AZ$8,$H$2))","v":""},{"$f":"IF(ISBLANK('Data Input'!A146),\"\",SUM('Data Input'!G146,'Data Input'!I146,'Data Input'!K146,'Data Input'!O146,'Data Input'!P146,'Data Input'!S146,'Data Input'!U146,'Data Input'!V146,'Data Input'!W146,'Data Input'!X146,'Data Input'!Z146,'Data Input'!AA146,'Data Input'!AD146,'Data Input'!AZ146))","v":""},{"$f":"IF(J142=\"\",\"\",J142/COUNTIF('Data Input'!$C$8:$AZ$8,$J$2))","v":""},{"$f":"IF(ISBLANK('Data Input'!A146),\"\",SUM('Data Input'!Q146,'Data Input'!AG146))","v":""},{"$f":"IF(L142=\"\",\"\",L142/COUNTIF('Data Input'!$C$8:$AZ$8,$L$2))","v":""},{"$f":"IF(ISBLANK('Data Input'!A146),\"\",SUM('Data Input'!D146,'Data Input'!E146,'Data Input'!F146,'Data Input'!L146,'Data Input'!M146,'Data Input'!AB146,'Data Input'!AC146,'Data Input'!AF146,'Data Input'!AJ146,'Data Input'!AL146,'Data Input'!AN146,'Data Input'!AO146,'Data Input'!AP146,'Data Input'!AQ146,'Data Input'!AR146,'Data Input'!AS146,'Data Input'!AT146,'Data Input'!AU146,'Data Input'!AV146,'Data Input'!AW146,'Data Input'!AX146,'Data Input'!AY146))","v":""},{"$f":"IF(N142=\"\",\"\",N142/COUNTIF('Data Input'!$C$8:$AZ$8,$N$2))","v":""},null,{"$f":"IF(P142=\"\",\"\",P142/COUNTIF('Data Input'!$C$8:$AZ$8,$P$2))","v":""},{"$f":"IF(ISBLANK('Data Input'!A146),\"\",SUM('Data Input'!AH146))","v":""},{"$f":"IF(R142=\"\",\"\",R142/COUNTIF('Data Input'!$C$8:$AZ$8,$R$2))","v":""},{"$f":"IF(ISBLANK('Data Input'!$A146),\"\",SUM('Data Input'!AI146))","v":""},{"$f":"IF(T142=\"\",\"\",T142/COUNTIF('Data Input'!$C$8:$AZ$8,$T$2))","v":""},null,{"$f":"IF(V142=\"\",\"\",V142/COUNTIF('Data Input'!$C$8:$AZ$8,$V$2))","v":""}]
[{"$f":"IF('Data Input'!A147=0,\"\",'Data Input'!A147)","v":""},{"$f":"IF(F143=\"\",\"\",IF(F143>Welcome!$J$20-1,\"Exceeding\",IF(F143>Welcome!$F$20-1,\"Expected\",IF(F143<Welcome!$F$20,\"Below\"))))","v":""},{"$f":"IF(ISBLANK('Data Input'!A147),\"\",COUNTIF('Data Input'!C147:AZ147,\"\"))","v":""},{"$f":"IF(ISBLANK('Data Input'!A147),\"\",COUNTIF('Data Input'!C147:AZ147,\"0\"))","v":""},{"$f":"IF(ISBLANK('Data Input'!A147),\"\",SUM(C143,D143))","v":""},{"$f":"IF(ISBLANK('Data Input'!A147),\"\",SUM('Data Input'!C147:AZ147))","v":""},{"$f":"IF(F143=\"\",\"\",F143/(COUNTA('Data Input'!$C$8:$AZ$8)))","v":""},{"$f":"IF(ISBLANK('Data Input'!A147),\"\",SUM('Data Input'!C147,'Data Input'!H147,'Data Input'!J147,'Data Input'!N147,'Data Input'!R147,'Data Input'!T147,'Data Input'!Y147,'Data Input'!AE147,'Data Input'!AK147,'Data Input'!AM147))","v":""},{"$f":"IF(H143=\"\",\"\",H143/COUNTIF('Data Input'!$C$8:$AZ$8,$H$2))","v":""},{"$f":"IF(ISBLANK('Data Input'!A147),\"\",SUM('Data Input'!G147,'Data Input'!I147,'Data Input'!K147,'Data Input'!O147,'Data Input'!P147,'Data Input'!S147,'Data Input'!U147,'Data Input'!V147,'Data Input'!W147,'Data Input'!X147,'Data Input'!Z147,'Data Input'!AA147,'Data Input'!AD147,'Data Input'!AZ147))","v":""},{"$f":"IF(J143=\"\",\"\",J143/COUNTIF('Data Input'!$C$8:$AZ$8,$J$2))","v":""},{"$f":"IF(ISBLANK('Data Input'!A147),\"\",SUM('Data Input'!Q147,'Data Input'!AG147))","v":""},{"$f":"IF(L143=\"\",\"\",L143/COUNTIF('Data Input'!$C$8:$AZ$8,$L$2))","v":""},{"$f":"IF(ISBLANK('Data Input'!A147),\"\",SUM('Data Input'!D147,'Data Input'!E147,'Data Input'!F147,'Data Input'!L147,'Data Input'!M147,'Data Input'!AB147,'Data Input'!AC147,'Data Input'!AF147,'Data Input'!AJ147,'Data Input'!AL147,'Data Input'!AN147,'Data Input'!AO147,'Data Input'!AP147,'Data Input'!AQ147,'Data Input'!AR147,'Data Input'!AS147,'Data Input'!AT147,'Data Input'!AU147,'Data Input'!AV147,'Data Input'!AW147,'Data Input'!AX147,'Data Input'!AY147))","v":""},{"$f":"IF(N143=\"\",\"\",N143/COUNTIF('Data Input'!$C$8:$AZ$8,$N$2))","v":""},null,{"$f":"IF(P143=\"\",\"\",P143/COUNTIF('Data Input'!$C$8:$AZ$8,$P$2))","v":""},{"$f":"IF(ISBLANK('Data Input'!A147),\"\",SUM('Data Input'!AH147))","v":""},{"$f":"IF(R143=\"\",\"\",R143/COUNTIF('Data Input'!$C$8:$AZ$8,$R$2))","v":""},{"$f":"IF(ISBLANK('Data Input'!$A147),\"\",SUM('Data Input'!AI147))","v":""},{"$f":"IF(T143=\"\",\"\",T143/COUNTIF('Data Input'!$C$8:$AZ$8,$T$2))","v":""},null,{"$f":"IF(V143=\"\",\"\",V143/COUNTIF('Data Input'!$C$8:$AZ$8,$V$2))","v":""}]
[{"$f":"IF('Data Input'!A148=0,\"\",'Data Input'!A148)","v":""},{"$f":"IF(F144=\"\",\"\",IF(F144>Welcome!$J$20-1,\"Exceeding\",IF(F144>Welcome!$F$20-1,\"Expected\",IF(F144<Welcome!$F$20,\"Below\"))))","v":""},{"$f":"IF(ISBLANK('Data Input'!A148),\"\",COUNTIF('Data Input'!C148:AZ148,\"\"))","v":""},{"$f":"IF(ISBLANK('Data Input'!A148),\"\",COUNTIF('Data Input'!C148:AZ148,\"0\"))","v":""},{"$f":"IF(ISBLANK('Data Input'!A148),\"\",SUM(C144,D144))","v":""},{"$f":"IF(ISBLANK('Data Input'!A148),\"\",SUM('Data Input'!C148:AZ148))","v":""},{"$f":"IF(F144=\"\",\"\",F144/(COUNTA('Data Input'!$C$8:$AZ$8)))","v":""},{"$f":"IF(ISBLANK('Data Input'!A148),\"\",SUM('Data Input'!C148,'Data Input'!H148,'Data Input'!J148,'Data Input'!N148,'Data Input'!R148,'Data Input'!T148,'Data Input'!Y148,'Data Input'!AE148,'Data Input'!AK148,'Data Input'!AM148))","v":""},{"$f":"IF(H144=\"\",\"\",H144/COUNTIF('Data Input'!$C$8:$AZ$8,$H$2))","v":""},{"$f":"IF(ISBLANK('Data Input'!A148),\"\",SUM('Data Input'!G148,'Data Input'!I148,'Data Input'!K148,'Data Input'!O148,'Data Input'!P148,'Data Input'!S148,'Data Input'!U148,'Data Input'!V148,'Data Input'!W148,'Data Input'!X148,'Data Input'!Z148,'Data Input'!AA148,'Data Input'!AD148,'Data Input'!AZ148))","v":""},{"$f":"IF(J144=\"\",\"\",J144/COUNTIF('Data Input'!$C$8:$AZ$8,$J$2))","v":""},{"$f":"IF(ISBLANK('Data Input'!A148),\"\",SUM('Data Input'!Q148,'Data Input'!AG148))","v":""},{"$f":"IF(L144=\"\",\"\",L144/COUNTIF('Data Input'!$C$8:$AZ$8,$L$2))","v":""},{"$f":"IF(ISBLANK('Data Input'!A148),\"\",SUM('Data Input'!D148,'Data Input'!E148,'Data Input'!F148,'Data Input'!L148,'Data Input'!M148,'Data Input'!AB148,'Data Input'!AC148,'Data Input'!AF148,'Data Input'!AJ148,'Data Input'!AL148,'Data Input'!AN148,'Data Input'!AO148,'Data Input'!AP148,'Data Input'!AQ148,'Data Input'!AR148,'Data Input'!AS148,'Data Input'!AT148,'Data Input'!AU148,'Data Input'!AV148,'Data Input'!AW148,'Data Input'!AX148,'Data Input'!AY148))","v":""},{"$f":"IF(N144=\"\",\"\",N144/COUNTIF('Data Input'!$C$8:$AZ$8,$N$2))","v":""},null,{"$f":"IF(P144=\"\",\"\",P144/COUNTIF('Data Input'!$C$8:$AZ$8,$P$2))","v":""},{"$f":"IF(ISBLANK('Data Input'!A148),\"\",SUM('Data Input'!AH148))","v":""},{"$f":"IF(R144=\"\",\"\",R144/COUNTIF('Data Input'!$C$8:$AZ$8,$R$2))","v":""},{"$f":"IF(ISBLANK('Data Input'!$A148),\"\",SUM('Data Input'!AI148))","v":""},{"$f":"IF(T144=\"\",\"\",T144/COUNTIF('Data Input'!$C$8:$AZ$8,$T$2))","v":""},null,{"$f":"IF(V144=\"\",\"\",V144/COUNTIF('Data Input'!$C$8:$AZ$8,$V$2))","v":""}]
[{"$f":"IF('Data Input'!A149=0,\"\",'Data Input'!A149)","v":""},{"$f":"IF(F145=\"\",\"\",IF(F145>Welcome!$J$20-1,\"Exceeding\",IF(F145>Welcome!$F$20-1,\"Expected\",IF(F145<Welcome!$F$20,\"Below\"))))","v":""},{"$f":"IF(ISBLANK('Data Input'!A149),\"\",COUNTIF('Data Input'!C149:AZ149,\"\"))","v":""},{"$f":"IF(ISBLANK('Data Input'!A149),\"\",COUNTIF('Data Input'!C149:AZ149,\"0\"))","v":""},{"$f":"IF(ISBLANK('Data Input'!A149),\"\",SUM(C145,D145))","v":""},{"$f":"IF(ISBLANK('Data Input'!A149),\"\",SUM('Data Input'!C149:AZ149))","v":""},{"$f":"IF(F145=\"\",\"\",F145/(COUNTA('Data Input'!$C$8:$AZ$8)))","v":""},{"$f":"IF(ISBLANK('Data Input'!A149),\"\",SUM('Data Input'!C149,'Data Input'!H149,'Data Input'!J149,'Data Input'!N149,'Data Input'!R149,'Data Input'!T149,'Data Input'!Y149,'Data Input'!AE149,'Data Input'!AK149,'Data Input'!AM149))","v":""},{"$f":"IF(H145=\"\",\"\",H145/COUNTIF('Data Input'!$C$8:$AZ$8,$H$2))","v":""},{"$f":"IF(ISBLANK('Data Input'!A149),\"\",SUM('Data Input'!G149,'Data Input'!I149,'Data Input'!K149,'Data Input'!O149,'Data Input'!P149,'Data Input'!S149,'Data Input'!U149,'Data Input'!V149,'Data Input'!W149,'Data Input'!X149,'Data Input'!Z149,'Data Input'!AA149,'Data Input'!AD149,'Data Input'!AZ149))","v":""},{"$f":"IF(J145=\"\",\"\",J145/COUNTIF('Data Input'!$C$8:$AZ$8,$J$2))","v":""},{"$f":"IF(ISBLANK('Data Input'!A149),\"\",SUM('Data Input'!Q149,'Data Input'!AG149))","v":""},{"$f":"IF(L145=\"\",\"\",L145/COUNTIF('Data Input'!$C$8:$AZ$8,$L$2))","v":""},{"$f":"IF(ISBLANK('Data Input'!A149),\"\",SUM('Data Input'!D149,'Data Input'!E149,'Data Input'!F149,'Data Input'!L149,'Data Input'!M149,'Data Input'!AB149,'Data Input'!AC149,'Data Input'!AF149,'Data Input'!AJ149,'Data Input'!AL149,'Data Input'!AN149,'Data Input'!AO149,'Data Input'!AP149,'Data Input'!AQ149,'Data Input'!AR149,'Data Input'!AS149,'Data Input'!AT149,'Data Input'!AU149,'Data Input'!AV149,'Data Input'!AW149,'Data Input'!AX149,'Data Input'!AY149))","v":""},{"$f":"IF(N145=\"\",\"\",N145/COUNTIF('Data Input'!$C$8:$AZ$8,$N$2))","v":""},null,{"$f":"IF(P145=\"\",\"\",P145/COUNTIF('Data Input'!$C$8:$AZ$8,$P$2))","v":""},{"$f":"IF(ISBLANK('Data Input'!A149),\"\",SUM('Data Input'!AH149))","v":""},{"$f":"IF(R145=\"\",\"\",R145/COUNTIF('Data Input'!$C$8:$AZ$8,$R$2))","v":""},{"$f":"IF(ISBLANK('Data Input'!$A149),\"\",SUM('Data Input'!AI149))","v":""},{"$f":"IF(T145=\"\",\"\",T145/COUNTIF('Data Input'!$C$8:$AZ$8,$T$2))","v":""},null,{"$f":"IF(V145=\"\",\"\",V145/COUNTIF('Data Input'!$C$8:$AZ$8,$V$2))","v":""}]
[{"$f":"IF('Data Input'!A150=0,\"\",'Data Input'!A150)","v":""},{"$f":"IF(F146=\"\",\"\",IF(F146>Welcome!$J$20-1,\"Exceeding\",IF(F146>Welcome!$F$20-1,\"Expected\",IF(F146<Welcome!$F$20,\"Below\"))))","v":""},{"$f":"IF(ISBLANK('Data Input'!A150),\"\",COUNTIF('Data Input'!C150:AZ150,\"\"))","v":""},{"$f":"IF(ISBLANK('Data Input'!A150),\"\",COUNTIF('Data Input'!C150:AZ150,\"0\"))","v":""},{"$f":"IF(ISBLANK('Data Input'!A150),\"\",SUM(C146,D146))","v":""},{"$f":"IF(ISBLANK('Data Input'!A150),\"\",SUM('Data Input'!C150:AZ150))","v":""},{"$f":"IF(F146=\"\",\"\",F146/(COUNTA('Data Input'!$C$8:$AZ$8)))","v":""},{"$f":"IF(ISBLANK('Data Input'!A150),\"\",SUM('Data Input'!C150,'Data Input'!H150,'Data Input'!J150,'Data Input'!N150,'Data Input'!R150,'Data Input'!T150,'Data Input'!Y150,'Data Input'!AE150,'Data Input'!AK150,'Data Input'!AM150))","v":""},{"$f":"IF(H146=\"\",\"\",H146/COUNTIF('Data Input'!$C$8:$AZ$8,$H$2))","v":""},{"$f":"IF(ISBLANK('Data Input'!A150),\"\",SUM('Data Input'!G150,'Data Input'!I150,'Data Input'!K150,'Data Input'!O150,'Data Input'!P150,'Data Input'!S150,'Data Input'!U150,'Data Input'!V150,'Data Input'!W150,'Data Input'!X150,'Data Input'!Z150,'Data Input'!AA150,'Data Input'!AD150,'Data Input'!AZ150))","v":""},{"$f":"IF(J146=\"\",\"\",J146/COUNTIF('Data Input'!$C$8:$AZ$8,$J$2))","v":""},{"$f":"IF(ISBLANK('Data Input'!A150),\"\",SUM('Data Input'!Q150,'Data Input'!AG150))","v":""},{"$f":"IF(L146=\"\",\"\",L146/COUNTIF('Data Input'!$C$8:$AZ$8,$L$2))","v":""},{"$f":"IF(ISBLANK('Data Input'!A150),\"\",SUM('Data Input'!D150,'Data Input'!E150,'Data Input'!F150,'Data Input'!L150,'Data Input'!M150,'Data Input'!AB150,'Data Input'!AC150,'Data Input'!AF150,'Data Input'!AJ150,'Data Input'!AL150,'Data Input'!AN150,'Data Input'!AO150,'Data Input'!AP150,'Data Input'!AQ150,'Data Input'!AR150,'Data Input'!AS150,'Data Input'!AT150,'Data Input'!AU150,'Data Input'!AV150,'Data Input'!AW150,'Data Input'!AX150,'Data Input'!AY150))","v":""},{"$f":"IF(N146=\"\",\"\",N146/COUNTIF('Data Input'!$C$8:$AZ$8,$N$2))","v":""},null,{"$f":"IF(P146=\"\",\"\",P146/COUNTIF('Data Input'!$C$8:$AZ$8,$P$2))","v":""},{"$f":"IF(ISBLANK('Data Input'!A150),\"\",SUM('Data Input'!AH150))","v":""},{"$f":"IF(R146=\"\",\"\",R146/COUNTIF('Data Input'!$C$8:$AZ$8,$R$2))","v":""},{"$f":"IF(ISBLANK('Data Input'!$A150),\"\",SUM('Data Input'!AI150))","v":""},{"$f":"IF(T146=\"\",\"\",T146/COUNTIF('Data Input'!$C$8:$AZ$8,$T$2))","v":""},null,{"$f":"IF(V146=\"\",\"\",V146/COUNTIF('Data Input'!$C$8:$AZ$8,$V$2))","v":""}]
[{"$f":"IF('Data Input'!A151=0,\"\",'Data Input'!A151)","v":""},{"$f":"IF(F147=\"\",\"\",IF(F147>Welcome!$J$20-1,\"Exceeding\",IF(F147>Welcome!$F$20-1,\"Expected\",IF(F147<Welcome!$F$20,\"Below\"))))","v":""},{"$f":"IF(ISBLANK('Data Input'!A151),\"\",COUNTIF('Data Input'!C151:AZ151,\"\"))","v":""},{"$f":"IF(ISBLANK('Data Input'!A151),\"\",COUNTIF('Data Input'!C151:AZ151,\"0\"))","v":""},{"$f":"IF(ISBLANK('Data Input'!A151),\"\",SUM(C147,D147))","v":""},{"$f":"IF(ISBLANK('Data Input'!A151),\"\",SUM('Data Input'!C151:AZ151))","v":""},{"$f":"IF(F147=\"\",\"\",F147/(COUNTA('Data Input'!$C$8:$AZ$8)))","v":""},{"$f":"IF(ISBLANK('Data Input'!A151),\"\",SUM('Data Input'!C151,'Data Input'!H151,'Data Input'!J151,'Data Input'!N151,'Data Input'!R151,'Data Input'!T151,'Data Input'!Y151,'Data Input'!AE151,'Data Input'!AK151,'Data Input'!AM151))","v":""},{"$f":"IF(H147=\"\",\"\",H147/COUNTIF('Data Input'!$C$8:$AZ$8,$H$2))","v":""},{"$f":"IF(ISBLANK('Data Input'!A151),\"\",SUM('Data Input'!G151,'Data Input'!I151,'Data Input'!K151,'Data Input'!O151,'Data Input'!P151,'Data Input'!S151,'Data Input'!U151,'Data Input'!V151,'Data Input'!W151,'Data Input'!X151,'Data Input'!Z151,'Data Input'!AA151,'Data Input'!AD151,'Data Input'!AZ151))","v":""},{"$f":"IF(J147=\"\",\"\",J147/COUNTIF('Data Input'!$C$8:$AZ$8,$J$2))","v":""},{"$f":"IF(ISBLANK('Data Input'!A151),\"\",SUM('Data Input'!Q151,'Data Input'!AG151))","v":""},{"$f":"IF(L147=\"\",\"\",L147/COUNTIF('Data Input'!$C$8:$AZ$8,$L$2))","v":""},{"$f":"IF(ISBLANK('Data Input'!A151),\"\",SUM('Data Input'!D151,'Data Input'!E151,'Data Input'!F151,'Data Input'!L151,'Data Input'!M151,'Data Input'!AB151,'Data Input'!AC151,'Data Input'!AF151,'Data Input'!AJ151,'Data Input'!AL151,'Data Input'!AN151,'Data Input'!AO151,'Data Input'!AP151,'Data Input'!AQ151,'Data Input'!AR151,'Data Input'!AS151,'Data Input'!AT151,'Data Input'!AU151,'Data Input'!AV151,'Data Input'!AW151,'Data Input'!AX151,'Data Input'!AY151))","v":""},{"$f":"IF(N147=\"\",\"\",N147/COUNTIF('Data Input'!$C$8:$AZ$8,$N$2))","v":""},null,{"$f":"IF(P147=\"\",\"\",P147/COUNTIF('Data Input'!$C$8:$AZ$8,$P$2))","v":""},{"$f":"IF(ISBLANK('Data Input'!A151),\"\",SUM('Data Input'!AH151))","v":""},{"$f":"IF(R147=\"\",\"\",R147/COUNTIF('Data Input'!$C$8:$AZ$8,$R$2))","v":""},{"$f":"IF(ISBLANK('Data Input'!$A151),\"\",SUM('Data Input'!AI151))","v":""},{"$f":"IF(T147=\"\",\"\",T147/COUNTIF('Data Input'!$C$8:$AZ$8,$T$2))","v":""},null,{"$f":"IF(V147=\"\",\"\",V147/COUNTIF('Data Input'!$C$8:$AZ$8,$V$2))","v":""}]
[{"$f":"IF('Data Input'!A152=0,\"\",'Data Input'!A152)","v":""},{"$f":"IF(F148=\"\",\"\",IF(F148>Welcome!$J$20-1,\"Exceeding\",IF(F148>Welcome!$F$20-1,\"Expected\",IF(F148<Welcome!$F$20,\"Below\"))))","v":""},{"$f":"IF(ISBLANK('Data Input'!A152),\"\",COUNTIF('Data Input'!C152:AZ152,\"\"))","v":""},{"$f":"IF(ISBLANK('Data Input'!A152),\"\",COUNTIF('Data Input'!C152:AZ152,\"0\"))","v":""},{"$f":"IF(ISBLANK('Data Input'!A152),\"\",SUM(C148,D148))","v":""},{"$f":"IF(ISBLANK('Data Input'!A152),\"\",SUM('Data Input'!C152:AZ152))","v":""},{"$f":"IF(F148=\"\",\"\",F148/(COUNTA('Data Input'!$C$8:$AZ$8)))","v":""},{"$f":"IF(ISBLANK('Data Input'!A152),\"\",SUM('Data Input'!C152,'Data Input'!H152,'Data Input'!J152,'Data Input'!N152,'Data Input'!R152,'Data Input'!T152,'Data Input'!Y152,'Data Input'!AE152,'Data Input'!AK152,'Data Input'!AM152))","v":""},{"$f":"IF(H148=\"\",\"\",H148/COUNTIF('Data Input'!$C$8:$AZ$8,$H$2))","v":""},{"$f":"IF(ISBLANK('Data Input'!A152),\"\",SUM('Data Input'!G152,'Data Input'!I152,'Data Input'!K152,'Data Input'!O152,'Data Input'!P152,'Data Input'!S152,'Data Input'!U152,'Data Input'!V152,'Data Input'!W152,'Data Input'!X152,'Data Input'!Z152,'Data Input'!AA152,'Data Input'!AD152,'Data Input'!AZ152))","v":""},{"$f":"IF(J148=\"\",\"\",J148/COUNTIF('Data Input'!$C$8:$AZ$8,$J$2))","v":""},{"$f":"IF(ISBLANK('Data Input'!A152),\"\",SUM('Data Input'!Q152,'Data Input'!AG152))","v":""},{"$f":"IF(L148=\"\",\"\",L148/COUNTIF('Data Input'!$C$8:$AZ$8,$L$2))","v":""},{"$f":"IF(ISBLANK('Data Input'!A152),\"\",SUM('Data Input'!D152,'Data Input'!E152,'Data Input'!F152,'Data Input'!L152,'Data Input'!M152,'Data Input'!AB152,'Data Input'!AC152,'Data Input'!AF152,'Data Input'!AJ152,'Data Input'!AL152,'Data Input'!AN152,'Data Input'!AO152,'Data Input'!AP152,'Data Input'!AQ152,'Data Input'!AR152,'Data Input'!AS152,'Data Input'!AT152,'Data Input'!AU152,'Data Input'!AV152,'Data Input'!AW152,'Data Input'!AX152,'Data Input'!AY152))","v":""},{"$f":"IF(N148=\"\",\"\",N148/COUNTIF('Data Input'!$C$8:$AZ$8,$N$2))","v":""},null,{"$f":"IF(P148=\"\",\"\",P148/COUNTIF('Data Input'!$C$8:$AZ$8,$P$2))","v":""},{"$f":"IF(ISBLANK('Data Input'!A152),\"\",SUM('Data Input'!AH152))","v":""},{"$f":"IF(R148=\"\",\"\",R148/COUNTIF('Data Input'!$C$8:$AZ$8,$R$2))","v":""},{"$f":"IF(ISBLANK('Data Input'!$A152),\"\",SUM('Data Input'!AI152))","v":""},{"$f":"IF(T148=\"\",\"\",T148/COUNTIF('Data Input'!$C$8:$AZ$8,$T$2))","v":""},null,{"$f":"IF(V148=\"\",\"\",V148/COUNTIF('Data Input'!$C$8:$AZ$8,$V$2))","v":""}]
[{"$f":"IF('Data Input'!A153=0,\"\",'Data Input'!A153)","v":""},{"$f":"IF(F149=\"\",\"\",IF(F149>Welcome!$J$20-1,\"Exceeding\",IF(F149>Welcome!$F$20-1,\"Expected\",IF(F149<Welcome!$F$20,\"Below\"))))","v":""},{"$f":"IF(ISBLANK('Data Input'!A153),\"\",COUNTIF('Data Input'!C153:AZ153,\"\"))","v":""},{"$f":"IF(ISBLANK('Data Input'!A153),\"\",COUNTIF('Data Input'!C153:AZ153,\"0\"))","v":""},{"$f":"IF(ISBLANK('Data Input'!A153),\"\",SUM(C149,D149))","v":""},{"$f":"IF(ISBLANK('Data Input'!A153),\"\",SUM('Data Input'!C153:AZ153))","v":""},{"$f":"IF(F149=\"\",\"\",F149/(COUNTA('Data Input'!$C$8:$AZ$8)))","v":""},{"$f":"IF(ISBLANK('Data Input'!A153),\"\",SUM('Data Input'!C153,'Data Input'!H153,'Data Input'!J153,'Data Input'!N153,'Data Input'!R153,'Data Input'!T153,'Data Input'!Y153,'Data Input'!AE153,'Data Input'!AK153,'Data Input'!AM153))","v":""},{"$f":"IF(H149=\"\",\"\",H149/COUNTIF('Data Input'!$C$8:$AZ$8,$H$2))","v":""},{"$f":"IF(ISBLANK('Data Input'!A153),\"\",SUM('Data Input'!G153,'Data Input'!I153,'Data Input'!K153,'Data Input'!O153,'Data Input'!P153,'Data Input'!S153,'Data Input'!U153,'Data Input'!V153,'Data Input'!W153,'Data Input'!X153,'Data Input'!Z153,'Data Input'!AA153,'Data Input'!AD153,'Data Input'!AZ153))","v":""},{"$f":"IF(J149=\"\",\"\",J149/COUNTIF('Data Input'!$C$8:$AZ$8,$J$2))","v":""},{"$f":"IF(ISBLANK('Data Input'!A153),\"\",SUM('Data Input'!Q153,'Data Input'!AG153))","v":""},{"$f":"IF(L149=\"\",\"\",L149/COUNTIF('Data Input'!$C$8:$AZ$8,$L$2))","v":""},{"$f":"IF(ISBLANK('Data Input'!A153),\"\",SUM('Data Input'!D153,'Data Input'!E153,'Data Input'!F153,'Data Input'!L153,'Data Input'!M153,'Data Input'!AB153,'Data Input'!AC153,'Data Input'!AF153,'Data Input'!AJ153,'Data Input'!AL153,'Data Input'!AN153,'Data Input'!AO153,'Data Input'!AP153,'Data Input'!AQ153,'Data Input'!AR153,'Data Input'!AS153,'Data Input'!AT153,'Data Input'!AU153,'Data Input'!AV153,'Data Input'!AW153,'Data Input'!AX153,'Data Input'!AY153))","v":""},{"$f":"IF(N149=\"\",\"\",N149/COUNTIF('Data Input'!$C$8:$AZ$8,$N$2))","v":""},null,{"$f":"IF(P149=\"\",\"\",P149/COUNTIF('Data Input'!$C$8:$AZ$8,$P$2))","v":""},{"$f":"IF(ISBLANK('Data Input'!A153),\"\",SUM('Data Input'!AH153))","v":""},{"$f":"IF(R149=\"\",\"\",R149/COUNTIF('Data Input'!$C$8:$AZ$8,$R$2))","v":""},{"$f":"IF(ISBLANK('Data Input'!$A153),\"\",SUM('Data Input'!AI153))","v":""},{"$f":"IF(T149=\"\",\"\",T149/COUNTIF('Data Input'!$C$8:$AZ$8,$T$2))","v":""},null,{"$f":"IF(V149=\"\",\"\",V149/COUNTIF('Data Input'!$C$8:$AZ$8,$V$2))","v":""}]
[{"$f":"IF('Data Input'!A154=0,\"\",'Data Input'!A154)","v":""},{"$f":"IF(F150=\"\",\"\",IF(F150>Welcome!$J$20-1,\"Exceeding\",IF(F150>Welcome!$F$20-1,\"Expected\",IF(F150<Welcome!$F$20,\"Below\"))))","v":""},{"$f":"IF(ISBLANK('Data Input'!A154),\"\",COUNTIF('Data Input'!C154:AZ154,\"\"))","v":""},{"$f":"IF(ISBLANK('Data Input'!A154),\"\",COUNTIF('Data Input'!C154:AZ154,\"0\"))","v":""},{"$f":"IF(ISBLANK('Data Input'!A154),\"\",SUM(C150,D150))","v":""},{"$f":"IF(ISBLANK('Data Input'!A154),\"\",SUM('Data Input'!C154:AZ154))","v":""},{"$f":"IF(F150=\"\",\"\",F150/(COUNTA('Data Input'!$C$8:$AZ$8)))","v":""},{"$f":"IF(ISBLANK('Data Input'!A154),\"\",SUM('Data Input'!C154,'Data Input'!H154,'Data Input'!J154,'Data Input'!N154,'Data Input'!R154,'Data Input'!T154,'Data Input'!Y154,'Data Input'!AE154,'Data Input'!AK154,'Data Input'!AM154))","v":""},{"$f":"IF(H150=\"\",\"\",H150/COUNTIF('Data Input'!$C$8:$AZ$8,$H$2))","v":""},{"$f":"IF(ISBLANK('Data Input'!A154),\"\",SUM('Data Input'!G154,'Data Input'!I154,'Data Input'!K154,'Data Input'!O154,'Data Input'!P154,'Data Input'!S154,'Data Input'!U154,'Data Input'!V154,'Data Input'!W154,'Data Input'!X154,'Data Input'!Z154,'Data Input'!AA154,'Data Input'!AD154,'Data Input'!AZ154))","v":""},{"$f":"IF(J150=\"\",\"\",J150/COUNTIF('Data Input'!$C$8:$AZ$8,$J$2))","v":""},{"$f":"IF(ISBLANK('Data Input'!A154),\"\",SUM('Data Input'!Q154,'Data Input'!AG154))","v":""},{"$f":"IF(L150=\"\",\"\",L150/COUNTIF('Data Input'!$C$8:$AZ$8,$L$2))","v":""},{"$f":"IF(ISBLANK('Data Input'!A154),\"\",SUM('Data Input'!D154,'Data Input'!E154,'Data Input'!F154,'Data Input'!L154,'Data Input'!M154,'Data Input'!AB154,'Data Input'!AC154,'Data Input'!AF154,'Data Input'!AJ154,'Data Input'!AL154,'Data Input'!AN154,'Data Input'!AO154,'Data Input'!AP154,'Data Input'!AQ154,'Data Input'!AR154,'Data Input'!AS154,'Data Input'!AT154,'Data Input'!AU154,'Data Input'!AV154,'Data Input'!AW154,'Data Input'!AX154,'Data Input'!AY154))","v":""},{"$f":"IF(N150=\"\",\"\",N150/COUNTIF('Data Input'!$C$8:$AZ$8,$N$2))","v":""},null,{"$f":"IF(P150=\"\",\"\",P150/COUNTIF('Data Input'!$C$8:$AZ$8,$P$2))","v":""},{"$f":"IF(ISBLANK('Data Input'!A154),\"\",SUM('Data Input'!AH154))","v":""},{"$f":"IF(R150=\"\",\"\",R150/COUNTIF('Data Input'!$C$8:$AZ$8,$R$2))","v":""},{"$f":"IF(ISBLANK('Data Input'!$A154),\"\",SUM('Data Input'!AI154))","v":""},{"$f":"IF(T150=\"\",\"\",T150/COUNTIF('Data Input'!$C$8:$AZ$8,$T$2))","v":""},null,{"$f":"IF(V150=\"\",\"\",V150/COUNTIF('Data Input'!$C$8:$AZ$8,$V$2))","v":""}]
[{"$f":"IF('Data Input'!A155=0,\"\",'Data Input'!A155)","v":""},{"$f":"IF(F151=\"\",\"\",IF(F151>Welcome!$J$20-1,\"Exceeding\",IF(F151>Welcome!$F$20-1,\"Expected\",IF(F151<Welcome!$F$20,\"Below\"))))","v":""},{"$f":"IF(ISBLANK('Data Input'!A155),\"\",COUNTIF('Data Input'!C155:AZ155,\"\"))","v":""},{"$f":"IF(ISBLANK('Data Input'!A155),\"\",COUNTIF('Data Input'!C155:AZ155,\"0\"))","v":""},{"$f":"IF(ISBLANK('Data Input'!A155),\"\",SUM(C151,D151))","v":""},{"$f":"IF(ISBLANK('Data Input'!A155),\"\",SUM('Data Input'!C155:AZ155))","v":""},{"$f":"IF(F151=\"\",\"\",F151/(COUNTA('Data Input'!$C$8:$AZ$8)))","v":""},{"$f":"IF(ISBLANK('Data Input'!A155),\"\",SUM('Data Input'!C155,'Data Input'!H155,'Data Input'!J155,'Data Input'!N155,'Data Input'!R155,'Data Input'!T155,'Data Input'!Y155,'Data Input'!AE155,'Data Input'!AK155,'Data Input'!AM155))","v":""},{"$f":"IF(H151=\"\",\"\",H151/COUNTIF('Data Input'!$C$8:$AZ$8,$H$2))","v":""},{"$f":"IF(ISBLANK('Data Input'!A155),\"\",SUM('Data Input'!G155,'Data Input'!I155,'Data Input'!K155,'Data Input'!O155,'Data Input'!P155,'Data Input'!S155,'Data Input'!U155,'Data Input'!V155,'Data Input'!W155,'Data Input'!X155,'Data Input'!Z155,'Data Input'!AA155,'Data Input'!AD155,'Data Input'!AZ155))","v":""},{"$f":"IF(J151=\"\",\"\",J151/COUNTIF('Data Input'!$C$8:$AZ$8,$J$2))","v":""},{"$f":"IF(ISBLANK('Data Input'!A155),\"\",SUM('Data Input'!Q155,'Data Input'!AG155))","v":""},{"$f":"IF(L151=\"\",\"\",L151/COUNTIF('Data Input'!$C$8:$AZ$8,$L$2))","v":""},{"$f":"IF(ISBLANK('Data Input'!A155),\"\",SUM('Data Input'!D155,'Data Input'!E155,'Data Input'!F155,'Data Input'!L155,'Data Input'!M155,'Data Input'!AB155,'Data Input'!AC155,'Data Input'!AF155,'Data Input'!AJ155,'Data Input'!AL155,'Data Input'!AN155,'Data Input'!AO155,'Data Input'!AP155,'Data Input'!AQ155,'Data Input'!AR155,'Data Input'!AS155,'Data Input'!AT155,'Data Input'!AU155,'Data Input'!AV155,'Data Input'!AW155,'Data Input'!AX155,'Data Input'!AY155))","v":""},{"$f":"IF(N151=\"\",\"\",N151/COUNTIF('Data Input'!$C$8:$AZ$8,$N$2))","v":""},null,{"$f":"IF(P151=\"\",\"\",P151/COUNTIF('Data Input'!$C$8:$AZ$8,$P$2))","v":""},{"$f":"IF(ISBLANK('Data Input'!A155),\"\",SUM('Data Input'!AH155))","v":""},{"$f":"IF(R151=\"\",\"\",R151/COUNTIF('Data Input'!$C$8:$AZ$8,$R$2))","v":""},{"$f":"IF(ISBLANK('Data Input'!$A155),\"\",SUM('Data Input'!AI155))","v":""},{"$f":"IF(T151=\"\",\"\",T151/COUNTIF('Data Input'!$C$8:$AZ$8,$T$2))","v":""},null,{"$f":"IF(V151=\"\",\"\",V151/COUNTIF('Data Input'!$C$8:$AZ$8,$V$2))","v":""}]
[{"$f":"IF('Data Input'!A156=0,\"\",'Data Input'!A156)","v":""},{"$f":"IF(F152=\"\",\"\",IF(F152>Welcome!$J$20-1,\"Exceeding\",IF(F152>Welcome!$F$20-1,\"Expected\",IF(F152<Welcome!$F$20,\"Below\"))))","v":""},{"$f":"IF(ISBLANK('Data Input'!A156),\"\",COUNTIF('Data Input'!C156:AZ156,\"\"))","v":""},{"$f":"IF(ISBLANK('Data Input'!A156),\"\",COUNTIF('Data Input'!C156:AZ156,\"0\"))","v":""},{"$f":"IF(ISBLANK('Data Input'!A156),\"\",SUM(C152,D152))","v":""},{"$f":"IF(ISBLANK('Data Input'!A156),\"\",SUM('Data Input'!C156:AZ156))","v":""},{"$f":"IF(F152=\"\",\"\",F152/(COUNTA('Data Input'!$C$8:$AZ$8)))","v":""},{"$f":"IF(ISBLANK('Data Input'!A156),\"\",SUM('Data Input'!C156,'Data Input'!H156,'Data Input'!J156,'Data Input'!N156,'Data Input'!R156,'Data Input'!T156,'Data Input'!Y156,'Data Input'!AE156,'Data Input'!AK156,'Data Input'!AM156))","v":""},{"$f":"IF(H152=\"\",\"\",H152/COUNTIF('Data Input'!$C$8:$AZ$8,$H$2))","v":""},{"$f":"IF(ISBLANK('Data Input'!A156),\"\",SUM('Data Input'!G156,'Data Input'!I156,'Data Input'!K156,'Data Input'!O156,'Data Input'!P156,'Data Input'!S156,'Data Input'!U156,'Data Input'!V156,'Data Input'!W156,'Data Input'!X156,'Data Input'!Z156,'Data Input'!AA156,'Data Input'!AD156,'Data Input'!AZ156))","v":""},{"$f":"IF(J152=\"\",\"\",J152/COUNTIF('Data Input'!$C$8:$AZ$8,$J$2))","v":""},{"$f":"IF(ISBLANK('Data Input'!A156),\"\",SUM('Data Input'!Q156,'Data Input'!AG156))","v":""},{"$f":"IF(L152=\"\",\"\",L152/COUNTIF('Data Input'!$C$8:$AZ$8,$L$2))","v":""},{"$f":"IF(ISBLANK('Data Input'!A156),\"\",SUM('Data Input'!D156,'Data Input'!E156,'Data Input'!F156,'Data Input'!L156,'Data Input'!M156,'Data Input'!AB156,'Data Input'!AC156,'Data Input'!AF156,'Data Input'!AJ156,'Data Input'!AL156,'Data Input'!AN156,'Data Input'!AO156,'Data Input'!AP156,'Data Input'!AQ156,'Data Input'!AR156,'Data Input'!AS156,'Data Input'!AT156,'Data Input'!AU156,'Data Input'!AV156,'Data Input'!AW156,'Data Input'!AX156,'Data Input'!AY156))","v":""},{"$f":"IF(N152=\"\",\"\",N152/COUNTIF('Data Input'!$C$8:$AZ$8,$N$2))","v":""},null,{"$f":"IF(P152=\"\",\"\",P152/COUNTIF('Data Input'!$C$8:$AZ$8,$P$2))","v":""},{"$f":"IF(ISBLANK('Data Input'!A156),\"\",SUM('Data Input'!AH156))","v":""},{"$f":"IF(R152=\"\",\"\",R152/COUNTIF('Data Input'!$C$8:$AZ$8,$R$2))","v":""},{"$f":"IF(ISBLANK('Data Input'!$A156),\"\",SUM('Data Input'!AI156))","v":""},{"$f":"IF(T152=\"\",\"\",T152/COUNTIF('Data Input'!$C$8:$AZ$8,$T$2))","v":""},null,{"$f":"IF(V152=\"\",\"\",V152/COUNTIF('Data Input'!$C$8:$AZ$8,$V$2))","v":""}]
[{"$f":"IF('Data Input'!A157=0,\"\",'Data Input'!A157)","v":""},{"$f":"IF(F153=\"\",\"\",IF(F153>Welcome!$J$20-1,\"Exceeding\",IF(F153>Welcome!$F$20-1,\"Expected\",IF(F153<Welcome!$F$20,\"Below\"))))","v":""},{"$f":"IF(ISBLANK('Data Input'!A157),\"\",COUNTIF('Data Input'!C157:AZ157,\"\"))","v":""},{"$f":"IF(ISBLANK('Data Input'!A157),\"\",COUNTIF('Data Input'!C157:AZ157,\"0\"))","v":""},{"$f":"IF(ISBLANK('Data Input'!A157),\"\",SUM(C153,D153))","v":""},{"$f":"IF(ISBLANK('Data Input'!A157),\"\",SUM('Data Input'!C157:AZ157))","v":""},{"$f":"IF(F153=\"\",\"\",F153/(COUNTA('Data Input'!$C$8:$AZ$8)))","v":""},{"$f":"IF(ISBLANK('Data Input'!A157),\"\",SUM('Data Input'!C157,'Data Input'!H157,'Data Input'!J157,'Data Input'!N157,'Data Input'!R157,'Data Input'!T157,'Data Input'!Y157,'Data Input'!AE157,'Data Input'!AK157,'Data Input'!AM157))","v":""},{"$f":"IF(H153=\"\",\"\",H153/COUNTIF('Data Input'!$C$8:$AZ$8,$H$2))","v":""},{"$f":"IF(ISBLANK('Data Input'!A157),\"\",SUM('Data Input'!G157,'Data Input'!I157,'Data Input'!K157,'Data Input'!O157,'Data Input'!P157,'Data Input'!S157,'Data Input'!U157,'Data Input'!V157,'Data Input'!W157,'Data Input'!X157,'Data Input'!Z157,'Data Input'!AA157,'Data Input'!AD157,'Data Input'!AZ157))","v":""},{"$f":"IF(J153=\"\",\"\",J153/COUNTIF('Data Input'!$C$8:$AZ$8,$J$2))","v":""},{"$f":"IF(ISBLANK('Data Input'!A157),\"\",SUM('Data Input'!Q157,'Data Input'!AG157))","v":""},{"$f":"IF(L153=\"\",\"\",L153/COUNTIF('Data Input'!$C$8:$AZ$8,$L$2))","v":""},{"$f":"IF(ISBLANK('Data Input'!A157),\"\",SUM('Data Input'!D157,'Data Input'!E157,'Data Input'!F157,'Data Input'!L157,'Data Input'!M157,'Data Input'!AB157,'Data Input'!AC157,'Data Input'!AF157,'Data Input'!AJ157,'Data Input'!AL157,'Data Input'!AN157,'Data Input'!AO157,'Data Input'!AP157,'Data Input'!AQ157,'Data Input'!AR157,'Data Input'!AS157,'Data Input'!AT157,'Data Input'!AU157,'Data Input'!AV157,'Data Input'!AW157,'Data Input'!AX157,'Data Input'!AY157))","v":""},{"$f":"IF(N153=\"\",\"\",N153/COUNTIF('Data Input'!$C$8:$AZ$8,$N$2))","v":""},null,{"$f":"IF(P153=\"\",\"\",P153/COUNTIF('Data Input'!$C$8:$AZ$8,$P$2))","v":""},{"$f":"IF(ISBLANK('Data Input'!A157),\"\",SUM('Data Input'!AH157))","v":""},{"$f":"IF(R153=\"\",\"\",R153/COUNTIF('Data Input'!$C$8:$AZ$8,$R$2))","v":""},{"$f":"IF(ISBLANK('Data Input'!$A157),\"\",SUM('Data Input'!AI157))","v":""},{"$f":"IF(T153=\"\",\"\",T153/COUNTIF('Data Input'!$C$8:$AZ$8,$T$2))","v":""},null,{"$f":"IF(V153=\"\",\"\",V153/COUNTIF('Data Input'!$C$8:$AZ$8,$V$2))","v":""}]
[{"$f":"IF('Data Input'!A158=0,\"\",'Data Input'!A158)","v":""},{"$f":"IF(F154=\"\",\"\",IF(F154>Welcome!$J$20-1,\"Exceeding\",IF(F154>Welcome!$F$20-1,\"Expected\",IF(F154<Welcome!$F$20,\"Below\"))))","v":""},{"$f":"IF(ISBLANK('Data Input'!A158),\"\",COUNTIF('Data Input'!C158:AZ158,\"\"))","v":""},{"$f":"IF(ISBLANK('Data Input'!A158),\"\",COUNTIF('Data Input'!C158:AZ158,\"0\"))","v":""},{"$f":"IF(ISBLANK('Data Input'!A158),\"\",SUM(C154,D154))","v":""},{"$f":"IF(ISBLANK('Data Input'!A158),\"\",SUM('Data Input'!C158:AZ158))","v":""},{"$f":"IF(F154=\"\",\"\",F154/(COUNTA('Data Input'!$C$8:$AZ$8)))","v":""},{"$f":"IF(ISBLANK('Data Input'!A158),\"\",SUM('Data Input'!C158,'Data Input'!H158,'Data Input'!J158,'Data Input'!N158,'Data Input'!R158,'Data Input'!T158,'Data Input'!Y158,'Data Input'!AE158,'Data Input'!AK158,'Data Input'!AM158))","v":""},{"$f":"IF(H154=\"\",\"\",H154/COUNTIF('Data Input'!$C$8:$AZ$8,$H$2))","v":""},{"$f":"IF(ISBLANK('Data Input'!A158),\"\",SUM('Data Input'!G158,'Data Input'!I158,'Data Input'!K158,'Data Input'!O158,'Data Input'!P158,'Data Input'!S158,'Data Input'!U158,'Data Input'!V158,'Data Input'!W158,'Data Input'!X158,'Data Input'!Z158,'Data Input'!AA158,'Data Input'!AD158,'Data Input'!AZ158))","v":""},{"$f":"IF(J154=\"\",\"\",J154/COUNTIF('Data Input'!$C$8:$AZ$8,$J$2))","v":""},{"$f":"IF(ISBLANK('Data Input'!A158),\"\",SUM('Data Input'!Q158,'Data Input'!AG158))","v":""},{"$f":"IF(L154=\"\",\"\",L154/COUNTIF('Data Input'!$C$8:$AZ$8,$L$2))","v":""},{"$f":"IF(ISBLANK('Data Input'!A158),\"\",SUM('Data Input'!D158,'Data Input'!E158,'Data Input'!F158,'Data Input'!L158,'Data Input'!M158,'Data Input'!AB158,'Data Input'!AC158,'Data Input'!AF158,'Data Input'!AJ158,'Data Input'!AL158,'Data Input'!AN158,'Data Input'!AO158,'Data Input'!AP158,'Data Input'!AQ158,'Data Input'!AR158,'Data Input'!AS158,'Data Input'!AT158,'Data Input'!AU158,'Data Input'!AV158,'Data Input'!AW158,'Data Input'!AX158,'Data Input'!AY158))","v":""},{"$f":"IF(N154=\"\",\"\",N154/COUNTIF('Data Input'!$C$8:$AZ$8,$N$2))","v":""},null,{"$f":"IF(P154=\"\",\"\",P154/COUNTIF('Data Input'!$C$8:$AZ$8,$P$2))","v":""},{"$f":"IF(ISBLANK('Data Input'!A158),\"\",SUM('Data Input'!AH158))","v":""},{"$f":"IF(R154=\"\",\"\",R154/COUNTIF('Data Input'!$C$8:$AZ$8,$R$2))","v":""},{"$f":"IF(ISBLANK('Data Input'!$A158),\"\",SUM('Data Input'!AI158))","v":""},{"$f":"IF(T154=\"\",\"\",T154/COUNTIF('Data Input'!$C$8:$AZ$8,$T$2))","v":""},null,{"$f":"IF(V154=\"\",\"\",V154/COUNTIF('Data Input'!$C$8:$AZ$8,$V$2))","v":""}]
[{"$f":"IF('Data Input'!A159=0,\"\",'Data Input'!A159)","v":""},{"$f":"IF(F155=\"\",\"\",IF(F155>Welcome!$J$20-1,\"Exceeding\",IF(F155>Welcome!$F$20-1,\"Expected\",IF(F155<Welcome!$F$20,\"Below\"))))","v":""},{"$f":"IF(ISBLANK('Data Input'!A159),\"\",COUNTIF('Data Input'!C159:AZ159,\"\"))","v":""},{"$f":"IF(ISBLANK('Data Input'!A159),\"\",COUNTIF('Data Input'!C159:AZ159,\"0\"))","v":""},{"$f":"IF(ISBLANK('Data Input'!A159),\"\",SUM(C155,D155))","v":""},{"$f":"IF(ISBLANK('Data Input'!A159),\"\",SUM('Data Input'!C159:AZ159))","v":""},{"$f":"IF(F155=\"\",\"\",F155/(COUNTA('Data Input'!$C$8:$AZ$8)))","v":""},{"$f":"IF(ISBLANK('Data Input'!A159),\"\",SUM('Data Input'!C159,'Data Input'!H159,'Data Input'!J159,'Data Input'!N159,'Data Input'!R159,'Data Input'!T159,'Data Input'!Y159,'Data Input'!AE159,'Data Input'!AK159,'Data Input'!AM159))","v":""},{"$f":"IF(H155=\"\",\"\",H155/COUNTIF('Data Input'!$C$8:$AZ$8,$H$2))","v":""},{"$f":"IF(ISBLANK('Data Input'!A159),\"\",SUM('Data Input'!G159,'Data Input'!I159,'Data Input'!K159,'Data Input'!O159,'Data Input'!P159,'Data Input'!S159,'Data Input'!U159,'Data Input'!V159,'Data Input'!W159,'Data Input'!X159,'Data Input'!Z159,'Data Input'!AA159,'Data Input'!AD159,'Data Input'!AZ159))","v":""},{"$f":"IF(J155=\"\",\"\",J155/COUNTIF('Data Input'!$C$8:$AZ$8,$J$2))","v":""},{"$f":"IF(ISBLANK('Data Input'!A159),\"\",SUM('Data Input'!Q159,'Data Input'!AG159))","v":""},{"$f":"IF(L155=\"\",\"\",L155/COUNTIF('Data Input'!$C$8:$AZ$8,$L$2))","v":""},{"$f":"IF(ISBLANK('Data Input'!A159),\"\",SUM('Data Input'!D159,'Data Input'!E159,'Data Input'!F159,'Data Input'!L159,'Data Input'!M159,'Data Input'!AB159,'Data Input'!AC159,'Data Input'!AF159,'Data Input'!AJ159,'Data Input'!AL159,'Data Input'!AN159,'Data Input'!AO159,'Data Input'!AP159,'Data Input'!AQ159,'Data Input'!AR159,'Data Input'!AS159,'Data Input'!AT159,'Data Input'!AU159,'Data Input'!AV159,'Data Input'!AW159,'Data Input'!AX159,'Data Input'!AY159))","v":""},{"$f":"IF(N155=\"\",\"\",N155/COUNTIF('Data Input'!$C$8:$AZ$8,$N$2))","v":""},null,{"$f":"IF(P155=\"\",\"\",P155/COUNTIF('Data Input'!$C$8:$AZ$8,$P$2))","v":""},{"$f":"IF(ISBLANK('Data Input'!A159),\"\",SUM('Data Input'!AH159))","v":""},{"$f":"IF(R155=\"\",\"\",R155/COUNTIF('Data Input'!$C$8:$AZ$8,$R$2))","v":""},{"$f":"IF(ISBLANK('Data Input'!$A159),\"\",SUM('Data Input'!AI159))","v":""},{"$f":"IF(T155=\"\",\"\",T155/COUNTIF('Data Input'!$C$8:$AZ$8,$T$2))","v":""},null,{"$f":"IF(V155=\"\",\"\",V155/COUNTIF('Data Input'!$C$8:$AZ$8,$V$2))","v":""}]
[{"$f":"IF('Data Input'!A160=0,\"\",'Data Input'!A160)","v":""},{"$f":"IF(F156=\"\",\"\",IF(F156>Welcome!$J$20-1,\"Exceeding\",IF(F156>Welcome!$F$20-1,\"Expected\",IF(F156<Welcome!$F$20,\"Below\"))))","v":""},{"$f":"IF(ISBLANK('Data Input'!A160),\"\",COUNTIF('Data Input'!C160:AZ160,\"\"))","v":""},{"$f":"IF(ISBLANK('Data Input'!A160),\"\",COUNTIF('Data Input'!C160:AZ160,\"0\"))","v":""},{"$f":"IF(ISBLANK('Data Input'!A160),\"\",SUM(C156,D156))","v":""},{"$f":"IF(ISBLANK('Data Input'!A160),\"\",SUM('Data Input'!C160:AZ160))","v":""},{"$f":"IF(F156=\"\",\"\",F156/(COUNTA('Data Input'!$C$8:$AZ$8)))","v":""},{"$f":"IF(ISBLANK('Data Input'!A160),\"\",SUM('Data Input'!C160,'Data Input'!H160,'Data Input'!J160,'Data Input'!N160,'Data Input'!R160,'Data Input'!T160,'Data Input'!Y160,'Data Input'!AE160,'Data Input'!AK160,'Data Input'!AM160))","v":""},{"$f":"IF(H156=\"\",\"\",H156/COUNTIF('Data Input'!$C$8:$AZ$8,$H$2))","v":""},{"$f":"IF(ISBLANK('Data Input'!A160),\"\",SUM('Data Input'!G160,'Data Input'!I160,'Data Input'!K160,'Data Input'!O160,'Data Input'!P160,'Data Input'!S160,'Data Input'!U160,'Data Input'!V160,'Data Input'!W160,'Data Input'!X160,'Data Input'!Z160,'Data Input'!AA160,'Data Input'!AD160,'Data Input'!AZ160))","v":""},{"$f":"IF(J156=\"\",\"\",J156/COUNTIF('Data Input'!$C$8:$AZ$8,$J$2))","v":""},{"$f":"IF(ISBLANK('Data Input'!A160),\"\",SUM('Data Input'!Q160,'Data Input'!AG160))","v":""},{"$f":"IF(L156=\"\",\"\",L156/COUNTIF('Data Input'!$C$8:$AZ$8,$L$2))","v":""},{"$f":"IF(ISBLANK('Data Input'!A160),\"\",SUM('Data Input'!D160,'Data Input'!E160,'Data Input'!F160,'Data Input'!L160,'Data Input'!M160,'Data Input'!AB160,'Data Input'!AC160,'Data Input'!AF160,'Data Input'!AJ160,'Data Input'!AL160,'Data Input'!AN160,'Data Input'!AO160,'Data Input'!AP160,'Data Input'!AQ160,'Data Input'!AR160,'Data Input'!AS160,'Data Input'!AT160,'Data Input'!AU160,'Data Input'!AV160,'Data Input'!AW160,'Data Input'!AX160,'Data Input'!AY160))","v":""},{"$f":"IF(N156=\"\",\"\",N156/COUNTIF('Data Input'!$C$8:$AZ$8,$N$2))","v":""},null,{"$f":"IF(P156=\"\",\"\",P156/COUNTIF('Data Input'!$C$8:$AZ$8,$P$2))","v":""},{"$f":"IF(ISBLANK('Data Input'!A160),\"\",SUM('Data Input'!AH160))","v":""},{"$f":"IF(R156=\"\",\"\",R156/COUNTIF('Data Input'!$C$8:$AZ$8,$R$2))","v":""},{"$f":"IF(ISBLANK('Data Input'!$A160),\"\",SUM('Data Input'!AI160))","v":""},{"$f":"IF(T156=\"\",\"\",T156/COUNTIF('Data Input'!$C$8:$AZ$8,$T$2))","v":""},null,{"$f":"IF(V156=\"\",\"\",V156/COUNTIF('Data Input'!$C$8:$AZ$8,$V$2))","v":""}]
[{"$f":"IF('Data Input'!A161=0,\"\",'Data Input'!A161)","v":""},{"$f":"IF(F157=\"\",\"\",IF(F157>Welcome!$J$20-1,\"Exceeding\",IF(F157>Welcome!$F$20-1,\"Expected\",IF(F157<Welcome!$F$20,\"Below\"))))","v":""},{"$f":"IF(ISBLANK('Data Input'!A161),\"\",COUNTIF('Data Input'!C161:AZ161,\"\"))","v":""},{"$f":"IF(ISBLANK('Data Input'!A161),\"\",COUNTIF('Data Input'!C161:AZ161,\"0\"))","v":""},{"$f":"IF(ISBLANK('Data Input'!A161),\"\",SUM(C157,D157))","v":""},{"$f":"IF(ISBLANK('Data Input'!A161),\"\",SUM('Data Input'!C161:AZ161))","v":""},{"$f":"IF(F157=\"\",\"\",F157/(COUNTA('Data Input'!$C$8:$AZ$8)))","v":""},{"$f":"IF(ISBLANK('Data Input'!A161),\"\",SUM('Data Input'!C161,'Data Input'!H161,'Data Input'!J161,'Data Input'!N161,'Data Input'!R161,'Data Input'!T161,'Data Input'!Y161,'Data Input'!AE161,'Data Input'!AK161,'Data Input'!AM161))","v":""},{"$f":"IF(H157=\"\",\"\",H157/COUNTIF('Data Input'!$C$8:$AZ$8,$H$2))","v":""},{"$f":"IF(ISBLANK('Data Input'!A161),\"\",SUM('Data Input'!G161,'Data Input'!I161,'Data Input'!K161,'Data Input'!O161,'Data Input'!P161,'Data Input'!S161,'Data Input'!U161,'Data Input'!V161,'Data Input'!W161,'Data Input'!X161,'Data Input'!Z161,'Data Input'!AA161,'Data Input'!AD161,'Data Input'!AZ161))","v":""},{"$f":"IF(J157=\"\",\"\",J157/COUNTIF('Data Input'!$C$8:$AZ$8,$J$2))","v":""},{"$f":"IF(ISBLANK('Data Input'!A161),\"\",SUM('Data Input'!Q161,'Data Input'!AG161))","v":""},{"$f":"IF(L157=\"\",\"\",L157/COUNTIF('Data Input'!$C$8:$AZ$8,$L$2))","v":""},{"$f":"IF(ISBLANK('Data Input'!A161),\"\",SUM('Data Input'!D161,'Data Input'!E161,'Data Input'!F161,'Data Input'!L161,'Data Input'!M161,'Data Input'!AB161,'Data Input'!AC161,'Data Input'!AF161,'Data Input'!AJ161,'Data Input'!AL161,'Data Input'!AN161,'Data Input'!AO161,'Data Input'!AP161,'Data Input'!AQ161,'Data Input'!AR161,'Data Input'!AS161,'Data Input'!AT161,'Data Input'!AU161,'Data Input'!AV161,'Data Input'!AW161,'Data Input'!AX161,'Data Input'!AY161))","v":""},{"$f":"IF(N157=\"\",\"\",N157/COUNTIF('Data Input'!$C$8:$AZ$8,$N$2))","v":""},null,{"$f":"IF(P157=\"\",\"\",P157/COUNTIF('Data Input'!$C$8:$AZ$8,$P$2))","v":""},{"$f":"IF(ISBLANK('Data Input'!A161),\"\",SUM('Data Input'!AH161))","v":""},{"$f":"IF(R157=\"\",\"\",R157/COUNTIF('Data Input'!$C$8:$AZ$8,$R$2))","v":""},{"$f":"IF(ISBLANK('Data Input'!$A161),\"\",SUM('Data Input'!AI161))","v":""},{"$f":"IF(T157=\"\",\"\",T157/COUNTIF('Data Input'!$C$8:$AZ$8,$T$2))","v":""},null,{"$f":"IF(V157=\"\",\"\",V157/COUNTIF('Data Input'!$C$8:$AZ$8,$V$2))","v":""}]
[{"$f":"IF('Data Input'!A162=0,\"\",'Data Input'!A162)","v":""},{"$f":"IF(F158=\"\",\"\",IF(F158>Welcome!$J$20-1,\"Exceeding\",IF(F158>Welcome!$F$20-1,\"Expected\",IF(F158<Welcome!$F$20,\"Below\"))))","v":""},{"$f":"IF(ISBLANK('Data Input'!A162),\"\",COUNTIF('Data Input'!C162:AZ162,\"\"))","v":""},{"$f":"IF(ISBLANK('Data Input'!A162),\"\",COUNTIF('Data Input'!C162:AZ162,\"0\"))","v":""},{"$f":"IF(ISBLANK('Data Input'!A162),\"\",SUM(C158,D158))","v":""},{"$f":"IF(ISBLANK('Data Input'!A162),\"\",SUM('Data Input'!C162:AZ162))","v":""},{"$f":"IF(F158=\"\",\"\",F158/(COUNTA('Data Input'!$C$8:$AZ$8)))","v":""},{"$f":"IF(ISBLANK('Data Input'!A162),\"\",SUM('Data Input'!C162,'Data Input'!H162,'Data Input'!J162,'Data Input'!N162,'Data Input'!R162,'Data Input'!T162,'Data Input'!Y162,'Data Input'!AE162,'Data Input'!AK162,'Data Input'!AM162))","v":""},{"$f":"IF(H158=\"\",\"\",H158/COUNTIF('Data Input'!$C$8:$AZ$8,$H$2))","v":""},{"$f":"IF(ISBLANK('Data Input'!A162),\"\",SUM('Data Input'!G162,'Data Input'!I162,'Data Input'!K162,'Data Input'!O162,'Data Input'!P162,'Data Input'!S162,'Data Input'!U162,'Data Input'!V162,'Data Input'!W162,'Data Input'!X162,'Data Input'!Z162,'Data Input'!AA162,'Data Input'!AD162,'Data Input'!AZ162))","v":""},{"$f":"IF(J158=\"\",\"\",J158/COUNTIF('Data Input'!$C$8:$AZ$8,$J$2))","v":""},{"$f":"IF(ISBLANK('Data Input'!A162),\"\",SUM('Data Input'!Q162,'Data Input'!AG162))","v":""},{"$f":"IF(L158=\"\",\"\",L158/COUNTIF('Data Input'!$C$8:$AZ$8,$L$2))","v":""},{"$f":"IF(ISBLANK('Data Input'!A162),\"\",SUM('Data Input'!D162,'Data Input'!E162,'Data Input'!F162,'Data Input'!L162,'Data Input'!M162,'Data Input'!AB162,'Data Input'!AC162,'Data Input'!AF162,'Data Input'!AJ162,'Data Input'!AL162,'Data Input'!AN162,'Data Input'!AO162,'Data Input'!AP162,'Data Input'!AQ162,'Data Input'!AR162,'Data Input'!AS162,'Data Input'!AT162,'Data Input'!AU162,'Data Input'!AV162,'Data Input'!AW162,'Data Input'!AX162,'Data Input'!AY162))","v":""},{"$f":"IF(N158=\"\",\"\",N158/COUNTIF('Data Input'!$C$8:$AZ$8,$N$2))","v":""},null,{"$f":"IF(P158=\"\",\"\",P158/COUNTIF('Data Input'!$C$8:$AZ$8,$P$2))","v":""},{"$f":"IF(ISBLANK('Data Input'!A162),\"\",SUM('Data Input'!AH162))","v":""},{"$f":"IF(R158=\"\",\"\",R158/COUNTIF('Data Input'!$C$8:$AZ$8,$R$2))","v":""},{"$f":"IF(ISBLANK('Data Input'!$A162),\"\",SUM('Data Input'!AI162))","v":""},{"$f":"IF(T158=\"\",\"\",T158/COUNTIF('Data Input'!$C$8:$AZ$8,$T$2))","v":""},null,{"$f":"IF(V158=\"\",\"\",V158/COUNTIF('Data Input'!$C$8:$AZ$8,$V$2))","v":""}]
[{"$f":"IF('Data Input'!A163=0,\"\",'Data Input'!A163)","v":""},{"$f":"IF(F159=\"\",\"\",IF(F159>Welcome!$J$20-1,\"Exceeding\",IF(F159>Welcome!$F$20-1,\"Expected\",IF(F159<Welcome!$F$20,\"Below\"))))","v":""},{"$f":"IF(ISBLANK('Data Input'!A163),\"\",COUNTIF('Data Input'!C163:AZ163,\"\"))","v":""},{"$f":"IF(ISBLANK('Data Input'!A163),\"\",COUNTIF('Data Input'!C163:AZ163,\"0\"))","v":""},{"$f":"IF(ISBLANK('Data Input'!A163),\"\",SUM(C159,D159))","v":""},{"$f":"IF(ISBLANK('Data Input'!A163),\"\",SUM('Data Input'!C163:AZ163))","v":""},{"$f":"IF(F159=\"\",\"\",F159/(COUNTA('Data Input'!$C$8:$AZ$8)))","v":""},{"$f":"IF(ISBLANK('Data Input'!A163),\"\",SUM('Data Input'!C163,'Data Input'!H163,'Data Input'!J163,'Data Input'!N163,'Data Input'!R163,'Data Input'!T163,'Data Input'!Y163,'Data Input'!AE163,'Data Input'!AK163,'Data Input'!AM163))","v":""},{"$f":"IF(H159=\"\",\"\",H159/COUNTIF('Data Input'!$C$8:$AZ$8,$H$2))","v":""},{"$f":"IF(ISBLANK('Data Input'!A163),\"\",SUM('Data Input'!G163,'Data Input'!I163,'Data Input'!K163,'Data Input'!O163,'Data Input'!P163,'Data Input'!S163,'Data Input'!U163,'Data Input'!V163,'Data Input'!W163,'Data Input'!X163,'Data Input'!Z163,'Data Input'!AA163,'Data Input'!AD163,'Data Input'!AZ163))","v":""},{"$f":"IF(J159=\"\",\"\",J159/COUNTIF('Data Input'!$C$8:$AZ$8,$J$2))","v":""},{"$f":"IF(ISBLANK('Data Input'!A163),\"\",SUM('Data Input'!Q163,'Data Input'!AG163))","v":""},{"$f":"IF(L159=\"\",\"\",L159/COUNTIF('Data Input'!$C$8:$AZ$8,$L$2))","v":""},{"$f":"IF(ISBLANK('Data Input'!A163),\"\",SUM('Data Input'!D163,'Data Input'!E163,'Data Input'!F163,'Data Input'!L163,'Data Input'!M163,'Data Input'!AB163,'Data Input'!AC163,'Data Input'!AF163,'Data Input'!AJ163,'Data Input'!AL163,'Data Input'!AN163,'Data Input'!AO163,'Data Input'!AP163,'Data Input'!AQ163,'Data Input'!AR163,'Data Input'!AS163,'Data Input'!AT163,'Data Input'!AU163,'Data Input'!AV163,'Data Input'!AW163,'Data Input'!AX163,'Data Input'!AY163))","v":""},{"$f":"IF(N159=\"\",\"\",N159/COUNTIF('Data Input'!$C$8:$AZ$8,$N$2))","v":""},null,{"$f":"IF(P159=\"\",\"\",P159/COUNTIF('Data Input'!$C$8:$AZ$8,$P$2))","v":""},{"$f":"IF(ISBLANK('Data Input'!A163),\"\",SUM('Data Input'!AH163))","v":""},{"$f":"IF(R159=\"\",\"\",R159/COUNTIF('Data Input'!$C$8:$AZ$8,$R$2))","v":""},{"$f":"IF(ISBLANK('Data Input'!$A163),\"\",SUM('Data Input'!AI163))","v":""},{"$f":"IF(T159=\"\",\"\",T159/COUNTIF('Data Input'!$C$8:$AZ$8,$T$2))","v":""},null,{"$f":"IF(V159=\"\",\"\",V159/COUNTIF('Data Input'!$C$8:$AZ$8,$V$2))","v":""}]
[{"$f":"IF('Data Input'!A164=0,\"\",'Data Input'!A164)","v":""},{"$f":"IF(F160=\"\",\"\",IF(F160>Welcome!$J$20-1,\"Exceeding\",IF(F160>Welcome!$F$20-1,\"Expected\",IF(F160<Welcome!$F$20,\"Below\"))))","v":""},{"$f":"IF(ISBLANK('Data Input'!A164),\"\",COUNTIF('Data Input'!C164:AZ164,\"\"))","v":""},{"$f":"IF(ISBLANK('Data Input'!A164),\"\",COUNTIF('Data Input'!C164:AZ164,\"0\"))","v":""},{"$f":"IF(ISBLANK('Data Input'!A164),\"\",SUM(C160,D160))","v":""},{"$f":"IF(ISBLANK('Data Input'!A164),\"\",SUM('Data Input'!C164:AZ164))","v":""},{"$f":"IF(F160=\"\",\"\",F160/(COUNTA('Data Input'!$C$8:$AZ$8)))","v":""},{"$f":"IF(ISBLANK('Data Input'!A164),\"\",SUM('Data Input'!C164,'Data Input'!H164,'Data Input'!J164,'Data Input'!N164,'Data Input'!R164,'Data Input'!T164,'Data Input'!Y164,'Data Input'!AE164,'Data Input'!AK164,'Data Input'!AM164))","v":""},{"$f":"IF(H160=\"\",\"\",H160/COUNTIF('Data Input'!$C$8:$AZ$8,$H$2))","v":""},{"$f":"IF(ISBLANK('Data Input'!A164),\"\",SUM('Data Input'!G164,'Data Input'!I164,'Data Input'!K164,'Data Input'!O164,'Data Input'!P164,'Data Input'!S164,'Data Input'!U164,'Data Input'!V164,'Data Input'!W164,'Data Input'!X164,'Data Input'!Z164,'Data Input'!AA164,'Data Input'!AD164,'Data Input'!AZ164))","v":""},{"$f":"IF(J160=\"\",\"\",J160/COUNTIF('Data Input'!$C$8:$AZ$8,$J$2))","v":""},{"$f":"IF(ISBLANK('Data Input'!A164),\"\",SUM('Data Input'!Q164,'Data Input'!AG164))","v":""},{"$f":"IF(L160=\"\",\"\",L160/COUNTIF('Data Input'!$C$8:$AZ$8,$L$2))","v":""},{"$f":"IF(ISBLANK('Data Input'!A164),\"\",SUM('Data Input'!D164,'Data Input'!E164,'Data Input'!F164,'Data Input'!L164,'Data Input'!M164,'Data Input'!AB164,'Data Input'!AC164,'Data Input'!AF164,'Data Input'!AJ164,'Data Input'!AL164,'Data Input'!AN164,'Data Input'!AO164,'Data Input'!AP164,'Data Input'!AQ164,'Data Input'!AR164,'Data Input'!AS164,'Data Input'!AT164,'Data Input'!AU164,'Data Input'!AV164,'Data Input'!AW164,'Data Input'!AX164,'Data Input'!AY164))","v":""},{"$f":"IF(N160=\"\",\"\",N160/COUNTIF('Data Input'!$C$8:$AZ$8,$N$2))","v":""},null,{"$f":"IF(P160=\"\",\"\",P160/COUNTIF('Data Input'!$C$8:$AZ$8,$P$2))","v":""},{"$f":"IF(ISBLANK('Data Input'!A164),\"\",SUM('Data Input'!AH164))","v":""},{"$f":"IF(R160=\"\",\"\",R160/COUNTIF('Data Input'!$C$8:$AZ$8,$R$2))","v":""},{"$f":"IF(ISBLANK('Data Input'!$A164),\"\",SUM('Data Input'!AI164))","v":""},{"$f":"IF(T160=\"\",\"\",T160/COUNTIF('Data Input'!$C$8:$AZ$8,$T$2))","v":""},null,{"$f":"IF(V160=\"\",\"\",V160/COUNTIF('Data Input'!$C$8:$AZ$8,$V$2))","v":""}]
[{"$f":"IF('Data Input'!A165=0,\"\",'Data Input'!A165)","v":""},{"$f":"IF(F161=\"\",\"\",IF(F161>Welcome!$J$20-1,\"Exceeding\",IF(F161>Welcome!$F$20-1,\"Expected\",IF(F161<Welcome!$F$20,\"Below\"))))","v":""},{"$f":"IF(ISBLANK('Data Input'!A165),\"\",COUNTIF('Data Input'!C165:AZ165,\"\"))","v":""},{"$f":"IF(ISBLANK('Data Input'!A165),\"\",COUNTIF('Data Input'!C165:AZ165,\"0\"))","v":""},{"$f":"IF(ISBLANK('Data Input'!A165),\"\",SUM(C161,D161))","v":""},{"$f":"IF(ISBLANK('Data Input'!A165),\"\",SUM('Data Input'!C165:AZ165))","v":""},{"$f":"IF(F161=\"\",\"\",F161/(COUNTA('Data Input'!$C$8:$AZ$8)))","v":""},{"$f":"IF(ISBLANK('Data Input'!A165),\"\",SUM('Data Input'!C165,'Data Input'!H165,'Data Input'!J165,'Data Input'!N165,'Data Input'!R165,'Data Input'!T165,'Data Input'!Y165,'Data Input'!AE165,'Data Input'!AK165,'Data Input'!AM165))","v":""},{"$f":"IF(H161=\"\",\"\",H161/COUNTIF('Data Input'!$C$8:$AZ$8,$H$2))","v":""},{"$f":"IF(ISBLANK('Data Input'!A165),\"\",SUM('Data Input'!G165,'Data Input'!I165,'Data Input'!K165,'Data Input'!O165,'Data Input'!P165,'Data Input'!S165,'Data Input'!U165,'Data Input'!V165,'Data Input'!W165,'Data Input'!X165,'Data Input'!Z165,'Data Input'!AA165,'Data Input'!AD165,'Data Input'!AZ165))","v":""},{"$f":"IF(J161=\"\",\"\",J161/COUNTIF('Data Input'!$C$8:$AZ$8,$J$2))","v":""},{"$f":"IF(ISBLANK('Data Input'!A165),\"\",SUM('Data Input'!Q165,'Data Input'!AG165))","v":""},{"$f":"IF(L161=\"\",\"\",L161/COUNTIF('Data Input'!$C$8:$AZ$8,$L$2))","v":""},{"$f":"IF(ISBLANK('Data Input'!A165),\"\",SUM('Data Input'!D165,'Data Input'!E165,'Data Input'!F165,'Data Input'!L165,'Data Input'!M165,'Data Input'!AB165,'Data Input'!AC165,'Data Input'!AF165,'Data Input'!AJ165,'Data Input'!AL165,'Data Input'!AN165,'Data Input'!AO165,'Data Input'!AP165,'Data Input'!AQ165,'Data Input'!AR165,'Data Input'!AS165,'Data Input'!AT165,'Data Input'!AU165,'Data Input'!AV165,'Data Input'!AW165,'Data Input'!AX165,'Data Input'!AY165))","v":""},{"$f":"IF(N161=\"\",\"\",N161/COUNTIF('Data Input'!$C$8:$AZ$8,$N$2))","v":""},null,{"$f":"IF(P161=\"\",\"\",P161/COUNTIF('Data Input'!$C$8:$AZ$8,$P$2))","v":""},{"$f":"IF(ISBLANK('Data Input'!A165),\"\",SUM('Data Input'!AH165))","v":""},{"$f":"IF(R161=\"\",\"\",R161/COUNTIF('Data Input'!$C$8:$AZ$8,$R$2))","v":""},{"$f":"IF(ISBLANK('Data Input'!$A165),\"\",SUM('Data Input'!AI165))","v":""},{"$f":"IF(T161=\"\",\"\",T161/COUNTIF('Data Input'!$C$8:$AZ$8,$T$2))","v":""},null,{"$f":"IF(V161=\"\",\"\",V161/COUNTIF('Data Input'!$C$8:$AZ$8,$V$2))","v":""}]
[{"$f":"IF('Data Input'!A166=0,\"\",'Data Input'!A166)","v":""},{"$f":"IF(F162=\"\",\"\",IF(F162>Welcome!$J$20-1,\"Exceeding\",IF(F162>Welcome!$F$20-1,\"Expected\",IF(F162<Welcome!$F$20,\"Below\"))))","v":""},{"$f":"IF(ISBLANK('Data Input'!A166),\"\",COUNTIF('Data Input'!C166:AZ166,\"\"))","v":""},{"$f":"IF(ISBLANK('Data Input'!A166),\"\",COUNTIF('Data Input'!C166:AZ166,\"0\"))","v":""},{"$f":"IF(ISBLANK('Data Input'!A166),\"\",SUM(C162,D162))","v":""},{"$f":"IF(ISBLANK('Data Input'!A166),\"\",SUM('Data Input'!C166:AZ166))","v":""},{"$f":"IF(F162=\"\",\"\",F162/(COUNTA('Data Input'!$C$8:$AZ$8)))","v":""},{"$f":"IF(ISBLANK('Data Input'!A166),\"\",SUM('Data Input'!C166,'Data Input'!H166,'Data Input'!J166,'Data Input'!N166,'Data Input'!R166,'Data Input'!T166,'Data Input'!Y166,'Data Input'!AE166,'Data Input'!AK166,'Data Input'!AM166))","v":""},{"$f":"IF(H162=\"\",\"\",H162/COUNTIF('Data Input'!$C$8:$AZ$8,$H$2))","v":""},{"$f":"IF(ISBLANK('Data Input'!A166),\"\",SUM('Data Input'!G166,'Data Input'!I166,'Data Input'!K166,'Data Input'!O166,'Data Input'!P166,'Data Input'!S166,'Data Input'!U166,'Data Input'!V166,'Data Input'!W166,'Data Input'!X166,'Data Input'!Z166,'Data Input'!AA166,'Data Input'!AD166,'Data Input'!AZ166))","v":""},{"$f":"IF(J162=\"\",\"\",J162/COUNTIF('Data Input'!$C$8:$AZ$8,$J$2))","v":""},{"$f":"IF(ISBLANK('Data Input'!A166),\"\",SUM('Data Input'!Q166,'Data Input'!AG166))","v":""},{"$f":"IF(L162=\"\",\"\",L162/COUNTIF('Data Input'!$C$8:$AZ$8,$L$2))","v":""},{"$f":"IF(ISBLANK('Data Input'!A166),\"\",SUM('Data Input'!D166,'Data Input'!E166,'Data Input'!F166,'Data Input'!L166,'Data Input'!M166,'Data Input'!AB166,'Data Input'!AC166,'Data Input'!AF166,'Data Input'!AJ166,'Data Input'!AL166,'Data Input'!AN166,'Data Input'!AO166,'Data Input'!AP166,'Data Input'!AQ166,'Data Input'!AR166,'Data Input'!AS166,'Data Input'!AT166,'Data Input'!AU166,'Data Input'!AV166,'Data Input'!AW166,'Data Input'!AX166,'Data Input'!AY166))","v":""},{"$f":"IF(N162=\"\",\"\",N162/COUNTIF('Data Input'!$C$8:$AZ$8,$N$2))","v":""},null,{"$f":"IF(P162=\"\",\"\",P162/COUNTIF('Data Input'!$C$8:$AZ$8,$P$2))","v":""},{"$f":"IF(ISBLANK('Data Input'!A166),\"\",SUM('Data Input'!AH166))","v":""},{"$f":"IF(R162=\"\",\"\",R162/COUNTIF('Data Input'!$C$8:$AZ$8,$R$2))","v":""},{"$f":"IF(ISBLANK('Data Input'!$A166),\"\",SUM('Data Input'!AI166))","v":""},{"$f":"IF(T162=\"\",\"\",T162/COUNTIF('Data Input'!$C$8:$AZ$8,$T$2))","v":""},null,{"$f":"IF(V162=\"\",\"\",V162/COUNTIF('Data Input'!$C$8:$AZ$8,$V$2))","v":""}]
[{"$f":"IF('Data Input'!A167=0,\"\",'Data Input'!A167)","v":""},{"$f":"IF(F163=\"\",\"\",IF(F163>Welcome!$J$20-1,\"Exceeding\",IF(F163>Welcome!$F$20-1,\"Expected\",IF(F163<Welcome!$F$20,\"Below\"))))","v":""},{"$f":"IF(ISBLANK('Data Input'!A167),\"\",COUNTIF('Data Input'!C167:AZ167,\"\"))","v":""},{"$f":"IF(ISBLANK('Data Input'!A167),\"\",COUNTIF('Data Input'!C167:AZ167,\"0\"))","v":""},{"$f":"IF(ISBLANK('Data Input'!A167),\"\",SUM(C163,D163))","v":""},{"$f":"IF(ISBLANK('Data Input'!A167),\"\",SUM('Data Input'!C167:AZ167))","v":""},{"$f":"IF(F163=\"\",\"\",F163/(COUNTA('Data Input'!$C$8:$AZ$8)))","v":""},{"$f":"IF(ISBLANK('Data Input'!A167),\"\",SUM('Data Input'!C167,'Data Input'!H167,'Data Input'!J167,'Data Input'!N167,'Data Input'!R167,'Data Input'!T167,'Data Input'!Y167,'Data Input'!AE167,'Data Input'!AK167,'Data Input'!AM167))","v":""},{"$f":"IF(H163=\"\",\"\",H163/COUNTIF('Data Input'!$C$8:$AZ$8,$H$2))","v":""},{"$f":"IF(ISBLANK('Data Input'!A167),\"\",SUM('Data Input'!G167,'Data Input'!I167,'Data Input'!K167,'Data Input'!O167,'Data Input'!P167,'Data Input'!S167,'Data Input'!U167,'Data Input'!V167,'Data Input'!W167,'Data Input'!X167,'Data Input'!Z167,'Data Input'!AA167,'Data Input'!AD167,'Data Input'!AZ167))","v":""},{"$f":"IF(J163=\"\",\"\",J163/COUNTIF('Data Input'!$C$8:$AZ$8,$J$2))","v":""},{"$f":"IF(ISBLANK('Data Input'!A167),\"\",SUM('Data Input'!Q167,'Data Input'!AG167))","v":""},{"$f":"IF(L163=\"\",\"\",L163/COUNTIF('Data Input'!$C$8:$AZ$8,$L$2))","v":""},{"$f":"IF(ISBLANK('Data Input'!A167),\"\",SUM('Data Input'!D167,'Data Input'!E167,'Data Input'!F167,'Data Input'!L167,'Data Input'!M167,'Data Input'!AB167,'Data Input'!AC167,'Data Input'!AF167,'Data Input'!AJ167,'Data Input'!AL167,'Data Input'!AN167,'Data Input'!AO167,'Data Input'!AP167,'Data Input'!AQ167,'Data Input'!AR167,'Data Input'!AS167,'Data Input'!AT167,'Data Input'!AU167,'Data Input'!AV167,'Data Input'!AW167,'Data Input'!AX167,'Data Input'!AY167))","v":""},{"$f":"IF(N163=\"\",\"\",N163/COUNTIF('Data Input'!$C$8:$AZ$8,$N$2))","v":""},null,{"$f":"IF(P163=\"\",\"\",P163/COUNTIF('Data Input'!$C$8:$AZ$8,$P$2))","v":""},{"$f":"IF(ISBLANK('Data Input'!A167),\"\",SUM('Data Input'!AH167))","v":""},{"$f":"IF(R163=\"\",\"\",R163/COUNTIF('Data Input'!$C$8:$AZ$8,$R$2))","v":""},{"$f":"IF(ISBLANK('Data Input'!$A167),\"\",SUM('Data Input'!AI167))","v":""},{"$f":"IF(T163=\"\",\"\",T163/COUNTIF('Data Input'!$C$8:$AZ$8,$T$2))","v":""},null,{"$f":"IF(V163=\"\",\"\",V163/COUNTIF('Data Input'!$C$8:$AZ$8,$V$2))","v":""}]
[{"$f":"IF('Data Input'!A168=0,\"\",'Data Input'!A168)","v":""},{"$f":"IF(F164=\"\",\"\",IF(F164>Welcome!$J$20-1,\"Exceeding\",IF(F164>Welcome!$F$20-1,\"Expected\",IF(F164<Welcome!$F$20,\"Below\"))))","v":""},{"$f":"IF(ISBLANK('Data Input'!A168),\"\",COUNTIF('Data Input'!C168:AZ168,\"\"))","v":""},{"$f":"IF(ISBLANK('Data Input'!A168),\"\",COUNTIF('Data Input'!C168:AZ168,\"0\"))","v":""},{"$f":"IF(ISBLANK('Data Input'!A168),\"\",SUM(C164,D164))","v":""},{"$f":"IF(ISBLANK('Data Input'!A168),\"\",SUM('Data Input'!C168:AZ168))","v":""},{"$f":"IF(F164=\"\",\"\",F164/(COUNTA('Data Input'!$C$8:$AZ$8)))","v":""},{"$f":"IF(ISBLANK('Data Input'!A168),\"\",SUM('Data Input'!C168,'Data Input'!H168,'Data Input'!J168,'Data Input'!N168,'Data Input'!R168,'Data Input'!T168,'Data Input'!Y168,'Data Input'!AE168,'Data Input'!AK168,'Data Input'!AM168))","v":""},{"$f":"IF(H164=\"\",\"\",H164/COUNTIF('Data Input'!$C$8:$AZ$8,$H$2))","v":""},{"$f":"IF(ISBLANK('Data Input'!A168),\"\",SUM('Data Input'!G168,'Data Input'!I168,'Data Input'!K168,'Data Input'!O168,'Data Input'!P168,'Data Input'!S168,'Data Input'!U168,'Data Input'!V168,'Data Input'!W168,'Data Input'!X168,'Data Input'!Z168,'Data Input'!AA168,'Data Input'!AD168,'Data Input'!AZ168))","v":""},{"$f":"IF(J164=\"\",\"\",J164/COUNTIF('Data Input'!$C$8:$AZ$8,$J$2))","v":""},{"$f":"IF(ISBLANK('Data Input'!A168),\"\",SUM('Data Input'!Q168,'Data Input'!AG168))","v":""},{"$f":"IF(L164=\"\",\"\",L164/COUNTIF('Data Input'!$C$8:$AZ$8,$L$2))","v":""},{"$f":"IF(ISBLANK('Data Input'!A168),\"\",SUM('Data Input'!D168,'Data Input'!E168,'Data Input'!F168,'Data Input'!L168,'Data Input'!M168,'Data Input'!AB168,'Data Input'!AC168,'Data Input'!AF168,'Data Input'!AJ168,'Data Input'!AL168,'Data Input'!AN168,'Data Input'!AO168,'Data Input'!AP168,'Data Input'!AQ168,'Data Input'!AR168,'Data Input'!AS168,'Data Input'!AT168,'Data Input'!AU168,'Data Input'!AV168,'Data Input'!AW168,'Data Input'!AX168,'Data Input'!AY168))","v":""},{"$f":"IF(N164=\"\",\"\",N164/COUNTIF('Data Input'!$C$8:$AZ$8,$N$2))","v":""},null,{"$f":"IF(P164=\"\",\"\",P164/COUNTIF('Data Input'!$C$8:$AZ$8,$P$2))","v":""},{"$f":"IF(ISBLANK('Data Input'!A168),\"\",SUM('Data Input'!AH168))","v":""},{"$f":"IF(R164=\"\",\"\",R164/COUNTIF('Data Input'!$C$8:$AZ$8,$R$2))","v":""},{"$f":"IF(ISBLANK('Data Input'!$A168),\"\",SUM('Data Input'!AI168))","v":""},{"$f":"IF(T164=\"\",\"\",T164/COUNTIF('Data Input'!$C$8:$AZ$8,$T$2))","v":""},null,{"$f":"IF(V164=\"\",\"\",V164/COUNTIF('Data Input'!$C$8:$AZ$8,$V$2))","v":""}]
[{"$f":"IF('Data Input'!A169=0,\"\",'Data Input'!A169)","v":""},{"$f":"IF(F165=\"\",\"\",IF(F165>Welcome!$J$20-1,\"Exceeding\",IF(F165>Welcome!$F$20-1,\"Expected\",IF(F165<Welcome!$F$20,\"Below\"))))","v":""},{"$f":"IF(ISBLANK('Data Input'!A169),\"\",COUNTIF('Data Input'!C169:AZ169,\"\"))","v":""},{"$f":"IF(ISBLANK('Data Input'!A169),\"\",COUNTIF('Data Input'!C169:AZ169,\"0\"))","v":""},{"$f":"IF(ISBLANK('Data Input'!A169),\"\",SUM(C165,D165))","v":""},{"$f":"IF(ISBLANK('Data Input'!A169),\"\",SUM('Data Input'!C169:AZ169))","v":""},{"$f":"IF(F165=\"\",\"\",F165/(COUNTA('Data Input'!$C$8:$AZ$8)))","v":""},{"$f":"IF(ISBLANK('Data Input'!A169),\"\",SUM('Data Input'!C169,'Data Input'!H169,'Data Input'!J169,'Data Input'!N169,'Data Input'!R169,'Data Input'!T169,'Data Input'!Y169,'Data Input'!AE169,'Data Input'!AK169,'Data Input'!AM169))","v":""},{"$f":"IF(H165=\"\",\"\",H165/COUNTIF('Data Input'!$C$8:$AZ$8,$H$2))","v":""},{"$f":"IF(ISBLANK('Data Input'!A169),\"\",SUM('Data Input'!G169,'Data Input'!I169,'Data Input'!K169,'Data Input'!O169,'Data Input'!P169,'Data Input'!S169,'Data Input'!U169,'Data Input'!V169,'Data Input'!W169,'Data Input'!X169,'Data Input'!Z169,'Data Input'!AA169,'Data Input'!AD169,'Data Input'!AZ169))","v":""},{"$f":"IF(J165=\"\",\"\",J165/COUNTIF('Data Input'!$C$8:$AZ$8,$J$2))","v":""},{"$f":"IF(ISBLANK('Data Input'!A169),\"\",SUM('Data Input'!Q169,'Data Input'!AG169))","v":""},{"$f":"IF(L165=\"\",\"\",L165/COUNTIF('Data Input'!$C$8:$AZ$8,$L$2))","v":""},{"$f":"IF(ISBLANK('Data Input'!A169),\"\",SUM('Data Input'!D169,'Data Input'!E169,'Data Input'!F169,'Data Input'!L169,'Data Input'!M169,'Data Input'!AB169,'Data Input'!AC169,'Data Input'!AF169,'Data Input'!AJ169,'Data Input'!AL169,'Data Input'!AN169,'Data Input'!AO169,'Data Input'!AP169,'Data Input'!AQ169,'Data Input'!AR169,'Data Input'!AS169,'Data Input'!AT169,'Data Input'!AU169,'Data Input'!AV169,'Data Input'!AW169,'Data Input'!AX169,'Data Input'!AY169))","v":""},{"$f":"IF(N165=\"\",\"\",N165/COUNTIF('Data Input'!$C$8:$AZ$8,$N$2))","v":""},null,{"$f":"IF(P165=\"\",\"\",P165/COUNTIF('Data Input'!$C$8:$AZ$8,$P$2))","v":""},{"$f":"IF(ISBLANK('Data Input'!A169),\"\",SUM('Data Input'!AH169))","v":""},{"$f":"IF(R165=\"\",\"\",R165/COUNTIF('Data Input'!$C$8:$AZ$8,$R$2))","v":""},{"$f":"IF(ISBLANK('Data Input'!$A169),\"\",SUM('Data Input'!AI169))","v":""},{"$f":"IF(T165=\"\",\"\",T165/COUNTIF('Data Input'!$C$8:$AZ$8,$T$2))","v":""},null,{"$f":"IF(V165=\"\",\"\",V165/COUNTIF('Data Input'!$C$8:$AZ$8,$V$2))","v":""}]
[{"$f":"IF('Data Input'!A170=0,\"\",'Data Input'!A170)","v":""},{"$f":"IF(F166=\"\",\"\",IF(F166>Welcome!$J$20-1,\"Exceeding\",IF(F166>Welcome!$F$20-1,\"Expected\",IF(F166<Welcome!$F$20,\"Below\"))))","v":""},{"$f":"IF(ISBLANK('Data Input'!A170),\"\",COUNTIF('Data Input'!C170:AZ170,\"\"))","v":""},{"$f":"IF(ISBLANK('Data Input'!A170),\"\",COUNTIF('Data Input'!C170:AZ170,\"0\"))","v":""},{"$f":"IF(ISBLANK('Data Input'!A170),\"\",SUM(C166,D166))","v":""},{"$f":"IF(ISBLANK('Data Input'!A170),\"\",SUM('Data Input'!C170:AZ170))","v":""},{"$f":"IF(F166=\"\",\"\",F166/(COUNTA('Data Input'!$C$8:$AZ$8)))","v":""},{"$f":"IF(ISBLANK('Data Input'!A170),\"\",SUM('Data Input'!C170,'Data Input'!H170,'Data Input'!J170,'Data Input'!N170,'Data Input'!R170,'Data Input'!T170,'Data Input'!Y170,'Data Input'!AE170,'Data Input'!AK170,'Data Input'!AM170))","v":""},{"$f":"IF(H166=\"\",\"\",H166/COUNTIF('Data Input'!$C$8:$AZ$8,$H$2))","v":""},{"$f":"IF(ISBLANK('Data Input'!A170),\"\",SUM('Data Input'!G170,'Data Input'!I170,'Data Input'!K170,'Data Input'!O170,'Data Input'!P170,'Data Input'!S170,'Data Input'!U170,'Data Input'!V170,'Data Input'!W170,'Data Input'!X170,'Data Input'!Z170,'Data Input'!AA170,'Data Input'!AD170,'Data Input'!AZ170))","v":""},{"$f":"IF(J166=\"\",\"\",J166/COUNTIF('Data Input'!$C$8:$AZ$8,$J$2))","v":""},{"$f":"IF(ISBLANK('Data Input'!A170),\"\",SUM('Data Input'!Q170,'Data Input'!AG170))","v":""},{"$f":"IF(L166=\"\",\"\",L166/COUNTIF('Data Input'!$C$8:$AZ$8,$L$2))","v":""},{"$f":"IF(ISBLANK('Data Input'!A170),\"\",SUM('Data Input'!D170,'Data Input'!E170,'Data Input'!F170,'Data Input'!L170,'Data Input'!M170,'Data Input'!AB170,'Data Input'!AC170,'Data Input'!AF170,'Data Input'!AJ170,'Data Input'!AL170,'Data Input'!AN170,'Data Input'!AO170,'Data Input'!AP170,'Data Input'!AQ170,'Data Input'!AR170,'Data Input'!AS170,'Data Input'!AT170,'Data Input'!AU170,'Data Input'!AV170,'Data Input'!AW170,'Data Input'!AX170,'Data Input'!AY170))","v":""},{"$f":"IF(N166=\"\",\"\",N166/COUNTIF('Data Input'!$C$8:$AZ$8,$N$2))","v":""},null,{"$f":"IF(P166=\"\",\"\",P166/COUNTIF('Data Input'!$C$8:$AZ$8,$P$2))","v":""},{"$f":"IF(ISBLANK('Data Input'!A170),\"\",SUM('Data Input'!AH170))","v":""},{"$f":"IF(R166=\"\",\"\",R166/COUNTIF('Data Input'!$C$8:$AZ$8,$R$2))","v":""},{"$f":"IF(ISBLANK('Data Input'!$A170),\"\",SUM('Data Input'!AI170))","v":""},{"$f":"IF(T166=\"\",\"\",T166/COUNTIF('Data Input'!$C$8:$AZ$8,$T$2))","v":""},null,{"$f":"IF(V166=\"\",\"\",V166/COUNTIF('Data Input'!$C$8:$AZ$8,$V$2))","v":""}]
[{"$f":"IF('Data Input'!A171=0,\"\",'Data Input'!A171)","v":""},{"$f":"IF(F167=\"\",\"\",IF(F167>Welcome!$J$20-1,\"Exceeding\",IF(F167>Welcome!$F$20-1,\"Expected\",IF(F167<Welcome!$F$20,\"Below\"))))","v":""},{"$f":"IF(ISBLANK('Data Input'!A171),\"\",COUNTIF('Data Input'!C171:AZ171,\"\"))","v":""},{"$f":"IF(ISBLANK('Data Input'!A171),\"\",COUNTIF('Data Input'!C171:AZ171,\"0\"))","v":""},{"$f":"IF(ISBLANK('Data Input'!A171),\"\",SUM(C167,D167))","v":""},{"$f":"IF(ISBLANK('Data Input'!A171),\"\",SUM('Data Input'!C171:AZ171))","v":""},{"$f":"IF(F167=\"\",\"\",F167/(COUNTA('Data Input'!$C$8:$AZ$8)))","v":""},{"$f":"IF(ISBLANK('Data Input'!A171),\"\",SUM('Data Input'!C171,'Data Input'!H171,'Data Input'!J171,'Data Input'!N171,'Data Input'!R171,'Data Input'!T171,'Data Input'!Y171,'Data Input'!AE171,'Data Input'!AK171,'Data Input'!AM171))","v":""},{"$f":"IF(H167=\"\",\"\",H167/COUNTIF('Data Input'!$C$8:$AZ$8,$H$2))","v":""},{"$f":"IF(ISBLANK('Data Input'!A171),\"\",SUM('Data Input'!G171,'Data Input'!I171,'Data Input'!K171,'Data Input'!O171,'Data Input'!P171,'Data Input'!S171,'Data Input'!U171,'Data Input'!V171,'Data Input'!W171,'Data Input'!X171,'Data Input'!Z171,'Data Input'!AA171,'Data Input'!AD171,'Data Input'!AZ171))","v":""},{"$f":"IF(J167=\"\",\"\",J167/COUNTIF('Data Input'!$C$8:$AZ$8,$J$2))","v":""},{"$f":"IF(ISBLANK('Data Input'!A171),\"\",SUM('Data Input'!Q171,'Data Input'!AG171))","v":""},{"$f":"IF(L167=\"\",\"\",L167/COUNTIF('Data Input'!$C$8:$AZ$8,$L$2))","v":""},{"$f":"IF(ISBLANK('Data Input'!A171),\"\",SUM('Data Input'!D171,'Data Input'!E171,'Data Input'!F171,'Data Input'!L171,'Data Input'!M171,'Data Input'!AB171,'Data Input'!AC171,'Data Input'!AF171,'Data Input'!AJ171,'Data Input'!AL171,'Data Input'!AN171,'Data Input'!AO171,'Data Input'!AP171,'Data Input'!AQ171,'Data Input'!AR171,'Data Input'!AS171,'Data Input'!AT171,'Data Input'!AU171,'Data Input'!AV171,'Data Input'!AW171,'Data Input'!AX171,'Data Input'!AY171))","v":""},{"$f":"IF(N167=\"\",\"\",N167/COUNTIF('Data Input'!$C$8:$AZ$8,$N$2))","v":""},null,{"$f":"IF(P167=\"\",\"\",P167/COUNTIF('Data Input'!$C$8:$AZ$8,$P$2))","v":""},{"$f":"IF(ISBLANK('Data Input'!A171),\"\",SUM('Data Input'!AH171))","v":""},{"$f":"IF(R167=\"\",\"\",R167/COUNTIF('Data Input'!$C$8:$AZ$8,$R$2))","v":""},{"$f":"IF(ISBLANK('Data Input'!$A171),\"\",SUM('Data Input'!AI171))","v":""},{"$f":"IF(T167=\"\",\"\",T167/COUNTIF('Data Input'!$C$8:$AZ$8,$T$2))","v":""},null,{"$f":"IF(V167=\"\",\"\",V167/COUNTIF('Data Input'!$C$8:$AZ$8,$V$2))","v":""}]
[{"$f":"IF('Data Input'!A172=0,\"\",'Data Input'!A172)","v":""},{"$f":"IF(F168=\"\",\"\",IF(F168>Welcome!$J$20-1,\"Exceeding\",IF(F168>Welcome!$F$20-1,\"Expected\",IF(F168<Welcome!$F$20,\"Below\"))))","v":""},{"$f":"IF(ISBLANK('Data Input'!A172),\"\",COUNTIF('Data Input'!C172:AZ172,\"\"))","v":""},{"$f":"IF(ISBLANK('Data Input'!A172),\"\",COUNTIF('Data Input'!C172:AZ172,\"0\"))","v":""},{"$f":"IF(ISBLANK('Data Input'!A172),\"\",SUM(C168,D168))","v":""},{"$f":"IF(ISBLANK('Data Input'!A172),\"\",SUM('Data Input'!C172:AZ172))","v":""},{"$f":"IF(F168=\"\",\"\",F168/(COUNTA('Data Input'!$C$8:$AZ$8)))","v":""},{"$f":"IF(ISBLANK('Data Input'!A172),\"\",SUM('Data Input'!C172,'Data Input'!H172,'Data Input'!J172,'Data Input'!N172,'Data Input'!R172,'Data Input'!T172,'Data Input'!Y172,'Data Input'!AE172,'Data Input'!AK172,'Data Input'!AM172))","v":""},{"$f":"IF(H168=\"\",\"\",H168/COUNTIF('Data Input'!$C$8:$AZ$8,$H$2))","v":""},{"$f":"IF(ISBLANK('Data Input'!A172),\"\",SUM('Data Input'!G172,'Data Input'!I172,'Data Input'!K172,'Data Input'!O172,'Data Input'!P172,'Data Input'!S172,'Data Input'!U172,'Data Input'!V172,'Data Input'!W172,'Data Input'!X172,'Data Input'!Z172,'Data Input'!AA172,'Data Input'!AD172,'Data Input'!AZ172))","v":""},{"$f":"IF(J168=\"\",\"\",J168/COUNTIF('Data Input'!$C$8:$AZ$8,$J$2))","v":""},{"$f":"IF(ISBLANK('Data Input'!A172),\"\",SUM('Data Input'!Q172,'Data Input'!AG172))","v":""},{"$f":"IF(L168=\"\",\"\",L168/COUNTIF('Data Input'!$C$8:$AZ$8,$L$2))","v":""},{"$f":"IF(ISBLANK('Data Input'!A172),\"\",SUM('Data Input'!D172,'Data Input'!E172,'Data Input'!F172,'Data Input'!L172,'Data Input'!M172,'Data Input'!AB172,'Data Input'!AC172,'Data Input'!AF172,'Data Input'!AJ172,'Data Input'!AL172,'Data Input'!AN172,'Data Input'!AO172,'Data Input'!AP172,'Data Input'!AQ172,'Data Input'!AR172,'Data Input'!AS172,'Data Input'!AT172,'Data Input'!AU172,'Data Input'!AV172,'Data Input'!AW172,'Data Input'!AX172,'Data Input'!AY172))","v":""},{"$f":"IF(N168=\"\",\"\",N168/COUNTIF('Data Input'!$C$8:$AZ$8,$N$2))","v":""},null,{"$f":"IF(P168=\"\",\"\",P168/COUNTIF('Data Input'!$C$8:$AZ$8,$P$2))","v":""},{"$f":"IF(ISBLANK('Data Input'!A172),\"\",SUM('Data Input'!AH172))","v":""},{"$f":"IF(R168=\"\",\"\",R168/COUNTIF('Data Input'!$C$8:$AZ$8,$R$2))","v":""},{"$f":"IF(ISBLANK('Data Input'!$A172),\"\",SUM('Data Input'!AI172))","v":""},{"$f":"IF(T168=\"\",\"\",T168/COUNTIF('Data Input'!$C$8:$AZ$8,$T$2))","v":""},null,{"$f":"IF(V168=\"\",\"\",V168/COUNTIF('Data Input'!$C$8:$AZ$8,$V$2))","v":""}]
[{"$f":"IF('Data Input'!A173=0,\"\",'Data Input'!A173)","v":""},{"$f":"IF(F169=\"\",\"\",IF(F169>Welcome!$J$20-1,\"Exceeding\",IF(F169>Welcome!$F$20-1,\"Expected\",IF(F169<Welcome!$F$20,\"Below\"))))","v":""},{"$f":"IF(ISBLANK('Data Input'!A173),\"\",COUNTIF('Data Input'!C173:AZ173,\"\"))","v":""},{"$f":"IF(ISBLANK('Data Input'!A173),\"\",COUNTIF('Data Input'!C173:AZ173,\"0\"))","v":""},{"$f":"IF(ISBLANK('Data Input'!A173),\"\",SUM(C169,D169))","v":""},{"$f":"IF(ISBLANK('Data Input'!A173),\"\",SUM('Data Input'!C173:AZ173))","v":""},{"$f":"IF(F169=\"\",\"\",F169/(COUNTA('Data Input'!$C$8:$AZ$8)))","v":""},{"$f":"IF(ISBLANK('Data Input'!A173),\"\",SUM('Data Input'!C173,'Data Input'!H173,'Data Input'!J173,'Data Input'!N173,'Data Input'!R173,'Data Input'!T173,'Data Input'!Y173,'Data Input'!AE173,'Data Input'!AK173,'Data Input'!AM173))","v":""},{"$f":"IF(H169=\"\",\"\",H169/COUNTIF('Data Input'!$C$8:$AZ$8,$H$2))","v":""},{"$f":"IF(ISBLANK('Data Input'!A173),\"\",SUM('Data Input'!G173,'Data Input'!I173,'Data Input'!K173,'Data Input'!O173,'Data Input'!P173,'Data Input'!S173,'Data Input'!U173,'Data Input'!V173,'Data Input'!W173,'Data Input'!X173,'Data Input'!Z173,'Data Input'!AA173,'Data Input'!AD173,'Data Input'!AZ173))","v":""},{"$f":"IF(J169=\"\",\"\",J169/COUNTIF('Data Input'!$C$8:$AZ$8,$J$2))","v":""},{"$f":"IF(ISBLANK('Data Input'!A173),\"\",SUM('Data Input'!Q173,'Data Input'!AG173))","v":""},{"$f":"IF(L169=\"\",\"\",L169/COUNTIF('Data Input'!$C$8:$AZ$8,$L$2))","v":""},{"$f":"IF(ISBLANK('Data Input'!A173),\"\",SUM('Data Input'!D173,'Data Input'!E173,'Data Input'!F173,'Data Input'!L173,'Data Input'!M173,'Data Input'!AB173,'Data Input'!AC173,'Data Input'!AF173,'Data Input'!AJ173,'Data Input'!AL173,'Data Input'!AN173,'Data Input'!AO173,'Data Input'!AP173,'Data Input'!AQ173,'Data Input'!AR173,'Data Input'!AS173,'Data Input'!AT173,'Data Input'!AU173,'Data Input'!AV173,'Data Input'!AW173,'Data Input'!AX173,'Data Input'!AY173))","v":""},{"$f":"IF(N169=\"\",\"\",N169/COUNTIF('Data Input'!$C$8:$AZ$8,$N$2))","v":""},null,{"$f":"IF(P169=\"\",\"\",P169/COUNTIF('Data Input'!$C$8:$AZ$8,$P$2))","v":""},{"$f":"IF(ISBLANK('Data Input'!A173),\"\",SUM('Data Input'!AH173))","v":""},{"$f":"IF(R169=\"\",\"\",R169/COUNTIF('Data Input'!$C$8:$AZ$8,$R$2))","v":""},{"$f":"IF(ISBLANK('Data Input'!$A173),\"\",SUM('Data Input'!AI173))","v":""},{"$f":"IF(T169=\"\",\"\",T169/COUNTIF('Data Input'!$C$8:$AZ$8,$T$2))","v":""},null,{"$f":"IF(V169=\"\",\"\",V169/COUNTIF('Data Input'!$C$8:$AZ$8,$V$2))","v":""}]
[{"$f":"IF('Data Input'!A174=0,\"\",'Data Input'!A174)","v":""},{"$f":"IF(F170=\"\",\"\",IF(F170>Welcome!$J$20-1,\"Exceeding\",IF(F170>Welcome!$F$20-1,\"Expected\",IF(F170<Welcome!$F$20,\"Below\"))))","v":""},{"$f":"IF(ISBLANK('Data Input'!A174),\"\",COUNTIF('Data Input'!C174:AZ174,\"\"))","v":""},{"$f":"IF(ISBLANK('Data Input'!A174),\"\",COUNTIF('Data Input'!C174:AZ174,\"0\"))","v":""},{"$f":"IF(ISBLANK('Data Input'!A174),\"\",SUM(C170,D170))","v":""},{"$f":"IF(ISBLANK('Data Input'!A174),\"\",SUM('Data Input'!C174:AZ174))","v":""},{"$f":"IF(F170=\"\",\"\",F170/(COUNTA('Data Input'!$C$8:$AZ$8)))","v":""},{"$f":"IF(ISBLANK('Data Input'!A174),\"\",SUM('Data Input'!C174,'Data Input'!H174,'Data Input'!J174,'Data Input'!N174,'Data Input'!R174,'Data Input'!T174,'Data Input'!Y174,'Data Input'!AE174,'Data Input'!AK174,'Data Input'!AM174))","v":""},{"$f":"IF(H170=\"\",\"\",H170/COUNTIF('Data Input'!$C$8:$AZ$8,$H$2))","v":""},{"$f":"IF(ISBLANK('Data Input'!A174),\"\",SUM('Data Input'!G174,'Data Input'!I174,'Data Input'!K174,'Data Input'!O174,'Data Input'!P174,'Data Input'!S174,'Data Input'!U174,'Data Input'!V174,'Data Input'!W174,'Data Input'!X174,'Data Input'!Z174,'Data Input'!AA174,'Data Input'!AD174,'Data Input'!AZ174))","v":""},{"$f":"IF(J170=\"\",\"\",J170/COUNTIF('Data Input'!$C$8:$AZ$8,$J$2))","v":""},{"$f":"IF(ISBLANK('Data Input'!A174),\"\",SUM('Data Input'!Q174,'Data Input'!AG174))","v":""},{"$f":"IF(L170=\"\",\"\",L170/COUNTIF('Data Input'!$C$8:$AZ$8,$L$2))","v":""},{"$f":"IF(ISBLANK('Data Input'!A174),\"\",SUM('Data Input'!D174,'Data Input'!E174,'Data Input'!F174,'Data Input'!L174,'Data Input'!M174,'Data Input'!AB174,'Data Input'!AC174,'Data Input'!AF174,'Data Input'!AJ174,'Data Input'!AL174,'Data Input'!AN174,'Data Input'!AO174,'Data Input'!AP174,'Data Input'!AQ174,'Data Input'!AR174,'Data Input'!AS174,'Data Input'!AT174,'Data Input'!AU174,'Data Input'!AV174,'Data Input'!AW174,'Data Input'!AX174,'Data Input'!AY174))","v":""},{"$f":"IF(N170=\"\",\"\",N170/COUNTIF('Data Input'!$C$8:$AZ$8,$N$2))","v":""},null,{"$f":"IF(P170=\"\",\"\",P170/COUNTIF('Data Input'!$C$8:$AZ$8,$P$2))","v":""},{"$f":"IF(ISBLANK('Data Input'!A174),\"\",SUM('Data Input'!AH174))","v":""},{"$f":"IF(R170=\"\",\"\",R170/COUNTIF('Data Input'!$C$8:$AZ$8,$R$2))","v":""},{"$f":"IF(ISBLANK('Data Input'!$A174),\"\",SUM('Data Input'!AI174))","v":""},{"$f":"IF(T170=\"\",\"\",T170/COUNTIF('Data Input'!$C$8:$AZ$8,$T$2))","v":""},null,{"$f":"IF(V170=\"\",\"\",V170/COUNTIF('Data Input'!$C$8:$AZ$8,$V$2))","v":""}]
[{"$f":"IF('Data Input'!A175=0,\"\",'Data Input'!A175)","v":""},{"$f":"IF(F171=\"\",\"\",IF(F171>Welcome!$J$20-1,\"Exceeding\",IF(F171>Welcome!$F$20-1,\"Expected\",IF(F171<Welcome!$F$20,\"Below\"))))","v":""},{"$f":"IF(ISBLANK('Data Input'!A175),\"\",COUNTIF('Data Input'!C175:AZ175,\"\"))","v":""},{"$f":"IF(ISBLANK('Data Input'!A175),\"\",COUNTIF('Data Input'!C175:AZ175,\"0\"))","v":""},{"$f":"IF(ISBLANK('Data Input'!A175),\"\",SUM(C171,D171))","v":""},{"$f":"IF(ISBLANK('Data Input'!A175),\"\",SUM('Data Input'!C175:AZ175))","v":""},{"$f":"IF(F171=\"\",\"\",F171/(COUNTA('Data Input'!$C$8:$AZ$8)))","v":""},{"$f":"IF(ISBLANK('Data Input'!A175),\"\",SUM('Data Input'!C175,'Data Input'!H175,'Data Input'!J175,'Data Input'!N175,'Data Input'!R175,'Data Input'!T175,'Data Input'!Y175,'Data Input'!AE175,'Data Input'!AK175,'Data Input'!AM175))","v":""},{"$f":"IF(H171=\"\",\"\",H171/COUNTIF('Data Input'!$C$8:$AZ$8,$H$2))","v":""},{"$f":"IF(ISBLANK('Data Input'!A175),\"\",SUM('Data Input'!G175,'Data Input'!I175,'Data Input'!K175,'Data Input'!O175,'Data Input'!P175,'Data Input'!S175,'Data Input'!U175,'Data Input'!V175,'Data Input'!W175,'Data Input'!X175,'Data Input'!Z175,'Data Input'!AA175,'Data Input'!AD175,'Data Input'!AZ175))","v":""},{"$f":"IF(J171=\"\",\"\",J171/COUNTIF('Data Input'!$C$8:$AZ$8,$J$2))","v":""},{"$f":"IF(ISBLANK('Data Input'!A175),\"\",SUM('Data Input'!Q175,'Data Input'!AG175))","v":""},{"$f":"IF(L171=\"\",\"\",L171/COUNTIF('Data Input'!$C$8:$AZ$8,$L$2))","v":""},{"$f":"IF(ISBLANK('Data Input'!A175),\"\",SUM('Data Input'!D175,'Data Input'!E175,'Data Input'!F175,'Data Input'!L175,'Data Input'!M175,'Data Input'!AB175,'Data Input'!AC175,'Data Input'!AF175,'Data Input'!AJ175,'Data Input'!AL175,'Data Input'!AN175,'Data Input'!AO175,'Data Input'!AP175,'Data Input'!AQ175,'Data Input'!AR175,'Data Input'!AS175,'Data Input'!AT175,'Data Input'!AU175,'Data Input'!AV175,'Data Input'!AW175,'Data Input'!AX175,'Data Input'!AY175))","v":""},{"$f":"IF(N171=\"\",\"\",N171/COUNTIF('Data Input'!$C$8:$AZ$8,$N$2))","v":""},null,{"$f":"IF(P171=\"\",\"\",P171/COUNTIF('Data Input'!$C$8:$AZ$8,$P$2))","v":""},{"$f":"IF(ISBLANK('Data Input'!A175),\"\",SUM('Data Input'!AH175))","v":""},{"$f":"IF(R171=\"\",\"\",R171/COUNTIF('Data Input'!$C$8:$AZ$8,$R$2))","v":""},{"$f":"IF(ISBLANK('Data Input'!$A175),\"\",SUM('Data Input'!AI175))","v":""},{"$f":"IF(T171=\"\",\"\",T171/COUNTIF('Data Input'!$C$8:$AZ$8,$T$2))","v":""},null,{"$f":"IF(V171=\"\",\"\",V171/COUNTIF('Data Input'!$C$8:$AZ$8,$V$2))","v":""}]
[{"$f":"IF('Data Input'!A176=0,\"\",'Data Input'!A176)","v":""},{"$f":"IF(F172=\"\",\"\",IF(F172>Welcome!$J$20-1,\"Exceeding\",IF(F172>Welcome!$F$20-1,\"Expected\",IF(F172<Welcome!$F$20,\"Below\"))))","v":""},{"$f":"IF(ISBLANK('Data Input'!A176),\"\",COUNTIF('Data Input'!C176:AZ176,\"\"))","v":""},{"$f":"IF(ISBLANK('Data Input'!A176),\"\",COUNTIF('Data Input'!C176:AZ176,\"0\"))","v":""},{"$f":"IF(ISBLANK('Data Input'!A176),\"\",SUM(C172,D172))","v":""},{"$f":"IF(ISBLANK('Data Input'!A176),\"\",SUM('Data Input'!C176:AZ176))","v":""},{"$f":"IF(F172=\"\",\"\",F172/(COUNTA('Data Input'!$C$8:$AZ$8)))","v":""},{"$f":"IF(ISBLANK('Data Input'!A176),\"\",SUM('Data Input'!C176,'Data Input'!H176,'Data Input'!J176,'Data Input'!N176,'Data Input'!R176,'Data Input'!T176,'Data Input'!Y176,'Data Input'!AE176,'Data Input'!AK176,'Data Input'!AM176))","v":""},{"$f":"IF(H172=\"\",\"\",H172/COUNTIF('Data Input'!$C$8:$AZ$8,$H$2))","v":""},{"$f":"IF(ISBLANK('Data Input'!A176),\"\",SUM('Data Input'!G176,'Data Input'!I176,'Data Input'!K176,'Data Input'!O176,'Data Input'!P176,'Data Input'!S176,'Data Input'!U176,'Data Input'!V176,'Data Input'!W176,'Data Input'!X176,'Data Input'!Z176,'Data Input'!AA176,'Data Input'!AD176,'Data Input'!AZ176))","v":""},{"$f":"IF(J172=\"\",\"\",J172/COUNTIF('Data Input'!$C$8:$AZ$8,$J$2))","v":""},{"$f":"IF(ISBLANK('Data Input'!A176),\"\",SUM('Data Input'!Q176,'Data Input'!AG176))","v":""},{"$f":"IF(L172=\"\",\"\",L172/COUNTIF('Data Input'!$C$8:$AZ$8,$L$2))","v":""},{"$f":"IF(ISBLANK('Data Input'!A176),\"\",SUM('Data Input'!D176,'Data Input'!E176,'Data Input'!F176,'Data Input'!L176,'Data Input'!M176,'Data Input'!AB176,'Data Input'!AC176,'Data Input'!AF176,'Data Input'!AJ176,'Data Input'!AL176,'Data Input'!AN176,'Data Input'!AO176,'Data Input'!AP176,'Data Input'!AQ176,'Data Input'!AR176,'Data Input'!AS176,'Data Input'!AT176,'Data Input'!AU176,'Data Input'!AV176,'Data Input'!AW176,'Data Input'!AX176,'Data Input'!AY176))","v":""},{"$f":"IF(N172=\"\",\"\",N172/COUNTIF('Data Input'!$C$8:$AZ$8,$N$2))","v":""},null,{"$f":"IF(P172=\"\",\"\",P172/COUNTIF('Data Input'!$C$8:$AZ$8,$P$2))","v":""},{"$f":"IF(ISBLANK('Data Input'!A176),\"\",SUM('Data Input'!AH176))","v":""},{"$f":"IF(R172=\"\",\"\",R172/COUNTIF('Data Input'!$C$8:$AZ$8,$R$2))","v":""},{"$f":"IF(ISBLANK('Data Input'!$A176),\"\",SUM('Data Input'!AI176))","v":""},{"$f":"IF(T172=\"\",\"\",T172/COUNTIF('Data Input'!$C$8:$AZ$8,$T$2))","v":""},null,{"$f":"IF(V172=\"\",\"\",V172/COUNTIF('Data Input'!$C$8:$AZ$8,$V$2))","v":""}]
[{"$f":"IF('Data Input'!A177=0,\"\",'Data Input'!A177)","v":""},{"$f":"IF(F173=\"\",\"\",IF(F173>Welcome!$J$20-1,\"Exceeding\",IF(F173>Welcome!$F$20-1,\"Expected\",IF(F173<Welcome!$F$20,\"Below\"))))","v":""},{"$f":"IF(ISBLANK('Data Input'!A177),\"\",COUNTIF('Data Input'!C177:AZ177,\"\"))","v":""},{"$f":"IF(ISBLANK('Data Input'!A177),\"\",COUNTIF('Data Input'!C177:AZ177,\"0\"))","v":""},{"$f":"IF(ISBLANK('Data Input'!A177),\"\",SUM(C173,D173))","v":""},{"$f":"IF(ISBLANK('Data Input'!A177),\"\",SUM('Data Input'!C177:AZ177))","v":""},{"$f":"IF(F173=\"\",\"\",F173/(COUNTA('Data Input'!$C$8:$AZ$8)))","v":""},{"$f":"IF(ISBLANK('Data Input'!A177),\"\",SUM('Data Input'!C177,'Data Input'!H177,'Data Input'!J177,'Data Input'!N177,'Data Input'!R177,'Data Input'!T177,'Data Input'!Y177,'Data Input'!AE177,'Data Input'!AK177,'Data Input'!AM177))","v":""},{"$f":"IF(H173=\"\",\"\",H173/COUNTIF('Data Input'!$C$8:$AZ$8,$H$2))","v":""},{"$f":"IF(ISBLANK('Data Input'!A177),\"\",SUM('Data Input'!G177,'Data Input'!I177,'Data Input'!K177,'Data Input'!O177,'Data Input'!P177,'Data Input'!S177,'Data Input'!U177,'Data Input'!V177,'Data Input'!W177,'Data Input'!X177,'Data Input'!Z177,'Data Input'!AA177,'Data Input'!AD177,'Data Input'!AZ177))","v":""},{"$f":"IF(J173=\"\",\"\",J173/COUNTIF('Data Input'!$C$8:$AZ$8,$J$2))","v":""},{"$f":"IF(ISBLANK('Data Input'!A177),\"\",SUM('Data Input'!Q177,'Data Input'!AG177))","v":""},{"$f":"IF(L173=\"\",\"\",L173/COUNTIF('Data Input'!$C$8:$AZ$8,$L$2))","v":""},{"$f":"IF(ISBLANK('Data Input'!A177),\"\",SUM('Data Input'!D177,'Data Input'!E177,'Data Input'!F177,'Data Input'!L177,'Data Input'!M177,'Data Input'!AB177,'Data Input'!AC177,'Data Input'!AF177,'Data Input'!AJ177,'Data Input'!AL177,'Data Input'!AN177,'Data Input'!AO177,'Data Input'!AP177,'Data Input'!AQ177,'Data Input'!AR177,'Data Input'!AS177,'Data Input'!AT177,'Data Input'!AU177,'Data Input'!AV177,'Data Input'!AW177,'Data Input'!AX177,'Data Input'!AY177))","v":""},{"$f":"IF(N173=\"\",\"\",N173/COUNTIF('Data Input'!$C$8:$AZ$8,$N$2))","v":""},null,{"$f":"IF(P173=\"\",\"\",P173/COUNTIF('Data Input'!$C$8:$AZ$8,$P$2))","v":""},{"$f":"IF(ISBLANK('Data Input'!A177),\"\",SUM('Data Input'!AH177))","v":""},{"$f":"IF(R173=\"\",\"\",R173/COUNTIF('Data Input'!$C$8:$AZ$8,$R$2))","v":""},{"$f":"IF(ISBLANK('Data Input'!$A177),\"\",SUM('Data Input'!AI177))","v":""},{"$f":"IF(T173=\"\",\"\",T173/COUNTIF('Data Input'!$C$8:$AZ$8,$T$2))","v":""},null,{"$f":"IF(V173=\"\",\"\",V173/COUNTIF('Data Input'!$C$8:$AZ$8,$V$2))","v":""}]
[{"$f":"IF('Data Input'!A178=0,\"\",'Data Input'!A178)","v":""},{"$f":"IF(F174=\"\",\"\",IF(F174>Welcome!$J$20-1,\"Exceeding\",IF(F174>Welcome!$F$20-1,\"Expected\",IF(F174<Welcome!$F$20,\"Below\"))))","v":""},{"$f":"IF(ISBLANK('Data Input'!A178),\"\",COUNTIF('Data Input'!C178:AZ178,\"\"))","v":""},{"$f":"IF(ISBLANK('Data Input'!A178),\"\",COUNTIF('Data Input'!C178:AZ178,\"0\"))","v":""},{"$f":"IF(ISBLANK('Data Input'!A178),\"\",SUM(C174,D174))","v":""},{"$f":"IF(ISBLANK('Data Input'!A178),\"\",SUM('Data Input'!C178:AZ178))","v":""},{"$f":"IF(F174=\"\",\"\",F174/(COUNTA('Data Input'!$C$8:$AZ$8)))","v":""},{"$f":"IF(ISBLANK('Data Input'!A178),\"\",SUM('Data Input'!C178,'Data Input'!H178,'Data Input'!J178,'Data Input'!N178,'Data Input'!R178,'Data Input'!T178,'Data Input'!Y178,'Data Input'!AE178,'Data Input'!AK178,'Data Input'!AM178))","v":""},{"$f":"IF(H174=\"\",\"\",H174/COUNTIF('Data Input'!$C$8:$AZ$8,$H$2))","v":""},{"$f":"IF(ISBLANK('Data Input'!A178),\"\",SUM('Data Input'!G178,'Data Input'!I178,'Data Input'!K178,'Data Input'!O178,'Data Input'!P178,'Data Input'!S178,'Data Input'!U178,'Data Input'!V178,'Data Input'!W178,'Data Input'!X178,'Data Input'!Z178,'Data Input'!AA178,'Data Input'!AD178,'Data Input'!AZ178))","v":""},{"$f":"IF(J174=\"\",\"\",J174/COUNTIF('Data Input'!$C$8:$AZ$8,$J$2))","v":""},{"$f":"IF(ISBLANK('Data Input'!A178),\"\",SUM('Data Input'!Q178,'Data Input'!AG178))","v":""},{"$f":"IF(L174=\"\",\"\",L174/COUNTIF('Data Input'!$C$8:$AZ$8,$L$2))","v":""},{"$f":"IF(ISBLANK('Data Input'!A178),\"\",SUM('Data Input'!D178,'Data Input'!E178,'Data Input'!F178,'Data Input'!L178,'Data Input'!M178,'Data Input'!AB178,'Data Input'!AC178,'Data Input'!AF178,'Data Input'!AJ178,'Data Input'!AL178,'Data Input'!AN178,'Data Input'!AO178,'Data Input'!AP178,'Data Input'!AQ178,'Data Input'!AR178,'Data Input'!AS178,'Data Input'!AT178,'Data Input'!AU178,'Data Input'!AV178,'Data Input'!AW178,'Data Input'!AX178,'Data Input'!AY178))","v":""},{"$f":"IF(N174=\"\",\"\",N174/COUNTIF('Data Input'!$C$8:$AZ$8,$N$2))","v":""},null,{"$f":"IF(P174=\"\",\"\",P174/COUNTIF('Data Input'!$C$8:$AZ$8,$P$2))","v":""},{"$f":"IF(ISBLANK('Data Input'!A178),\"\",SUM('Data Input'!AH178))","v":""},{"$f":"IF(R174=\"\",\"\",R174/COUNTIF('Data Input'!$C$8:$AZ$8,$R$2))","v":""},{"$f":"IF(ISBLANK('Data Input'!$A178),\"\",SUM('Data Input'!AI178))","v":""},{"$f":"IF(T174=\"\",\"\",T174/COUNTIF('Data Input'!$C$8:$AZ$8,$T$2))","v":""},null,{"$f":"IF(V174=\"\",\"\",V174/COUNTIF('Data Input'!$C$8:$AZ$8,$V$2))","v":""}]
[{"$f":"IF('Data Input'!A179=0,\"\",'Data Input'!A179)","v":""},{"$f":"IF(F175=\"\",\"\",IF(F175>Welcome!$J$20-1,\"Exceeding\",IF(F175>Welcome!$F$20-1,\"Expected\",IF(F175<Welcome!$F$20,\"Below\"))))","v":""},{"$f":"IF(ISBLANK('Data Input'!A179),\"\",COUNTIF('Data Input'!C179:AZ179,\"\"))","v":""},{"$f":"IF(ISBLANK('Data Input'!A179),\"\",COUNTIF('Data Input'!C179:AZ179,\"0\"))","v":""},{"$f":"IF(ISBLANK('Data Input'!A179),\"\",SUM(C175,D175))","v":""},{"$f":"IF(ISBLANK('Data Input'!A179),\"\",SUM('Data Input'!C179:AZ179))","v":""},{"$f":"IF(F175=\"\",\"\",F175/(COUNTA('Data Input'!$C$8:$AZ$8)))","v":""},{"$f":"IF(ISBLANK('Data Input'!A179),\"\",SUM('Data Input'!C179,'Data Input'!H179,'Data Input'!J179,'Data Input'!N179,'Data Input'!R179,'Data Input'!T179,'Data Input'!Y179,'Data Input'!AE179,'Data Input'!AK179,'Data Input'!AM179))","v":""},{"$f":"IF(H175=\"\",\"\",H175/COUNTIF('Data Input'!$C$8:$AZ$8,$H$2))","v":""},{"$f":"IF(ISBLANK('Data Input'!A179),\"\",SUM('Data Input'!G179,'Data Input'!I179,'Data Input'!K179,'Data Input'!O179,'Data Input'!P179,'Data Input'!S179,'Data Input'!U179,'Data Input'!V179,'Data Input'!W179,'Data Input'!X179,'Data Input'!Z179,'Data Input'!AA179,'Data Input'!AD179,'Data Input'!AZ179))","v":""},{"$f":"IF(J175=\"\",\"\",J175/COUNTIF('Data Input'!$C$8:$AZ$8,$J$2))","v":""},{"$f":"IF(ISBLANK('Data Input'!A179),\"\",SUM('Data Input'!Q179,'Data Input'!AG179))","v":""},{"$f":"IF(L175=\"\",\"\",L175/COUNTIF('Data Input'!$C$8:$AZ$8,$L$2))","v":""},{"$f":"IF(ISBLANK('Data Input'!A179),\"\",SUM('Data Input'!D179,'Data Input'!E179,'Data Input'!F179,'Data Input'!L179,'Data Input'!M179,'Data Input'!AB179,'Data Input'!AC179,'Data Input'!AF179,'Data Input'!AJ179,'Data Input'!AL179,'Data Input'!AN179,'Data Input'!AO179,'Data Input'!AP179,'Data Input'!AQ179,'Data Input'!AR179,'Data Input'!AS179,'Data Input'!AT179,'Data Input'!AU179,'Data Input'!AV179,'Data Input'!AW179,'Data Input'!AX179,'Data Input'!AY179))","v":""},{"$f":"IF(N175=\"\",\"\",N175/COUNTIF('Data Input'!$C$8:$AZ$8,$N$2))","v":""},null,{"$f":"IF(P175=\"\",\"\",P175/COUNTIF('Data Input'!$C$8:$AZ$8,$P$2))","v":""},{"$f":"IF(ISBLANK('Data Input'!A179),\"\",SUM('Data Input'!AH179))","v":""},{"$f":"IF(R175=\"\",\"\",R175/COUNTIF('Data Input'!$C$8:$AZ$8,$R$2))","v":""},{"$f":"IF(ISBLANK('Data Input'!$A179),\"\",SUM('Data Input'!AI179))","v":""},{"$f":"IF(T175=\"\",\"\",T175/COUNTIF('Data Input'!$C$8:$AZ$8,$T$2))","v":""},null,{"$f":"IF(V175=\"\",\"\",V175/COUNTIF('Data Input'!$C$8:$AZ$8,$V$2))","v":""}]
[{"$f":"IF('Data Input'!A180=0,\"\",'Data Input'!A180)","v":""},{"$f":"IF(F176=\"\",\"\",IF(F176>Welcome!$J$20-1,\"Exceeding\",IF(F176>Welcome!$F$20-1,\"Expected\",IF(F176<Welcome!$F$20,\"Below\"))))","v":""},{"$f":"IF(ISBLANK('Data Input'!A180),\"\",COUNTIF('Data Input'!C180:AZ180,\"\"))","v":""},{"$f":"IF(ISBLANK('Data Input'!A180),\"\",COUNTIF('Data Input'!C180:AZ180,\"0\"))","v":""},{"$f":"IF(ISBLANK('Data Input'!A180),\"\",SUM(C176,D176))","v":""},{"$f":"IF(ISBLANK('Data Input'!A180),\"\",SUM('Data Input'!C180:AZ180))","v":""},{"$f":"IF(F176=\"\",\"\",F176/(COUNTA('Data Input'!$C$8:$AZ$8)))","v":""},{"$f":"IF(ISBLANK('Data Input'!A180),\"\",SUM('Data Input'!C180,'Data Input'!H180,'Data Input'!J180,'Data Input'!N180,'Data Input'!R180,'Data Input'!T180,'Data Input'!Y180,'Data Input'!AE180,'Data Input'!AK180,'Data Input'!AM180))","v":""},{"$f":"IF(H176=\"\",\"\",H176/COUNTIF('Data Input'!$C$8:$AZ$8,$H$2))","v":""},{"$f":"IF(ISBLANK('Data Input'!A180),\"\",SUM('Data Input'!G180,'Data Input'!I180,'Data Input'!K180,'Data Input'!O180,'Data Input'!P180,'Data Input'!S180,'Data Input'!U180,'Data Input'!V180,'Data Input'!W180,'Data Input'!X180,'Data Input'!Z180,'Data Input'!AA180,'Data Input'!AD180,'Data Input'!AZ180))","v":""},{"$f":"IF(J176=\"\",\"\",J176/COUNTIF('Data Input'!$C$8:$AZ$8,$J$2))","v":""},{"$f":"IF(ISBLANK('Data Input'!A180),\"\",SUM('Data Input'!Q180,'Data Input'!AG180))","v":""},{"$f":"IF(L176=\"\",\"\",L176/COUNTIF('Data Input'!$C$8:$AZ$8,$L$2))","v":""},{"$f":"IF(ISBLANK('Data Input'!A180),\"\",SUM('Data Input'!D180,'Data Input'!E180,'Data Input'!F180,'Data Input'!L180,'Data Input'!M180,'Data Input'!AB180,'Data Input'!AC180,'Data Input'!AF180,'Data Input'!AJ180,'Data Input'!AL180,'Data Input'!AN180,'Data Input'!AO180,'Data Input'!AP180,'Data Input'!AQ180,'Data Input'!AR180,'Data Input'!AS180,'Data Input'!AT180,'Data Input'!AU180,'Data Input'!AV180,'Data Input'!AW180,'Data Input'!AX180,'Data Input'!AY180))","v":""},{"$f":"IF(N176=\"\",\"\",N176/COUNTIF('Data Input'!$C$8:$AZ$8,$N$2))","v":""},null,{"$f":"IF(P176=\"\",\"\",P176/COUNTIF('Data Input'!$C$8:$AZ$8,$P$2))","v":""},{"$f":"IF(ISBLANK('Data Input'!A180),\"\",SUM('Data Input'!AH180))","v":""},{"$f":"IF(R176=\"\",\"\",R176/COUNTIF('Data Input'!$C$8:$AZ$8,$R$2))","v":""},{"$f":"IF(ISBLANK('Data Input'!$A180),\"\",SUM('Data Input'!AI180))","v":""},{"$f":"IF(T176=\"\",\"\",T176/COUNTIF('Data Input'!$C$8:$AZ$8,$T$2))","v":""},null,{"$f":"IF(V176=\"\",\"\",V176/COUNTIF('Data Input'!$C$8:$AZ$8,$V$2))","v":""}]
[{"$f":"IF('Data Input'!A181=0,\"\",'Data Input'!A181)","v":""},{"$f":"IF(F177=\"\",\"\",IF(F177>Welcome!$J$20-1,\"Exceeding\",IF(F177>Welcome!$F$20-1,\"Expected\",IF(F177<Welcome!$F$20,\"Below\"))))","v":""},{"$f":"IF(ISBLANK('Data Input'!A181),\"\",COUNTIF('Data Input'!C181:AZ181,\"\"))","v":""},{"$f":"IF(ISBLANK('Data Input'!A181),\"\",COUNTIF('Data Input'!C181:AZ181,\"0\"))","v":""},{"$f":"IF(ISBLANK('Data Input'!A181),\"\",SUM(C177,D177))","v":""},{"$f":"IF(ISBLANK('Data Input'!A181),\"\",SUM('Data Input'!C181:AZ181))","v":""},{"$f":"IF(F177=\"\",\"\",F177/(COUNTA('Data Input'!$C$8:$AZ$8)))","v":""},{"$f":"IF(ISBLANK('Data Input'!A181),\"\",SUM('Data Input'!C181,'Data Input'!H181,'Data Input'!J181,'Data Input'!N181,'Data Input'!R181,'Data Input'!T181,'Data Input'!Y181,'Data Input'!AE181,'Data Input'!AK181,'Data Input'!AM181))","v":""},{"$f":"IF(H177=\"\",\"\",H177/COUNTIF('Data Input'!$C$8:$AZ$8,$H$2))","v":""},{"$f":"IF(ISBLANK('Data Input'!A181),\"\",SUM('Data Input'!G181,'Data Input'!I181,'Data Input'!K181,'Data Input'!O181,'Data Input'!P181,'Data Input'!S181,'Data Input'!U181,'Data Input'!V181,'Data Input'!W181,'Data Input'!X181,'Data Input'!Z181,'Data Input'!AA181,'Data Input'!AD181,'Data Input'!AZ181))","v":""},{"$f":"IF(J177=\"\",\"\",J177/COUNTIF('Data Input'!$C$8:$AZ$8,$J$2))","v":""},{"$f":"IF(ISBLANK('Data Input'!A181),\"\",SUM('Data Input'!Q181,'Data Input'!AG181))","v":""},{"$f":"IF(L177=\"\",\"\",L177/COUNTIF('Data Input'!$C$8:$AZ$8,$L$2))","v":""},{"$f":"IF(ISBLANK('Data Input'!A181),\"\",SUM('Data Input'!D181,'Data Input'!E181,'Data Input'!F181,'Data Input'!L181,'Data Input'!M181,'Data Input'!AB181,'Data Input'!AC181,'Data Input'!AF181,'Data Input'!AJ181,'Data Input'!AL181,'Data Input'!AN181,'Data Input'!AO181,'Data Input'!AP181,'Data Input'!AQ181,'Data Input'!AR181,'Data Input'!AS181,'Data Input'!AT181,'Data Input'!AU181,'Data Input'!AV181,'Data Input'!AW181,'Data Input'!AX181,'Data Input'!AY181))","v":""},{"$f":"IF(N177=\"\",\"\",N177/COUNTIF('Data Input'!$C$8:$AZ$8,$N$2))","v":""},null,{"$f":"IF(P177=\"\",\"\",P177/COUNTIF('Data Input'!$C$8:$AZ$8,$P$2))","v":""},{"$f":"IF(ISBLANK('Data Input'!A181),\"\",SUM('Data Input'!AH181))","v":""},{"$f":"IF(R177=\"\",\"\",R177/COUNTIF('Data Input'!$C$8:$AZ$8,$R$2))","v":""},{"$f":"IF(ISBLANK('Data Input'!$A181),\"\",SUM('Data Input'!AI181))","v":""},{"$f":"IF(T177=\"\",\"\",T177/COUNTIF('Data Input'!$C$8:$AZ$8,$T$2))","v":""},null,{"$f":"IF(V177=\"\",\"\",V177/COUNTIF('Data Input'!$C$8:$AZ$8,$V$2))","v":""}]
[{"$f":"IF('Data Input'!A182=0,\"\",'Data Input'!A182)","v":""},{"$f":"IF(F178=\"\",\"\",IF(F178>Welcome!$J$20-1,\"Exceeding\",IF(F178>Welcome!$F$20-1,\"Expected\",IF(F178<Welcome!$F$20,\"Below\"))))","v":""},{"$f":"IF(ISBLANK('Data Input'!A182),\"\",COUNTIF('Data Input'!C182:AZ182,\"\"))","v":""},{"$f":"IF(ISBLANK('Data Input'!A182),\"\",COUNTIF('Data Input'!C182:AZ182,\"0\"))","v":""},{"$f":"IF(ISBLANK('Data Input'!A182),\"\",SUM(C178,D178))","v":""},{"$f":"IF(ISBLANK('Data Input'!A182),\"\",SUM('Data Input'!C182:AZ182))","v":""},{"$f":"IF(F178=\"\",\"\",F178/(COUNTA('Data Input'!$C$8:$AZ$8)))","v":""},{"$f":"IF(ISBLANK('Data Input'!A182),\"\",SUM('Data Input'!C182,'Data Input'!H182,'Data Input'!J182,'Data Input'!N182,'Data Input'!R182,'Data Input'!T182,'Data Input'!Y182,'Data Input'!AE182,'Data Input'!AK182,'Data Input'!AM182))","v":""},{"$f":"IF(H178=\"\",\"\",H178/COUNTIF('Data Input'!$C$8:$AZ$8,$H$2))","v":""},{"$f":"IF(ISBLANK('Data Input'!A182),\"\",SUM('Data Input'!G182,'Data Input'!I182,'Data Input'!K182,'Data Input'!O182,'Data Input'!P182,'Data Input'!S182,'Data Input'!U182,'Data Input'!V182,'Data Input'!W182,'Data Input'!X182,'Data Input'!Z182,'Data Input'!AA182,'Data Input'!AD182,'Data Input'!AZ182))","v":""},{"$f":"IF(J178=\"\",\"\",J178/COUNTIF('Data Input'!$C$8:$AZ$8,$J$2))","v":""},{"$f":"IF(ISBLANK('Data Input'!A182),\"\",SUM('Data Input'!Q182,'Data Input'!AG182))","v":""},{"$f":"IF(L178=\"\",\"\",L178/COUNTIF('Data Input'!$C$8:$AZ$8,$L$2))","v":""},{"$f":"IF(ISBLANK('Data Input'!A182),\"\",SUM('Data Input'!D182,'Data Input'!E182,'Data Input'!F182,'Data Input'!L182,'Data Input'!M182,'Data Input'!AB182,'Data Input'!AC182,'Data Input'!AF182,'Data Input'!AJ182,'Data Input'!AL182,'Data Input'!AN182,'Data Input'!AO182,'Data Input'!AP182,'Data Input'!AQ182,'Data Input'!AR182,'Data Input'!AS182,'Data Input'!AT182,'Data Input'!AU182,'Data Input'!AV182,'Data Input'!AW182,'Data Input'!AX182,'Data Input'!AY182))","v":""},{"$f":"IF(N178=\"\",\"\",N178/COUNTIF('Data Input'!$C$8:$AZ$8,$N$2))","v":""},null,{"$f":"IF(P178=\"\",\"\",P178/COUNTIF('Data Input'!$C$8:$AZ$8,$P$2))","v":""},{"$f":"IF(ISBLANK('Data Input'!A182),\"\",SUM('Data Input'!AH182))","v":""},{"$f":"IF(R178=\"\",\"\",R178/COUNTIF('Data Input'!$C$8:$AZ$8,$R$2))","v":""},{"$f":"IF(ISBLANK('Data Input'!$A182),\"\",SUM('Data Input'!AI182))","v":""},{"$f":"IF(T178=\"\",\"\",T178/COUNTIF('Data Input'!$C$8:$AZ$8,$T$2))","v":""},null,{"$f":"IF(V178=\"\",\"\",V178/COUNTIF('Data Input'!$C$8:$AZ$8,$V$2))","v":""}]
[{"$f":"IF('Data Input'!A183=0,\"\",'Data Input'!A183)","v":""},{"$f":"IF(F179=\"\",\"\",IF(F179>Welcome!$J$20-1,\"Exceeding\",IF(F179>Welcome!$F$20-1,\"Expected\",IF(F179<Welcome!$F$20,\"Below\"))))","v":""},{"$f":"IF(ISBLANK('Data Input'!A183),\"\",COUNTIF('Data Input'!C183:AZ183,\"\"))","v":""},{"$f":"IF(ISBLANK('Data Input'!A183),\"\",COUNTIF('Data Input'!C183:AZ183,\"0\"))","v":""},{"$f":"IF(ISBLANK('Data Input'!A183),\"\",SUM(C179,D179))","v":""},{"$f":"IF(ISBLANK('Data Input'!A183),\"\",SUM('Data Input'!C183:AZ183))","v":""},{"$f":"IF(F179=\"\",\"\",F179/(COUNTA('Data Input'!$C$8:$AZ$8)))","v":""},{"$f":"IF(ISBLANK('Data Input'!A183),\"\",SUM('Data Input'!C183,'Data Input'!H183,'Data Input'!J183,'Data Input'!N183,'Data Input'!R183,'Data Input'!T183,'Data Input'!Y183,'Data Input'!AE183,'Data Input'!AK183,'Data Input'!AM183))","v":""},{"$f":"IF(H179=\"\",\"\",H179/COUNTIF('Data Input'!$C$8:$AZ$8,$H$2))","v":""},{"$f":"IF(ISBLANK('Data Input'!A183),\"\",SUM('Data Input'!G183,'Data Input'!I183,'Data Input'!K183,'Data Input'!O183,'Data Input'!P183,'Data Input'!S183,'Data Input'!U183,'Data Input'!V183,'Data Input'!W183,'Data Input'!X183,'Data Input'!Z183,'Data Input'!AA183,'Data Input'!AD183,'Data Input'!AZ183))","v":""},{"$f":"IF(J179=\"\",\"\",J179/COUNTIF('Data Input'!$C$8:$AZ$8,$J$2))","v":""},{"$f":"IF(ISBLANK('Data Input'!A183),\"\",SUM('Data Input'!Q183,'Data Input'!AG183))","v":""},{"$f":"IF(L179=\"\",\"\",L179/COUNTIF('Data Input'!$C$8:$AZ$8,$L$2))","v":""},{"$f":"IF(ISBLANK('Data Input'!A183),\"\",SUM('Data Input'!D183,'Data Input'!E183,'Data Input'!F183,'Data Input'!L183,'Data Input'!M183,'Data Input'!AB183,'Data Input'!AC183,'Data Input'!AF183,'Data Input'!AJ183,'Data Input'!AL183,'Data Input'!AN183,'Data Input'!AO183,'Data Input'!AP183,'Data Input'!AQ183,'Data Input'!AR183,'Data Input'!AS183,'Data Input'!AT183,'Data Input'!AU183,'Data Input'!AV183,'Data Input'!AW183,'Data Input'!AX183,'Data Input'!AY183))","v":""},{"$f":"IF(N179=\"\",\"\",N179/COUNTIF('Data Input'!$C$8:$AZ$8,$N$2))","v":""},null,{"$f":"IF(P179=\"\",\"\",P179/COUNTIF('Data Input'!$C$8:$AZ$8,$P$2))","v":""},{"$f":"IF(ISBLANK('Data Input'!A183),\"\",SUM('Data Input'!AH183))","v":""},{"$f":"IF(R179=\"\",\"\",R179/COUNTIF('Data Input'!$C$8:$AZ$8,$R$2))","v":""},{"$f":"IF(ISBLANK('Data Input'!$A183),\"\",SUM('Data Input'!AI183))","v":""},{"$f":"IF(T179=\"\",\"\",T179/COUNTIF('Data Input'!$C$8:$AZ$8,$T$2))","v":""},null,{"$f":"IF(V179=\"\",\"\",V179/COUNTIF('Data Input'!$C$8:$AZ$8,$V$2))","v":""}]
[{"$f":"IF('Data Input'!A184=0,\"\",'Data Input'!A184)","v":""},{"$f":"IF(F180=\"\",\"\",IF(F180>Welcome!$J$20-1,\"Exceeding\",IF(F180>Welcome!$F$20-1,\"Expected\",IF(F180<Welcome!$F$20,\"Below\"))))","v":""},{"$f":"IF(ISBLANK('Data Input'!A184),\"\",COUNTIF('Data Input'!C184:AZ184,\"\"))","v":""},{"$f":"IF(ISBLANK('Data Input'!A184),\"\",COUNTIF('Data Input'!C184:AZ184,\"0\"))","v":""},{"$f":"IF(ISBLANK('Data Input'!A184),\"\",SUM(C180,D180))","v":""},{"$f":"IF(ISBLANK('Data Input'!A184),\"\",SUM('Data Input'!C184:AZ184))","v":""},{"$f":"IF(F180=\"\",\"\",F180/(COUNTA('Data Input'!$C$8:$AZ$8)))","v":""},{"$f":"IF(ISBLANK('Data Input'!A184),\"\",SUM('Data Input'!C184,'Data Input'!H184,'Data Input'!J184,'Data Input'!N184,'Data Input'!R184,'Data Input'!T184,'Data Input'!Y184,'Data Input'!AE184,'Data Input'!AK184,'Data Input'!AM184))","v":""},{"$f":"IF(H180=\"\",\"\",H180/COUNTIF('Data Input'!$C$8:$AZ$8,$H$2))","v":""},{"$f":"IF(ISBLANK('Data Input'!A184),\"\",SUM('Data Input'!G184,'Data Input'!I184,'Data Input'!K184,'Data Input'!O184,'Data Input'!P184,'Data Input'!S184,'Data Input'!U184,'Data Input'!V184,'Data Input'!W184,'Data Input'!X184,'Data Input'!Z184,'Data Input'!AA184,'Data Input'!AD184,'Data Input'!AZ184))","v":""},{"$f":"IF(J180=\"\",\"\",J180/COUNTIF('Data Input'!$C$8:$AZ$8,$J$2))","v":""},{"$f":"IF(ISBLANK('Data Input'!A184),\"\",SUM('Data Input'!Q184,'Data Input'!AG184))","v":""},{"$f":"IF(L180=\"\",\"\",L180/COUNTIF('Data Input'!$C$8:$AZ$8,$L$2))","v":""},{"$f":"IF(ISBLANK('Data Input'!A184),\"\",SUM('Data Input'!D184,'Data Input'!E184,'Data Input'!F184,'Data Input'!L184,'Data Input'!M184,'Data Input'!AB184,'Data Input'!AC184,'Data Input'!AF184,'Data Input'!AJ184,'Data Input'!AL184,'Data Input'!AN184,'Data Input'!AO184,'Data Input'!AP184,'Data Input'!AQ184,'Data Input'!AR184,'Data Input'!AS184,'Data Input'!AT184,'Data Input'!AU184,'Data Input'!AV184,'Data Input'!AW184,'Data Input'!AX184,'Data Input'!AY184))","v":""},{"$f":"IF(N180=\"\",\"\",N180/COUNTIF('Data Input'!$C$8:$AZ$8,$N$2))","v":""},null,{"$f":"IF(P180=\"\",\"\",P180/COUNTIF('Data Input'!$C$8:$AZ$8,$P$2))","v":""},{"$f":"IF(ISBLANK('Data Input'!A184),\"\",SUM('Data Input'!AH184))","v":""},{"$f":"IF(R180=\"\",\"\",R180/COUNTIF('Data Input'!$C$8:$AZ$8,$R$2))","v":""},{"$f":"IF(ISBLANK('Data Input'!$A184),\"\",SUM('Data Input'!AI184))","v":""},{"$f":"IF(T180=\"\",\"\",T180/COUNTIF('Data Input'!$C$8:$AZ$8,$T$2))","v":""},null,{"$f":"IF(V180=\"\",\"\",V180/COUNTIF('Data Input'!$C$8:$AZ$8,$V$2))","v":""}]
[{"$f":"IF('Data Input'!A185=0,\"\",'Data Input'!A185)","v":""},{"$f":"IF(F181=\"\",\"\",IF(F181>Welcome!$J$20-1,\"Exceeding\",IF(F181>Welcome!$F$20-1,\"Expected\",IF(F181<Welcome!$F$20,\"Below\"))))","v":""},{"$f":"IF(ISBLANK('Data Input'!A185),\"\",COUNTIF('Data Input'!C185:AZ185,\"\"))","v":""},{"$f":"IF(ISBLANK('Data Input'!A185),\"\",COUNTIF('Data Input'!C185:AZ185,\"0\"))","v":""},{"$f":"IF(ISBLANK('Data Input'!A185),\"\",SUM(C181,D181))","v":""},{"$f":"IF(ISBLANK('Data Input'!A185),\"\",SUM('Data Input'!C185:AZ185))","v":""},{"$f":"IF(F181=\"\",\"\",F181/(COUNTA('Data Input'!$C$8:$AZ$8)))","v":""},{"$f":"IF(ISBLANK('Data Input'!A185),\"\",SUM('Data Input'!C185,'Data Input'!H185,'Data Input'!J185,'Data Input'!N185,'Data Input'!R185,'Data Input'!T185,'Data Input'!Y185,'Data Input'!AE185,'Data Input'!AK185,'Data Input'!AM185))","v":""},{"$f":"IF(H181=\"\",\"\",H181/COUNTIF('Data Input'!$C$8:$AZ$8,$H$2))","v":""},{"$f":"IF(ISBLANK('Data Input'!A185),\"\",SUM('Data Input'!G185,'Data Input'!I185,'Data Input'!K185,'Data Input'!O185,'Data Input'!P185,'Data Input'!S185,'Data Input'!U185,'Data Input'!V185,'Data Input'!W185,'Data Input'!X185,'Data Input'!Z185,'Data Input'!AA185,'Data Input'!AD185,'Data Input'!AZ185))","v":""},{"$f":"IF(J181=\"\",\"\",J181/COUNTIF('Data Input'!$C$8:$AZ$8,$J$2))","v":""},{"$f":"IF(ISBLANK('Data Input'!A185),\"\",SUM('Data Input'!Q185,'Data Input'!AG185))","v":""},{"$f":"IF(L181=\"\",\"\",L181/COUNTIF('Data Input'!$C$8:$AZ$8,$L$2))","v":""},{"$f":"IF(ISBLANK('Data Input'!A185),\"\",SUM('Data Input'!D185,'Data Input'!E185,'Data Input'!F185,'Data Input'!L185,'Data Input'!M185,'Data Input'!AB185,'Data Input'!AC185,'Data Input'!AF185,'Data Input'!AJ185,'Data Input'!AL185,'Data Input'!AN185,'Data Input'!AO185,'Data Input'!AP185,'Data Input'!AQ185,'Data Input'!AR185,'Data Input'!AS185,'Data Input'!AT185,'Data Input'!AU185,'Data Input'!AV185,'Data Input'!AW185,'Data Input'!AX185,'Data Input'!AY185))","v":""},{"$f":"IF(N181=\"\",\"\",N181/COUNTIF('Data Input'!$C$8:$AZ$8,$N$2))","v":""},null,{"$f":"IF(P181=\"\",\"\",P181/COUNTIF('Data Input'!$C$8:$AZ$8,$P$2))","v":""},{"$f":"IF(ISBLANK('Data Input'!A185),\"\",SUM('Data Input'!AH185))","v":""},{"$f":"IF(R181=\"\",\"\",R181/COUNTIF('Data Input'!$C$8:$AZ$8,$R$2))","v":""},{"$f":"IF(ISBLANK('Data Input'!$A185),\"\",SUM('Data Input'!AI185))","v":""},{"$f":"IF(T181=\"\",\"\",T181/COUNTIF('Data Input'!$C$8:$AZ$8,$T$2))","v":""},null,{"$f":"IF(V181=\"\",\"\",V181/COUNTIF('Data Input'!$C$8:$AZ$8,$V$2))","v":""}]
[{"$f":"IF('Data Input'!A186=0,\"\",'Data Input'!A186)","v":""},{"$f":"IF(F182=\"\",\"\",IF(F182>Welcome!$J$20-1,\"Exceeding\",IF(F182>Welcome!$F$20-1,\"Expected\",IF(F182<Welcome!$F$20,\"Below\"))))","v":""},{"$f":"IF(ISBLANK('Data Input'!A186),\"\",COUNTIF('Data Input'!C186:AZ186,\"\"))","v":""},{"$f":"IF(ISBLANK('Data Input'!A186),\"\",COUNTIF('Data Input'!C186:AZ186,\"0\"))","v":""},{"$f":"IF(ISBLANK('Data Input'!A186),\"\",SUM(C182,D182))","v":""},{"$f":"IF(ISBLANK('Data Input'!A186),\"\",SUM('Data Input'!C186:AZ186))","v":""},{"$f":"IF(F182=\"\",\"\",F182/(COUNTA('Data Input'!$C$8:$AZ$8)))","v":""},{"$f":"IF(ISBLANK('Data Input'!A186),\"\",SUM('Data Input'!C186,'Data Input'!H186,'Data Input'!J186,'Data Input'!N186,'Data Input'!R186,'Data Input'!T186,'Data Input'!Y186,'Data Input'!AE186,'Data Input'!AK186,'Data Input'!AM186))","v":""},{"$f":"IF(H182=\"\",\"\",H182/COUNTIF('Data Input'!$C$8:$AZ$8,$H$2))","v":""},{"$f":"IF(ISBLANK('Data Input'!A186),\"\",SUM('Data Input'!G186,'Data Input'!I186,'Data Input'!K186,'Data Input'!O186,'Data Input'!P186,'Data Input'!S186,'Data Input'!U186,'Data Input'!V186,'Data Input'!W186,'Data Input'!X186,'Data Input'!Z186,'Data Input'!AA186,'Data Input'!AD186,'Data Input'!AZ186))","v":""},{"$f":"IF(J182=\"\",\"\",J182/COUNTIF('Data Input'!$C$8:$AZ$8,$J$2))","v":""},{"$f":"IF(ISBLANK('Data Input'!A186),\"\",SUM('Data Input'!Q186,'Data Input'!AG186))","v":""},{"$f":"IF(L182=\"\",\"\",L182/COUNTIF('Data Input'!$C$8:$AZ$8,$L$2))","v":""},{"$f":"IF(ISBLANK('Data Input'!A186),\"\",SUM('Data Input'!D186,'Data Input'!E186,'Data Input'!F186,'Data Input'!L186,'Data Input'!M186,'Data Input'!AB186,'Data Input'!AC186,'Data Input'!AF186,'Data Input'!AJ186,'Data Input'!AL186,'Data Input'!AN186,'Data Input'!AO186,'Data Input'!AP186,'Data Input'!AQ186,'Data Input'!AR186,'Data Input'!AS186,'Data Input'!AT186,'Data Input'!AU186,'Data Input'!AV186,'Data Input'!AW186,'Data Input'!AX186,'Data Input'!AY186))","v":""},{"$f":"IF(N182=\"\",\"\",N182/COUNTIF('Data Input'!$C$8:$AZ$8,$N$2))","v":""},null,{"$f":"IF(P182=\"\",\"\",P182/COUNTIF('Data Input'!$C$8:$AZ$8,$P$2))","v":""},{"$f":"IF(ISBLANK('Data Input'!A186),\"\",SUM('Data Input'!AH186))","v":""},{"$f":"IF(R182=\"\",\"\",R182/COUNTIF('Data Input'!$C$8:$AZ$8,$R$2))","v":""},{"$f":"IF(ISBLANK('Data Input'!$A186),\"\",SUM('Data Input'!AI186))","v":""},{"$f":"IF(T182=\"\",\"\",T182/COUNTIF('Data Input'!$C$8:$AZ$8,$T$2))","v":""},null,{"$f":"IF(V182=\"\",\"\",V182/COUNTIF('Data Input'!$C$8:$AZ$8,$V$2))","v":""}]
[{"$f":"IF('Data Input'!A187=0,\"\",'Data Input'!A187)","v":""},{"$f":"IF(F183=\"\",\"\",IF(F183>Welcome!$J$20-1,\"Exceeding\",IF(F183>Welcome!$F$20-1,\"Expected\",IF(F183<Welcome!$F$20,\"Below\"))))","v":""},{"$f":"IF(ISBLANK('Data Input'!A187),\"\",COUNTIF('Data Input'!C187:AZ187,\"\"))","v":""},{"$f":"IF(ISBLANK('Data Input'!A187),\"\",COUNTIF('Data Input'!C187:AZ187,\"0\"))","v":""},{"$f":"IF(ISBLANK('Data Input'!A187),\"\",SUM(C183,D183))","v":""},{"$f":"IF(ISBLANK('Data Input'!A187),\"\",SUM('Data Input'!C187:AZ187))","v":""},{"$f":"IF(F183=\"\",\"\",F183/(COUNTA('Data Input'!$C$8:$AZ$8)))","v":""},{"$f":"IF(ISBLANK('Data Input'!A187),\"\",SUM('Data Input'!C187,'Data Input'!H187,'Data Input'!J187,'Data Input'!N187,'Data Input'!R187,'Data Input'!T187,'Data Input'!Y187,'Data Input'!AE187,'Data Input'!AK187,'Data Input'!AM187))","v":""},{"$f":"IF(H183=\"\",\"\",H183/COUNTIF('Data Input'!$C$8:$AZ$8,$H$2))","v":""},{"$f":"IF(ISBLANK('Data Input'!A187),\"\",SUM('Data Input'!G187,'Data Input'!I187,'Data Input'!K187,'Data Input'!O187,'Data Input'!P187,'Data Input'!S187,'Data Input'!U187,'Data Input'!V187,'Data Input'!W187,'Data Input'!X187,'Data Input'!Z187,'Data Input'!AA187,'Data Input'!AD187,'Data Input'!AZ187))","v":""},{"$f":"IF(J183=\"\",\"\",J183/COUNTIF('Data Input'!$C$8:$AZ$8,$J$2))","v":""},{"$f":"IF(ISBLANK('Data Input'!A187),\"\",SUM('Data Input'!Q187,'Data Input'!AG187))","v":""},{"$f":"IF(L183=\"\",\"\",L183/COUNTIF('Data Input'!$C$8:$AZ$8,$L$2))","v":""},{"$f":"IF(ISBLANK('Data Input'!A187),\"\",SUM('Data Input'!D187,'Data Input'!E187,'Data Input'!F187,'Data Input'!L187,'Data Input'!M187,'Data Input'!AB187,'Data Input'!AC187,'Data Input'!AF187,'Data Input'!AJ187,'Data Input'!AL187,'Data Input'!AN187,'Data Input'!AO187,'Data Input'!AP187,'Data Input'!AQ187,'Data Input'!AR187,'Data Input'!AS187,'Data Input'!AT187,'Data Input'!AU187,'Data Input'!AV187,'Data Input'!AW187,'Data Input'!AX187,'Data Input'!AY187))","v":""},{"$f":"IF(N183=\"\",\"\",N183/COUNTIF('Data Input'!$C$8:$AZ$8,$N$2))","v":""},null,{"$f":"IF(P183=\"\",\"\",P183/COUNTIF('Data Input'!$C$8:$AZ$8,$P$2))","v":""},{"$f":"IF(ISBLANK('Data Input'!A187),\"\",SUM('Data Input'!AH187))","v":""},{"$f":"IF(R183=\"\",\"\",R183/COUNTIF('Data Input'!$C$8:$AZ$8,$R$2))","v":""},{"$f":"IF(ISBLANK('Data Input'!$A187),\"\",SUM('Data Input'!AI187))","v":""},{"$f":"IF(T183=\"\",\"\",T183/COUNTIF('Data Input'!$C$8:$AZ$8,$T$2))","v":""},null,{"$f":"IF(V183=\"\",\"\",V183/COUNTIF('Data Input'!$C$8:$AZ$8,$V$2))","v":""}]
[{"$f":"IF('Data Input'!A188=0,\"\",'Data Input'!A188)","v":""},{"$f":"IF(F184=\"\",\"\",IF(F184>Welcome!$J$20-1,\"Exceeding\",IF(F184>Welcome!$F$20-1,\"Expected\",IF(F184<Welcome!$F$20,\"Below\"))))","v":""},{"$f":"IF(ISBLANK('Data Input'!A188),\"\",COUNTIF('Data Input'!C188:AZ188,\"\"))","v":""},{"$f":"IF(ISBLANK('Data Input'!A188),\"\",COUNTIF('Data Input'!C188:AZ188,\"0\"))","v":""},{"$f":"IF(ISBLANK('Data Input'!A188),\"\",SUM(C184,D184))","v":""},{"$f":"IF(ISBLANK('Data Input'!A188),\"\",SUM('Data Input'!C188:AZ188))","v":""},{"$f":"IF(F184=\"\",\"\",F184/(COUNTA('Data Input'!$C$8:$AZ$8)))","v":""},{"$f":"IF(ISBLANK('Data Input'!A188),\"\",SUM('Data Input'!C188,'Data Input'!H188,'Data Input'!J188,'Data Input'!N188,'Data Input'!R188,'Data Input'!T188,'Data Input'!Y188,'Data Input'!AE188,'Data Input'!AK188,'Data Input'!AM188))","v":""},{"$f":"IF(H184=\"\",\"\",H184/COUNTIF('Data Input'!$C$8:$AZ$8,$H$2))","v":""},{"$f":"IF(ISBLANK('Data Input'!A188),\"\",SUM('Data Input'!G188,'Data Input'!I188,'Data Input'!K188,'Data Input'!O188,'Data Input'!P188,'Data Input'!S188,'Data Input'!U188,'Data Input'!V188,'Data Input'!W188,'Data Input'!X188,'Data Input'!Z188,'Data Input'!AA188,'Data Input'!AD188,'Data Input'!AZ188))","v":""},{"$f":"IF(J184=\"\",\"\",J184/COUNTIF('Data Input'!$C$8:$AZ$8,$J$2))","v":""},{"$f":"IF(ISBLANK('Data Input'!A188),\"\",SUM('Data Input'!Q188,'Data Input'!AG188))","v":""},{"$f":"IF(L184=\"\",\"\",L184/COUNTIF('Data Input'!$C$8:$AZ$8,$L$2))","v":""},{"$f":"IF(ISBLANK('Data Input'!A188),\"\",SUM('Data Input'!D188,'Data Input'!E188,'Data Input'!F188,'Data Input'!L188,'Data Input'!M188,'Data Input'!AB188,'Data Input'!AC188,'Data Input'!AF188,'Data Input'!AJ188,'Data Input'!AL188,'Data Input'!AN188,'Data Input'!AO188,'Data Input'!AP188,'Data Input'!AQ188,'Data Input'!AR188,'Data Input'!AS188,'Data Input'!AT188,'Data Input'!AU188,'Data Input'!AV188,'Data Input'!AW188,'Data Input'!AX188,'Data Input'!AY188))","v":""},{"$f":"IF(N184=\"\",\"\",N184/COUNTIF('Data Input'!$C$8:$AZ$8,$N$2))","v":""},null,{"$f":"IF(P184=\"\",\"\",P184/COUNTIF('Data Input'!$C$8:$AZ$8,$P$2))","v":""},{"$f":"IF(ISBLANK('Data Input'!A188),\"\",SUM('Data Input'!AH188))","v":""},{"$f":"IF(R184=\"\",\"\",R184/COUNTIF('Data Input'!$C$8:$AZ$8,$R$2))","v":""},{"$f":"IF(ISBLANK('Data Input'!$A188),\"\",SUM('Data Input'!AI188))","v":""},{"$f":"IF(T184=\"\",\"\",T184/COUNTIF('Data Input'!$C$8:$AZ$8,$T$2))","v":""},null,{"$f":"IF(V184=\"\",\"\",V184/COUNTIF('Data Input'!$C$8:$AZ$8,$V$2))","v":""}]
[{"$f":"IF('Data Input'!A189=0,\"\",'Data Input'!A189)","v":""},{"$f":"IF(F185=\"\",\"\",IF(F185>Welcome!$J$20-1,\"Exceeding\",IF(F185>Welcome!$F$20-1,\"Expected\",IF(F185<Welcome!$F$20,\"Below\"))))","v":""},{"$f":"IF(ISBLANK('Data Input'!A189),\"\",COUNTIF('Data Input'!C189:AZ189,\"\"))","v":""},{"$f":"IF(ISBLANK('Data Input'!A189),\"\",COUNTIF('Data Input'!C189:AZ189,\"0\"))","v":""},{"$f":"IF(ISBLANK('Data Input'!A189),\"\",SUM(C185,D185))","v":""},{"$f":"IF(ISBLANK('Data Input'!A189),\"\",SUM('Data Input'!C189:AZ189))","v":""},{"$f":"IF(F185=\"\",\"\",F185/(COUNTA('Data Input'!$C$8:$AZ$8)))","v":""},{"$f":"IF(ISBLANK('Data Input'!A189),\"\",SUM('Data Input'!C189,'Data Input'!H189,'Data Input'!J189,'Data Input'!N189,'Data Input'!R189,'Data Input'!T189,'Data Input'!Y189,'Data Input'!AE189,'Data Input'!AK189,'Data Input'!AM189))","v":""},{"$f":"IF(H185=\"\",\"\",H185/COUNTIF('Data Input'!$C$8:$AZ$8,$H$2))","v":""},{"$f":"IF(ISBLANK('Data Input'!A189),\"\",SUM('Data Input'!G189,'Data Input'!I189,'Data Input'!K189,'Data Input'!O189,'Data Input'!P189,'Data Input'!S189,'Data Input'!U189,'Data Input'!V189,'Data Input'!W189,'Data Input'!X189,'Data Input'!Z189,'Data Input'!AA189,'Data Input'!AD189,'Data Input'!AZ189))","v":""},{"$f":"IF(J185=\"\",\"\",J185/COUNTIF('Data Input'!$C$8:$AZ$8,$J$2))","v":""},{"$f":"IF(ISBLANK('Data Input'!A189),\"\",SUM('Data Input'!Q189,'Data Input'!AG189))","v":""},{"$f":"IF(L185=\"\",\"\",L185/COUNTIF('Data Input'!$C$8:$AZ$8,$L$2))","v":""},{"$f":"IF(ISBLANK('Data Input'!A189),\"\",SUM('Data Input'!D189,'Data Input'!E189,'Data Input'!F189,'Data Input'!L189,'Data Input'!M189,'Data Input'!AB189,'Data Input'!AC189,'Data Input'!AF189,'Data Input'!AJ189,'Data Input'!AL189,'Data Input'!AN189,'Data Input'!AO189,'Data Input'!AP189,'Data Input'!AQ189,'Data Input'!AR189,'Data Input'!AS189,'Data Input'!AT189,'Data Input'!AU189,'Data Input'!AV189,'Data Input'!AW189,'Data Input'!AX189,'Data Input'!AY189))","v":""},{"$f":"IF(N185=\"\",\"\",N185/COUNTIF('Data Input'!$C$8:$AZ$8,$N$2))","v":""},null,{"$f":"IF(P185=\"\",\"\",P185/COUNTIF('Data Input'!$C$8:$AZ$8,$P$2))","v":""},{"$f":"IF(ISBLANK('Data Input'!A189),\"\",SUM('Data Input'!AH189))","v":""},{"$f":"IF(R185=\"\",\"\",R185/COUNTIF('Data Input'!$C$8:$AZ$8,$R$2))","v":""},{"$f":"IF(ISBLANK('Data Input'!$A189),\"\",SUM('Data Input'!AI189))","v":""},{"$f":"IF(T185=\"\",\"\",T185/COUNTIF('Data Input'!$C$8:$AZ$8,$T$2))","v":""},null,{"$f":"IF(V185=\"\",\"\",V185/COUNTIF('Data Input'!$C$8:$AZ$8,$V$2))","v":""}]
[{"$f":"IF('Data Input'!A190=0,\"\",'Data Input'!A190)","v":""},{"$f":"IF(F186=\"\",\"\",IF(F186>Welcome!$J$20-1,\"Exceeding\",IF(F186>Welcome!$F$20-1,\"Expected\",IF(F186<Welcome!$F$20,\"Below\"))))","v":""},{"$f":"IF(ISBLANK('Data Input'!A190),\"\",COUNTIF('Data Input'!C190:AZ190,\"\"))","v":""},{"$f":"IF(ISBLANK('Data Input'!A190),\"\",COUNTIF('Data Input'!C190:AZ190,\"0\"))","v":""},{"$f":"IF(ISBLANK('Data Input'!A190),\"\",SUM(C186,D186))","v":""},{"$f":"IF(ISBLANK('Data Input'!A190),\"\",SUM('Data Input'!C190:AZ190))","v":""},{"$f":"IF(F186=\"\",\"\",F186/(COUNTA('Data Input'!$C$8:$AZ$8)))","v":""},{"$f":"IF(ISBLANK('Data Input'!A190),\"\",SUM('Data Input'!C190,'Data Input'!H190,'Data Input'!J190,'Data Input'!N190,'Data Input'!R190,'Data Input'!T190,'Data Input'!Y190,'Data Input'!AE190,'Data Input'!AK190,'Data Input'!AM190))","v":""},{"$f":"IF(H186=\"\",\"\",H186/COUNTIF('Data Input'!$C$8:$AZ$8,$H$2))","v":""},{"$f":"IF(ISBLANK('Data Input'!A190),\"\",SUM('Data Input'!G190,'Data Input'!I190,'Data Input'!K190,'Data Input'!O190,'Data Input'!P190,'Data Input'!S190,'Data Input'!U190,'Data Input'!V190,'Data Input'!W190,'Data Input'!X190,'Data Input'!Z190,'Data Input'!AA190,'Data Input'!AD190,'Data Input'!AZ190))","v":""},{"$f":"IF(J186=\"\",\"\",J186/COUNTIF('Data Input'!$C$8:$AZ$8,$J$2))","v":""},{"$f":"IF(ISBLANK('Data Input'!A190),\"\",SUM('Data Input'!Q190,'Data Input'!AG190))","v":""},{"$f":"IF(L186=\"\",\"\",L186/COUNTIF('Data Input'!$C$8:$AZ$8,$L$2))","v":""},{"$f":"IF(ISBLANK('Data Input'!A190),\"\",SUM('Data Input'!D190,'Data Input'!E190,'Data Input'!F190,'Data Input'!L190,'Data Input'!M190,'Data Input'!AB190,'Data Input'!AC190,'Data Input'!AF190,'Data Input'!AJ190,'Data Input'!AL190,'Data Input'!AN190,'Data Input'!AO190,'Data Input'!AP190,'Data Input'!AQ190,'Data Input'!AR190,'Data Input'!AS190,'Data Input'!AT190,'Data Input'!AU190,'Data Input'!AV190,'Data Input'!AW190,'Data Input'!AX190,'Data Input'!AY190))","v":""},{"$f":"IF(N186=\"\",\"\",N186/COUNTIF('Data Input'!$C$8:$AZ$8,$N$2))","v":""},null,{"$f":"IF(P186=\"\",\"\",P186/COUNTIF('Data Input'!$C$8:$AZ$8,$P$2))","v":""},{"$f":"IF(ISBLANK('Data Input'!A190),\"\",SUM('Data Input'!AH190))","v":""},{"$f":"IF(R186=\"\",\"\",R186/COUNTIF('Data Input'!$C$8:$AZ$8,$R$2))","v":""},{"$f":"IF(ISBLANK('Data Input'!$A190),\"\",SUM('Data Input'!AI190))","v":""},{"$f":"IF(T186=\"\",\"\",T186/COUNTIF('Data Input'!$C$8:$AZ$8,$T$2))","v":""},null,{"$f":"IF(V186=\"\",\"\",V186/COUNTIF('Data Input'!$C$8:$AZ$8,$V$2))","v":""}]
[{"$f":"IF('Data Input'!A191=0,\"\",'Data Input'!A191)","v":""},{"$f":"IF(F187=\"\",\"\",IF(F187>Welcome!$J$20-1,\"Exceeding\",IF(F187>Welcome!$F$20-1,\"Expected\",IF(F187<Welcome!$F$20,\"Below\"))))","v":""},{"$f":"IF(ISBLANK('Data Input'!A191),\"\",COUNTIF('Data Input'!C191:AZ191,\"\"))","v":""},{"$f":"IF(ISBLANK('Data Input'!A191),\"\",COUNTIF('Data Input'!C191:AZ191,\"0\"))","v":""},{"$f":"IF(ISBLANK('Data Input'!A191),\"\",SUM(C187,D187))","v":""},{"$f":"IF(ISBLANK('Data Input'!A191),\"\",SUM('Data Input'!C191:AZ191))","v":""},{"$f":"IF(F187=\"\",\"\",F187/(COUNTA('Data Input'!$C$8:$AZ$8)))","v":""},{"$f":"IF(ISBLANK('Data Input'!A191),\"\",SUM('Data Input'!C191,'Data Input'!H191,'Data Input'!J191,'Data Input'!N191,'Data Input'!R191,'Data Input'!T191,'Data Input'!Y191,'Data Input'!AE191,'Data Input'!AK191,'Data Input'!AM191))","v":""},{"$f":"IF(H187=\"\",\"\",H187/COUNTIF('Data Input'!$C$8:$AZ$8,$H$2))","v":""},{"$f":"IF(ISBLANK('Data Input'!A191),\"\",SUM('Data Input'!G191,'Data Input'!I191,'Data Input'!K191,'Data Input'!O191,'Data Input'!P191,'Data Input'!S191,'Data Input'!U191,'Data Input'!V191,'Data Input'!W191,'Data Input'!X191,'Data Input'!Z191,'Data Input'!AA191,'Data Input'!AD191,'Data Input'!AZ191))","v":""},{"$f":"IF(J187=\"\",\"\",J187/COUNTIF('Data Input'!$C$8:$AZ$8,$J$2))","v":""},{"$f":"IF(ISBLANK('Data Input'!A191),\"\",SUM('Data Input'!Q191,'Data Input'!AG191))","v":""},{"$f":"IF(L187=\"\",\"\",L187/COUNTIF('Data Input'!$C$8:$AZ$8,$L$2))","v":""},{"$f":"IF(ISBLANK('Data Input'!A191),\"\",SUM('Data Input'!D191,'Data Input'!E191,'Data Input'!F191,'Data Input'!L191,'Data Input'!M191,'Data Input'!AB191,'Data Input'!AC191,'Data Input'!AF191,'Data Input'!AJ191,'Data Input'!AL191,'Data Input'!AN191,'Data Input'!AO191,'Data Input'!AP191,'Data Input'!AQ191,'Data Input'!AR191,'Data Input'!AS191,'Data Input'!AT191,'Data Input'!AU191,'Data Input'!AV191,'Data Input'!AW191,'Data Input'!AX191,'Data Input'!AY191))","v":""},{"$f":"IF(N187=\"\",\"\",N187/COUNTIF('Data Input'!$C$8:$AZ$8,$N$2))","v":""},null,{"$f":"IF(P187=\"\",\"\",P187/COUNTIF('Data Input'!$C$8:$AZ$8,$P$2))","v":""},{"$f":"IF(ISBLANK('Data Input'!A191),\"\",SUM('Data Input'!AH191))","v":""},{"$f":"IF(R187=\"\",\"\",R187/COUNTIF('Data Input'!$C$8:$AZ$8,$R$2))","v":""},{"$f":"IF(ISBLANK('Data Input'!$A191),\"\",SUM('Data Input'!AI191))","v":""},{"$f":"IF(T187=\"\",\"\",T187/COUNTIF('Data Input'!$C$8:$AZ$8,$T$2))","v":""},null,{"$f":"IF(V187=\"\",\"\",V187/COUNTIF('Data Input'!$C$8:$AZ$8,$V$2))","v":""}]
[{"$f":"IF('Data Input'!A192=0,\"\",'Data Input'!A192)","v":""},{"$f":"IF(F188=\"\",\"\",IF(F188>Welcome!$J$20-1,\"Exceeding\",IF(F188>Welcome!$F$20-1,\"Expected\",IF(F188<Welcome!$F$20,\"Below\"))))","v":""},{"$f":"IF(ISBLANK('Data Input'!A192),\"\",COUNTIF('Data Input'!C192:AZ192,\"\"))","v":""},{"$f":"IF(ISBLANK('Data Input'!A192),\"\",COUNTIF('Data Input'!C192:AZ192,\"0\"))","v":""},{"$f":"IF(ISBLANK('Data Input'!A192),\"\",SUM(C188,D188))","v":""},{"$f":"IF(ISBLANK('Data Input'!A192),\"\",SUM('Data Input'!C192:AZ192))","v":""},{"$f":"IF(F188=\"\",\"\",F188/(COUNTA('Data Input'!$C$8:$AZ$8)))","v":""},{"$f":"IF(ISBLANK('Data Input'!A192),\"\",SUM('Data Input'!C192,'Data Input'!H192,'Data Input'!J192,'Data Input'!N192,'Data Input'!R192,'Data Input'!T192,'Data Input'!Y192,'Data Input'!AE192,'Data Input'!AK192,'Data Input'!AM192))","v":""},{"$f":"IF(H188=\"\",\"\",H188/COUNTIF('Data Input'!$C$8:$AZ$8,$H$2))","v":""},{"$f":"IF(ISBLANK('Data Input'!A192),\"\",SUM('Data Input'!G192,'Data Input'!I192,'Data Input'!K192,'Data Input'!O192,'Data Input'!P192,'Data Input'!S192,'Data Input'!U192,'Data Input'!V192,'Data Input'!W192,'Data Input'!X192,'Data Input'!Z192,'Data Input'!AA192,'Data Input'!AD192,'Data Input'!AZ192))","v":""},{"$f":"IF(J188=\"\",\"\",J188/COUNTIF('Data Input'!$C$8:$AZ$8,$J$2))","v":""},{"$f":"IF(ISBLANK('Data Input'!A192),\"\",SUM('Data Input'!Q192,'Data Input'!AG192))","v":""},{"$f":"IF(L188=\"\",\"\",L188/COUNTIF('Data Input'!$C$8:$AZ$8,$L$2))","v":""},{"$f":"IF(ISBLANK('Data Input'!A192),\"\",SUM('Data Input'!D192,'Data Input'!E192,'Data Input'!F192,'Data Input'!L192,'Data Input'!M192,'Data Input'!AB192,'Data Input'!AC192,'Data Input'!AF192,'Data Input'!AJ192,'Data Input'!AL192,'Data Input'!AN192,'Data Input'!AO192,'Data Input'!AP192,'Data Input'!AQ192,'Data Input'!AR192,'Data Input'!AS192,'Data Input'!AT192,'Data Input'!AU192,'Data Input'!AV192,'Data Input'!AW192,'Data Input'!AX192,'Data Input'!AY192))","v":""},{"$f":"IF(N188=\"\",\"\",N188/COUNTIF('Data Input'!$C$8:$AZ$8,$N$2))","v":""},null,{"$f":"IF(P188=\"\",\"\",P188/COUNTIF('Data Input'!$C$8:$AZ$8,$P$2))","v":""},{"$f":"IF(ISBLANK('Data Input'!A192),\"\",SUM('Data Input'!AH192))","v":""},{"$f":"IF(R188=\"\",\"\",R188/COUNTIF('Data Input'!$C$8:$AZ$8,$R$2))","v":""},{"$f":"IF(ISBLANK('Data Input'!$A192),\"\",SUM('Data Input'!AI192))","v":""},{"$f":"IF(T188=\"\",\"\",T188/COUNTIF('Data Input'!$C$8:$AZ$8,$T$2))","v":""},null,{"$f":"IF(V188=\"\",\"\",V188/COUNTIF('Data Input'!$C$8:$AZ$8,$V$2))","v":""}]
[{"$f":"IF('Data Input'!A193=0,\"\",'Data Input'!A193)","v":""},{"$f":"IF(F189=\"\",\"\",IF(F189>Welcome!$J$20-1,\"Exceeding\",IF(F189>Welcome!$F$20-1,\"Expected\",IF(F189<Welcome!$F$20,\"Below\"))))","v":""},{"$f":"IF(ISBLANK('Data Input'!A193),\"\",COUNTIF('Data Input'!C193:AZ193,\"\"))","v":""},{"$f":"IF(ISBLANK('Data Input'!A193),\"\",COUNTIF('Data Input'!C193:AZ193,\"0\"))","v":""},{"$f":"IF(ISBLANK('Data Input'!A193),\"\",SUM(C189,D189))","v":""},{"$f":"IF(ISBLANK('Data Input'!A193),\"\",SUM('Data Input'!C193:AZ193))","v":""},{"$f":"IF(F189=\"\",\"\",F189/(COUNTA('Data Input'!$C$8:$AZ$8)))","v":""},{"$f":"IF(ISBLANK('Data Input'!A193),\"\",SUM('Data Input'!C193,'Data Input'!H193,'Data Input'!J193,'Data Input'!N193,'Data Input'!R193,'Data Input'!T193,'Data Input'!Y193,'Data Input'!AE193,'Data Input'!AK193,'Data Input'!AM193))","v":""},{"$f":"IF(H189=\"\",\"\",H189/COUNTIF('Data Input'!$C$8:$AZ$8,$H$2))","v":""},{"$f":"IF(ISBLANK('Data Input'!A193),\"\",SUM('Data Input'!G193,'Data Input'!I193,'Data Input'!K193,'Data Input'!O193,'Data Input'!P193,'Data Input'!S193,'Data Input'!U193,'Data Input'!V193,'Data Input'!W193,'Data Input'!X193,'Data Input'!Z193,'Data Input'!AA193,'Data Input'!AD193,'Data Input'!AZ193))","v":""},{"$f":"IF(J189=\"\",\"\",J189/COUNTIF('Data Input'!$C$8:$AZ$8,$J$2))","v":""},{"$f":"IF(ISBLANK('Data Input'!A193),\"\",SUM('Data Input'!Q193,'Data Input'!AG193))","v":""},{"$f":"IF(L189=\"\",\"\",L189/COUNTIF('Data Input'!$C$8:$AZ$8,$L$2))","v":""},{"$f":"IF(ISBLANK('Data Input'!A193),\"\",SUM('Data Input'!D193,'Data Input'!E193,'Data Input'!F193,'Data Input'!L193,'Data Input'!M193,'Data Input'!AB193,'Data Input'!AC193,'Data Input'!AF193,'Data Input'!AJ193,'Data Input'!AL193,'Data Input'!AN193,'Data Input'!AO193,'Data Input'!AP193,'Data Input'!AQ193,'Data Input'!AR193,'Data Input'!AS193,'Data Input'!AT193,'Data Input'!AU193,'Data Input'!AV193,'Data Input'!AW193,'Data Input'!AX193,'Data Input'!AY193))","v":""},{"$f":"IF(N189=\"\",\"\",N189/COUNTIF('Data Input'!$C$8:$AZ$8,$N$2))","v":""},null,{"$f":"IF(P189=\"\",\"\",P189/COUNTIF('Data Input'!$C$8:$AZ$8,$P$2))","v":""},{"$f":"IF(ISBLANK('Data Input'!A193),\"\",SUM('Data Input'!AH193))","v":""},{"$f":"IF(R189=\"\",\"\",R189/COUNTIF('Data Input'!$C$8:$AZ$8,$R$2))","v":""},{"$f":"IF(ISBLANK('Data Input'!$A193),\"\",SUM('Data Input'!AI193))","v":""},{"$f":"IF(T189=\"\",\"\",T189/COUNTIF('Data Input'!$C$8:$AZ$8,$T$2))","v":""},null,{"$f":"IF(V189=\"\",\"\",V189/COUNTIF('Data Input'!$C$8:$AZ$8,$V$2))","v":""}]
[{"$f":"IF('Data Input'!A194=0,\"\",'Data Input'!A194)","v":""},{"$f":"IF(F190=\"\",\"\",IF(F190>Welcome!$J$20-1,\"Exceeding\",IF(F190>Welcome!$F$20-1,\"Expected\",IF(F190<Welcome!$F$20,\"Below\"))))","v":""},{"$f":"IF(ISBLANK('Data Input'!A194),\"\",COUNTIF('Data Input'!C194:AZ194,\"\"))","v":""},{"$f":"IF(ISBLANK('Data Input'!A194),\"\",COUNTIF('Data Input'!C194:AZ194,\"0\"))","v":""},{"$f":"IF(ISBLANK('Data Input'!A194),\"\",SUM(C190,D190))","v":""},{"$f":"IF(ISBLANK('Data Input'!A194),\"\",SUM('Data Input'!C194:AZ194))","v":""},{"$f":"IF(F190=\"\",\"\",F190/(COUNTA('Data Input'!$C$8:$AZ$8)))","v":""},{"$f":"IF(ISBLANK('Data Input'!A194),\"\",SUM('Data Input'!C194,'Data Input'!H194,'Data Input'!J194,'Data Input'!N194,'Data Input'!R194,'Data Input'!T194,'Data Input'!Y194,'Data Input'!AE194,'Data Input'!AK194,'Data Input'!AM194))","v":""},{"$f":"IF(H190=\"\",\"\",H190/COUNTIF('Data Input'!$C$8:$AZ$8,$H$2))","v":""},{"$f":"IF(ISBLANK('Data Input'!A194),\"\",SUM('Data Input'!G194,'Data Input'!I194,'Data Input'!K194,'Data Input'!O194,'Data Input'!P194,'Data Input'!S194,'Data Input'!U194,'Data Input'!V194,'Data Input'!W194,'Data Input'!X194,'Data Input'!Z194,'Data Input'!AA194,'Data Input'!AD194,'Data Input'!AZ194))","v":""},{"$f":"IF(J190=\"\",\"\",J190/COUNTIF('Data Input'!$C$8:$AZ$8,$J$2))","v":""},{"$f":"IF(ISBLANK('Data Input'!A194),\"\",SUM('Data Input'!Q194,'Data Input'!AG194))","v":""},{"$f":"IF(L190=\"\",\"\",L190/COUNTIF('Data Input'!$C$8:$AZ$8,$L$2))","v":""},{"$f":"IF(ISBLANK('Data Input'!A194),\"\",SUM('Data Input'!D194,'Data Input'!E194,'Data Input'!F194,'Data Input'!L194,'Data Input'!M194,'Data Input'!AB194,'Data Input'!AC194,'Data Input'!AF194,'Data Input'!AJ194,'Data Input'!AL194,'Data Input'!AN194,'Data Input'!AO194,'Data Input'!AP194,'Data Input'!AQ194,'Data Input'!AR194,'Data Input'!AS194,'Data Input'!AT194,'Data Input'!AU194,'Data Input'!AV194,'Data Input'!AW194,'Data Input'!AX194,'Data Input'!AY194))","v":""},{"$f":"IF(N190=\"\",\"\",N190/COUNTIF('Data Input'!$C$8:$AZ$8,$N$2))","v":""},null,{"$f":"IF(P190=\"\",\"\",P190/COUNTIF('Data Input'!$C$8:$AZ$8,$P$2))","v":""},{"$f":"IF(ISBLANK('Data Input'!A194),\"\",SUM('Data Input'!AH194))","v":""},{"$f":"IF(R190=\"\",\"\",R190/COUNTIF('Data Input'!$C$8:$AZ$8,$R$2))","v":""},{"$f":"IF(ISBLANK('Data Input'!$A194),\"\",SUM('Data Input'!AI194))","v":""},{"$f":"IF(T190=\"\",\"\",T190/COUNTIF('Data Input'!$C$8:$AZ$8,$T$2))","v":""},null,{"$f":"IF(V190=\"\",\"\",V190/COUNTIF('Data Input'!$C$8:$AZ$8,$V$2))","v":""}]
[{"$f":"IF('Data Input'!A195=0,\"\",'Data Input'!A195)","v":""},{"$f":"IF(F191=\"\",\"\",IF(F191>Welcome!$J$20-1,\"Exceeding\",IF(F191>Welcome!$F$20-1,\"Expected\",IF(F191<Welcome!$F$20,\"Below\"))))","v":""},{"$f":"IF(ISBLANK('Data Input'!A195),\"\",COUNTIF('Data Input'!C195:AZ195,\"\"))","v":""},{"$f":"IF(ISBLANK('Data Input'!A195),\"\",COUNTIF('Data Input'!C195:AZ195,\"0\"))","v":""},{"$f":"IF(ISBLANK('Data Input'!A195),\"\",SUM(C191,D191))","v":""},{"$f":"IF(ISBLANK('Data Input'!A195),\"\",SUM('Data Input'!C195:AZ195))","v":""},{"$f":"IF(F191=\"\",\"\",F191/(COUNTA('Data Input'!$C$8:$AZ$8)))","v":""},{"$f":"IF(ISBLANK('Data Input'!A195),\"\",SUM('Data Input'!C195,'Data Input'!H195,'Data Input'!J195,'Data Input'!N195,'Data Input'!R195,'Data Input'!T195,'Data Input'!Y195,'Data Input'!AE195,'Data Input'!AK195,'Data Input'!AM195))","v":""},{"$f":"IF(H191=\"\",\"\",H191/COUNTIF('Data Input'!$C$8:$AZ$8,$H$2))","v":""},{"$f":"IF(ISBLANK('Data Input'!A195),\"\",SUM('Data Input'!G195,'Data Input'!I195,'Data Input'!K195,'Data Input'!O195,'Data Input'!P195,'Data Input'!S195,'Data Input'!U195,'Data Input'!V195,'Data Input'!W195,'Data Input'!X195,'Data Input'!Z195,'Data Input'!AA195,'Data Input'!AD195,'Data Input'!AZ195))","v":""},{"$f":"IF(J191=\"\",\"\",J191/COUNTIF('Data Input'!$C$8:$AZ$8,$J$2))","v":""},{"$f":"IF(ISBLANK('Data Input'!A195),\"\",SUM('Data Input'!Q195,'Data Input'!AG195))","v":""},{"$f":"IF(L191=\"\",\"\",L191/COUNTIF('Data Input'!$C$8:$AZ$8,$L$2))","v":""},{"$f":"IF(ISBLANK('Data Input'!A195),\"\",SUM('Data Input'!D195,'Data Input'!E195,'Data Input'!F195,'Data Input'!L195,'Data Input'!M195,'Data Input'!AB195,'Data Input'!AC195,'Data Input'!AF195,'Data Input'!AJ195,'Data Input'!AL195,'Data Input'!AN195,'Data Input'!AO195,'Data Input'!AP195,'Data Input'!AQ195,'Data Input'!AR195,'Data Input'!AS195,'Data Input'!AT195,'Data Input'!AU195,'Data Input'!AV195,'Data Input'!AW195,'Data Input'!AX195,'Data Input'!AY195))","v":""},{"$f":"IF(N191=\"\",\"\",N191/COUNTIF('Data Input'!$C$8:$AZ$8,$N$2))","v":""},null,{"$f":"IF(P191=\"\",\"\",P191/COUNTIF('Data Input'!$C$8:$AZ$8,$P$2))","v":""},{"$f":"IF(ISBLANK('Data Input'!A195),\"\",SUM('Data Input'!AH195))","v":""},{"$f":"IF(R191=\"\",\"\",R191/COUNTIF('Data Input'!$C$8:$AZ$8,$R$2))","v":""},{"$f":"IF(ISBLANK('Data Input'!$A195),\"\",SUM('Data Input'!AI195))","v":""},{"$f":"IF(T191=\"\",\"\",T191/COUNTIF('Data Input'!$C$8:$AZ$8,$T$2))","v":""},null,{"$f":"IF(V191=\"\",\"\",V191/COUNTIF('Data Input'!$C$8:$AZ$8,$V$2))","v":""}]
[{"$f":"IF('Data Input'!A196=0,\"\",'Data Input'!A196)","v":""},{"$f":"IF(F192=\"\",\"\",IF(F192>Welcome!$J$20-1,\"Exceeding\",IF(F192>Welcome!$F$20-1,\"Expected\",IF(F192<Welcome!$F$20,\"Below\"))))","v":""},{"$f":"IF(ISBLANK('Data Input'!A196),\"\",COUNTIF('Data Input'!C196:AZ196,\"\"))","v":""},{"$f":"IF(ISBLANK('Data Input'!A196),\"\",COUNTIF('Data Input'!C196:AZ196,\"0\"))","v":""},{"$f":"IF(ISBLANK('Data Input'!A196),\"\",SUM(C192,D192))","v":""},{"$f":"IF(ISBLANK('Data Input'!A196),\"\",SUM('Data Input'!C196:AZ196))","v":""},{"$f":"IF(F192=\"\",\"\",F192/(COUNTA('Data Input'!$C$8:$AZ$8)))","v":""},{"$f":"IF(ISBLANK('Data Input'!A196),\"\",SUM('Data Input'!C196,'Data Input'!H196,'Data Input'!J196,'Data Input'!N196,'Data Input'!R196,'Data Input'!T196,'Data Input'!Y196,'Data Input'!AE196,'Data Input'!AK196,'Data Input'!AM196))","v":""},{"$f":"IF(H192=\"\",\"\",H192/COUNTIF('Data Input'!$C$8:$AZ$8,$H$2))","v":""},{"$f":"IF(ISBLANK('Data Input'!A196),\"\",SUM('Data Input'!G196,'Data Input'!I196,'Data Input'!K196,'Data Input'!O196,'Data Input'!P196,'Data Input'!S196,'Data Input'!U196,'Data Input'!V196,'Data Input'!W196,'Data Input'!X196,'Data Input'!Z196,'Data Input'!AA196,'Data Input'!AD196,'Data Input'!AZ196))","v":""},{"$f":"IF(J192=\"\",\"\",J192/COUNTIF('Data Input'!$C$8:$AZ$8,$J$2))","v":""},{"$f":"IF(ISBLANK('Data Input'!A196),\"\",SUM('Data Input'!Q196,'Data Input'!AG196))","v":""},{"$f":"IF(L192=\"\",\"\",L192/COUNTIF('Data Input'!$C$8:$AZ$8,$L$2))","v":""},{"$f":"IF(ISBLANK('Data Input'!A196),\"\",SUM('Data Input'!D196,'Data Input'!E196,'Data Input'!F196,'Data Input'!L196,'Data Input'!M196,'Data Input'!AB196,'Data Input'!AC196,'Data Input'!AF196,'Data Input'!AJ196,'Data Input'!AL196,'Data Input'!AN196,'Data Input'!AO196,'Data Input'!AP196,'Data Input'!AQ196,'Data Input'!AR196,'Data Input'!AS196,'Data Input'!AT196,'Data Input'!AU196,'Data Input'!AV196,'Data Input'!AW196,'Data Input'!AX196,'Data Input'!AY196))","v":""},{"$f":"IF(N192=\"\",\"\",N192/COUNTIF('Data Input'!$C$8:$AZ$8,$N$2))","v":""},null,{"$f":"IF(P192=\"\",\"\",P192/COUNTIF('Data Input'!$C$8:$AZ$8,$P$2))","v":""},{"$f":"IF(ISBLANK('Data Input'!A196),\"\",SUM('Data Input'!AH196))","v":""},{"$f":"IF(R192=\"\",\"\",R192/COUNTIF('Data Input'!$C$8:$AZ$8,$R$2))","v":""},{"$f":"IF(ISBLANK('Data Input'!$A196),\"\",SUM('Data Input'!AI196))","v":""},{"$f":"IF(T192=\"\",\"\",T192/COUNTIF('Data Input'!$C$8:$AZ$8,$T$2))","v":""},null,{"$f":"IF(V192=\"\",\"\",V192/COUNTIF('Data Input'!$C$8:$AZ$8,$V$2))","v":""}]
[{"$f":"IF('Data Input'!A197=0,\"\",'Data Input'!A197)","v":""},{"$f":"IF(F193=\"\",\"\",IF(F193>Welcome!$J$20-1,\"Exceeding\",IF(F193>Welcome!$F$20-1,\"Expected\",IF(F193<Welcome!$F$20,\"Below\"))))","v":""},{"$f":"IF(ISBLANK('Data Input'!A197),\"\",COUNTIF('Data Input'!C197:AZ197,\"\"))","v":""},{"$f":"IF(ISBLANK('Data Input'!A197),\"\",COUNTIF('Data Input'!C197:AZ197,\"0\"))","v":""},{"$f":"IF(ISBLANK('Data Input'!A197),\"\",SUM(C193,D193))","v":""},{"$f":"IF(ISBLANK('Data Input'!A197),\"\",SUM('Data Input'!C197:AZ197))","v":""},{"$f":"IF(F193=\"\",\"\",F193/(COUNTA('Data Input'!$C$8:$AZ$8)))","v":""},{"$f":"IF(ISBLANK('Data Input'!A197),\"\",SUM('Data Input'!C197,'Data Input'!H197,'Data Input'!J197,'Data Input'!N197,'Data Input'!R197,'Data Input'!T197,'Data Input'!Y197,'Data Input'!AE197,'Data Input'!AK197,'Data Input'!AM197))","v":""},{"$f":"IF(H193=\"\",\"\",H193/COUNTIF('Data Input'!$C$8:$AZ$8,$H$2))","v":""},{"$f":"IF(ISBLANK('Data Input'!A197),\"\",SUM('Data Input'!G197,'Data Input'!I197,'Data Input'!K197,'Data Input'!O197,'Data Input'!P197,'Data Input'!S197,'Data Input'!U197,'Data Input'!V197,'Data Input'!W197,'Data Input'!X197,'Data Input'!Z197,'Data Input'!AA197,'Data Input'!AD197,'Data Input'!AZ197))","v":""},{"$f":"IF(J193=\"\",\"\",J193/COUNTIF('Data Input'!$C$8:$AZ$8,$J$2))","v":""},{"$f":"IF(ISBLANK('Data Input'!A197),\"\",SUM('Data Input'!Q197,'Data Input'!AG197))","v":""},{"$f":"IF(L193=\"\",\"\",L193/COUNTIF('Data Input'!$C$8:$AZ$8,$L$2))","v":""},{"$f":"IF(ISBLANK('Data Input'!A197),\"\",SUM('Data Input'!D197,'Data Input'!E197,'Data Input'!F197,'Data Input'!L197,'Data Input'!M197,'Data Input'!AB197,'Data Input'!AC197,'Data Input'!AF197,'Data Input'!AJ197,'Data Input'!AL197,'Data Input'!AN197,'Data Input'!AO197,'Data Input'!AP197,'Data Input'!AQ197,'Data Input'!AR197,'Data Input'!AS197,'Data Input'!AT197,'Data Input'!AU197,'Data Input'!AV197,'Data Input'!AW197,'Data Input'!AX197,'Data Input'!AY197))","v":""},{"$f":"IF(N193=\"\",\"\",N193/COUNTIF('Data Input'!$C$8:$AZ$8,$N$2))","v":""},null,{"$f":"IF(P193=\"\",\"\",P193/COUNTIF('Data Input'!$C$8:$AZ$8,$P$2))","v":""},{"$f":"IF(ISBLANK('Data Input'!A197),\"\",SUM('Data Input'!AH197))","v":""},{"$f":"IF(R193=\"\",\"\",R193/COUNTIF('Data Input'!$C$8:$AZ$8,$R$2))","v":""},{"$f":"IF(ISBLANK('Data Input'!$A197),\"\",SUM('Data Input'!AI197))","v":""},{"$f":"IF(T193=\"\",\"\",T193/COUNTIF('Data Input'!$C$8:$AZ$8,$T$2))","v":""},null,{"$f":"IF(V193=\"\",\"\",V193/COUNTIF('Data Input'!$C$8:$AZ$8,$V$2))","v":""}]
[{"$f":"IF('Data Input'!A198=0,\"\",'Data Input'!A198)","v":""},{"$f":"IF(F194=\"\",\"\",IF(F194>Welcome!$J$20-1,\"Exceeding\",IF(F194>Welcome!$F$20-1,\"Expected\",IF(F194<Welcome!$F$20,\"Below\"))))","v":""},{"$f":"IF(ISBLANK('Data Input'!A198),\"\",COUNTIF('Data Input'!C198:AZ198,\"\"))","v":""},{"$f":"IF(ISBLANK('Data Input'!A198),\"\",COUNTIF('Data Input'!C198:AZ198,\"0\"))","v":""},{"$f":"IF(ISBLANK('Data Input'!A198),\"\",SUM(C194,D194))","v":""},{"$f":"IF(ISBLANK('Data Input'!A198),\"\",SUM('Data Input'!C198:AZ198))","v":""},{"$f":"IF(F194=\"\",\"\",F194/(COUNTA('Data Input'!$C$8:$AZ$8)))","v":""},{"$f":"IF(ISBLANK('Data Input'!A198),\"\",SUM('Data Input'!C198,'Data Input'!H198,'Data Input'!J198,'Data Input'!N198,'Data Input'!R198,'Data Input'!T198,'Data Input'!Y198,'Data Input'!AE198,'Data Input'!AK198,'Data Input'!AM198))","v":""},{"$f":"IF(H194=\"\",\"\",H194/COUNTIF('Data Input'!$C$8:$AZ$8,$H$2))","v":""},{"$f":"IF(ISBLANK('Data Input'!A198),\"\",SUM('Data Input'!G198,'Data Input'!I198,'Data Input'!K198,'Data Input'!O198,'Data Input'!P198,'Data Input'!S198,'Data Input'!U198,'Data Input'!V198,'Data Input'!W198,'Data Input'!X198,'Data Input'!Z198,'Data Input'!AA198,'Data Input'!AD198,'Data Input'!AZ198))","v":""},{"$f":"IF(J194=\"\",\"\",J194/COUNTIF('Data Input'!$C$8:$AZ$8,$J$2))","v":""},{"$f":"IF(ISBLANK('Data Input'!A198),\"\",SUM('Data Input'!Q198,'Data Input'!AG198))","v":""},{"$f":"IF(L194=\"\",\"\",L194/COUNTIF('Data Input'!$C$8:$AZ$8,$L$2))","v":""},{"$f":"IF(ISBLANK('Data Input'!A198),\"\",SUM('Data Input'!D198,'Data Input'!E198,'Data Input'!F198,'Data Input'!L198,'Data Input'!M198,'Data Input'!AB198,'Data Input'!AC198,'Data Input'!AF198,'Data Input'!AJ198,'Data Input'!AL198,'Data Input'!AN198,'Data Input'!AO198,'Data Input'!AP198,'Data Input'!AQ198,'Data Input'!AR198,'Data Input'!AS198,'Data Input'!AT198,'Data Input'!AU198,'Data Input'!AV198,'Data Input'!AW198,'Data Input'!AX198,'Data Input'!AY198))","v":""},{"$f":"IF(N194=\"\",\"\",N194/COUNTIF('Data Input'!$C$8:$AZ$8,$N$2))","v":""},null,{"$f":"IF(P194=\"\",\"\",P194/COUNTIF('Data Input'!$C$8:$AZ$8,$P$2))","v":""},{"$f":"IF(ISBLANK('Data Input'!A198),\"\",SUM('Data Input'!AH198))","v":""},{"$f":"IF(R194=\"\",\"\",R194/COUNTIF('Data Input'!$C$8:$AZ$8,$R$2))","v":""},{"$f":"IF(ISBLANK('Data Input'!$A198),\"\",SUM('Data Input'!AI198))","v":""},{"$f":"IF(T194=\"\",\"\",T194/COUNTIF('Data Input'!$C$8:$AZ$8,$T$2))","v":""},null,{"$f":"IF(V194=\"\",\"\",V194/COUNTIF('Data Input'!$C$8:$AZ$8,$V$2))","v":""}]
[{"$f":"IF('Data Input'!A199=0,\"\",'Data Input'!A199)","v":""},{"$f":"IF(F195=\"\",\"\",IF(F195>Welcome!$J$20-1,\"Exceeding\",IF(F195>Welcome!$F$20-1,\"Expected\",IF(F195<Welcome!$F$20,\"Below\"))))","v":""},{"$f":"IF(ISBLANK('Data Input'!A199),\"\",COUNTIF('Data Input'!C199:AZ199,\"\"))","v":""},{"$f":"IF(ISBLANK('Data Input'!A199),\"\",COUNTIF('Data Input'!C199:AZ199,\"0\"))","v":""},{"$f":"IF(ISBLANK('Data Input'!A199),\"\",SUM(C195,D195))","v":""},{"$f":"IF(ISBLANK('Data Input'!A199),\"\",SUM('Data Input'!C199:AZ199))","v":""},{"$f":"IF(F195=\"\",\"\",F195/(COUNTA('Data Input'!$C$8:$AZ$8)))","v":""},{"$f":"IF(ISBLANK('Data Input'!A199),\"\",SUM('Data Input'!C199,'Data Input'!H199,'Data Input'!J199,'Data Input'!N199,'Data Input'!R199,'Data Input'!T199,'Data Input'!Y199,'Data Input'!AE199,'Data Input'!AK199,'Data Input'!AM199))","v":""},{"$f":"IF(H195=\"\",\"\",H195/COUNTIF('Data Input'!$C$8:$AZ$8,$H$2))","v":""},{"$f":"IF(ISBLANK('Data Input'!A199),\"\",SUM('Data Input'!G199,'Data Input'!I199,'Data Input'!K199,'Data Input'!O199,'Data Input'!P199,'Data Input'!S199,'Data Input'!U199,'Data Input'!V199,'Data Input'!W199,'Data Input'!X199,'Data Input'!Z199,'Data Input'!AA199,'Data Input'!AD199,'Data Input'!AZ199))","v":""},{"$f":"IF(J195=\"\",\"\",J195/COUNTIF('Data Input'!$C$8:$AZ$8,$J$2))","v":""},{"$f":"IF(ISBLANK('Data Input'!A199),\"\",SUM('Data Input'!Q199,'Data Input'!AG199))","v":""},{"$f":"IF(L195=\"\",\"\",L195/COUNTIF('Data Input'!$C$8:$AZ$8,$L$2))","v":""},{"$f":"IF(ISBLANK('Data Input'!A199),\"\",SUM('Data Input'!D199,'Data Input'!E199,'Data Input'!F199,'Data Input'!L199,'Data Input'!M199,'Data Input'!AB199,'Data Input'!AC199,'Data Input'!AF199,'Data Input'!AJ199,'Data Input'!AL199,'Data Input'!AN199,'Data Input'!AO199,'Data Input'!AP199,'Data Input'!AQ199,'Data Input'!AR199,'Data Input'!AS199,'Data Input'!AT199,'Data Input'!AU199,'Data Input'!AV199,'Data Input'!AW199,'Data Input'!AX199,'Data Input'!AY199))","v":""},{"$f":"IF(N195=\"\",\"\",N195/COUNTIF('Data Input'!$C$8:$AZ$8,$N$2))","v":""},null,{"$f":"IF(P195=\"\",\"\",P195/COUNTIF('Data Input'!$C$8:$AZ$8,$P$2))","v":""},{"$f":"IF(ISBLANK('Data Input'!A199),\"\",SUM('Data Input'!AH199))","v":""},{"$f":"IF(R195=\"\",\"\",R195/COUNTIF('Data Input'!$C$8:$AZ$8,$R$2))","v":""},{"$f":"IF(ISBLANK('Data Input'!$A199),\"\",SUM('Data Input'!AI199))","v":""},{"$f":"IF(T195=\"\",\"\",T195/COUNTIF('Data Input'!$C$8:$AZ$8,$T$2))","v":""},null,{"$f":"IF(V195=\"\",\"\",V195/COUNTIF('Data Input'!$C$8:$AZ$8,$V$2))","v":""}]
[{"$f":"IF('Data Input'!A200=0,\"\",'Data Input'!A200)","v":""},{"$f":"IF(F196=\"\",\"\",IF(F196>Welcome!$J$20-1,\"Exceeding\",IF(F196>Welcome!$F$20-1,\"Expected\",IF(F196<Welcome!$F$20,\"Below\"))))","v":""},{"$f":"IF(ISBLANK('Data Input'!A200),\"\",COUNTIF('Data Input'!C200:AZ200,\"\"))","v":""},{"$f":"IF(ISBLANK('Data Input'!A200),\"\",COUNTIF('Data Input'!C200:AZ200,\"0\"))","v":""},{"$f":"IF(ISBLANK('Data Input'!A200),\"\",SUM(C196,D196))","v":""},{"$f":"IF(ISBLANK('Data Input'!A200),\"\",SUM('Data Input'!C200:AZ200))","v":""},{"$f":"IF(F196=\"\",\"\",F196/(COUNTA('Data Input'!$C$8:$AZ$8)))","v":""},{"$f":"IF(ISBLANK('Data Input'!A200),\"\",SUM('Data Input'!C200,'Data Input'!H200,'Data Input'!J200,'Data Input'!N200,'Data Input'!R200,'Data Input'!T200,'Data Input'!Y200,'Data Input'!AE200,'Data Input'!AK200,'Data Input'!AM200))","v":""},{"$f":"IF(H196=\"\",\"\",H196/COUNTIF('Data Input'!$C$8:$AZ$8,$H$2))","v":""},{"$f":"IF(ISBLANK('Data Input'!A200),\"\",SUM('Data Input'!G200,'Data Input'!I200,'Data Input'!K200,'Data Input'!O200,'Data Input'!P200,'Data Input'!S200,'Data Input'!U200,'Data Input'!V200,'Data Input'!W200,'Data Input'!X200,'Data Input'!Z200,'Data Input'!AA200,'Data Input'!AD200,'Data Input'!AZ200))","v":""},{"$f":"IF(J196=\"\",\"\",J196/COUNTIF('Data Input'!$C$8:$AZ$8,$J$2))","v":""},{"$f":"IF(ISBLANK('Data Input'!A200),\"\",SUM('Data Input'!Q200,'Data Input'!AG200))","v":""},{"$f":"IF(L196=\"\",\"\",L196/COUNTIF('Data Input'!$C$8:$AZ$8,$L$2))","v":""},{"$f":"IF(ISBLANK('Data Input'!A200),\"\",SUM('Data Input'!D200,'Data Input'!E200,'Data Input'!F200,'Data Input'!L200,'Data Input'!M200,'Data Input'!AB200,'Data Input'!AC200,'Data Input'!AF200,'Data Input'!AJ200,'Data Input'!AL200,'Data Input'!AN200,'Data Input'!AO200,'Data Input'!AP200,'Data Input'!AQ200,'Data Input'!AR200,'Data Input'!AS200,'Data Input'!AT200,'Data Input'!AU200,'Data Input'!AV200,'Data Input'!AW200,'Data Input'!AX200,'Data Input'!AY200))","v":""},{"$f":"IF(N196=\"\",\"\",N196/COUNTIF('Data Input'!$C$8:$AZ$8,$N$2))","v":""},null,{"$f":"IF(P196=\"\",\"\",P196/COUNTIF('Data Input'!$C$8:$AZ$8,$P$2))","v":""},{"$f":"IF(ISBLANK('Data Input'!A200),\"\",SUM('Data Input'!AH200))","v":""},{"$f":"IF(R196=\"\",\"\",R196/COUNTIF('Data Input'!$C$8:$AZ$8,$R$2))","v":""},{"$f":"IF(ISBLANK('Data Input'!$A200),\"\",SUM('Data Input'!AI200))","v":""},{"$f":"IF(T196=\"\",\"\",T196/COUNTIF('Data Input'!$C$8:$AZ$8,$T$2))","v":""},null,{"$f":"IF(V196=\"\",\"\",V196/COUNTIF('Data Input'!$C$8:$AZ$8,$V$2))","v":""}]
[{"$f":"IF('Data Input'!A201=0,\"\",'Data Input'!A201)","v":""},{"$f":"IF(F197=\"\",\"\",IF(F197>Welcome!$J$20-1,\"Exceeding\",IF(F197>Welcome!$F$20-1,\"Expected\",IF(F197<Welcome!$F$20,\"Below\"))))","v":""},{"$f":"IF(ISBLANK('Data Input'!A201),\"\",COUNTIF('Data Input'!C201:AZ201,\"\"))","v":""},{"$f":"IF(ISBLANK('Data Input'!A201),\"\",COUNTIF('Data Input'!C201:AZ201,\"0\"))","v":""},{"$f":"IF(ISBLANK('Data Input'!A201),\"\",SUM(C197,D197))","v":""},{"$f":"IF(ISBLANK('Data Input'!A201),\"\",SUM('Data Input'!C201:AZ201))","v":""},{"$f":"IF(F197=\"\",\"\",F197/(COUNTA('Data Input'!$C$8:$AZ$8)))","v":""},{"$f":"IF(ISBLANK('Data Input'!A201),\"\",SUM('Data Input'!C201,'Data Input'!H201,'Data Input'!J201,'Data Input'!N201,'Data Input'!R201,'Data Input'!T201,'Data Input'!Y201,'Data Input'!AE201,'Data Input'!AK201,'Data Input'!AM201))","v":""},{"$f":"IF(H197=\"\",\"\",H197/COUNTIF('Data Input'!$C$8:$AZ$8,$H$2))","v":""},{"$f":"IF(ISBLANK('Data Input'!A201),\"\",SUM('Data Input'!G201,'Data Input'!I201,'Data Input'!K201,'Data Input'!O201,'Data Input'!P201,'Data Input'!S201,'Data Input'!U201,'Data Input'!V201,'Data Input'!W201,'Data Input'!X201,'Data Input'!Z201,'Data Input'!AA201,'Data Input'!AD201,'Data Input'!AZ201))","v":""},{"$f":"IF(J197=\"\",\"\",J197/COUNTIF('Data Input'!$C$8:$AZ$8,$J$2))","v":""},{"$f":"IF(ISBLANK('Data Input'!A201),\"\",SUM('Data Input'!Q201,'Data Input'!AG201))","v":""},{"$f":"IF(L197=\"\",\"\",L197/COUNTIF('Data Input'!$C$8:$AZ$8,$L$2))","v":""},{"$f":"IF(ISBLANK('Data Input'!A201),\"\",SUM('Data Input'!D201,'Data Input'!E201,'Data Input'!F201,'Data Input'!L201,'Data Input'!M201,'Data Input'!AB201,'Data Input'!AC201,'Data Input'!AF201,'Data Input'!AJ201,'Data Input'!AL201,'Data Input'!AN201,'Data Input'!AO201,'Data Input'!AP201,'Data Input'!AQ201,'Data Input'!AR201,'Data Input'!AS201,'Data Input'!AT201,'Data Input'!AU201,'Data Input'!AV201,'Data Input'!AW201,'Data Input'!AX201,'Data Input'!AY201))","v":""},{"$f":"IF(N197=\"\",\"\",N197/COUNTIF('Data Input'!$C$8:$AZ$8,$N$2))","v":""},null,{"$f":"IF(P197=\"\",\"\",P197/COUNTIF('Data Input'!$C$8:$AZ$8,$P$2))","v":""},{"$f":"IF(ISBLANK('Data Input'!A201),\"\",SUM('Data Input'!AH201))","v":""},{"$f":"IF(R197=\"\",\"\",R197/COUNTIF('Data Input'!$C$8:$AZ$8,$R$2))","v":""},{"$f":"IF(ISBLANK('Data Input'!$A201),\"\",SUM('Data Input'!AI201))","v":""},{"$f":"IF(T197=\"\",\"\",T197/COUNTIF('Data Input'!$C$8:$AZ$8,$T$2))","v":""},null,{"$f":"IF(V197=\"\",\"\",V197/COUNTIF('Data Input'!$C$8:$AZ$8,$V$2))","v":""}]
[{"$f":"IF('Data Input'!A202=0,\"\",'Data Input'!A202)","v":""},{"$f":"IF(F198=\"\",\"\",IF(F198>Welcome!$J$20-1,\"Exceeding\",IF(F198>Welcome!$F$20-1,\"Expected\",IF(F198<Welcome!$F$20,\"Below\"))))","v":""},{"$f":"IF(ISBLANK('Data Input'!A202),\"\",COUNTIF('Data Input'!C202:AZ202,\"\"))","v":""},{"$f":"IF(ISBLANK('Data Input'!A202),\"\",COUNTIF('Data Input'!C202:AZ202,\"0\"))","v":""},{"$f":"IF(ISBLANK('Data Input'!A202),\"\",SUM(C198,D198))","v":""},{"$f":"IF(ISBLANK('Data Input'!A202),\"\",SUM('Data Input'!C202:AZ202))","v":""},{"$f":"IF(F198=\"\",\"\",F198/(COUNTA('Data Input'!$C$8:$AZ$8)))","v":""},{"$f":"IF(ISBLANK('Data Input'!A202),\"\",SUM('Data Input'!C202,'Data Input'!H202,'Data Input'!J202,'Data Input'!N202,'Data Input'!R202,'Data Input'!T202,'Data Input'!Y202,'Data Input'!AE202,'Data Input'!AK202,'Data Input'!AM202))","v":""},{"$f":"IF(H198=\"\",\"\",H198/COUNTIF('Data Input'!$C$8:$AZ$8,$H$2))","v":""},{"$f":"IF(ISBLANK('Data Input'!A202),\"\",SUM('Data Input'!G202,'Data Input'!I202,'Data Input'!K202,'Data Input'!O202,'Data Input'!P202,'Data Input'!S202,'Data Input'!U202,'Data Input'!V202,'Data Input'!W202,'Data Input'!X202,'Data Input'!Z202,'Data Input'!AA202,'Data Input'!AD202,'Data Input'!AZ202))","v":""},{"$f":"IF(J198=\"\",\"\",J198/COUNTIF('Data Input'!$C$8:$AZ$8,$J$2))","v":""},{"$f":"IF(ISBLANK('Data Input'!A202),\"\",SUM('Data Input'!Q202,'Data Input'!AG202))","v":""},{"$f":"IF(L198=\"\",\"\",L198/COUNTIF('Data Input'!$C$8:$AZ$8,$L$2))","v":""},{"$f":"IF(ISBLANK('Data Input'!A202),\"\",SUM('Data Input'!D202,'Data Input'!E202,'Data Input'!F202,'Data Input'!L202,'Data Input'!M202,'Data Input'!AB202,'Data Input'!AC202,'Data Input'!AF202,'Data Input'!AJ202,'Data Input'!AL202,'Data Input'!AN202,'Data Input'!AO202,'Data Input'!AP202,'Data Input'!AQ202,'Data Input'!AR202,'Data Input'!AS202,'Data Input'!AT202,'Data Input'!AU202,'Data Input'!AV202,'Data Input'!AW202,'Data Input'!AX202,'Data Input'!AY202))","v":""},{"$f":"IF(N198=\"\",\"\",N198/COUNTIF('Data Input'!$C$8:$AZ$8,$N$2))","v":""},null,{"$f":"IF(P198=\"\",\"\",P198/COUNTIF('Data Input'!$C$8:$AZ$8,$P$2))","v":""},{"$f":"IF(ISBLANK('Data Input'!A202),\"\",SUM('Data Input'!AH202))","v":""},{"$f":"IF(R198=\"\",\"\",R198/COUNTIF('Data Input'!$C$8:$AZ$8,$R$2))","v":""},{"$f":"IF(ISBLANK('Data Input'!$A202),\"\",SUM('Data Input'!AI202))","v":""},{"$f":"IF(T198=\"\",\"\",T198/COUNTIF('Data Input'!$C$8:$AZ$8,$T$2))","v":""},null,{"$f":"IF(V198=\"\",\"\",V198/COUNTIF('Data Input'!$C$8:$AZ$8,$V$2))","v":""}]
[{"$f":"IF('Data Input'!A203=0,\"\",'Data Input'!A203)","v":""},{"$f":"IF(F199=\"\",\"\",IF(F199>Welcome!$J$20-1,\"Exceeding\",IF(F199>Welcome!$F$20-1,\"Expected\",IF(F199<Welcome!$F$20,\"Below\"))))","v":""},{"$f":"IF(ISBLANK('Data Input'!A203),\"\",COUNTIF('Data Input'!C203:AZ203,\"\"))","v":""},{"$f":"IF(ISBLANK('Data Input'!A203),\"\",COUNTIF('Data Input'!C203:AZ203,\"0\"))","v":""},{"$f":"IF(ISBLANK('Data Input'!A203),\"\",SUM(C199,D199))","v":""},{"$f":"IF(ISBLANK('Data Input'!A203),\"\",SUM('Data Input'!C203:AZ203))","v":""},{"$f":"IF(F199=\"\",\"\",F199/(COUNTA('Data Input'!$C$8:$AZ$8)))","v":""},{"$f":"IF(ISBLANK('Data Input'!A203),\"\",SUM('Data Input'!C203,'Data Input'!H203,'Data Input'!J203,'Data Input'!N203,'Data Input'!R203,'Data Input'!T203,'Data Input'!Y203,'Data Input'!AE203,'Data Input'!AK203,'Data Input'!AM203))","v":""},{"$f":"IF(H199=\"\",\"\",H199/COUNTIF('Data Input'!$C$8:$AZ$8,$H$2))","v":""},{"$f":"IF(ISBLANK('Data Input'!A203),\"\",SUM('Data Input'!G203,'Data Input'!I203,'Data Input'!K203,'Data Input'!O203,'Data Input'!P203,'Data Input'!S203,'Data Input'!U203,'Data Input'!V203,'Data Input'!W203,'Data Input'!X203,'Data Input'!Z203,'Data Input'!AA203,'Data Input'!AD203,'Data Input'!AZ203))","v":""},{"$f":"IF(J199=\"\",\"\",J199/COUNTIF('Data Input'!$C$8:$AZ$8,$J$2))","v":""},{"$f":"IF(ISBLANK('Data Input'!A203),\"\",SUM('Data Input'!Q203,'Data Input'!AG203))","v":""},{"$f":"IF(L199=\"\",\"\",L199/COUNTIF('Data Input'!$C$8:$AZ$8,$L$2))","v":""},{"$f":"IF(ISBLANK('Data Input'!A203),\"\",SUM('Data Input'!D203,'Data Input'!E203,'Data Input'!F203,'Data Input'!L203,'Data Input'!M203,'Data Input'!AB203,'Data Input'!AC203,'Data Input'!AF203,'Data Input'!AJ203,'Data Input'!AL203,'Data Input'!AN203,'Data Input'!AO203,'Data Input'!AP203,'Data Input'!AQ203,'Data Input'!AR203,'Data Input'!AS203,'Data Input'!AT203,'Data Input'!AU203,'Data Input'!AV203,'Data Input'!AW203,'Data Input'!AX203,'Data Input'!AY203))","v":""},{"$f":"IF(N199=\"\",\"\",N199/COUNTIF('Data Input'!$C$8:$AZ$8,$N$2))","v":""},null,{"$f":"IF(P199=\"\",\"\",P199/COUNTIF('Data Input'!$C$8:$AZ$8,$P$2))","v":""},{"$f":"IF(ISBLANK('Data Input'!A203),\"\",SUM('Data Input'!AH203))","v":""},{"$f":"IF(R199=\"\",\"\",R199/COUNTIF('Data Input'!$C$8:$AZ$8,$R$2))","v":""},{"$f":"IF(ISBLANK('Data Input'!$A203),\"\",SUM('Data Input'!AI203))","v":""},{"$f":"IF(T199=\"\",\"\",T199/COUNTIF('Data Input'!$C$8:$AZ$8,$T$2))","v":""},null,{"$f":"IF(V199=\"\",\"\",V199/COUNTIF('Data Input'!$C$8:$AZ$8,$V$2))","v":""}]
[{"$f":"IF('Data Input'!A204=0,\"\",'Data Input'!A204)","v":""},{"$f":"IF(F200=\"\",\"\",IF(F200>Welcome!$J$20-1,\"Exceeding\",IF(F200>Welcome!$F$20-1,\"Expected\",IF(F200<Welcome!$F$20,\"Below\"))))","v":""},{"$f":"IF(ISBLANK('Data Input'!A204),\"\",COUNTIF('Data Input'!C204:AZ204,\"\"))","v":""},{"$f":"IF(ISBLANK('Data Input'!A204),\"\",COUNTIF('Data Input'!C204:AZ204,\"0\"))","v":""},{"$f":"IF(ISBLANK('Data Input'!A204),\"\",SUM(C200,D200))","v":""},{"$f":"IF(ISBLANK('Data Input'!A204),\"\",SUM('Data Input'!C204:AZ204))","v":""},{"$f":"IF(F200=\"\",\"\",F200/(COUNTA('Data Input'!$C$8:$AZ$8)))","v":""},{"$f":"IF(ISBLANK('Data Input'!A204),\"\",SUM('Data Input'!C204,'Data Input'!H204,'Data Input'!J204,'Data Input'!N204,'Data Input'!R204,'Data Input'!T204,'Data Input'!Y204,'Data Input'!AE204,'Data Input'!AK204,'Data Input'!AM204))","v":""},{"$f":"IF(H200=\"\",\"\",H200/COUNTIF('Data Input'!$C$8:$AZ$8,$H$2))","v":""},{"$f":"IF(ISBLANK('Data Input'!A204),\"\",SUM('Data Input'!G204,'Data Input'!I204,'Data Input'!K204,'Data Input'!O204,'Data Input'!P204,'Data Input'!S204,'Data Input'!U204,'Data Input'!V204,'Data Input'!W204,'Data Input'!X204,'Data Input'!Z204,'Data Input'!AA204,'Data Input'!AD204,'Data Input'!AZ204))","v":""},{"$f":"IF(J200=\"\",\"\",J200/COUNTIF('Data Input'!$C$8:$AZ$8,$J$2))","v":""},{"$f":"IF(ISBLANK('Data Input'!A204),\"\",SUM('Data Input'!Q204,'Data Input'!AG204))","v":""},{"$f":"IF(L200=\"\",\"\",L200/COUNTIF('Data Input'!$C$8:$AZ$8,$L$2))","v":""},{"$f":"IF(ISBLANK('Data Input'!A204),\"\",SUM('Data Input'!D204,'Data Input'!E204,'Data Input'!F204,'Data Input'!L204,'Data Input'!M204,'Data Input'!AB204,'Data Input'!AC204,'Data Input'!AF204,'Data Input'!AJ204,'Data Input'!AL204,'Data Input'!AN204,'Data Input'!AO204,'Data Input'!AP204,'Data Input'!AQ204,'Data Input'!AR204,'Data Input'!AS204,'Data Input'!AT204,'Data Input'!AU204,'Data Input'!AV204,'Data Input'!AW204,'Data Input'!AX204,'Data Input'!AY204))","v":""},{"$f":"IF(N200=\"\",\"\",N200/COUNTIF('Data Input'!$C$8:$AZ$8,$N$2))","v":""},null,{"$f":"IF(P200=\"\",\"\",P200/COUNTIF('Data Input'!$C$8:$AZ$8,$P$2))","v":""},{"$f":"IF(ISBLANK('Data Input'!A204),\"\",SUM('Data Input'!AH204))","v":""},{"$f":"IF(R200=\"\",\"\",R200/COUNTIF('Data Input'!$C$8:$AZ$8,$R$2))","v":""},{"$f":"IF(ISBLANK('Data Input'!$A204),\"\",SUM('Data Input'!AI204))","v":""},{"$f":"IF(T200=\"\",\"\",T200/COUNTIF('Data Input'!$C$8:$AZ$8,$T$2))","v":""},null,{"$f":"IF(V200=\"\",\"\",V200/COUNTIF('Data Input'!$C$8:$AZ$8,$V$2))","v":""}]
[{"$f":"IF('Data Input'!A205=0,\"\",'Data Input'!A205)","v":""},{"$f":"IF(F201=\"\",\"\",IF(F201>Welcome!$J$20-1,\"Exceeding\",IF(F201>Welcome!$F$20-1,\"Expected\",IF(F201<Welcome!$F$20,\"Below\"))))","v":""},{"$f":"IF(ISBLANK('Data Input'!A205),\"\",COUNTIF('Data Input'!C205:AZ205,\"\"))","v":""},{"$f":"IF(ISBLANK('Data Input'!A205),\"\",COUNTIF('Data Input'!C205:AZ205,\"0\"))","v":""},{"$f":"IF(ISBLANK('Data Input'!A205),\"\",SUM(C201,D201))","v":""},{"$f":"IF(ISBLANK('Data Input'!A205),\"\",SUM('Data Input'!C205:AZ205))","v":""},{"$f":"IF(F201=\"\",\"\",F201/(COUNTA('Data Input'!$C$8:$AZ$8)))","v":""},{"$f":"IF(ISBLANK('Data Input'!A205),\"\",SUM('Data Input'!C205,'Data Input'!H205,'Data Input'!J205,'Data Input'!N205,'Data Input'!R205,'Data Input'!T205,'Data Input'!Y205,'Data Input'!AE205,'Data Input'!AK205,'Data Input'!AM205))","v":""},{"$f":"IF(H201=\"\",\"\",H201/COUNTIF('Data Input'!$C$8:$AZ$8,$H$2))","v":""},{"$f":"IF(ISBLANK('Data Input'!A205),\"\",SUM('Data Input'!G205,'Data Input'!I205,'Data Input'!K205,'Data Input'!O205,'Data Input'!P205,'Data Input'!S205,'Data Input'!U205,'Data Input'!V205,'Data Input'!W205,'Data Input'!X205,'Data Input'!Z205,'Data Input'!AA205,'Data Input'!AD205,'Data Input'!AZ205))","v":""},{"$f":"IF(J201=\"\",\"\",J201/COUNTIF('Data Input'!$C$8:$AZ$8,$J$2))","v":""},{"$f":"IF(ISBLANK('Data Input'!A205),\"\",SUM('Data Input'!Q205,'Data Input'!AG205))","v":""},{"$f":"IF(L201=\"\",\"\",L201/COUNTIF('Data Input'!$C$8:$AZ$8,$L$2))","v":""},{"$f":"IF(ISBLANK('Data Input'!A205),\"\",SUM('Data Input'!D205,'Data Input'!E205,'Data Input'!F205,'Data Input'!L205,'Data Input'!M205,'Data Input'!AB205,'Data Input'!AC205,'Data Input'!AF205,'Data Input'!AJ205,'Data Input'!AL205,'Data Input'!AN205,'Data Input'!AO205,'Data Input'!AP205,'Data Input'!AQ205,'Data Input'!AR205,'Data Input'!AS205,'Data Input'!AT205,'Data Input'!AU205,'Data Input'!AV205,'Data Input'!AW205,'Data Input'!AX205,'Data Input'!AY205))","v":""},{"$f":"IF(N201=\"\",\"\",N201/COUNTIF('Data Input'!$C$8:$AZ$8,$N$2))","v":""},null,{"$f":"IF(P201=\"\",\"\",P201/COUNTIF('Data Input'!$C$8:$AZ$8,$P$2))","v":""},{"$f":"IF(ISBLANK('Data Input'!A205),\"\",SUM('Data Input'!AH205))","v":""},{"$f":"IF(R201=\"\",\"\",R201/COUNTIF('Data Input'!$C$8:$AZ$8,$R$2))","v":""},{"$f":"IF(ISBLANK('Data Input'!$A205),\"\",SUM('Data Input'!AI205))","v":""},{"$f":"IF(T201=\"\",\"\",T201/COUNTIF('Data Input'!$C$8:$AZ$8,$T$2))","v":""},null,{"$f":"IF(V201=\"\",\"\",V201/COUNTIF('Data Input'!$C$8:$AZ$8,$V$2))","v":""}]
[{"$f":"IF('Data Input'!A206=0,\"\",'Data Input'!A206)","v":""},{"$f":"IF(F202=\"\",\"\",IF(F202>Welcome!$J$20-1,\"Exceeding\",IF(F202>Welcome!$F$20-1,\"Expected\",IF(F202<Welcome!$F$20,\"Below\"))))","v":""},{"$f":"IF(ISBLANK('Data Input'!A206),\"\",COUNTIF('Data Input'!C206:AZ206,\"\"))","v":""},{"$f":"IF(ISBLANK('Data Input'!A206),\"\",COUNTIF('Data Input'!C206:AZ206,\"0\"))","v":""},{"$f":"IF(ISBLANK('Data Input'!A206),\"\",SUM(C202,D202))","v":""},{"$f":"IF(ISBLANK('Data Input'!A206),\"\",SUM('Data Input'!C206:AZ206))","v":""},{"$f":"IF(F202=\"\",\"\",F202/(COUNTA('Data Input'!$C$8:$AZ$8)))","v":""},{"$f":"IF(ISBLANK('Data Input'!A206),\"\",SUM('Data Input'!C206,'Data Input'!H206,'Data Input'!J206,'Data Input'!N206,'Data Input'!R206,'Data Input'!T206,'Data Input'!Y206,'Data Input'!AE206,'Data Input'!AK206,'Data Input'!AM206))","v":""},{"$f":"IF(H202=\"\",\"\",H202/COUNTIF('Data Input'!$C$8:$AZ$8,$H$2))","v":""},{"$f":"IF(ISBLANK('Data Input'!A206),\"\",SUM('Data Input'!G206,'Data Input'!I206,'Data Input'!K206,'Data Input'!O206,'Data Input'!P206,'Data Input'!S206,'Data Input'!U206,'Data Input'!V206,'Data Input'!W206,'Data Input'!X206,'Data Input'!Z206,'Data Input'!AA206,'Data Input'!AD206,'Data Input'!AZ206))","v":""},{"$f":"IF(J202=\"\",\"\",J202/COUNTIF('Data Input'!$C$8:$AZ$8,$J$2))","v":""},{"$f":"IF(ISBLANK('Data Input'!A206),\"\",SUM('Data Input'!Q206,'Data Input'!AG206))","v":""},{"$f":"IF(L202=\"\",\"\",L202/COUNTIF('Data Input'!$C$8:$AZ$8,$L$2))","v":""},{"$f":"IF(ISBLANK('Data Input'!A206),\"\",SUM('Data Input'!D206,'Data Input'!E206,'Data Input'!F206,'Data Input'!L206,'Data Input'!M206,'Data Input'!AB206,'Data Input'!AC206,'Data Input'!AF206,'Data Input'!AJ206,'Data Input'!AL206,'Data Input'!AN206,'Data Input'!AO206,'Data Input'!AP206,'Data Input'!AQ206,'Data Input'!AR206,'Data Input'!AS206,'Data Input'!AT206,'Data Input'!AU206,'Data Input'!AV206,'Data Input'!AW206,'Data Input'!AX206,'Data Input'!AY206))","v":""},{"$f":"IF(N202=\"\",\"\",N202/COUNTIF('Data Input'!$C$8:$AZ$8,$N$2))","v":""},null,{"$f":"IF(P202=\"\",\"\",P202/COUNTIF('Data Input'!$C$8:$AZ$8,$P$2))","v":""},{"$f":"IF(ISBLANK('Data Input'!A206),\"\",SUM('Data Input'!AH206))","v":""},{"$f":"IF(R202=\"\",\"\",R202/COUNTIF('Data Input'!$C$8:$AZ$8,$R$2))","v":""},{"$f":"IF(ISBLANK('Data Input'!$A206),\"\",SUM('Data Input'!AI206))","v":""},{"$f":"IF(T202=\"\",\"\",T202/COUNTIF('Data Input'!$C$8:$AZ$8,$T$2))","v":""},null,{"$f":"IF(V202=\"\",\"\",V202/COUNTIF('Data Input'!$C$8:$AZ$8,$V$2))","v":""}]
[{"$f":"IF('Data Input'!A207=0,\"\",'Data Input'!A207)","v":""},{"$f":"IF(F203=\"\",\"\",IF(F203>Welcome!$J$20-1,\"Exceeding\",IF(F203>Welcome!$F$20-1,\"Expected\",IF(F203<Welcome!$F$20,\"Below\"))))","v":""},{"$f":"IF(ISBLANK('Data Input'!A207),\"\",COUNTIF('Data Input'!C207:AZ207,\"\"))","v":""},{"$f":"IF(ISBLANK('Data Input'!A207),\"\",COUNTIF('Data Input'!C207:AZ207,\"0\"))","v":""},{"$f":"IF(ISBLANK('Data Input'!A207),\"\",SUM(C203,D203))","v":""},{"$f":"IF(ISBLANK('Data Input'!A207),\"\",SUM('Data Input'!C207:AZ207))","v":""},{"$f":"IF(F203=\"\",\"\",F203/(COUNTA('Data Input'!$C$8:$AZ$8)))","v":""},{"$f":"IF(ISBLANK('Data Input'!A207),\"\",SUM('Data Input'!C207,'Data Input'!H207,'Data Input'!J207,'Data Input'!N207,'Data Input'!R207,'Data Input'!T207,'Data Input'!Y207,'Data Input'!AE207,'Data Input'!AK207,'Data Input'!AM207))","v":""},{"$f":"IF(H203=\"\",\"\",H203/COUNTIF('Data Input'!$C$8:$AZ$8,$H$2))","v":""},{"$f":"IF(ISBLANK('Data Input'!A207),\"\",SUM('Data Input'!G207,'Data Input'!I207,'Data Input'!K207,'Data Input'!O207,'Data Input'!P207,'Data Input'!S207,'Data Input'!U207,'Data Input'!V207,'Data Input'!W207,'Data Input'!X207,'Data Input'!Z207,'Data Input'!AA207,'Data Input'!AD207,'Data Input'!AZ207))","v":""},{"$f":"IF(J203=\"\",\"\",J203/COUNTIF('Data Input'!$C$8:$AZ$8,$J$2))","v":""},{"$f":"IF(ISBLANK('Data Input'!A207),\"\",SUM('Data Input'!Q207,'Data Input'!AG207))","v":""},{"$f":"IF(L203=\"\",\"\",L203/COUNTIF('Data Input'!$C$8:$AZ$8,$L$2))","v":""},{"$f":"IF(ISBLANK('Data Input'!A207),\"\",SUM('Data Input'!D207,'Data Input'!E207,'Data Input'!F207,'Data Input'!L207,'Data Input'!M207,'Data Input'!AB207,'Data Input'!AC207,'Data Input'!AF207,'Data Input'!AJ207,'Data Input'!AL207,'Data Input'!AN207,'Data Input'!AO207,'Data Input'!AP207,'Data Input'!AQ207,'Data Input'!AR207,'Data Input'!AS207,'Data Input'!AT207,'Data Input'!AU207,'Data Input'!AV207,'Data Input'!AW207,'Data Input'!AX207,'Data Input'!AY207))","v":""},{"$f":"IF(N203=\"\",\"\",N203/COUNTIF('Data Input'!$C$8:$AZ$8,$N$2))","v":""},null,{"$f":"IF(P203=\"\",\"\",P203/COUNTIF('Data Input'!$C$8:$AZ$8,$P$2))","v":""},{"$f":"IF(ISBLANK('Data Input'!A207),\"\",SUM('Data Input'!AH207))","v":""},{"$f":"IF(R203=\"\",\"\",R203/COUNTIF('Data Input'!$C$8:$AZ$8,$R$2))","v":""},{"$f":"IF(ISBLANK('Data Input'!$A207),\"\",SUM('Data Input'!AI207))","v":""},{"$f":"IF(T203=\"\",\"\",T203/COUNTIF('Data Input'!$C$8:$AZ$8,$T$2))","v":""},null,{"$f":"IF(V203=\"\",\"\",V203/COUNTIF('Data Input'!$C$8:$AZ$8,$V$2))","v":""}]
[{"$f":"IF('Data Input'!A208=0,\"\",'Data Input'!A208)","v":""},{"$f":"IF(F204=\"\",\"\",IF(F204>Welcome!$J$20-1,\"Exceeding\",IF(F204>Welcome!$F$20-1,\"Expected\",IF(F204<Welcome!$F$20,\"Below\"))))","v":""},{"$f":"IF(ISBLANK('Data Input'!A208),\"\",COUNTIF('Data Input'!C208:AZ208,\"\"))","v":""},{"$f":"IF(ISBLANK('Data Input'!A208),\"\",COUNTIF('Data Input'!C208:AZ208,\"0\"))","v":""},{"$f":"IF(ISBLANK('Data Input'!A208),\"\",SUM(C204,D204))","v":""},{"$f":"IF(ISBLANK('Data Input'!A208),\"\",SUM('Data Input'!C208:AZ208))","v":""},{"$f":"IF(F204=\"\",\"\",F204/(COUNTA('Data Input'!$C$8:$AZ$8)))","v":""},{"$f":"IF(ISBLANK('Data Input'!A208),\"\",SUM('Data Input'!C208,'Data Input'!H208,'Data Input'!J208,'Data Input'!N208,'Data Input'!R208,'Data Input'!T208,'Data Input'!Y208,'Data Input'!AE208,'Data Input'!AK208,'Data Input'!AM208))","v":""},{"$f":"IF(H204=\"\",\"\",H204/COUNTIF('Data Input'!$C$8:$AZ$8,$H$2))","v":""},{"$f":"IF(ISBLANK('Data Input'!A208),\"\",SUM('Data Input'!G208,'Data Input'!I208,'Data Input'!K208,'Data Input'!O208,'Data Input'!P208,'Data Input'!S208,'Data Input'!U208,'Data Input'!V208,'Data Input'!W208,'Data Input'!X208,'Data Input'!Z208,'Data Input'!AA208,'Data Input'!AD208,'Data Input'!AZ208))","v":""},{"$f":"IF(J204=\"\",\"\",J204/COUNTIF('Data Input'!$C$8:$AZ$8,$J$2))","v":""},{"$f":"IF(ISBLANK('Data Input'!A208),\"\",SUM('Data Input'!Q208,'Data Input'!AG208))","v":""},{"$f":"IF(L204=\"\",\"\",L204/COUNTIF('Data Input'!$C$8:$AZ$8,$L$2))","v":""},{"$f":"IF(ISBLANK('Data Input'!A208),\"\",SUM('Data Input'!D208,'Data Input'!E208,'Data Input'!F208,'Data Input'!L208,'Data Input'!M208,'Data Input'!AB208,'Data Input'!AC208,'Data Input'!AF208,'Data Input'!AJ208,'Data Input'!AL208,'Data Input'!AN208,'Data Input'!AO208,'Data Input'!AP208,'Data Input'!AQ208,'Data Input'!AR208,'Data Input'!AS208,'Data Input'!AT208,'Data Input'!AU208,'Data Input'!AV208,'Data Input'!AW208,'Data Input'!AX208,'Data Input'!AY208))","v":""},{"$f":"IF(N204=\"\",\"\",N204/COUNTIF('Data Input'!$C$8:$AZ$8,$N$2))","v":""},null,{"$f":"IF(P204=\"\",\"\",P204/COUNTIF('Data Input'!$C$8:$AZ$8,$P$2))","v":""},{"$f":"IF(ISBLANK('Data Input'!A208),\"\",SUM('Data Input'!AH208))","v":""},{"$f":"IF(R204=\"\",\"\",R204/COUNTIF('Data Input'!$C$8:$AZ$8,$R$2))","v":""},{"$f":"IF(ISBLANK('Data Input'!$A208),\"\",SUM('Data Input'!AI208))","v":""},{"$f":"IF(T204=\"\",\"\",T204/COUNTIF('Data Input'!$C$8:$AZ$8,$T$2))","v":""},null,{"$f":"IF(V204=\"\",\"\",V204/COUNTIF('Data Input'!$C$8:$AZ$8,$V$2))","v":""}]
[{"$f":"IF('Data Input'!A209=0,\"\",'Data Input'!A209)","v":""},{"$f":"IF(F205=\"\",\"\",IF(F205>Welcome!$J$20-1,\"Exceeding\",IF(F205>Welcome!$F$20-1,\"Expected\",IF(F205<Welcome!$F$20,\"Below\"))))","v":""},{"$f":"IF(ISBLANK('Data Input'!A209),\"\",COUNTIF('Data Input'!C209:AZ209,\"\"))","v":""},{"$f":"IF(ISBLANK('Data Input'!A209),\"\",COUNTIF('Data Input'!C209:AZ209,\"0\"))","v":""},{"$f":"IF(ISBLANK('Data Input'!A209),\"\",SUM(C205,D205))","v":""},{"$f":"IF(ISBLANK('Data Input'!A209),\"\",SUM('Data Input'!C209:AZ209))","v":""},{"$f":"IF(F205=\"\",\"\",F205/(COUNTA('Data Input'!$C$8:$AZ$8)))","v":""},{"$f":"IF(ISBLANK('Data Input'!A209),\"\",SUM('Data Input'!C209,'Data Input'!H209,'Data Input'!J209,'Data Input'!N209,'Data Input'!R209,'Data Input'!T209,'Data Input'!Y209,'Data Input'!AE209,'Data Input'!AK209,'Data Input'!AM209))","v":""},{"$f":"IF(H205=\"\",\"\",H205/COUNTIF('Data Input'!$C$8:$AZ$8,$H$2))","v":""},{"$f":"IF(ISBLANK('Data Input'!A209),\"\",SUM('Data Input'!G209,'Data Input'!I209,'Data Input'!K209,'Data Input'!O209,'Data Input'!P209,'Data Input'!S209,'Data Input'!U209,'Data Input'!V209,'Data Input'!W209,'Data Input'!X209,'Data Input'!Z209,'Data Input'!AA209,'Data Input'!AD209,'Data Input'!AZ209))","v":""},{"$f":"IF(J205=\"\",\"\",J205/COUNTIF('Data Input'!$C$8:$AZ$8,$J$2))","v":""},{"$f":"IF(ISBLANK('Data Input'!A209),\"\",SUM('Data Input'!Q209,'Data Input'!AG209))","v":""},{"$f":"IF(L205=\"\",\"\",L205/COUNTIF('Data Input'!$C$8:$AZ$8,$L$2))","v":""},{"$f":"IF(ISBLANK('Data Input'!A209),\"\",SUM('Data Input'!D209,'Data Input'!E209,'Data Input'!F209,'Data Input'!L209,'Data Input'!M209,'Data Input'!AB209,'Data Input'!AC209,'Data Input'!AF209,'Data Input'!AJ209,'Data Input'!AL209,'Data Input'!AN209,'Data Input'!AO209,'Data Input'!AP209,'Data Input'!AQ209,'Data Input'!AR209,'Data Input'!AS209,'Data Input'!AT209,'Data Input'!AU209,'Data Input'!AV209,'Data Input'!AW209,'Data Input'!AX209,'Data Input'!AY209))","v":""},{"$f":"IF(N205=\"\",\"\",N205/COUNTIF('Data Input'!$C$8:$AZ$8,$N$2))","v":""},null,{"$f":"IF(P205=\"\",\"\",P205/COUNTIF('Data Input'!$C$8:$AZ$8,$P$2))","v":""},{"$f":"IF(ISBLANK('Data Input'!A209),\"\",SUM('Data Input'!AH209))","v":""},{"$f":"IF(R205=\"\",\"\",R205/COUNTIF('Data Input'!$C$8:$AZ$8,$R$2))","v":""},{"$f":"IF(ISBLANK('Data Input'!$A209),\"\",SUM('Data Input'!AI209))","v":""},{"$f":"IF(T205=\"\",\"\",T205/COUNTIF('Data Input'!$C$8:$AZ$8,$T$2))","v":""},null,{"$f":"IF(V205=\"\",\"\",V205/COUNTIF('Data Input'!$C$8:$AZ$8,$V$2))","v":""}]
[{"$f":"IF('Data Input'!A210=0,\"\",'Data Input'!A210)","v":""},{"$f":"IF(F206=\"\",\"\",IF(F206>Welcome!$J$20-1,\"Exceeding\",IF(F206>Welcome!$F$20-1,\"Expected\",IF(F206<Welcome!$F$20,\"Below\"))))","v":""},{"$f":"IF(ISBLANK('Data Input'!A210),\"\",COUNTIF('Data Input'!C210:AZ210,\"\"))","v":""},{"$f":"IF(ISBLANK('Data Input'!A210),\"\",COUNTIF('Data Input'!C210:AZ210,\"0\"))","v":""},{"$f":"IF(ISBLANK('Data Input'!A210),\"\",SUM(C206,D206))","v":""},{"$f":"IF(ISBLANK('Data Input'!A210),\"\",SUM('Data Input'!C210:AZ210))","v":""},{"$f":"IF(F206=\"\",\"\",F206/(COUNTA('Data Input'!$C$8:$AZ$8)))","v":""},{"$f":"IF(ISBLANK('Data Input'!A210),\"\",SUM('Data Input'!C210,'Data Input'!H210,'Data Input'!J210,'Data Input'!N210,'Data Input'!R210,'Data Input'!T210,'Data Input'!Y210,'Data Input'!AE210,'Data Input'!AK210,'Data Input'!AM210))","v":""},{"$f":"IF(H206=\"\",\"\",H206/COUNTIF('Data Input'!$C$8:$AZ$8,$H$2))","v":""},{"$f":"IF(ISBLANK('Data Input'!A210),\"\",SUM('Data Input'!G210,'Data Input'!I210,'Data Input'!K210,'Data Input'!O210,'Data Input'!P210,'Data Input'!S210,'Data Input'!U210,'Data Input'!V210,'Data Input'!W210,'Data Input'!X210,'Data Input'!Z210,'Data Input'!AA210,'Data Input'!AD210,'Data Input'!AZ210))","v":""},{"$f":"IF(J206=\"\",\"\",J206/COUNTIF('Data Input'!$C$8:$AZ$8,$J$2))","v":""},{"$f":"IF(ISBLANK('Data Input'!A210),\"\",SUM('Data Input'!Q210,'Data Input'!AG210))","v":""},{"$f":"IF(L206=\"\",\"\",L206/COUNTIF('Data Input'!$C$8:$AZ$8,$L$2))","v":""},{"$f":"IF(ISBLANK('Data Input'!A210),\"\",SUM('Data Input'!D210,'Data Input'!E210,'Data Input'!F210,'Data Input'!L210,'Data Input'!M210,'Data Input'!AB210,'Data Input'!AC210,'Data Input'!AF210,'Data Input'!AJ210,'Data Input'!AL210,'Data Input'!AN210,'Data Input'!AO210,'Data Input'!AP210,'Data Input'!AQ210,'Data Input'!AR210,'Data Input'!AS210,'Data Input'!AT210,'Data Input'!AU210,'Data Input'!AV210,'Data Input'!AW210,'Data Input'!AX210,'Data Input'!AY210))","v":""},{"$f":"IF(N206=\"\",\"\",N206/COUNTIF('Data Input'!$C$8:$AZ$8,$N$2))","v":""},null,{"$f":"IF(P206=\"\",\"\",P206/COUNTIF('Data Input'!$C$8:$AZ$8,$P$2))","v":""},{"$f":"IF(ISBLANK('Data Input'!A210),\"\",SUM('Data Input'!AH210))","v":""},{"$f":"IF(R206=\"\",\"\",R206/COUNTIF('Data Input'!$C$8:$AZ$8,$R$2))","v":""},{"$f":"IF(ISBLANK('Data Input'!$A210),\"\",SUM('Data Input'!AI210))","v":""},{"$f":"IF(T206=\"\",\"\",T206/COUNTIF('Data Input'!$C$8:$AZ$8,$T$2))","v":""},null,{"$f":"IF(V206=\"\",\"\",V206/COUNTIF('Data Input'!$C$8:$AZ$8,$V$2))","v":""}]
[{"$f":"IF('Data Input'!A211=0,\"\",'Data Input'!A211)","v":""},{"$f":"IF(F207=\"\",\"\",IF(F207>Welcome!$J$20-1,\"Exceeding\",IF(F207>Welcome!$F$20-1,\"Expected\",IF(F207<Welcome!$F$20,\"Below\"))))","v":""},{"$f":"IF(ISBLANK('Data Input'!A211),\"\",COUNTIF('Data Input'!C211:AZ211,\"\"))","v":""},{"$f":"IF(ISBLANK('Data Input'!A211),\"\",COUNTIF('Data Input'!C211:AZ211,\"0\"))","v":""},{"$f":"IF(ISBLANK('Data Input'!A211),\"\",SUM(C207,D207))","v":""},{"$f":"IF(ISBLANK('Data Input'!A211),\"\",SUM('Data Input'!C211:AZ211))","v":""},{"$f":"IF(F207=\"\",\"\",F207/(COUNTA('Data Input'!$C$8:$AZ$8)))","v":""},{"$f":"IF(ISBLANK('Data Input'!A211),\"\",SUM('Data Input'!C211,'Data Input'!H211,'Data Input'!J211,'Data Input'!N211,'Data Input'!R211,'Data Input'!T211,'Data Input'!Y211,'Data Input'!AE211,'Data Input'!AK211,'Data Input'!AM211))","v":""},{"$f":"IF(H207=\"\",\"\",H207/COUNTIF('Data Input'!$C$8:$AZ$8,$H$2))","v":""},{"$f":"IF(ISBLANK('Data Input'!A211),\"\",SUM('Data Input'!G211,'Data Input'!I211,'Data Input'!K211,'Data Input'!O211,'Data Input'!P211,'Data Input'!S211,'Data Input'!U211,'Data Input'!V211,'Data Input'!W211,'Data Input'!X211,'Data Input'!Z211,'Data Input'!AA211,'Data Input'!AD211,'Data Input'!AZ211))","v":""},{"$f":"IF(J207=\"\",\"\",J207/COUNTIF('Data Input'!$C$8:$AZ$8,$J$2))","v":""},{"$f":"IF(ISBLANK('Data Input'!A211),\"\",SUM('Data Input'!Q211,'Data Input'!AG211))","v":""},{"$f":"IF(L207=\"\",\"\",L207/COUNTIF('Data Input'!$C$8:$AZ$8,$L$2))","v":""},{"$f":"IF(ISBLANK('Data Input'!A211),\"\",SUM('Data Input'!D211,'Data Input'!E211,'Data Input'!F211,'Data Input'!L211,'Data Input'!M211,'Data Input'!AB211,'Data Input'!AC211,'Data Input'!AF211,'Data Input'!AJ211,'Data Input'!AL211,'Data Input'!AN211,'Data Input'!AO211,'Data Input'!AP211,'Data Input'!AQ211,'Data Input'!AR211,'Data Input'!AS211,'Data Input'!AT211,'Data Input'!AU211,'Data Input'!AV211,'Data Input'!AW211,'Data Input'!AX211,'Data Input'!AY211))","v":""},{"$f":"IF(N207=\"\",\"\",N207/COUNTIF('Data Input'!$C$8:$AZ$8,$N$2))","v":""},null,{"$f":"IF(P207=\"\",\"\",P207/COUNTIF('Data Input'!$C$8:$AZ$8,$P$2))","v":""},{"$f":"IF(ISBLANK('Data Input'!A211),\"\",SUM('Data Input'!AH211))","v":""},{"$f":"IF(R207=\"\",\"\",R207/COUNTIF('Data Input'!$C$8:$AZ$8,$R$2))","v":""},{"$f":"IF(ISBLANK('Data Input'!$A211),\"\",SUM('Data Input'!AI211))","v":""},{"$f":"IF(T207=\"\",\"\",T207/COUNTIF('Data Input'!$C$8:$AZ$8,$T$2))","v":""},null,{"$f":"IF(V207=\"\",\"\",V207/COUNTIF('Data Input'!$C$8:$AZ$8,$V$2))","v":""}]
[{"$f":"IF('Data Input'!A212=0,\"\",'Data Input'!A212)","v":""},{"$f":"IF(F208=\"\",\"\",IF(F208>Welcome!$J$20-1,\"Exceeding\",IF(F208>Welcome!$F$20-1,\"Expected\",IF(F208<Welcome!$F$20,\"Below\"))))","v":""},{"$f":"IF(ISBLANK('Data Input'!A212),\"\",COUNTIF('Data Input'!C212:AZ212,\"\"))","v":""},{"$f":"IF(ISBLANK('Data Input'!A212),\"\",COUNTIF('Data Input'!C212:AZ212,\"0\"))","v":""},{"$f":"IF(ISBLANK('Data Input'!A212),\"\",SUM(C208,D208))","v":""},{"$f":"IF(ISBLANK('Data Input'!A212),\"\",SUM('Data Input'!C212:AZ212))","v":""},{"$f":"IF(F208=\"\",\"\",F208/(COUNTA('Data Input'!$C$8:$AZ$8)))","v":""},{"$f":"IF(ISBLANK('Data Input'!A212),\"\",SUM('Data Input'!C212,'Data Input'!H212,'Data Input'!J212,'Data Input'!N212,'Data Input'!R212,'Data Input'!T212,'Data Input'!Y212,'Data Input'!AE212,'Data Input'!AK212,'Data Input'!AM212))","v":""},{"$f":"IF(H208=\"\",\"\",H208/COUNTIF('Data Input'!$C$8:$AZ$8,$H$2))","v":""},{"$f":"IF(ISBLANK('Data Input'!A212),\"\",SUM('Data Input'!G212,'Data Input'!I212,'Data Input'!K212,'Data Input'!O212,'Data Input'!P212,'Data Input'!S212,'Data Input'!U212,'Data Input'!V212,'Data Input'!W212,'Data Input'!X212,'Data Input'!Z212,'Data Input'!AA212,'Data Input'!AD212,'Data Input'!AZ212))","v":""},{"$f":"IF(J208=\"\",\"\",J208/COUNTIF('Data Input'!$C$8:$AZ$8,$J$2))","v":""},{"$f":"IF(ISBLANK('Data Input'!A212),\"\",SUM('Data Input'!Q212,'Data Input'!AG212))","v":""},{"$f":"IF(L208=\"\",\"\",L208/COUNTIF('Data Input'!$C$8:$AZ$8,$L$2))","v":""},{"$f":"IF(ISBLANK('Data Input'!A212),\"\",SUM('Data Input'!D212,'Data Input'!E212,'Data Input'!F212,'Data Input'!L212,'Data Input'!M212,'Data Input'!AB212,'Data Input'!AC212,'Data Input'!AF212,'Data Input'!AJ212,'Data Input'!AL212,'Data Input'!AN212,'Data Input'!AO212,'Data Input'!AP212,'Data Input'!AQ212,'Data Input'!AR212,'Data Input'!AS212,'Data Input'!AT212,'Data Input'!AU212,'Data Input'!AV212,'Data Input'!AW212,'Data Input'!AX212,'Data Input'!AY212))","v":""},{"$f":"IF(N208=\"\",\"\",N208/COUNTIF('Data Input'!$C$8:$AZ$8,$N$2))","v":""},null,{"$f":"IF(P208=\"\",\"\",P208/COUNTIF('Data Input'!$C$8:$AZ$8,$P$2))","v":""},{"$f":"IF(ISBLANK('Data Input'!A212),\"\",SUM('Data Input'!AH212))","v":""},{"$f":"IF(R208=\"\",\"\",R208/COUNTIF('Data Input'!$C$8:$AZ$8,$R$2))","v":""},{"$f":"IF(ISBLANK('Data Input'!$A212),\"\",SUM('Data Input'!AI212))","v":""},{"$f":"IF(T208=\"\",\"\",T208/COUNTIF('Data Input'!$C$8:$AZ$8,$T$2))","v":""},null,{"$f":"IF(V208=\"\",\"\",V208/COUNTIF('Data Input'!$C$8:$AZ$8,$V$2))","v":""}]
[{"$f":"IF('Data Input'!A213=0,\"\",'Data Input'!A213)","v":""},{"$f":"IF(F209=\"\",\"\",IF(F209>Welcome!$J$20-1,\"Exceeding\",IF(F209>Welcome!$F$20-1,\"Expected\",IF(F209<Welcome!$F$20,\"Below\"))))","v":""},{"$f":"IF(ISBLANK('Data Input'!A213),\"\",COUNTIF('Data Input'!C213:AZ213,\"\"))","v":""},{"$f":"IF(ISBLANK('Data Input'!A213),\"\",COUNTIF('Data Input'!C213:AZ213,\"0\"))","v":""},{"$f":"IF(ISBLANK('Data Input'!A213),\"\",SUM(C209,D209))","v":""},{"$f":"IF(ISBLANK('Data Input'!A213),\"\",SUM('Data Input'!C213:AZ213))","v":""},{"$f":"IF(F209=\"\",\"\",F209/(COUNTA('Data Input'!$C$8:$AZ$8)))","v":""},{"$f":"IF(ISBLANK('Data Input'!A213),\"\",SUM('Data Input'!C213,'Data Input'!H213,'Data Input'!J213,'Data Input'!N213,'Data Input'!R213,'Data Input'!T213,'Data Input'!Y213,'Data Input'!AE213,'Data Input'!AK213,'Data Input'!AM213))","v":""},{"$f":"IF(H209=\"\",\"\",H209/COUNTIF('Data Input'!$C$8:$AZ$8,$H$2))","v":""},{"$f":"IF(ISBLANK('Data Input'!A213),\"\",SUM('Data Input'!G213,'Data Input'!I213,'Data Input'!K213,'Data Input'!O213,'Data Input'!P213,'Data Input'!S213,'Data Input'!U213,'Data Input'!V213,'Data Input'!W213,'Data Input'!X213,'Data Input'!Z213,'Data Input'!AA213,'Data Input'!AD213,'Data Input'!AZ213))","v":""},{"$f":"IF(J209=\"\",\"\",J209/COUNTIF('Data Input'!$C$8:$AZ$8,$J$2))","v":""},{"$f":"IF(ISBLANK('Data Input'!A213),\"\",SUM('Data Input'!Q213,'Data Input'!AG213))","v":""},{"$f":"IF(L209=\"\",\"\",L209/COUNTIF('Data Input'!$C$8:$AZ$8,$L$2))","v":""},{"$f":"IF(ISBLANK('Data Input'!A213),\"\",SUM('Data Input'!D213,'Data Input'!E213,'Data Input'!F213,'Data Input'!L213,'Data Input'!M213,'Data Input'!AB213,'Data Input'!AC213,'Data Input'!AF213,'Data Input'!AJ213,'Data Input'!AL213,'Data Input'!AN213,'Data Input'!AO213,'Data Input'!AP213,'Data Input'!AQ213,'Data Input'!AR213,'Data Input'!AS213,'Data Input'!AT213,'Data Input'!AU213,'Data Input'!AV213,'Data Input'!AW213,'Data Input'!AX213,'Data Input'!AY213))","v":""},{"$f":"IF(N209=\"\",\"\",N209/COUNTIF('Data Input'!$C$8:$AZ$8,$N$2))","v":""},null,{"$f":"IF(P209=\"\",\"\",P209/COUNTIF('Data Input'!$C$8:$AZ$8,$P$2))","v":""},{"$f":"IF(ISBLANK('Data Input'!A213),\"\",SUM('Data Input'!AH213))","v":""},{"$f":"IF(R209=\"\",\"\",R209/COUNTIF('Data Input'!$C$8:$AZ$8,$R$2))","v":""},{"$f":"IF(ISBLANK('Data Input'!$A213),\"\",SUM('Data Input'!AI213))","v":""},{"$f":"IF(T209=\"\",\"\",T209/COUNTIF('Data Input'!$C$8:$AZ$8,$T$2))","v":""},null,{"$f":"IF(V209=\"\",\"\",V209/COUNTIF('Data Input'!$C$8:$AZ$8,$V$2))","v":""}]
[{"$f":"IF('Data Input'!A214=0,\"\",'Data Input'!A214)","v":""},{"$f":"IF(F210=\"\",\"\",IF(F210>Welcome!$J$20-1,\"Exceeding\",IF(F210>Welcome!$F$20-1,\"Expected\",IF(F210<Welcome!$F$20,\"Below\"))))","v":""},{"$f":"IF(ISBLANK('Data Input'!A214),\"\",COUNTIF('Data Input'!C214:AZ214,\"\"))","v":""},{"$f":"IF(ISBLANK('Data Input'!A214),\"\",COUNTIF('Data Input'!C214:AZ214,\"0\"))","v":""},{"$f":"IF(ISBLANK('Data Input'!A214),\"\",SUM(C210,D210))","v":""},{"$f":"IF(ISBLANK('Data Input'!A214),\"\",SUM('Data Input'!C214:AZ214))","v":""},{"$f":"IF(F210=\"\",\"\",F210/(COUNTA('Data Input'!$C$8:$AZ$8)))","v":""},{"$f":"IF(ISBLANK('Data Input'!A214),\"\",SUM('Data Input'!C214,'Data Input'!H214,'Data Input'!J214,'Data Input'!N214,'Data Input'!R214,'Data Input'!T214,'Data Input'!Y214,'Data Input'!AE214,'Data Input'!AK214,'Data Input'!AM214))","v":""},{"$f":"IF(H210=\"\",\"\",H210/COUNTIF('Data Input'!$C$8:$AZ$8,$H$2))","v":""},{"$f":"IF(ISBLANK('Data Input'!A214),\"\",SUM('Data Input'!G214,'Data Input'!I214,'Data Input'!K214,'Data Input'!O214,'Data Input'!P214,'Data Input'!S214,'Data Input'!U214,'Data Input'!V214,'Data Input'!W214,'Data Input'!X214,'Data Input'!Z214,'Data Input'!AA214,'Data Input'!AD214,'Data Input'!AZ214))","v":""},{"$f":"IF(J210=\"\",\"\",J210/COUNTIF('Data Input'!$C$8:$AZ$8,$J$2))","v":""},{"$f":"IF(ISBLANK('Data Input'!A214),\"\",SUM('Data Input'!Q214,'Data Input'!AG214))","v":""},{"$f":"IF(L210=\"\",\"\",L210/COUNTIF('Data Input'!$C$8:$AZ$8,$L$2))","v":""},{"$f":"IF(ISBLANK('Data Input'!A214),\"\",SUM('Data Input'!D214,'Data Input'!E214,'Data Input'!F214,'Data Input'!L214,'Data Input'!M214,'Data Input'!AB214,'Data Input'!AC214,'Data Input'!AF214,'Data Input'!AJ214,'Data Input'!AL214,'Data Input'!AN214,'Data Input'!AO214,'Data Input'!AP214,'Data Input'!AQ214,'Data Input'!AR214,'Data Input'!AS214,'Data Input'!AT214,'Data Input'!AU214,'Data Input'!AV214,'Data Input'!AW214,'Data Input'!AX214,'Data Input'!AY214))","v":""},{"$f":"IF(N210=\"\",\"\",N210/COUNTIF('Data Input'!$C$8:$AZ$8,$N$2))","v":""},null,{"$f":"IF(P210=\"\",\"\",P210/COUNTIF('Data Input'!$C$8:$AZ$8,$P$2))","v":""},{"$f":"IF(ISBLANK('Data Input'!A214),\"\",SUM('Data Input'!AH214))","v":""},{"$f":"IF(R210=\"\",\"\",R210/COUNTIF('Data Input'!$C$8:$AZ$8,$R$2))","v":""},{"$f":"IF(ISBLANK('Data Input'!$A214),\"\",SUM('Data Input'!AI214))","v":""},{"$f":"IF(T210=\"\",\"\",T210/COUNTIF('Data Input'!$C$8:$AZ$8,$T$2))","v":""},null,{"$f":"IF(V210=\"\",\"\",V210/COUNTIF('Data Input'!$C$8:$AZ$8,$V$2))","v":""}]
[{"$f":"IF('Data Input'!A215=0,\"\",'Data Input'!A215)","v":""},{"$f":"IF(F211=\"\",\"\",IF(F211>Welcome!$J$20-1,\"Exceeding\",IF(F211>Welcome!$F$20-1,\"Expected\",IF(F211<Welcome!$F$20,\"Below\"))))","v":""},{"$f":"IF(ISBLANK('Data Input'!A215),\"\",COUNTIF('Data Input'!C215:AZ215,\"\"))","v":""},{"$f":"IF(ISBLANK('Data Input'!A215),\"\",COUNTIF('Data Input'!C215:AZ215,\"0\"))","v":""},{"$f":"IF(ISBLANK('Data Input'!A215),\"\",SUM(C211,D211))","v":""},{"$f":"IF(ISBLANK('Data Input'!A215),\"\",SUM('Data Input'!C215:AZ215))","v":""},{"$f":"IF(F211=\"\",\"\",F211/(COUNTA('Data Input'!$C$8:$AZ$8)))","v":""},{"$f":"IF(ISBLANK('Data Input'!A215),\"\",SUM('Data Input'!C215,'Data Input'!H215,'Data Input'!J215,'Data Input'!N215,'Data Input'!R215,'Data Input'!T215,'Data Input'!Y215,'Data Input'!AE215,'Data Input'!AK215,'Data Input'!AM215))","v":""},{"$f":"IF(H211=\"\",\"\",H211/COUNTIF('Data Input'!$C$8:$AZ$8,$H$2))","v":""},{"$f":"IF(ISBLANK('Data Input'!A215),\"\",SUM('Data Input'!G215,'Data Input'!I215,'Data Input'!K215,'Data Input'!O215,'Data Input'!P215,'Data Input'!S215,'Data Input'!U215,'Data Input'!V215,'Data Input'!W215,'Data Input'!X215,'Data Input'!Z215,'Data Input'!AA215,'Data Input'!AD215,'Data Input'!AZ215))","v":""},{"$f":"IF(J211=\"\",\"\",J211/COUNTIF('Data Input'!$C$8:$AZ$8,$J$2))","v":""},{"$f":"IF(ISBLANK('Data Input'!A215),\"\",SUM('Data Input'!Q215,'Data Input'!AG215))","v":""},{"$f":"IF(L211=\"\",\"\",L211/COUNTIF('Data Input'!$C$8:$AZ$8,$L$2))","v":""},{"$f":"IF(ISBLANK('Data Input'!A215),\"\",SUM('Data Input'!D215,'Data Input'!E215,'Data Input'!F215,'Data Input'!L215,'Data Input'!M215,'Data Input'!AB215,'Data Input'!AC215,'Data Input'!AF215,'Data Input'!AJ215,'Data Input'!AL215,'Data Input'!AN215,'Data Input'!AO215,'Data Input'!AP215,'Data Input'!AQ215,'Data Input'!AR215,'Data Input'!AS215,'Data Input'!AT215,'Data Input'!AU215,'Data Input'!AV215,'Data Input'!AW215,'Data Input'!AX215,'Data Input'!AY215))","v":""},{"$f":"IF(N211=\"\",\"\",N211/COUNTIF('Data Input'!$C$8:$AZ$8,$N$2))","v":""},null,{"$f":"IF(P211=\"\",\"\",P211/COUNTIF('Data Input'!$C$8:$AZ$8,$P$2))","v":""},{"$f":"IF(ISBLANK('Data Input'!A215),\"\",SUM('Data Input'!AH215))","v":""},{"$f":"IF(R211=\"\",\"\",R211/COUNTIF('Data Input'!$C$8:$AZ$8,$R$2))","v":""},{"$f":"IF(ISBLANK('Data Input'!$A215),\"\",SUM('Data Input'!AI215))","v":""},{"$f":"IF(T211=\"\",\"\",T211/COUNTIF('Data Input'!$C$8:$AZ$8,$T$2))","v":""},null,{"$f":"IF(V211=\"\",\"\",V211/COUNTIF('Data Input'!$C$8:$AZ$8,$V$2))","v":""}]
[{"$f":"IF('Data Input'!A216=0,\"\",'Data Input'!A216)","v":""},{"$f":"IF(F212=\"\",\"\",IF(F212>Welcome!$J$20-1,\"Exceeding\",IF(F212>Welcome!$F$20-1,\"Expected\",IF(F212<Welcome!$F$20,\"Below\"))))","v":""},{"$f":"IF(ISBLANK('Data Input'!A216),\"\",COUNTIF('Data Input'!C216:AZ216,\"\"))","v":""},{"$f":"IF(ISBLANK('Data Input'!A216),\"\",COUNTIF('Data Input'!C216:AZ216,\"0\"))","v":""},{"$f":"IF(ISBLANK('Data Input'!A216),\"\",SUM(C212,D212))","v":""},{"$f":"IF(ISBLANK('Data Input'!A216),\"\",SUM('Data Input'!C216:AZ216))","v":""},{"$f":"IF(F212=\"\",\"\",F212/(COUNTA('Data Input'!$C$8:$AZ$8)))","v":""},{"$f":"IF(ISBLANK('Data Input'!A216),\"\",SUM('Data Input'!C216,'Data Input'!H216,'Data Input'!J216,'Data Input'!N216,'Data Input'!R216,'Data Input'!T216,'Data Input'!Y216,'Data Input'!AE216,'Data Input'!AK216,'Data Input'!AM216))","v":""},{"$f":"IF(H212=\"\",\"\",H212/COUNTIF('Data Input'!$C$8:$AZ$8,$H$2))","v":""},{"$f":"IF(ISBLANK('Data Input'!A216),\"\",SUM('Data Input'!G216,'Data Input'!I216,'Data Input'!K216,'Data Input'!O216,'Data Input'!P216,'Data Input'!S216,'Data Input'!U216,'Data Input'!V216,'Data Input'!W216,'Data Input'!X216,'Data Input'!Z216,'Data Input'!AA216,'Data Input'!AD216,'Data Input'!AZ216))","v":""},{"$f":"IF(J212=\"\",\"\",J212/COUNTIF('Data Input'!$C$8:$AZ$8,$J$2))","v":""},{"$f":"IF(ISBLANK('Data Input'!A216),\"\",SUM('Data Input'!Q216,'Data Input'!AG216))","v":""},{"$f":"IF(L212=\"\",\"\",L212/COUNTIF('Data Input'!$C$8:$AZ$8,$L$2))","v":""},{"$f":"IF(ISBLANK('Data Input'!A216),\"\",SUM('Data Input'!D216,'Data Input'!E216,'Data Input'!F216,'Data Input'!L216,'Data Input'!M216,'Data Input'!AB216,'Data Input'!AC216,'Data Input'!AF216,'Data Input'!AJ216,'Data Input'!AL216,'Data Input'!AN216,'Data Input'!AO216,'Data Input'!AP216,'Data Input'!AQ216,'Data Input'!AR216,'Data Input'!AS216,'Data Input'!AT216,'Data Input'!AU216,'Data Input'!AV216,'Data Input'!AW216,'Data Input'!AX216,'Data Input'!AY216))","v":""},{"$f":"IF(N212=\"\",\"\",N212/COUNTIF('Data Input'!$C$8:$AZ$8,$N$2))","v":""},null,{"$f":"IF(P212=\"\",\"\",P212/COUNTIF('Data Input'!$C$8:$AZ$8,$P$2))","v":""},{"$f":"IF(ISBLANK('Data Input'!A216),\"\",SUM('Data Input'!AH216))","v":""},{"$f":"IF(R212=\"\",\"\",R212/COUNTIF('Data Input'!$C$8:$AZ$8,$R$2))","v":""},{"$f":"IF(ISBLANK('Data Input'!$A216),\"\",SUM('Data Input'!AI216))","v":""},{"$f":"IF(T212=\"\",\"\",T212/COUNTIF('Data Input'!$C$8:$AZ$8,$T$2))","v":""},null,{"$f":"IF(V212=\"\",\"\",V212/COUNTIF('Data Input'!$C$8:$AZ$8,$V$2))","v":""}]
[{"$f":"IF('Data Input'!A217=0,\"\",'Data Input'!A217)","v":""},{"$f":"IF(F213=\"\",\"\",IF(F213>Welcome!$J$20-1,\"Exceeding\",IF(F213>Welcome!$F$20-1,\"Expected\",IF(F213<Welcome!$F$20,\"Below\"))))","v":""},{"$f":"IF(ISBLANK('Data Input'!A217),\"\",COUNTIF('Data Input'!C217:AZ217,\"\"))","v":""},{"$f":"IF(ISBLANK('Data Input'!A217),\"\",COUNTIF('Data Input'!C217:AZ217,\"0\"))","v":""},{"$f":"IF(ISBLANK('Data Input'!A217),\"\",SUM(C213,D213))","v":""},{"$f":"IF(ISBLANK('Data Input'!A217),\"\",SUM('Data Input'!C217:AZ217))","v":""},{"$f":"IF(F213=\"\",\"\",F213/(COUNTA('Data Input'!$C$8:$AZ$8)))","v":""},{"$f":"IF(ISBLANK('Data Input'!A217),\"\",SUM('Data Input'!C217,'Data Input'!H217,'Data Input'!J217,'Data Input'!N217,'Data Input'!R217,'Data Input'!T217,'Data Input'!Y217,'Data Input'!AE217,'Data Input'!AK217,'Data Input'!AM217))","v":""},{"$f":"IF(H213=\"\",\"\",H213/COUNTIF('Data Input'!$C$8:$AZ$8,$H$2))","v":""},{"$f":"IF(ISBLANK('Data Input'!A217),\"\",SUM('Data Input'!G217,'Data Input'!I217,'Data Input'!K217,'Data Input'!O217,'Data Input'!P217,'Data Input'!S217,'Data Input'!U217,'Data Input'!V217,'Data Input'!W217,'Data Input'!X217,'Data Input'!Z217,'Data Input'!AA217,'Data Input'!AD217,'Data Input'!AZ217))","v":""},{"$f":"IF(J213=\"\",\"\",J213/COUNTIF('Data Input'!$C$8:$AZ$8,$J$2))","v":""},{"$f":"IF(ISBLANK('Data Input'!A217),\"\",SUM('Data Input'!Q217,'Data Input'!AG217))","v":""},{"$f":"IF(L213=\"\",\"\",L213/COUNTIF('Data Input'!$C$8:$AZ$8,$L$2))","v":""},{"$f":"IF(ISBLANK('Data Input'!A217),\"\",SUM('Data Input'!D217,'Data Input'!E217,'Data Input'!F217,'Data Input'!L217,'Data Input'!M217,'Data Input'!AB217,'Data Input'!AC217,'Data Input'!AF217,'Data Input'!AJ217,'Data Input'!AL217,'Data Input'!AN217,'Data Input'!AO217,'Data Input'!AP217,'Data Input'!AQ217,'Data Input'!AR217,'Data Input'!AS217,'Data Input'!AT217,'Data Input'!AU217,'Data Input'!AV217,'Data Input'!AW217,'Data Input'!AX217,'Data Input'!AY217))","v":""},{"$f":"IF(N213=\"\",\"\",N213/COUNTIF('Data Input'!$C$8:$AZ$8,$N$2))","v":""},null,{"$f":"IF(P213=\"\",\"\",P213/COUNTIF('Data Input'!$C$8:$AZ$8,$P$2))","v":""},{"$f":"IF(ISBLANK('Data Input'!A217),\"\",SUM('Data Input'!AH217))","v":""},{"$f":"IF(R213=\"\",\"\",R213/COUNTIF('Data Input'!$C$8:$AZ$8,$R$2))","v":""},{"$f":"IF(ISBLANK('Data Input'!$A217),\"\",SUM('Data Input'!AI217))","v":""},{"$f":"IF(T213=\"\",\"\",T213/COUNTIF('Data Input'!$C$8:$AZ$8,$T$2))","v":""},null,{"$f":"IF(V213=\"\",\"\",V213/COUNTIF('Data Input'!$C$8:$AZ$8,$V$2))","v":""}]
[{"$f":"IF('Data Input'!A218=0,\"\",'Data Input'!A218)","v":""},{"$f":"IF(F214=\"\",\"\",IF(F214>Welcome!$J$20-1,\"Exceeding\",IF(F214>Welcome!$F$20-1,\"Expected\",IF(F214<Welcome!$F$20,\"Below\"))))","v":""},{"$f":"IF(ISBLANK('Data Input'!A218),\"\",COUNTIF('Data Input'!C218:AZ218,\"\"))","v":""},{"$f":"IF(ISBLANK('Data Input'!A218),\"\",COUNTIF('Data Input'!C218:AZ218,\"0\"))","v":""},{"$f":"IF(ISBLANK('Data Input'!A218),\"\",SUM(C214,D214))","v":""},{"$f":"IF(ISBLANK('Data Input'!A218),\"\",SUM('Data Input'!C218:AZ218))","v":""},{"$f":"IF(F214=\"\",\"\",F214/(COUNTA('Data Input'!$C$8:$AZ$8)))","v":""},{"$f":"IF(ISBLANK('Data Input'!A218),\"\",SUM('Data Input'!C218,'Data Input'!H218,'Data Input'!J218,'Data Input'!N218,'Data Input'!R218,'Data Input'!T218,'Data Input'!Y218,'Data Input'!AE218,'Data Input'!AK218,'Data Input'!AM218))","v":""},{"$f":"IF(H214=\"\",\"\",H214/COUNTIF('Data Input'!$C$8:$AZ$8,$H$2))","v":""},{"$f":"IF(ISBLANK('Data Input'!A218),\"\",SUM('Data Input'!G218,'Data Input'!I218,'Data Input'!K218,'Data Input'!O218,'Data Input'!P218,'Data Input'!S218,'Data Input'!U218,'Data Input'!V218,'Data Input'!W218,'Data Input'!X218,'Data Input'!Z218,'Data Input'!AA218,'Data Input'!AD218,'Data Input'!AZ218))","v":""},{"$f":"IF(J214=\"\",\"\",J214/COUNTIF('Data Input'!$C$8:$AZ$8,$J$2))","v":""},{"$f":"IF(ISBLANK('Data Input'!A218),\"\",SUM('Data Input'!Q218,'Data Input'!AG218))","v":""},{"$f":"IF(L214=\"\",\"\",L214/COUNTIF('Data Input'!$C$8:$AZ$8,$L$2))","v":""},{"$f":"IF(ISBLANK('Data Input'!A218),\"\",SUM('Data Input'!D218,'Data Input'!E218,'Data Input'!F218,'Data Input'!L218,'Data Input'!M218,'Data Input'!AB218,'Data Input'!AC218,'Data Input'!AF218,'Data Input'!AJ218,'Data Input'!AL218,'Data Input'!AN218,'Data Input'!AO218,'Data Input'!AP218,'Data Input'!AQ218,'Data Input'!AR218,'Data Input'!AS218,'Data Input'!AT218,'Data Input'!AU218,'Data Input'!AV218,'Data Input'!AW218,'Data Input'!AX218,'Data Input'!AY218))","v":""},{"$f":"IF(N214=\"\",\"\",N214/COUNTIF('Data Input'!$C$8:$AZ$8,$N$2))","v":""},null,{"$f":"IF(P214=\"\",\"\",P214/COUNTIF('Data Input'!$C$8:$AZ$8,$P$2))","v":""},{"$f":"IF(ISBLANK('Data Input'!A218),\"\",SUM('Data Input'!AH218))","v":""},{"$f":"IF(R214=\"\",\"\",R214/COUNTIF('Data Input'!$C$8:$AZ$8,$R$2))","v":""},{"$f":"IF(ISBLANK('Data Input'!$A218),\"\",SUM('Data Input'!AI218))","v":""},{"$f":"IF(T214=\"\",\"\",T214/COUNTIF('Data Input'!$C$8:$AZ$8,$T$2))","v":""},null,{"$f":"IF(V214=\"\",\"\",V214/COUNTIF('Data Input'!$C$8:$AZ$8,$V$2))","v":""}]
[{"$f":"IF('Data Input'!A219=0,\"\",'Data Input'!A219)","v":""},{"$f":"IF(F215=\"\",\"\",IF(F215>Welcome!$J$20-1,\"Exceeding\",IF(F215>Welcome!$F$20-1,\"Expected\",IF(F215<Welcome!$F$20,\"Below\"))))","v":""},{"$f":"IF(ISBLANK('Data Input'!A219),\"\",COUNTIF('Data Input'!C219:AZ219,\"\"))","v":""},{"$f":"IF(ISBLANK('Data Input'!A219),\"\",COUNTIF('Data Input'!C219:AZ219,\"0\"))","v":""},{"$f":"IF(ISBLANK('Data Input'!A219),\"\",SUM(C215,D215))","v":""},{"$f":"IF(ISBLANK('Data Input'!A219),\"\",SUM('Data Input'!C219:AZ219))","v":""},{"$f":"IF(F215=\"\",\"\",F215/(COUNTA('Data Input'!$C$8:$AZ$8)))","v":""},{"$f":"IF(ISBLANK('Data Input'!A219),\"\",SUM('Data Input'!C219,'Data Input'!H219,'Data Input'!J219,'Data Input'!N219,'Data Input'!R219,'Data Input'!T219,'Data Input'!Y219,'Data Input'!AE219,'Data Input'!AK219,'Data Input'!AM219))","v":""},{"$f":"IF(H215=\"\",\"\",H215/COUNTIF('Data Input'!$C$8:$AZ$8,$H$2))","v":""},{"$f":"IF(ISBLANK('Data Input'!A219),\"\",SUM('Data Input'!G219,'Data Input'!I219,'Data Input'!K219,'Data Input'!O219,'Data Input'!P219,'Data Input'!S219,'Data Input'!U219,'Data Input'!V219,'Data Input'!W219,'Data Input'!X219,'Data Input'!Z219,'Data Input'!AA219,'Data Input'!AD219,'Data Input'!AZ219))","v":""},{"$f":"IF(J215=\"\",\"\",J215/COUNTIF('Data Input'!$C$8:$AZ$8,$J$2))","v":""},{"$f":"IF(ISBLANK('Data Input'!A219),\"\",SUM('Data Input'!Q219,'Data Input'!AG219))","v":""},{"$f":"IF(L215=\"\",\"\",L215/COUNTIF('Data Input'!$C$8:$AZ$8,$L$2))","v":""},{"$f":"IF(ISBLANK('Data Input'!A219),\"\",SUM('Data Input'!D219,'Data Input'!E219,'Data Input'!F219,'Data Input'!L219,'Data Input'!M219,'Data Input'!AB219,'Data Input'!AC219,'Data Input'!AF219,'Data Input'!AJ219,'Data Input'!AL219,'Data Input'!AN219,'Data Input'!AO219,'Data Input'!AP219,'Data Input'!AQ219,'Data Input'!AR219,'Data Input'!AS219,'Data Input'!AT219,'Data Input'!AU219,'Data Input'!AV219,'Data Input'!AW219,'Data Input'!AX219,'Data Input'!AY219))","v":""},{"$f":"IF(N215=\"\",\"\",N215/COUNTIF('Data Input'!$C$8:$AZ$8,$N$2))","v":""},null,{"$f":"IF(P215=\"\",\"\",P215/COUNTIF('Data Input'!$C$8:$AZ$8,$P$2))","v":""},{"$f":"IF(ISBLANK('Data Input'!A219),\"\",SUM('Data Input'!AH219))","v":""},{"$f":"IF(R215=\"\",\"\",R215/COUNTIF('Data Input'!$C$8:$AZ$8,$R$2))","v":""},{"$f":"IF(ISBLANK('Data Input'!$A219),\"\",SUM('Data Input'!AI219))","v":""},{"$f":"IF(T215=\"\",\"\",T215/COUNTIF('Data Input'!$C$8:$AZ$8,$T$2))","v":""},null,{"$f":"IF(V215=\"\",\"\",V215/COUNTIF('Data Input'!$C$8:$AZ$8,$V$2))","v":""}]
[{"$f":"IF('Data Input'!A220=0,\"\",'Data Input'!A220)","v":""},{"$f":"IF(F216=\"\",\"\",IF(F216>Welcome!$J$20-1,\"Exceeding\",IF(F216>Welcome!$F$20-1,\"Expected\",IF(F216<Welcome!$F$20,\"Below\"))))","v":""},{"$f":"IF(ISBLANK('Data Input'!A220),\"\",COUNTIF('Data Input'!C220:AZ220,\"\"))","v":""},{"$f":"IF(ISBLANK('Data Input'!A220),\"\",COUNTIF('Data Input'!C220:AZ220,\"0\"))","v":""},{"$f":"IF(ISBLANK('Data Input'!A220),\"\",SUM(C216,D216))","v":""},{"$f":"IF(ISBLANK('Data Input'!A220),\"\",SUM('Data Input'!C220:AZ220))","v":""},{"$f":"IF(F216=\"\",\"\",F216/(COUNTA('Data Input'!$C$8:$AZ$8)))","v":""},{"$f":"IF(ISBLANK('Data Input'!A220),\"\",SUM('Data Input'!C220,'Data Input'!H220,'Data Input'!J220,'Data Input'!N220,'Data Input'!R220,'Data Input'!T220,'Data Input'!Y220,'Data Input'!AE220,'Data Input'!AK220,'Data Input'!AM220))","v":""},{"$f":"IF(H216=\"\",\"\",H216/COUNTIF('Data Input'!$C$8:$AZ$8,$H$2))","v":""},{"$f":"IF(ISBLANK('Data Input'!A220),\"\",SUM('Data Input'!G220,'Data Input'!I220,'Data Input'!K220,'Data Input'!O220,'Data Input'!P220,'Data Input'!S220,'Data Input'!U220,'Data Input'!V220,'Data Input'!W220,'Data Input'!X220,'Data Input'!Z220,'Data Input'!AA220,'Data Input'!AD220,'Data Input'!AZ220))","v":""},{"$f":"IF(J216=\"\",\"\",J216/COUNTIF('Data Input'!$C$8:$AZ$8,$J$2))","v":""},{"$f":"IF(ISBLANK('Data Input'!A220),\"\",SUM('Data Input'!Q220,'Data Input'!AG220))","v":""},{"$f":"IF(L216=\"\",\"\",L216/COUNTIF('Data Input'!$C$8:$AZ$8,$L$2))","v":""},{"$f":"IF(ISBLANK('Data Input'!A220),\"\",SUM('Data Input'!D220,'Data Input'!E220,'Data Input'!F220,'Data Input'!L220,'Data Input'!M220,'Data Input'!AB220,'Data Input'!AC220,'Data Input'!AF220,'Data Input'!AJ220,'Data Input'!AL220,'Data Input'!AN220,'Data Input'!AO220,'Data Input'!AP220,'Data Input'!AQ220,'Data Input'!AR220,'Data Input'!AS220,'Data Input'!AT220,'Data Input'!AU220,'Data Input'!AV220,'Data Input'!AW220,'Data Input'!AX220,'Data Input'!AY220))","v":""},{"$f":"IF(N216=\"\",\"\",N216/COUNTIF('Data Input'!$C$8:$AZ$8,$N$2))","v":""},null,{"$f":"IF(P216=\"\",\"\",P216/COUNTIF('Data Input'!$C$8:$AZ$8,$P$2))","v":""},{"$f":"IF(ISBLANK('Data Input'!A220),\"\",SUM('Data Input'!AH220))","v":""},{"$f":"IF(R216=\"\",\"\",R216/COUNTIF('Data Input'!$C$8:$AZ$8,$R$2))","v":""},{"$f":"IF(ISBLANK('Data Input'!$A220),\"\",SUM('Data Input'!AI220))","v":""},{"$f":"IF(T216=\"\",\"\",T216/COUNTIF('Data Input'!$C$8:$AZ$8,$T$2))","v":""},null,{"$f":"IF(V216=\"\",\"\",V216/COUNTIF('Data Input'!$C$8:$AZ$8,$V$2))","v":""}]
[{"$f":"IF('Data Input'!A221=0,\"\",'Data Input'!A221)","v":""},{"$f":"IF(F217=\"\",\"\",IF(F217>Welcome!$J$20-1,\"Exceeding\",IF(F217>Welcome!$F$20-1,\"Expected\",IF(F217<Welcome!$F$20,\"Below\"))))","v":""},{"$f":"IF(ISBLANK('Data Input'!A221),\"\",COUNTIF('Data Input'!C221:AZ221,\"\"))","v":""},{"$f":"IF(ISBLANK('Data Input'!A221),\"\",COUNTIF('Data Input'!C221:AZ221,\"0\"))","v":""},{"$f":"IF(ISBLANK('Data Input'!A221),\"\",SUM(C217,D217))","v":""},{"$f":"IF(ISBLANK('Data Input'!A221),\"\",SUM('Data Input'!C221:AZ221))","v":""},{"$f":"IF(F217=\"\",\"\",F217/(COUNTA('Data Input'!$C$8:$AZ$8)))","v":""},{"$f":"IF(ISBLANK('Data Input'!A221),\"\",SUM('Data Input'!C221,'Data Input'!H221,'Data Input'!J221,'Data Input'!N221,'Data Input'!R221,'Data Input'!T221,'Data Input'!Y221,'Data Input'!AE221,'Data Input'!AK221,'Data Input'!AM221))","v":""},{"$f":"IF(H217=\"\",\"\",H217/COUNTIF('Data Input'!$C$8:$AZ$8,$H$2))","v":""},{"$f":"IF(ISBLANK('Data Input'!A221),\"\",SUM('Data Input'!G221,'Data Input'!I221,'Data Input'!K221,'Data Input'!O221,'Data Input'!P221,'Data Input'!S221,'Data Input'!U221,'Data Input'!V221,'Data Input'!W221,'Data Input'!X221,'Data Input'!Z221,'Data Input'!AA221,'Data Input'!AD221,'Data Input'!AZ221))","v":""},{"$f":"IF(J217=\"\",\"\",J217/COUNTIF('Data Input'!$C$8:$AZ$8,$J$2))","v":""},{"$f":"IF(ISBLANK('Data Input'!A221),\"\",SUM('Data Input'!Q221,'Data Input'!AG221))","v":""},{"$f":"IF(L217=\"\",\"\",L217/COUNTIF('Data Input'!$C$8:$AZ$8,$L$2))","v":""},{"$f":"IF(ISBLANK('Data Input'!A221),\"\",SUM('Data Input'!D221,'Data Input'!E221,'Data Input'!F221,'Data Input'!L221,'Data Input'!M221,'Data Input'!AB221,'Data Input'!AC221,'Data Input'!AF221,'Data Input'!AJ221,'Data Input'!AL221,'Data Input'!AN221,'Data Input'!AO221,'Data Input'!AP221,'Data Input'!AQ221,'Data Input'!AR221,'Data Input'!AS221,'Data Input'!AT221,'Data Input'!AU221,'Data Input'!AV221,'Data Input'!AW221,'Data Input'!AX221,'Data Input'!AY221))","v":""},{"$f":"IF(N217=\"\",\"\",N217/COUNTIF('Data Input'!$C$8:$AZ$8,$N$2))","v":""},null,{"$f":"IF(P217=\"\",\"\",P217/COUNTIF('Data Input'!$C$8:$AZ$8,$P$2))","v":""},{"$f":"IF(ISBLANK('Data Input'!A221),\"\",SUM('Data Input'!AH221))","v":""},{"$f":"IF(R217=\"\",\"\",R217/COUNTIF('Data Input'!$C$8:$AZ$8,$R$2))","v":""},{"$f":"IF(ISBLANK('Data Input'!$A221),\"\",SUM('Data Input'!AI221))","v":""},{"$f":"IF(T217=\"\",\"\",T217/COUNTIF('Data Input'!$C$8:$AZ$8,$T$2))","v":""},null,{"$f":"IF(V217=\"\",\"\",V217/COUNTIF('Data Input'!$C$8:$AZ$8,$V$2))","v":""}]
[{"$f":"IF('Data Input'!A222=0,\"\",'Data Input'!A222)","v":""},{"$f":"IF(F218=\"\",\"\",IF(F218>Welcome!$J$20-1,\"Exceeding\",IF(F218>Welcome!$F$20-1,\"Expected\",IF(F218<Welcome!$F$20,\"Below\"))))","v":""},{"$f":"IF(ISBLANK('Data Input'!A222),\"\",COUNTIF('Data Input'!C222:AZ222,\"\"))","v":""},{"$f":"IF(ISBLANK('Data Input'!A222),\"\",COUNTIF('Data Input'!C222:AZ222,\"0\"))","v":""},{"$f":"IF(ISBLANK('Data Input'!A222),\"\",SUM(C218,D218))","v":""},{"$f":"IF(ISBLANK('Data Input'!A222),\"\",SUM('Data Input'!C222:AZ222))","v":""},{"$f":"IF(F218=\"\",\"\",F218/(COUNTA('Data Input'!$C$8:$AZ$8)))","v":""},{"$f":"IF(ISBLANK('Data Input'!A222),\"\",SUM('Data Input'!C222,'Data Input'!H222,'Data Input'!J222,'Data Input'!N222,'Data Input'!R222,'Data Input'!T222,'Data Input'!Y222,'Data Input'!AE222,'Data Input'!AK222,'Data Input'!AM222))","v":""},{"$f":"IF(H218=\"\",\"\",H218/COUNTIF('Data Input'!$C$8:$AZ$8,$H$2))","v":""},{"$f":"IF(ISBLANK('Data Input'!A222),\"\",SUM('Data Input'!G222,'Data Input'!I222,'Data Input'!K222,'Data Input'!O222,'Data Input'!P222,'Data Input'!S222,'Data Input'!U222,'Data Input'!V222,'Data Input'!W222,'Data Input'!X222,'Data Input'!Z222,'Data Input'!AA222,'Data Input'!AD222,'Data Input'!AZ222))","v":""},{"$f":"IF(J218=\"\",\"\",J218/COUNTIF('Data Input'!$C$8:$AZ$8,$J$2))","v":""},{"$f":"IF(ISBLANK('Data Input'!A222),\"\",SUM('Data Input'!Q222,'Data Input'!AG222))","v":""},{"$f":"IF(L218=\"\",\"\",L218/COUNTIF('Data Input'!$C$8:$AZ$8,$L$2))","v":""},{"$f":"IF(ISBLANK('Data Input'!A222),\"\",SUM('Data Input'!D222,'Data Input'!E222,'Data Input'!F222,'Data Input'!L222,'Data Input'!M222,'Data Input'!AB222,'Data Input'!AC222,'Data Input'!AF222,'Data Input'!AJ222,'Data Input'!AL222,'Data Input'!AN222,'Data Input'!AO222,'Data Input'!AP222,'Data Input'!AQ222,'Data Input'!AR222,'Data Input'!AS222,'Data Input'!AT222,'Data Input'!AU222,'Data Input'!AV222,'Data Input'!AW222,'Data Input'!AX222,'Data Input'!AY222))","v":""},{"$f":"IF(N218=\"\",\"\",N218/COUNTIF('Data Input'!$C$8:$AZ$8,$N$2))","v":""},null,{"$f":"IF(P218=\"\",\"\",P218/COUNTIF('Data Input'!$C$8:$AZ$8,$P$2))","v":""},{"$f":"IF(ISBLANK('Data Input'!A222),\"\",SUM('Data Input'!AH222))","v":""},{"$f":"IF(R218=\"\",\"\",R218/COUNTIF('Data Input'!$C$8:$AZ$8,$R$2))","v":""},{"$f":"IF(ISBLANK('Data Input'!$A222),\"\",SUM('Data Input'!AI222))","v":""},{"$f":"IF(T218=\"\",\"\",T218/COUNTIF('Data Input'!$C$8:$AZ$8,$T$2))","v":""},null,{"$f":"IF(V218=\"\",\"\",V218/COUNTIF('Data Input'!$C$8:$AZ$8,$V$2))","v":""}]
[{"$f":"IF('Data Input'!A223=0,\"\",'Data Input'!A223)","v":""},{"$f":"IF(F219=\"\",\"\",IF(F219>Welcome!$J$20-1,\"Exceeding\",IF(F219>Welcome!$F$20-1,\"Expected\",IF(F219<Welcome!$F$20,\"Below\"))))","v":""},{"$f":"IF(ISBLANK('Data Input'!A223),\"\",COUNTIF('Data Input'!C223:AZ223,\"\"))","v":""},{"$f":"IF(ISBLANK('Data Input'!A223),\"\",COUNTIF('Data Input'!C223:AZ223,\"0\"))","v":""},{"$f":"IF(ISBLANK('Data Input'!A223),\"\",SUM(C219,D219))","v":""},{"$f":"IF(ISBLANK('Data Input'!A223),\"\",SUM('Data Input'!C223:AZ223))","v":""},{"$f":"IF(F219=\"\",\"\",F219/(COUNTA('Data Input'!$C$8:$AZ$8)))","v":""},{"$f":"IF(ISBLANK('Data Input'!A223),\"\",SUM('Data Input'!C223,'Data Input'!H223,'Data Input'!J223,'Data Input'!N223,'Data Input'!R223,'Data Input'!T223,'Data Input'!Y223,'Data Input'!AE223,'Data Input'!AK223,'Data Input'!AM223))","v":""},{"$f":"IF(H219=\"\",\"\",H219/COUNTIF('Data Input'!$C$8:$AZ$8,$H$2))","v":""},{"$f":"IF(ISBLANK('Data Input'!A223),\"\",SUM('Data Input'!G223,'Data Input'!I223,'Data Input'!K223,'Data Input'!O223,'Data Input'!P223,'Data Input'!S223,'Data Input'!U223,'Data Input'!V223,'Data Input'!W223,'Data Input'!X223,'Data Input'!Z223,'Data Input'!AA223,'Data Input'!AD223,'Data Input'!AZ223))","v":""},{"$f":"IF(J219=\"\",\"\",J219/COUNTIF('Data Input'!$C$8:$AZ$8,$J$2))","v":""},{"$f":"IF(ISBLANK('Data Input'!A223),\"\",SUM('Data Input'!Q223,'Data Input'!AG223))","v":""},{"$f":"IF(L219=\"\",\"\",L219/COUNTIF('Data Input'!$C$8:$AZ$8,$L$2))","v":""},{"$f":"IF(ISBLANK('Data Input'!A223),\"\",SUM('Data Input'!D223,'Data Input'!E223,'Data Input'!F223,'Data Input'!L223,'Data Input'!M223,'Data Input'!AB223,'Data Input'!AC223,'Data Input'!AF223,'Data Input'!AJ223,'Data Input'!AL223,'Data Input'!AN223,'Data Input'!AO223,'Data Input'!AP223,'Data Input'!AQ223,'Data Input'!AR223,'Data Input'!AS223,'Data Input'!AT223,'Data Input'!AU223,'Data Input'!AV223,'Data Input'!AW223,'Data Input'!AX223,'Data Input'!AY223))","v":""},{"$f":"IF(N219=\"\",\"\",N219/COUNTIF('Data Input'!$C$8:$AZ$8,$N$2))","v":""},null,{"$f":"IF(P219=\"\",\"\",P219/COUNTIF('Data Input'!$C$8:$AZ$8,$P$2))","v":""},{"$f":"IF(ISBLANK('Data Input'!A223),\"\",SUM('Data Input'!AH223))","v":""},{"$f":"IF(R219=\"\",\"\",R219/COUNTIF('Data Input'!$C$8:$AZ$8,$R$2))","v":""},{"$f":"IF(ISBLANK('Data Input'!$A223),\"\",SUM('Data Input'!AI223))","v":""},{"$f":"IF(T219=\"\",\"\",T219/COUNTIF('Data Input'!$C$8:$AZ$8,$T$2))","v":""},null,{"$f":"IF(V219=\"\",\"\",V219/COUNTIF('Data Input'!$C$8:$AZ$8,$V$2))","v":""}]
[{"$f":"IF('Data Input'!A224=0,\"\",'Data Input'!A224)","v":""},{"$f":"IF(F220=\"\",\"\",IF(F220>Welcome!$J$20-1,\"Exceeding\",IF(F220>Welcome!$F$20-1,\"Expected\",IF(F220<Welcome!$F$20,\"Below\"))))","v":""},{"$f":"IF(ISBLANK('Data Input'!A224),\"\",COUNTIF('Data Input'!C224:AZ224,\"\"))","v":""},{"$f":"IF(ISBLANK('Data Input'!A224),\"\",COUNTIF('Data Input'!C224:AZ224,\"0\"))","v":""},{"$f":"IF(ISBLANK('Data Input'!A224),\"\",SUM(C220,D220))","v":""},{"$f":"IF(ISBLANK('Data Input'!A224),\"\",SUM('Data Input'!C224:AZ224))","v":""},{"$f":"IF(F220=\"\",\"\",F220/(COUNTA('Data Input'!$C$8:$AZ$8)))","v":""},{"$f":"IF(ISBLANK('Data Input'!A224),\"\",SUM('Data Input'!C224,'Data Input'!H224,'Data Input'!J224,'Data Input'!N224,'Data Input'!R224,'Data Input'!T224,'Data Input'!Y224,'Data Input'!AE224,'Data Input'!AK224,'Data Input'!AM224))","v":""},{"$f":"IF(H220=\"\",\"\",H220/COUNTIF('Data Input'!$C$8:$AZ$8,$H$2))","v":""},{"$f":"IF(ISBLANK('Data Input'!A224),\"\",SUM('Data Input'!G224,'Data Input'!I224,'Data Input'!K224,'Data Input'!O224,'Data Input'!P224,'Data Input'!S224,'Data Input'!U224,'Data Input'!V224,'Data Input'!W224,'Data Input'!X224,'Data Input'!Z224,'Data Input'!AA224,'Data Input'!AD224,'Data Input'!AZ224))","v":""},{"$f":"IF(J220=\"\",\"\",J220/COUNTIF('Data Input'!$C$8:$AZ$8,$J$2))","v":""},{"$f":"IF(ISBLANK('Data Input'!A224),\"\",SUM('Data Input'!Q224,'Data Input'!AG224))","v":""},{"$f":"IF(L220=\"\",\"\",L220/COUNTIF('Data Input'!$C$8:$AZ$8,$L$2))","v":""},{"$f":"IF(ISBLANK('Data Input'!A224),\"\",SUM('Data Input'!D224,'Data Input'!E224,'Data Input'!F224,'Data Input'!L224,'Data Input'!M224,'Data Input'!AB224,'Data Input'!AC224,'Data Input'!AF224,'Data Input'!AJ224,'Data Input'!AL224,'Data Input'!AN224,'Data Input'!AO224,'Data Input'!AP224,'Data Input'!AQ224,'Data Input'!AR224,'Data Input'!AS224,'Data Input'!AT224,'Data Input'!AU224,'Data Input'!AV224,'Data Input'!AW224,'Data Input'!AX224,'Data Input'!AY224))","v":""},{"$f":"IF(N220=\"\",\"\",N220/COUNTIF('Data Input'!$C$8:$AZ$8,$N$2))","v":""},null,{"$f":"IF(P220=\"\",\"\",P220/COUNTIF('Data Input'!$C$8:$AZ$8,$P$2))","v":""},{"$f":"IF(ISBLANK('Data Input'!A224),\"\",SUM('Data Input'!AH224))","v":""},{"$f":"IF(R220=\"\",\"\",R220/COUNTIF('Data Input'!$C$8:$AZ$8,$R$2))","v":""},{"$f":"IF(ISBLANK('Data Input'!$A224),\"\",SUM('Data Input'!AI224))","v":""},{"$f":"IF(T220=\"\",\"\",T220/COUNTIF('Data Input'!$C$8:$AZ$8,$T$2))","v":""},null,{"$f":"IF(V220=\"\",\"\",V220/COUNTIF('Data Input'!$C$8:$AZ$8,$V$2))","v":""}]
[{"$f":"IF('Data Input'!A225=0,\"\",'Data Input'!A225)","v":""},{"$f":"IF(F221=\"\",\"\",IF(F221>Welcome!$J$20-1,\"Exceeding\",IF(F221>Welcome!$F$20-1,\"Expected\",IF(F221<Welcome!$F$20,\"Below\"))))","v":""},{"$f":"IF(ISBLANK('Data Input'!A225),\"\",COUNTIF('Data Input'!C225:AZ225,\"\"))","v":""},{"$f":"IF(ISBLANK('Data Input'!A225),\"\",COUNTIF('Data Input'!C225:AZ225,\"0\"))","v":""},{"$f":"IF(ISBLANK('Data Input'!A225),\"\",SUM(C221,D221))","v":""},{"$f":"IF(ISBLANK('Data Input'!A225),\"\",SUM('Data Input'!C225:AZ225))","v":""},{"$f":"IF(F221=\"\",\"\",F221/(COUNTA('Data Input'!$C$8:$AZ$8)))","v":""},{"$f":"IF(ISBLANK('Data Input'!A225),\"\",SUM('Data Input'!C225,'Data Input'!H225,'Data Input'!J225,'Data Input'!N225,'Data Input'!R225,'Data Input'!T225,'Data Input'!Y225,'Data Input'!AE225,'Data Input'!AK225,'Data Input'!AM225))","v":""},{"$f":"IF(H221=\"\",\"\",H221/COUNTIF('Data Input'!$C$8:$AZ$8,$H$2))","v":""},{"$f":"IF(ISBLANK('Data Input'!A225),\"\",SUM('Data Input'!G225,'Data Input'!I225,'Data Input'!K225,'Data Input'!O225,'Data Input'!P225,'Data Input'!S225,'Data Input'!U225,'Data Input'!V225,'Data Input'!W225,'Data Input'!X225,'Data Input'!Z225,'Data Input'!AA225,'Data Input'!AD225,'Data Input'!AZ225))","v":""},{"$f":"IF(J221=\"\",\"\",J221/COUNTIF('Data Input'!$C$8:$AZ$8,$J$2))","v":""},{"$f":"IF(ISBLANK('Data Input'!A225),\"\",SUM('Data Input'!Q225,'Data Input'!AG225))","v":""},{"$f":"IF(L221=\"\",\"\",L221/COUNTIF('Data Input'!$C$8:$AZ$8,$L$2))","v":""},{"$f":"IF(ISBLANK('Data Input'!A225),\"\",SUM('Data Input'!D225,'Data Input'!E225,'Data Input'!F225,'Data Input'!L225,'Data Input'!M225,'Data Input'!AB225,'Data Input'!AC225,'Data Input'!AF225,'Data Input'!AJ225,'Data Input'!AL225,'Data Input'!AN225,'Data Input'!AO225,'Data Input'!AP225,'Data Input'!AQ225,'Data Input'!AR225,'Data Input'!AS225,'Data Input'!AT225,'Data Input'!AU225,'Data Input'!AV225,'Data Input'!AW225,'Data Input'!AX225,'Data Input'!AY225))","v":""},{"$f":"IF(N221=\"\",\"\",N221/COUNTIF('Data Input'!$C$8:$AZ$8,$N$2))","v":""},null,{"$f":"IF(P221=\"\",\"\",P221/COUNTIF('Data Input'!$C$8:$AZ$8,$P$2))","v":""},{"$f":"IF(ISBLANK('Data Input'!A225),\"\",SUM('Data Input'!AH225))","v":""},{"$f":"IF(R221=\"\",\"\",R221/COUNTIF('Data Input'!$C$8:$AZ$8,$R$2))","v":""},{"$f":"IF(ISBLANK('Data Input'!$A225),\"\",SUM('Data Input'!AI225))","v":""},{"$f":"IF(T221=\"\",\"\",T221/COUNTIF('Data Input'!$C$8:$AZ$8,$T$2))","v":""},null,{"$f":"IF(V221=\"\",\"\",V221/COUNTIF('Data Input'!$C$8:$AZ$8,$V$2))","v":""}]
[{"$f":"IF('Data Input'!A226=0,\"\",'Data Input'!A226)","v":""},{"$f":"IF(F222=\"\",\"\",IF(F222>Welcome!$J$20-1,\"Exceeding\",IF(F222>Welcome!$F$20-1,\"Expected\",IF(F222<Welcome!$F$20,\"Below\"))))","v":""},{"$f":"IF(ISBLANK('Data Input'!A226),\"\",COUNTIF('Data Input'!C226:AZ226,\"\"))","v":""},{"$f":"IF(ISBLANK('Data Input'!A226),\"\",COUNTIF('Data Input'!C226:AZ226,\"0\"))","v":""},{"$f":"IF(ISBLANK('Data Input'!A226),\"\",SUM(C222,D222))","v":""},{"$f":"IF(ISBLANK('Data Input'!A226),\"\",SUM('Data Input'!C226:AZ226))","v":""},{"$f":"IF(F222=\"\",\"\",F222/(COUNTA('Data Input'!$C$8:$AZ$8)))","v":""},{"$f":"IF(ISBLANK('Data Input'!A226),\"\",SUM('Data Input'!C226,'Data Input'!H226,'Data Input'!J226,'Data Input'!N226,'Data Input'!R226,'Data Input'!T226,'Data Input'!Y226,'Data Input'!AE226,'Data Input'!AK226,'Data Input'!AM226))","v":""},{"$f":"IF(H222=\"\",\"\",H222/COUNTIF('Data Input'!$C$8:$AZ$8,$H$2))","v":""},{"$f":"IF(ISBLANK('Data Input'!A226),\"\",SUM('Data Input'!G226,'Data Input'!I226,'Data Input'!K226,'Data Input'!O226,'Data Input'!P226,'Data Input'!S226,'Data Input'!U226,'Data Input'!V226,'Data Input'!W226,'Data Input'!X226,'Data Input'!Z226,'Data Input'!AA226,'Data Input'!AD226,'Data Input'!AZ226))","v":""},{"$f":"IF(J222=\"\",\"\",J222/COUNTIF('Data Input'!$C$8:$AZ$8,$J$2))","v":""},{"$f":"IF(ISBLANK('Data Input'!A226),\"\",SUM('Data Input'!Q226,'Data Input'!AG226))","v":""},{"$f":"IF(L222=\"\",\"\",L222/COUNTIF('Data Input'!$C$8:$AZ$8,$L$2))","v":""},{"$f":"IF(ISBLANK('Data Input'!A226),\"\",SUM('Data Input'!D226,'Data Input'!E226,'Data Input'!F226,'Data Input'!L226,'Data Input'!M226,'Data Input'!AB226,'Data Input'!AC226,'Data Input'!AF226,'Data Input'!AJ226,'Data Input'!AL226,'Data Input'!AN226,'Data Input'!AO226,'Data Input'!AP226,'Data Input'!AQ226,'Data Input'!AR226,'Data Input'!AS226,'Data Input'!AT226,'Data Input'!AU226,'Data Input'!AV226,'Data Input'!AW226,'Data Input'!AX226,'Data Input'!AY226))","v":""},{"$f":"IF(N222=\"\",\"\",N222/COUNTIF('Data Input'!$C$8:$AZ$8,$N$2))","v":""},null,{"$f":"IF(P222=\"\",\"\",P222/COUNTIF('Data Input'!$C$8:$AZ$8,$P$2))","v":""},{"$f":"IF(ISBLANK('Data Input'!A226),\"\",SUM('Data Input'!AH226))","v":""},{"$f":"IF(R222=\"\",\"\",R222/COUNTIF('Data Input'!$C$8:$AZ$8,$R$2))","v":""},{"$f":"IF(ISBLANK('Data Input'!$A226),\"\",SUM('Data Input'!AI226))","v":""},{"$f":"IF(T222=\"\",\"\",T222/COUNTIF('Data Input'!$C$8:$AZ$8,$T$2))","v":""},null,{"$f":"IF(V222=\"\",\"\",V222/COUNTIF('Data Input'!$C$8:$AZ$8,$V$2))","v":""}]
[{"$f":"IF('Data Input'!A227=0,\"\",'Data Input'!A227)","v":""},{"$f":"IF(F223=\"\",\"\",IF(F223>Welcome!$J$20-1,\"Exceeding\",IF(F223>Welcome!$F$20-1,\"Expected\",IF(F223<Welcome!$F$20,\"Below\"))))","v":""},{"$f":"IF(ISBLANK('Data Input'!A227),\"\",COUNTIF('Data Input'!C227:AZ227,\"\"))","v":""},{"$f":"IF(ISBLANK('Data Input'!A227),\"\",COUNTIF('Data Input'!C227:AZ227,\"0\"))","v":""},{"$f":"IF(ISBLANK('Data Input'!A227),\"\",SUM(C223,D223))","v":""},{"$f":"IF(ISBLANK('Data Input'!A227),\"\",SUM('Data Input'!C227:AZ227))","v":""},{"$f":"IF(F223=\"\",\"\",F223/(COUNTA('Data Input'!$C$8:$AZ$8)))","v":""},{"$f":"IF(ISBLANK('Data Input'!A227),\"\",SUM('Data Input'!C227,'Data Input'!H227,'Data Input'!J227,'Data Input'!N227,'Data Input'!R227,'Data Input'!T227,'Data Input'!Y227,'Data Input'!AE227,'Data Input'!AK227,'Data Input'!AM227))","v":""},{"$f":"IF(H223=\"\",\"\",H223/COUNTIF('Data Input'!$C$8:$AZ$8,$H$2))","v":""},{"$f":"IF(ISBLANK('Data Input'!A227),\"\",SUM('Data Input'!G227,'Data Input'!I227,'Data Input'!K227,'Data Input'!O227,'Data Input'!P227,'Data Input'!S227,'Data Input'!U227,'Data Input'!V227,'Data Input'!W227,'Data Input'!X227,'Data Input'!Z227,'Data Input'!AA227,'Data Input'!AD227,'Data Input'!AZ227))","v":""},{"$f":"IF(J223=\"\",\"\",J223/COUNTIF('Data Input'!$C$8:$AZ$8,$J$2))","v":""},{"$f":"IF(ISBLANK('Data Input'!A227),\"\",SUM('Data Input'!Q227,'Data Input'!AG227))","v":""},{"$f":"IF(L223=\"\",\"\",L223/COUNTIF('Data Input'!$C$8:$AZ$8,$L$2))","v":""},{"$f":"IF(ISBLANK('Data Input'!A227),\"\",SUM('Data Input'!D227,'Data Input'!E227,'Data Input'!F227,'Data Input'!L227,'Data Input'!M227,'Data Input'!AB227,'Data Input'!AC227,'Data Input'!AF227,'Data Input'!AJ227,'Data Input'!AL227,'Data Input'!AN227,'Data Input'!AO227,'Data Input'!AP227,'Data Input'!AQ227,'Data Input'!AR227,'Data Input'!AS227,'Data Input'!AT227,'Data Input'!AU227,'Data Input'!AV227,'Data Input'!AW227,'Data Input'!AX227,'Data Input'!AY227))","v":""},{"$f":"IF(N223=\"\",\"\",N223/COUNTIF('Data Input'!$C$8:$AZ$8,$N$2))","v":""},null,{"$f":"IF(P223=\"\",\"\",P223/COUNTIF('Data Input'!$C$8:$AZ$8,$P$2))","v":""},{"$f":"IF(ISBLANK('Data Input'!A227),\"\",SUM('Data Input'!AH227))","v":""},{"$f":"IF(R223=\"\",\"\",R223/COUNTIF('Data Input'!$C$8:$AZ$8,$R$2))","v":""},{"$f":"IF(ISBLANK('Data Input'!$A227),\"\",SUM('Data Input'!AI227))","v":""},{"$f":"IF(T223=\"\",\"\",T223/COUNTIF('Data Input'!$C$8:$AZ$8,$T$2))","v":""},null,{"$f":"IF(V223=\"\",\"\",V223/COUNTIF('Data Input'!$C$8:$AZ$8,$V$2))","v":""}]
[{"$f":"IF('Data Input'!A228=0,\"\",'Data Input'!A228)","v":""},{"$f":"IF(F224=\"\",\"\",IF(F224>Welcome!$J$20-1,\"Exceeding\",IF(F224>Welcome!$F$20-1,\"Expected\",IF(F224<Welcome!$F$20,\"Below\"))))","v":""},{"$f":"IF(ISBLANK('Data Input'!A228),\"\",COUNTIF('Data Input'!C228:AZ228,\"\"))","v":""},{"$f":"IF(ISBLANK('Data Input'!A228),\"\",COUNTIF('Data Input'!C228:AZ228,\"0\"))","v":""},{"$f":"IF(ISBLANK('Data Input'!A228),\"\",SUM(C224,D224))","v":""},{"$f":"IF(ISBLANK('Data Input'!A228),\"\",SUM('Data Input'!C228:AZ228))","v":""},{"$f":"IF(F224=\"\",\"\",F224/(COUNTA('Data Input'!$C$8:$AZ$8)))","v":""},{"$f":"IF(ISBLANK('Data Input'!A228),\"\",SUM('Data Input'!C228,'Data Input'!H228,'Data Input'!J228,'Data Input'!N228,'Data Input'!R228,'Data Input'!T228,'Data Input'!Y228,'Data Input'!AE228,'Data Input'!AK228,'Data Input'!AM228))","v":""},{"$f":"IF(H224=\"\",\"\",H224/COUNTIF('Data Input'!$C$8:$AZ$8,$H$2))","v":""},{"$f":"IF(ISBLANK('Data Input'!A228),\"\",SUM('Data Input'!G228,'Data Input'!I228,'Data Input'!K228,'Data Input'!O228,'Data Input'!P228,'Data Input'!S228,'Data Input'!U228,'Data Input'!V228,'Data Input'!W228,'Data Input'!X228,'Data Input'!Z228,'Data Input'!AA228,'Data Input'!AD228,'Data Input'!AZ228))","v":""},{"$f":"IF(J224=\"\",\"\",J224/COUNTIF('Data Input'!$C$8:$AZ$8,$J$2))","v":""},{"$f":"IF(ISBLANK('Data Input'!A228),\"\",SUM('Data Input'!Q228,'Data Input'!AG228))","v":""},{"$f":"IF(L224=\"\",\"\",L224/COUNTIF('Data Input'!$C$8:$AZ$8,$L$2))","v":""},{"$f":"IF(ISBLANK('Data Input'!A228),\"\",SUM('Data Input'!D228,'Data Input'!E228,'Data Input'!F228,'Data Input'!L228,'Data Input'!M228,'Data Input'!AB228,'Data Input'!AC228,'Data Input'!AF228,'Data Input'!AJ228,'Data Input'!AL228,'Data Input'!AN228,'Data Input'!AO228,'Data Input'!AP228,'Data Input'!AQ228,'Data Input'!AR228,'Data Input'!AS228,'Data Input'!AT228,'Data Input'!AU228,'Data Input'!AV228,'Data Input'!AW228,'Data Input'!AX228,'Data Input'!AY228))","v":""},{"$f":"IF(N224=\"\",\"\",N224/COUNTIF('Data Input'!$C$8:$AZ$8,$N$2))","v":""},null,{"$f":"IF(P224=\"\",\"\",P224/COUNTIF('Data Input'!$C$8:$AZ$8,$P$2))","v":""},{"$f":"IF(ISBLANK('Data Input'!A228),\"\",SUM('Data Input'!AH228))","v":""},{"$f":"IF(R224=\"\",\"\",R224/COUNTIF('Data Input'!$C$8:$AZ$8,$R$2))","v":""},{"$f":"IF(ISBLANK('Data Input'!$A228),\"\",SUM('Data Input'!AI228))","v":""},{"$f":"IF(T224=\"\",\"\",T224/COUNTIF('Data Input'!$C$8:$AZ$8,$T$2))","v":""},null,{"$f":"IF(V224=\"\",\"\",V224/COUNTIF('Data Input'!$C$8:$AZ$8,$V$2))","v":""}]
[{"$f":"IF('Data Input'!A229=0,\"\",'Data Input'!A229)","v":""},{"$f":"IF(F225=\"\",\"\",IF(F225>Welcome!$J$20-1,\"Exceeding\",IF(F225>Welcome!$F$20-1,\"Expected\",IF(F225<Welcome!$F$20,\"Below\"))))","v":""},{"$f":"IF(ISBLANK('Data Input'!A229),\"\",COUNTIF('Data Input'!C229:AZ229,\"\"))","v":""},{"$f":"IF(ISBLANK('Data Input'!A229),\"\",COUNTIF('Data Input'!C229:AZ229,\"0\"))","v":""},{"$f":"IF(ISBLANK('Data Input'!A229),\"\",SUM(C225,D225))","v":""},{"$f":"IF(ISBLANK('Data Input'!A229),\"\",SUM('Data Input'!C229:AZ229))","v":""},{"$f":"IF(F225=\"\",\"\",F225/(COUNTA('Data Input'!$C$8:$AZ$8)))","v":""},{"$f":"IF(ISBLANK('Data Input'!A229),\"\",SUM('Data Input'!C229,'Data Input'!H229,'Data Input'!J229,'Data Input'!N229,'Data Input'!R229,'Data Input'!T229,'Data Input'!Y229,'Data Input'!AE229,'Data Input'!AK229,'Data Input'!AM229))","v":""},{"$f":"IF(H225=\"\",\"\",H225/COUNTIF('Data Input'!$C$8:$AZ$8,$H$2))","v":""},{"$f":"IF(ISBLANK('Data Input'!A229),\"\",SUM('Data Input'!G229,'Data Input'!I229,'Data Input'!K229,'Data Input'!O229,'Data Input'!P229,'Data Input'!S229,'Data Input'!U229,'Data Input'!V229,'Data Input'!W229,'Data Input'!X229,'Data Input'!Z229,'Data Input'!AA229,'Data Input'!AD229,'Data Input'!AZ229))","v":""},{"$f":"IF(J225=\"\",\"\",J225/COUNTIF('Data Input'!$C$8:$AZ$8,$J$2))","v":""},{"$f":"IF(ISBLANK('Data Input'!A229),\"\",SUM('Data Input'!Q229,'Data Input'!AG229))","v":""},{"$f":"IF(L225=\"\",\"\",L225/COUNTIF('Data Input'!$C$8:$AZ$8,$L$2))","v":""},{"$f":"IF(ISBLANK('Data Input'!A229),\"\",SUM('Data Input'!D229,'Data Input'!E229,'Data Input'!F229,'Data Input'!L229,'Data Input'!M229,'Data Input'!AB229,'Data Input'!AC229,'Data Input'!AF229,'Data Input'!AJ229,'Data Input'!AL229,'Data Input'!AN229,'Data Input'!AO229,'Data Input'!AP229,'Data Input'!AQ229,'Data Input'!AR229,'Data Input'!AS229,'Data Input'!AT229,'Data Input'!AU229,'Data Input'!AV229,'Data Input'!AW229,'Data Input'!AX229,'Data Input'!AY229))","v":""},{"$f":"IF(N225=\"\",\"\",N225/COUNTIF('Data Input'!$C$8:$AZ$8,$N$2))","v":""},null,{"$f":"IF(P225=\"\",\"\",P225/COUNTIF('Data Input'!$C$8:$AZ$8,$P$2))","v":""},{"$f":"IF(ISBLANK('Data Input'!A229),\"\",SUM('Data Input'!AH229))","v":""},{"$f":"IF(R225=\"\",\"\",R225/COUNTIF('Data Input'!$C$8:$AZ$8,$R$2))","v":""},{"$f":"IF(ISBLANK('Data Input'!$A229),\"\",SUM('Data Input'!AI229))","v":""},{"$f":"IF(T225=\"\",\"\",T225/COUNTIF('Data Input'!$C$8:$AZ$8,$T$2))","v":""},null,{"$f":"IF(V225=\"\",\"\",V225/COUNTIF('Data Input'!$C$8:$AZ$8,$V$2))","v":""}]
[{"$f":"IF('Data Input'!A230=0,\"\",'Data Input'!A230)","v":""},{"$f":"IF(F226=\"\",\"\",IF(F226>Welcome!$J$20-1,\"Exceeding\",IF(F226>Welcome!$F$20-1,\"Expected\",IF(F226<Welcome!$F$20,\"Below\"))))","v":""},{"$f":"IF(ISBLANK('Data Input'!A230),\"\",COUNTIF('Data Input'!C230:AZ230,\"\"))","v":""},{"$f":"IF(ISBLANK('Data Input'!A230),\"\",COUNTIF('Data Input'!C230:AZ230,\"0\"))","v":""},{"$f":"IF(ISBLANK('Data Input'!A230),\"\",SUM(C226,D226))","v":""},{"$f":"IF(ISBLANK('Data Input'!A230),\"\",SUM('Data Input'!C230:AZ230))","v":""},{"$f":"IF(F226=\"\",\"\",F226/(COUNTA('Data Input'!$C$8:$AZ$8)))","v":""},{"$f":"IF(ISBLANK('Data Input'!A230),\"\",SUM('Data Input'!C230,'Data Input'!H230,'Data Input'!J230,'Data Input'!N230,'Data Input'!R230,'Data Input'!T230,'Data Input'!Y230,'Data Input'!AE230,'Data Input'!AK230,'Data Input'!AM230))","v":""},{"$f":"IF(H226=\"\",\"\",H226/COUNTIF('Data Input'!$C$8:$AZ$8,$H$2))","v":""},{"$f":"IF(ISBLANK('Data Input'!A230),\"\",SUM('Data Input'!G230,'Data Input'!I230,'Data Input'!K230,'Data Input'!O230,'Data Input'!P230,'Data Input'!S230,'Data Input'!U230,'Data Input'!V230,'Data Input'!W230,'Data Input'!X230,'Data Input'!Z230,'Data Input'!AA230,'Data Input'!AD230,'Data Input'!AZ230))","v":""},{"$f":"IF(J226=\"\",\"\",J226/COUNTIF('Data Input'!$C$8:$AZ$8,$J$2))","v":""},{"$f":"IF(ISBLANK('Data Input'!A230),\"\",SUM('Data Input'!Q230,'Data Input'!AG230))","v":""},{"$f":"IF(L226=\"\",\"\",L226/COUNTIF('Data Input'!$C$8:$AZ$8,$L$2))","v":""},{"$f":"IF(ISBLANK('Data Input'!A230),\"\",SUM('Data Input'!D230,'Data Input'!E230,'Data Input'!F230,'Data Input'!L230,'Data Input'!M230,'Data Input'!AB230,'Data Input'!AC230,'Data Input'!AF230,'Data Input'!AJ230,'Data Input'!AL230,'Data Input'!AN230,'Data Input'!AO230,'Data Input'!AP230,'Data Input'!AQ230,'Data Input'!AR230,'Data Input'!AS230,'Data Input'!AT230,'Data Input'!AU230,'Data Input'!AV230,'Data Input'!AW230,'Data Input'!AX230,'Data Input'!AY230))","v":""},{"$f":"IF(N226=\"\",\"\",N226/COUNTIF('Data Input'!$C$8:$AZ$8,$N$2))","v":""},null,{"$f":"IF(P226=\"\",\"\",P226/COUNTIF('Data Input'!$C$8:$AZ$8,$P$2))","v":""},{"$f":"IF(ISBLANK('Data Input'!A230),\"\",SUM('Data Input'!AH230))","v":""},{"$f":"IF(R226=\"\",\"\",R226/COUNTIF('Data Input'!$C$8:$AZ$8,$R$2))","v":""},{"$f":"IF(ISBLANK('Data Input'!$A230),\"\",SUM('Data Input'!AI230))","v":""},{"$f":"IF(T226=\"\",\"\",T226/COUNTIF('Data Input'!$C$8:$AZ$8,$T$2))","v":""},null,{"$f":"IF(V226=\"\",\"\",V226/COUNTIF('Data Input'!$C$8:$AZ$8,$V$2))","v":""}]
[{"$f":"IF('Data Input'!A231=0,\"\",'Data Input'!A231)","v":""},{"$f":"IF(F227=\"\",\"\",IF(F227>Welcome!$J$20-1,\"Exceeding\",IF(F227>Welcome!$F$20-1,\"Expected\",IF(F227<Welcome!$F$20,\"Below\"))))","v":""},{"$f":"IF(ISBLANK('Data Input'!A231),\"\",COUNTIF('Data Input'!C231:AZ231,\"\"))","v":""},{"$f":"IF(ISBLANK('Data Input'!A231),\"\",COUNTIF('Data Input'!C231:AZ231,\"0\"))","v":""},{"$f":"IF(ISBLANK('Data Input'!A231),\"\",SUM(C227,D227))","v":""},{"$f":"IF(ISBLANK('Data Input'!A231),\"\",SUM('Data Input'!C231:AZ231))","v":""},{"$f":"IF(F227=\"\",\"\",F227/(COUNTA('Data Input'!$C$8:$AZ$8)))","v":""},{"$f":"IF(ISBLANK('Data Input'!A231),\"\",SUM('Data Input'!C231,'Data Input'!H231,'Data Input'!J231,'Data Input'!N231,'Data Input'!R231,'Data Input'!T231,'Data Input'!Y231,'Data Input'!AE231,'Data Input'!AK231,'Data Input'!AM231))","v":""},{"$f":"IF(H227=\"\",\"\",H227/COUNTIF('Data Input'!$C$8:$AZ$8,$H$2))","v":""},{"$f":"IF(ISBLANK('Data Input'!A231),\"\",SUM('Data Input'!G231,'Data Input'!I231,'Data Input'!K231,'Data Input'!O231,'Data Input'!P231,'Data Input'!S231,'Data Input'!U231,'Data Input'!V231,'Data Input'!W231,'Data Input'!X231,'Data Input'!Z231,'Data Input'!AA231,'Data Input'!AD231,'Data Input'!AZ231))","v":""},{"$f":"IF(J227=\"\",\"\",J227/COUNTIF('Data Input'!$C$8:$AZ$8,$J$2))","v":""},{"$f":"IF(ISBLANK('Data Input'!A231),\"\",SUM('Data Input'!Q231,'Data Input'!AG231))","v":""},{"$f":"IF(L227=\"\",\"\",L227/COUNTIF('Data Input'!$C$8:$AZ$8,$L$2))","v":""},{"$f":"IF(ISBLANK('Data Input'!A231),\"\",SUM('Data Input'!D231,'Data Input'!E231,'Data Input'!F231,'Data Input'!L231,'Data Input'!M231,'Data Input'!AB231,'Data Input'!AC231,'Data Input'!AF231,'Data Input'!AJ231,'Data Input'!AL231,'Data Input'!AN231,'Data Input'!AO231,'Data Input'!AP231,'Data Input'!AQ231,'Data Input'!AR231,'Data Input'!AS231,'Data Input'!AT231,'Data Input'!AU231,'Data Input'!AV231,'Data Input'!AW231,'Data Input'!AX231,'Data Input'!AY231))","v":""},{"$f":"IF(N227=\"\",\"\",N227/COUNTIF('Data Input'!$C$8:$AZ$8,$N$2))","v":""},null,{"$f":"IF(P227=\"\",\"\",P227/COUNTIF('Data Input'!$C$8:$AZ$8,$P$2))","v":""},{"$f":"IF(ISBLANK('Data Input'!A231),\"\",SUM('Data Input'!AH231))","v":""},{"$f":"IF(R227=\"\",\"\",R227/COUNTIF('Data Input'!$C$8:$AZ$8,$R$2))","v":""},{"$f":"IF(ISBLANK('Data Input'!$A231),\"\",SUM('Data Input'!AI231))","v":""},{"$f":"IF(T227=\"\",\"\",T227/COUNTIF('Data Input'!$C$8:$AZ$8,$T$2))","v":""},null,{"$f":"IF(V227=\"\",\"\",V227/COUNTIF('Data Input'!$C$8:$AZ$8,$V$2))","v":""}]
[{"$f":"IF('Data Input'!A232=0,\"\",'Data Input'!A232)","v":""},{"$f":"IF(F228=\"\",\"\",IF(F228>Welcome!$J$20-1,\"Exceeding\",IF(F228>Welcome!$F$20-1,\"Expected\",IF(F228<Welcome!$F$20,\"Below\"))))","v":""},{"$f":"IF(ISBLANK('Data Input'!A232),\"\",COUNTIF('Data Input'!C232:AZ232,\"\"))","v":""},{"$f":"IF(ISBLANK('Data Input'!A232),\"\",COUNTIF('Data Input'!C232:AZ232,\"0\"))","v":""},{"$f":"IF(ISBLANK('Data Input'!A232),\"\",SUM(C228,D228))","v":""},{"$f":"IF(ISBLANK('Data Input'!A232),\"\",SUM('Data Input'!C232:AZ232))","v":""},{"$f":"IF(F228=\"\",\"\",F228/(COUNTA('Data Input'!$C$8:$AZ$8)))","v":""},{"$f":"IF(ISBLANK('Data Input'!A232),\"\",SUM('Data Input'!C232,'Data Input'!H232,'Data Input'!J232,'Data Input'!N232,'Data Input'!R232,'Data Input'!T232,'Data Input'!Y232,'Data Input'!AE232,'Data Input'!AK232,'Data Input'!AM232))","v":""},{"$f":"IF(H228=\"\",\"\",H228/COUNTIF('Data Input'!$C$8:$AZ$8,$H$2))","v":""},{"$f":"IF(ISBLANK('Data Input'!A232),\"\",SUM('Data Input'!G232,'Data Input'!I232,'Data Input'!K232,'Data Input'!O232,'Data Input'!P232,'Data Input'!S232,'Data Input'!U232,'Data Input'!V232,'Data Input'!W232,'Data Input'!X232,'Data Input'!Z232,'Data Input'!AA232,'Data Input'!AD232,'Data Input'!AZ232))","v":""},{"$f":"IF(J228=\"\",\"\",J228/COUNTIF('Data Input'!$C$8:$AZ$8,$J$2))","v":""},{"$f":"IF(ISBLANK('Data Input'!A232),\"\",SUM('Data Input'!Q232,'Data Input'!AG232))","v":""},{"$f":"IF(L228=\"\",\"\",L228/COUNTIF('Data Input'!$C$8:$AZ$8,$L$2))","v":""},{"$f":"IF(ISBLANK('Data Input'!A232),\"\",SUM('Data Input'!D232,'Data Input'!E232,'Data Input'!F232,'Data Input'!L232,'Data Input'!M232,'Data Input'!AB232,'Data Input'!AC232,'Data Input'!AF232,'Data Input'!AJ232,'Data Input'!AL232,'Data Input'!AN232,'Data Input'!AO232,'Data Input'!AP232,'Data Input'!AQ232,'Data Input'!AR232,'Data Input'!AS232,'Data Input'!AT232,'Data Input'!AU232,'Data Input'!AV232,'Data Input'!AW232,'Data Input'!AX232,'Data Input'!AY232))","v":""},{"$f":"IF(N228=\"\",\"\",N228/COUNTIF('Data Input'!$C$8:$AZ$8,$N$2))","v":""},null,{"$f":"IF(P228=\"\",\"\",P228/COUNTIF('Data Input'!$C$8:$AZ$8,$P$2))","v":""},{"$f":"IF(ISBLANK('Data Input'!A232),\"\",SUM('Data Input'!AH232))","v":""},{"$f":"IF(R228=\"\",\"\",R228/COUNTIF('Data Input'!$C$8:$AZ$8,$R$2))","v":""},{"$f":"IF(ISBLANK('Data Input'!$A232),\"\",SUM('Data Input'!AI232))","v":""},{"$f":"IF(T228=\"\",\"\",T228/COUNTIF('Data Input'!$C$8:$AZ$8,$T$2))","v":""},null,{"$f":"IF(V228=\"\",\"\",V228/COUNTIF('Data Input'!$C$8:$AZ$8,$V$2))","v":""}]
[{"$f":"IF('Data Input'!A233=0,\"\",'Data Input'!A233)","v":""},{"$f":"IF(F229=\"\",\"\",IF(F229>Welcome!$J$20-1,\"Exceeding\",IF(F229>Welcome!$F$20-1,\"Expected\",IF(F229<Welcome!$F$20,\"Below\"))))","v":""},{"$f":"IF(ISBLANK('Data Input'!A233),\"\",COUNTIF('Data Input'!C233:AZ233,\"\"))","v":""},{"$f":"IF(ISBLANK('Data Input'!A233),\"\",COUNTIF('Data Input'!C233:AZ233,\"0\"))","v":""},{"$f":"IF(ISBLANK('Data Input'!A233),\"\",SUM(C229,D229))","v":""},{"$f":"IF(ISBLANK('Data Input'!A233),\"\",SUM('Data Input'!C233:AZ233))","v":""},{"$f":"IF(F229=\"\",\"\",F229/(COUNTA('Data Input'!$C$8:$AZ$8)))","v":""},{"$f":"IF(ISBLANK('Data Input'!A233),\"\",SUM('Data Input'!C233,'Data Input'!H233,'Data Input'!J233,'Data Input'!N233,'Data Input'!R233,'Data Input'!T233,'Data Input'!Y233,'Data Input'!AE233,'Data Input'!AK233,'Data Input'!AM233))","v":""},{"$f":"IF(H229=\"\",\"\",H229/COUNTIF('Data Input'!$C$8:$AZ$8,$H$2))","v":""},{"$f":"IF(ISBLANK('Data Input'!A233),\"\",SUM('Data Input'!G233,'Data Input'!I233,'Data Input'!K233,'Data Input'!O233,'Data Input'!P233,'Data Input'!S233,'Data Input'!U233,'Data Input'!V233,'Data Input'!W233,'Data Input'!X233,'Data Input'!Z233,'Data Input'!AA233,'Data Input'!AD233,'Data Input'!AZ233))","v":""},{"$f":"IF(J229=\"\",\"\",J229/COUNTIF('Data Input'!$C$8:$AZ$8,$J$2))","v":""},{"$f":"IF(ISBLANK('Data Input'!A233),\"\",SUM('Data Input'!Q233,'Data Input'!AG233))","v":""},{"$f":"IF(L229=\"\",\"\",L229/COUNTIF('Data Input'!$C$8:$AZ$8,$L$2))","v":""},{"$f":"IF(ISBLANK('Data Input'!A233),\"\",SUM('Data Input'!D233,'Data Input'!E233,'Data Input'!F233,'Data Input'!L233,'Data Input'!M233,'Data Input'!AB233,'Data Input'!AC233,'Data Input'!AF233,'Data Input'!AJ233,'Data Input'!AL233,'Data Input'!AN233,'Data Input'!AO233,'Data Input'!AP233,'Data Input'!AQ233,'Data Input'!AR233,'Data Input'!AS233,'Data Input'!AT233,'Data Input'!AU233,'Data Input'!AV233,'Data Input'!AW233,'Data Input'!AX233,'Data Input'!AY233))","v":""},{"$f":"IF(N229=\"\",\"\",N229/COUNTIF('Data Input'!$C$8:$AZ$8,$N$2))","v":""},null,{"$f":"IF(P229=\"\",\"\",P229/COUNTIF('Data Input'!$C$8:$AZ$8,$P$2))","v":""},{"$f":"IF(ISBLANK('Data Input'!A233),\"\",SUM('Data Input'!AH233))","v":""},{"$f":"IF(R229=\"\",\"\",R229/COUNTIF('Data Input'!$C$8:$AZ$8,$R$2))","v":""},{"$f":"IF(ISBLANK('Data Input'!$A233),\"\",SUM('Data Input'!AI233))","v":""},{"$f":"IF(T229=\"\",\"\",T229/COUNTIF('Data Input'!$C$8:$AZ$8,$T$2))","v":""},null,{"$f":"IF(V229=\"\",\"\",V229/COUNTIF('Data Input'!$C$8:$AZ$8,$V$2))","v":""}]
[{"$f":"IF('Data Input'!A234=0,\"\",'Data Input'!A234)","v":""},{"$f":"IF(F230=\"\",\"\",IF(F230>Welcome!$J$20-1,\"Exceeding\",IF(F230>Welcome!$F$20-1,\"Expected\",IF(F230<Welcome!$F$20,\"Below\"))))","v":""},{"$f":"IF(ISBLANK('Data Input'!A234),\"\",COUNTIF('Data Input'!C234:AZ234,\"\"))","v":""},{"$f":"IF(ISBLANK('Data Input'!A234),\"\",COUNTIF('Data Input'!C234:AZ234,\"0\"))","v":""},{"$f":"IF(ISBLANK('Data Input'!A234),\"\",SUM(C230,D230))","v":""},{"$f":"IF(ISBLANK('Data Input'!A234),\"\",SUM('Data Input'!C234:AZ234))","v":""},{"$f":"IF(F230=\"\",\"\",F230/(COUNTA('Data Input'!$C$8:$AZ$8)))","v":""},{"$f":"IF(ISBLANK('Data Input'!A234),\"\",SUM('Data Input'!C234,'Data Input'!H234,'Data Input'!J234,'Data Input'!N234,'Data Input'!R234,'Data Input'!T234,'Data Input'!Y234,'Data Input'!AE234,'Data Input'!AK234,'Data Input'!AM234))","v":""},{"$f":"IF(H230=\"\",\"\",H230/COUNTIF('Data Input'!$C$8:$AZ$8,$H$2))","v":""},{"$f":"IF(ISBLANK('Data Input'!A234),\"\",SUM('Data Input'!G234,'Data Input'!I234,'Data Input'!K234,'Data Input'!O234,'Data Input'!P234,'Data Input'!S234,'Data Input'!U234,'Data Input'!V234,'Data Input'!W234,'Data Input'!X234,'Data Input'!Z234,'Data Input'!AA234,'Data Input'!AD234,'Data Input'!AZ234))","v":""},{"$f":"IF(J230=\"\",\"\",J230/COUNTIF('Data Input'!$C$8:$AZ$8,$J$2))","v":""},{"$f":"IF(ISBLANK('Data Input'!A234),\"\",SUM('Data Input'!Q234,'Data Input'!AG234))","v":""},{"$f":"IF(L230=\"\",\"\",L230/COUNTIF('Data Input'!$C$8:$AZ$8,$L$2))","v":""},{"$f":"IF(ISBLANK('Data Input'!A234),\"\",SUM('Data Input'!D234,'Data Input'!E234,'Data Input'!F234,'Data Input'!L234,'Data Input'!M234,'Data Input'!AB234,'Data Input'!AC234,'Data Input'!AF234,'Data Input'!AJ234,'Data Input'!AL234,'Data Input'!AN234,'Data Input'!AO234,'Data Input'!AP234,'Data Input'!AQ234,'Data Input'!AR234,'Data Input'!AS234,'Data Input'!AT234,'Data Input'!AU234,'Data Input'!AV234,'Data Input'!AW234,'Data Input'!AX234,'Data Input'!AY234))","v":""},{"$f":"IF(N230=\"\",\"\",N230/COUNTIF('Data Input'!$C$8:$AZ$8,$N$2))","v":""},null,{"$f":"IF(P230=\"\",\"\",P230/COUNTIF('Data Input'!$C$8:$AZ$8,$P$2))","v":""},{"$f":"IF(ISBLANK('Data Input'!A234),\"\",SUM('Data Input'!AH234))","v":""},{"$f":"IF(R230=\"\",\"\",R230/COUNTIF('Data Input'!$C$8:$AZ$8,$R$2))","v":""},{"$f":"IF(ISBLANK('Data Input'!$A234),\"\",SUM('Data Input'!AI234))","v":""},{"$f":"IF(T230=\"\",\"\",T230/COUNTIF('Data Input'!$C$8:$AZ$8,$T$2))","v":""},null,{"$f":"IF(V230=\"\",\"\",V230/COUNTIF('Data Input'!$C$8:$AZ$8,$V$2))","v":""}]
[{"$f":"IF('Data Input'!A235=0,\"\",'Data Input'!A235)","v":""},{"$f":"IF(F231=\"\",\"\",IF(F231>Welcome!$J$20-1,\"Exceeding\",IF(F231>Welcome!$F$20-1,\"Expected\",IF(F231<Welcome!$F$20,\"Below\"))))","v":""},{"$f":"IF(ISBLANK('Data Input'!A235),\"\",COUNTIF('Data Input'!C235:AZ235,\"\"))","v":""},{"$f":"IF(ISBLANK('Data Input'!A235),\"\",COUNTIF('Data Input'!C235:AZ235,\"0\"))","v":""},{"$f":"IF(ISBLANK('Data Input'!A235),\"\",SUM(C231,D231))","v":""},{"$f":"IF(ISBLANK('Data Input'!A235),\"\",SUM('Data Input'!C235:AZ235))","v":""},{"$f":"IF(F231=\"\",\"\",F231/(COUNTA('Data Input'!$C$8:$AZ$8)))","v":""},{"$f":"IF(ISBLANK('Data Input'!A235),\"\",SUM('Data Input'!C235,'Data Input'!H235,'Data Input'!J235,'Data Input'!N235,'Data Input'!R235,'Data Input'!T235,'Data Input'!Y235,'Data Input'!AE235,'Data Input'!AK235,'Data Input'!AM235))","v":""},{"$f":"IF(H231=\"\",\"\",H231/COUNTIF('Data Input'!$C$8:$AZ$8,$H$2))","v":""},{"$f":"IF(ISBLANK('Data Input'!A235),\"\",SUM('Data Input'!G235,'Data Input'!I235,'Data Input'!K235,'Data Input'!O235,'Data Input'!P235,'Data Input'!S235,'Data Input'!U235,'Data Input'!V235,'Data Input'!W235,'Data Input'!X235,'Data Input'!Z235,'Data Input'!AA235,'Data Input'!AD235,'Data Input'!AZ235))","v":""},{"$f":"IF(J231=\"\",\"\",J231/COUNTIF('Data Input'!$C$8:$AZ$8,$J$2))","v":""},{"$f":"IF(ISBLANK('Data Input'!A235),\"\",SUM('Data Input'!Q235,'Data Input'!AG235))","v":""},{"$f":"IF(L231=\"\",\"\",L231/COUNTIF('Data Input'!$C$8:$AZ$8,$L$2))","v":""},{"$f":"IF(ISBLANK('Data Input'!A235),\"\",SUM('Data Input'!D235,'Data Input'!E235,'Data Input'!F235,'Data Input'!L235,'Data Input'!M235,'Data Input'!AB235,'Data Input'!AC235,'Data Input'!AF235,'Data Input'!AJ235,'Data Input'!AL235,'Data Input'!AN235,'Data Input'!AO235,'Data Input'!AP235,'Data Input'!AQ235,'Data Input'!AR235,'Data Input'!AS235,'Data Input'!AT235,'Data Input'!AU235,'Data Input'!AV235,'Data Input'!AW235,'Data Input'!AX235,'Data Input'!AY235))","v":""},{"$f":"IF(N231=\"\",\"\",N231/COUNTIF('Data Input'!$C$8:$AZ$8,$N$2))","v":""},null,{"$f":"IF(P231=\"\",\"\",P231/COUNTIF('Data Input'!$C$8:$AZ$8,$P$2))","v":""},{"$f":"IF(ISBLANK('Data Input'!A235),\"\",SUM('Data Input'!AH235))","v":""},{"$f":"IF(R231=\"\",\"\",R231/COUNTIF('Data Input'!$C$8:$AZ$8,$R$2))","v":""},{"$f":"IF(ISBLANK('Data Input'!$A235),\"\",SUM('Data Input'!AI235))","v":""},{"$f":"IF(T231=\"\",\"\",T231/COUNTIF('Data Input'!$C$8:$AZ$8,$T$2))","v":""},null,{"$f":"IF(V231=\"\",\"\",V231/COUNTIF('Data Input'!$C$8:$AZ$8,$V$2))","v":""}]
[{"$f":"IF('Data Input'!A236=0,\"\",'Data Input'!A236)","v":""},{"$f":"IF(F232=\"\",\"\",IF(F232>Welcome!$J$20-1,\"Exceeding\",IF(F232>Welcome!$F$20-1,\"Expected\",IF(F232<Welcome!$F$20,\"Below\"))))","v":""},{"$f":"IF(ISBLANK('Data Input'!A236),\"\",COUNTIF('Data Input'!C236:AZ236,\"\"))","v":""},{"$f":"IF(ISBLANK('Data Input'!A236),\"\",COUNTIF('Data Input'!C236:AZ236,\"0\"))","v":""},{"$f":"IF(ISBLANK('Data Input'!A236),\"\",SUM(C232,D232))","v":""},{"$f":"IF(ISBLANK('Data Input'!A236),\"\",SUM('Data Input'!C236:AZ236))","v":""},{"$f":"IF(F232=\"\",\"\",F232/(COUNTA('Data Input'!$C$8:$AZ$8)))","v":""},{"$f":"IF(ISBLANK('Data Input'!A236),\"\",SUM('Data Input'!C236,'Data Input'!H236,'Data Input'!J236,'Data Input'!N236,'Data Input'!R236,'Data Input'!T236,'Data Input'!Y236,'Data Input'!AE236,'Data Input'!AK236,'Data Input'!AM236))","v":""},{"$f":"IF(H232=\"\",\"\",H232/COUNTIF('Data Input'!$C$8:$AZ$8,$H$2))","v":""},{"$f":"IF(ISBLANK('Data Input'!A236),\"\",SUM('Data Input'!G236,'Data Input'!I236,'Data Input'!K236,'Data Input'!O236,'Data Input'!P236,'Data Input'!S236,'Data Input'!U236,'Data Input'!V236,'Data Input'!W236,'Data Input'!X236,'Data Input'!Z236,'Data Input'!AA236,'Data Input'!AD236,'Data Input'!AZ236))","v":""},{"$f":"IF(J232=\"\",\"\",J232/COUNTIF('Data Input'!$C$8:$AZ$8,$J$2))","v":""},{"$f":"IF(ISBLANK('Data Input'!A236),\"\",SUM('Data Input'!Q236,'Data Input'!AG236))","v":""},{"$f":"IF(L232=\"\",\"\",L232/COUNTIF('Data Input'!$C$8:$AZ$8,$L$2))","v":""},{"$f":"IF(ISBLANK('Data Input'!A236),\"\",SUM('Data Input'!D236,'Data Input'!E236,'Data Input'!F236,'Data Input'!L236,'Data Input'!M236,'Data Input'!AB236,'Data Input'!AC236,'Data Input'!AF236,'Data Input'!AJ236,'Data Input'!AL236,'Data Input'!AN236,'Data Input'!AO236,'Data Input'!AP236,'Data Input'!AQ236,'Data Input'!AR236,'Data Input'!AS236,'Data Input'!AT236,'Data Input'!AU236,'Data Input'!AV236,'Data Input'!AW236,'Data Input'!AX236,'Data Input'!AY236))","v":""},{"$f":"IF(N232=\"\",\"\",N232/COUNTIF('Data Input'!$C$8:$AZ$8,$N$2))","v":""},null,{"$f":"IF(P232=\"\",\"\",P232/COUNTIF('Data Input'!$C$8:$AZ$8,$P$2))","v":""},{"$f":"IF(ISBLANK('Data Input'!A236),\"\",SUM('Data Input'!AH236))","v":""},{"$f":"IF(R232=\"\",\"\",R232/COUNTIF('Data Input'!$C$8:$AZ$8,$R$2))","v":""},{"$f":"IF(ISBLANK('Data Input'!$A236),\"\",SUM('Data Input'!AI236))","v":""},{"$f":"IF(T232=\"\",\"\",T232/COUNTIF('Data Input'!$C$8:$AZ$8,$T$2))","v":""},null,{"$f":"IF(V232=\"\",\"\",V232/COUNTIF('Data Input'!$C$8:$AZ$8,$V$2))","v":""}]
[{"$f":"IF('Data Input'!A237=0,\"\",'Data Input'!A237)","v":""},{"$f":"IF(F233=\"\",\"\",IF(F233>Welcome!$J$20-1,\"Exceeding\",IF(F233>Welcome!$F$20-1,\"Expected\",IF(F233<Welcome!$F$20,\"Below\"))))","v":""},{"$f":"IF(ISBLANK('Data Input'!A237),\"\",COUNTIF('Data Input'!C237:AZ237,\"\"))","v":""},{"$f":"IF(ISBLANK('Data Input'!A237),\"\",COUNTIF('Data Input'!C237:AZ237,\"0\"))","v":""},{"$f":"IF(ISBLANK('Data Input'!A237),\"\",SUM(C233,D233))","v":""},{"$f":"IF(ISBLANK('Data Input'!A237),\"\",SUM('Data Input'!C237:AZ237))","v":""},{"$f":"IF(F233=\"\",\"\",F233/(COUNTA('Data Input'!$C$8:$AZ$8)))","v":""},{"$f":"IF(ISBLANK('Data Input'!A237),\"\",SUM('Data Input'!C237,'Data Input'!H237,'Data Input'!J237,'Data Input'!N237,'Data Input'!R237,'Data Input'!T237,'Data Input'!Y237,'Data Input'!AE237,'Data Input'!AK237,'Data Input'!AM237))","v":""},{"$f":"IF(H233=\"\",\"\",H233/COUNTIF('Data Input'!$C$8:$AZ$8,$H$2))","v":""},{"$f":"IF(ISBLANK('Data Input'!A237),\"\",SUM('Data Input'!G237,'Data Input'!I237,'Data Input'!K237,'Data Input'!O237,'Data Input'!P237,'Data Input'!S237,'Data Input'!U237,'Data Input'!V237,'Data Input'!W237,'Data Input'!X237,'Data Input'!Z237,'Data Input'!AA237,'Data Input'!AD237,'Data Input'!AZ237))","v":""},{"$f":"IF(J233=\"\",\"\",J233/COUNTIF('Data Input'!$C$8:$AZ$8,$J$2))","v":""},{"$f":"IF(ISBLANK('Data Input'!A237),\"\",SUM('Data Input'!Q237,'Data Input'!AG237))","v":""},{"$f":"IF(L233=\"\",\"\",L233/COUNTIF('Data Input'!$C$8:$AZ$8,$L$2))","v":""},{"$f":"IF(ISBLANK('Data Input'!A237),\"\",SUM('Data Input'!D237,'Data Input'!E237,'Data Input'!F237,'Data Input'!L237,'Data Input'!M237,'Data Input'!AB237,'Data Input'!AC237,'Data Input'!AF237,'Data Input'!AJ237,'Data Input'!AL237,'Data Input'!AN237,'Data Input'!AO237,'Data Input'!AP237,'Data Input'!AQ237,'Data Input'!AR237,'Data Input'!AS237,'Data Input'!AT237,'Data Input'!AU237,'Data Input'!AV237,'Data Input'!AW237,'Data Input'!AX237,'Data Input'!AY237))","v":""},{"$f":"IF(N233=\"\",\"\",N233/COUNTIF('Data Input'!$C$8:$AZ$8,$N$2))","v":""},null,{"$f":"IF(P233=\"\",\"\",P233/COUNTIF('Data Input'!$C$8:$AZ$8,$P$2))","v":""},{"$f":"IF(ISBLANK('Data Input'!A237),\"\",SUM('Data Input'!AH237))","v":""},{"$f":"IF(R233=\"\",\"\",R233/COUNTIF('Data Input'!$C$8:$AZ$8,$R$2))","v":""},{"$f":"IF(ISBLANK('Data Input'!$A237),\"\",SUM('Data Input'!AI237))","v":""},{"$f":"IF(T233=\"\",\"\",T233/COUNTIF('Data Input'!$C$8:$AZ$8,$T$2))","v":""},null,{"$f":"IF(V233=\"\",\"\",V233/COUNTIF('Data Input'!$C$8:$AZ$8,$V$2))","v":""}]
[{"$f":"IF('Data Input'!A238=0,\"\",'Data Input'!A238)","v":""},{"$f":"IF(F234=\"\",\"\",IF(F234>Welcome!$J$20-1,\"Exceeding\",IF(F234>Welcome!$F$20-1,\"Expected\",IF(F234<Welcome!$F$20,\"Below\"))))","v":""},{"$f":"IF(ISBLANK('Data Input'!A238),\"\",COUNTIF('Data Input'!C238:AZ238,\"\"))","v":""},{"$f":"IF(ISBLANK('Data Input'!A238),\"\",COUNTIF('Data Input'!C238:AZ238,\"0\"))","v":""},{"$f":"IF(ISBLANK('Data Input'!A238),\"\",SUM(C234,D234))","v":""},{"$f":"IF(ISBLANK('Data Input'!A238),\"\",SUM('Data Input'!C238:AZ238))","v":""},{"$f":"IF(F234=\"\",\"\",F234/(COUNTA('Data Input'!$C$8:$AZ$8)))","v":""},{"$f":"IF(ISBLANK('Data Input'!A238),\"\",SUM('Data Input'!C238,'Data Input'!H238,'Data Input'!J238,'Data Input'!N238,'Data Input'!R238,'Data Input'!T238,'Data Input'!Y238,'Data Input'!AE238,'Data Input'!AK238,'Data Input'!AM238))","v":""},{"$f":"IF(H234=\"\",\"\",H234/COUNTIF('Data Input'!$C$8:$AZ$8,$H$2))","v":""},{"$f":"IF(ISBLANK('Data Input'!A238),\"\",SUM('Data Input'!G238,'Data Input'!I238,'Data Input'!K238,'Data Input'!O238,'Data Input'!P238,'Data Input'!S238,'Data Input'!U238,'Data Input'!V238,'Data Input'!W238,'Data Input'!X238,'Data Input'!Z238,'Data Input'!AA238,'Data Input'!AD238,'Data Input'!AZ238))","v":""},{"$f":"IF(J234=\"\",\"\",J234/COUNTIF('Data Input'!$C$8:$AZ$8,$J$2))","v":""},{"$f":"IF(ISBLANK('Data Input'!A238),\"\",SUM('Data Input'!Q238,'Data Input'!AG238))","v":""},{"$f":"IF(L234=\"\",\"\",L234/COUNTIF('Data Input'!$C$8:$AZ$8,$L$2))","v":""},{"$f":"IF(ISBLANK('Data Input'!A238),\"\",SUM('Data Input'!D238,'Data Input'!E238,'Data Input'!F238,'Data Input'!L238,'Data Input'!M238,'Data Input'!AB238,'Data Input'!AC238,'Data Input'!AF238,'Data Input'!AJ238,'Data Input'!AL238,'Data Input'!AN238,'Data Input'!AO238,'Data Input'!AP238,'Data Input'!AQ238,'Data Input'!AR238,'Data Input'!AS238,'Data Input'!AT238,'Data Input'!AU238,'Data Input'!AV238,'Data Input'!AW238,'Data Input'!AX238,'Data Input'!AY238))","v":""},{"$f":"IF(N234=\"\",\"\",N234/COUNTIF('Data Input'!$C$8:$AZ$8,$N$2))","v":""},null,{"$f":"IF(P234=\"\",\"\",P234/COUNTIF('Data Input'!$C$8:$AZ$8,$P$2))","v":""},{"$f":"IF(ISBLANK('Data Input'!A238),\"\",SUM('Data Input'!AH238))","v":""},{"$f":"IF(R234=\"\",\"\",R234/COUNTIF('Data Input'!$C$8:$AZ$8,$R$2))","v":""},{"$f":"IF(ISBLANK('Data Input'!$A238),\"\",SUM('Data Input'!AI238))","v":""},{"$f":"IF(T234=\"\",\"\",T234/COUNTIF('Data Input'!$C$8:$AZ$8,$T$2))","v":""},null,{"$f":"IF(V234=\"\",\"\",V234/COUNTIF('Data Input'!$C$8:$AZ$8,$V$2))","v":""}]
[{"$f":"IF('Data Input'!A239=0,\"\",'Data Input'!A239)","v":""},{"$f":"IF(F235=\"\",\"\",IF(F235>Welcome!$J$20-1,\"Exceeding\",IF(F235>Welcome!$F$20-1,\"Expected\",IF(F235<Welcome!$F$20,\"Below\"))))","v":""},{"$f":"IF(ISBLANK('Data Input'!A239),\"\",COUNTIF('Data Input'!C239:AZ239,\"\"))","v":""},{"$f":"IF(ISBLANK('Data Input'!A239),\"\",COUNTIF('Data Input'!C239:AZ239,\"0\"))","v":""},{"$f":"IF(ISBLANK('Data Input'!A239),\"\",SUM(C235,D235))","v":""},{"$f":"IF(ISBLANK('Data Input'!A239),\"\",SUM('Data Input'!C239:AZ239))","v":""},{"$f":"IF(F235=\"\",\"\",F235/(COUNTA('Data Input'!$C$8:$AZ$8)))","v":""},{"$f":"IF(ISBLANK('Data Input'!A239),\"\",SUM('Data Input'!C239,'Data Input'!H239,'Data Input'!J239,'Data Input'!N239,'Data Input'!R239,'Data Input'!T239,'Data Input'!Y239,'Data Input'!AE239,'Data Input'!AK239,'Data Input'!AM239))","v":""},{"$f":"IF(H235=\"\",\"\",H235/COUNTIF('Data Input'!$C$8:$AZ$8,$H$2))","v":""},{"$f":"IF(ISBLANK('Data Input'!A239),\"\",SUM('Data Input'!G239,'Data Input'!I239,'Data Input'!K239,'Data Input'!O239,'Data Input'!P239,'Data Input'!S239,'Data Input'!U239,'Data Input'!V239,'Data Input'!W239,'Data Input'!X239,'Data Input'!Z239,'Data Input'!AA239,'Data Input'!AD239,'Data Input'!AZ239))","v":""},{"$f":"IF(J235=\"\",\"\",J235/COUNTIF('Data Input'!$C$8:$AZ$8,$J$2))","v":""},{"$f":"IF(ISBLANK('Data Input'!A239),\"\",SUM('Data Input'!Q239,'Data Input'!AG239))","v":""},{"$f":"IF(L235=\"\",\"\",L235/COUNTIF('Data Input'!$C$8:$AZ$8,$L$2))","v":""},{"$f":"IF(ISBLANK('Data Input'!A239),\"\",SUM('Data Input'!D239,'Data Input'!E239,'Data Input'!F239,'Data Input'!L239,'Data Input'!M239,'Data Input'!AB239,'Data Input'!AC239,'Data Input'!AF239,'Data Input'!AJ239,'Data Input'!AL239,'Data Input'!AN239,'Data Input'!AO239,'Data Input'!AP239,'Data Input'!AQ239,'Data Input'!AR239,'Data Input'!AS239,'Data Input'!AT239,'Data Input'!AU239,'Data Input'!AV239,'Data Input'!AW239,'Data Input'!AX239,'Data Input'!AY239))","v":""},{"$f":"IF(N235=\"\",\"\",N235/COUNTIF('Data Input'!$C$8:$AZ$8,$N$2))","v":""},null,{"$f":"IF(P235=\"\",\"\",P235/COUNTIF('Data Input'!$C$8:$AZ$8,$P$2))","v":""},{"$f":"IF(ISBLANK('Data Input'!A239),\"\",SUM('Data Input'!AH239))","v":""},{"$f":"IF(R235=\"\",\"\",R235/COUNTIF('Data Input'!$C$8:$AZ$8,$R$2))","v":""},{"$f":"IF(ISBLANK('Data Input'!$A239),\"\",SUM('Data Input'!AI239))","v":""},{"$f":"IF(T235=\"\",\"\",T235/COUNTIF('Data Input'!$C$8:$AZ$8,$T$2))","v":""},null,{"$f":"IF(V235=\"\",\"\",V235/COUNTIF('Data Input'!$C$8:$AZ$8,$V$2))","v":""}]
[{"$f":"IF('Data Input'!A240=0,\"\",'Data Input'!A240)","v":""},{"$f":"IF(F236=\"\",\"\",IF(F236>Welcome!$J$20-1,\"Exceeding\",IF(F236>Welcome!$F$20-1,\"Expected\",IF(F236<Welcome!$F$20,\"Below\"))))","v":""},{"$f":"IF(ISBLANK('Data Input'!A240),\"\",COUNTIF('Data Input'!C240:AZ240,\"\"))","v":""},{"$f":"IF(ISBLANK('Data Input'!A240),\"\",COUNTIF('Data Input'!C240:AZ240,\"0\"))","v":""},{"$f":"IF(ISBLANK('Data Input'!A240),\"\",SUM(C236,D236))","v":""},{"$f":"IF(ISBLANK('Data Input'!A240),\"\",SUM('Data Input'!C240:AZ240))","v":""},{"$f":"IF(F236=\"\",\"\",F236/(COUNTA('Data Input'!$C$8:$AZ$8)))","v":""},{"$f":"IF(ISBLANK('Data Input'!A240),\"\",SUM('Data Input'!C240,'Data Input'!H240,'Data Input'!J240,'Data Input'!N240,'Data Input'!R240,'Data Input'!T240,'Data Input'!Y240,'Data Input'!AE240,'Data Input'!AK240,'Data Input'!AM240))","v":""},{"$f":"IF(H236=\"\",\"\",H236/COUNTIF('Data Input'!$C$8:$AZ$8,$H$2))","v":""},{"$f":"IF(ISBLANK('Data Input'!A240),\"\",SUM('Data Input'!G240,'Data Input'!I240,'Data Input'!K240,'Data Input'!O240,'Data Input'!P240,'Data Input'!S240,'Data Input'!U240,'Data Input'!V240,'Data Input'!W240,'Data Input'!X240,'Data Input'!Z240,'Data Input'!AA240,'Data Input'!AD240,'Data Input'!AZ240))","v":""},{"$f":"IF(J236=\"\",\"\",J236/COUNTIF('Data Input'!$C$8:$AZ$8,$J$2))","v":""},{"$f":"IF(ISBLANK('Data Input'!A240),\"\",SUM('Data Input'!Q240,'Data Input'!AG240))","v":""},{"$f":"IF(L236=\"\",\"\",L236/COUNTIF('Data Input'!$C$8:$AZ$8,$L$2))","v":""},{"$f":"IF(ISBLANK('Data Input'!A240),\"\",SUM('Data Input'!D240,'Data Input'!E240,'Data Input'!F240,'Data Input'!L240,'Data Input'!M240,'Data Input'!AB240,'Data Input'!AC240,'Data Input'!AF240,'Data Input'!AJ240,'Data Input'!AL240,'Data Input'!AN240,'Data Input'!AO240,'Data Input'!AP240,'Data Input'!AQ240,'Data Input'!AR240,'Data Input'!AS240,'Data Input'!AT240,'Data Input'!AU240,'Data Input'!AV240,'Data Input'!AW240,'Data Input'!AX240,'Data Input'!AY240))","v":""},{"$f":"IF(N236=\"\",\"\",N236/COUNTIF('Data Input'!$C$8:$AZ$8,$N$2))","v":""},null,{"$f":"IF(P236=\"\",\"\",P236/COUNTIF('Data Input'!$C$8:$AZ$8,$P$2))","v":""},{"$f":"IF(ISBLANK('Data Input'!A240),\"\",SUM('Data Input'!AH240))","v":""},{"$f":"IF(R236=\"\",\"\",R236/COUNTIF('Data Input'!$C$8:$AZ$8,$R$2))","v":""},{"$f":"IF(ISBLANK('Data Input'!$A240),\"\",SUM('Data Input'!AI240))","v":""},{"$f":"IF(T236=\"\",\"\",T236/COUNTIF('Data Input'!$C$8:$AZ$8,$T$2))","v":""},null,{"$f":"IF(V236=\"\",\"\",V236/COUNTIF('Data Input'!$C$8:$AZ$8,$V$2))","v":""}]
[{"$f":"IF('Data Input'!A241=0,\"\",'Data Input'!A241)","v":""},{"$f":"IF(F237=\"\",\"\",IF(F237>Welcome!$J$20-1,\"Exceeding\",IF(F237>Welcome!$F$20-1,\"Expected\",IF(F237<Welcome!$F$20,\"Below\"))))","v":""},{"$f":"IF(ISBLANK('Data Input'!A241),\"\",COUNTIF('Data Input'!C241:AZ241,\"\"))","v":""},{"$f":"IF(ISBLANK('Data Input'!A241),\"\",COUNTIF('Data Input'!C241:AZ241,\"0\"))","v":""},{"$f":"IF(ISBLANK('Data Input'!A241),\"\",SUM(C237,D237))","v":""},{"$f":"IF(ISBLANK('Data Input'!A241),\"\",SUM('Data Input'!C241:AZ241))","v":""},{"$f":"IF(F237=\"\",\"\",F237/(COUNTA('Data Input'!$C$8:$AZ$8)))","v":""},{"$f":"IF(ISBLANK('Data Input'!A241),\"\",SUM('Data Input'!C241,'Data Input'!H241,'Data Input'!J241,'Data Input'!N241,'Data Input'!R241,'Data Input'!T241,'Data Input'!Y241,'Data Input'!AE241,'Data Input'!AK241,'Data Input'!AM241))","v":""},{"$f":"IF(H237=\"\",\"\",H237/COUNTIF('Data Input'!$C$8:$AZ$8,$H$2))","v":""},{"$f":"IF(ISBLANK('Data Input'!A241),\"\",SUM('Data Input'!G241,'Data Input'!I241,'Data Input'!K241,'Data Input'!O241,'Data Input'!P241,'Data Input'!S241,'Data Input'!U241,'Data Input'!V241,'Data Input'!W241,'Data Input'!X241,'Data Input'!Z241,'Data Input'!AA241,'Data Input'!AD241,'Data Input'!AZ241))","v":""},{"$f":"IF(J237=\"\",\"\",J237/COUNTIF('Data Input'!$C$8:$AZ$8,$J$2))","v":""},{"$f":"IF(ISBLANK('Data Input'!A241),\"\",SUM('Data Input'!Q241,'Data Input'!AG241))","v":""},{"$f":"IF(L237=\"\",\"\",L237/COUNTIF('Data Input'!$C$8:$AZ$8,$L$2))","v":""},{"$f":"IF(ISBLANK('Data Input'!A241),\"\",SUM('Data Input'!D241,'Data Input'!E241,'Data Input'!F241,'Data Input'!L241,'Data Input'!M241,'Data Input'!AB241,'Data Input'!AC241,'Data Input'!AF241,'Data Input'!AJ241,'Data Input'!AL241,'Data Input'!AN241,'Data Input'!AO241,'Data Input'!AP241,'Data Input'!AQ241,'Data Input'!AR241,'Data Input'!AS241,'Data Input'!AT241,'Data Input'!AU241,'Data Input'!AV241,'Data Input'!AW241,'Data Input'!AX241,'Data Input'!AY241))","v":""},{"$f":"IF(N237=\"\",\"\",N237/COUNTIF('Data Input'!$C$8:$AZ$8,$N$2))","v":""},null,{"$f":"IF(P237=\"\",\"\",P237/COUNTIF('Data Input'!$C$8:$AZ$8,$P$2))","v":""},{"$f":"IF(ISBLANK('Data Input'!A241),\"\",SUM('Data Input'!AH241))","v":""},{"$f":"IF(R237=\"\",\"\",R237/COUNTIF('Data Input'!$C$8:$AZ$8,$R$2))","v":""},{"$f":"IF(ISBLANK('Data Input'!$A241),\"\",SUM('Data Input'!AI241))","v":""},{"$f":"IF(T237=\"\",\"\",T237/COUNTIF('Data Input'!$C$8:$AZ$8,$T$2))","v":""},null,{"$f":"IF(V237=\"\",\"\",V237/COUNTIF('Data Input'!$C$8:$AZ$8,$V$2))","v":""}]
[{"$f":"IF('Data Input'!A242=0,\"\",'Data Input'!A242)","v":""},{"$f":"IF(F238=\"\",\"\",IF(F238>Welcome!$J$20-1,\"Exceeding\",IF(F238>Welcome!$F$20-1,\"Expected\",IF(F238<Welcome!$F$20,\"Below\"))))","v":""},{"$f":"IF(ISBLANK('Data Input'!A242),\"\",COUNTIF('Data Input'!C242:AZ242,\"\"))","v":""},{"$f":"IF(ISBLANK('Data Input'!A242),\"\",COUNTIF('Data Input'!C242:AZ242,\"0\"))","v":""},{"$f":"IF(ISBLANK('Data Input'!A242),\"\",SUM(C238,D238))","v":""},{"$f":"IF(ISBLANK('Data Input'!A242),\"\",SUM('Data Input'!C242:AZ242))","v":""},{"$f":"IF(F238=\"\",\"\",F238/(COUNTA('Data Input'!$C$8:$AZ$8)))","v":""},{"$f":"IF(ISBLANK('Data Input'!A242),\"\",SUM('Data Input'!C242,'Data Input'!H242,'Data Input'!J242,'Data Input'!N242,'Data Input'!R242,'Data Input'!T242,'Data Input'!Y242,'Data Input'!AE242,'Data Input'!AK242,'Data Input'!AM242))","v":""},{"$f":"IF(H238=\"\",\"\",H238/COUNTIF('Data Input'!$C$8:$AZ$8,$H$2))","v":""},{"$f":"IF(ISBLANK('Data Input'!A242),\"\",SUM('Data Input'!G242,'Data Input'!I242,'Data Input'!K242,'Data Input'!O242,'Data Input'!P242,'Data Input'!S242,'Data Input'!U242,'Data Input'!V242,'Data Input'!W242,'Data Input'!X242,'Data Input'!Z242,'Data Input'!AA242,'Data Input'!AD242,'Data Input'!AZ242))","v":""},{"$f":"IF(J238=\"\",\"\",J238/COUNTIF('Data Input'!$C$8:$AZ$8,$J$2))","v":""},{"$f":"IF(ISBLANK('Data Input'!A242),\"\",SUM('Data Input'!Q242,'Data Input'!AG242))","v":""},{"$f":"IF(L238=\"\",\"\",L238/COUNTIF('Data Input'!$C$8:$AZ$8,$L$2))","v":""},{"$f":"IF(ISBLANK('Data Input'!A242),\"\",SUM('Data Input'!D242,'Data Input'!E242,'Data Input'!F242,'Data Input'!L242,'Data Input'!M242,'Data Input'!AB242,'Data Input'!AC242,'Data Input'!AF242,'Data Input'!AJ242,'Data Input'!AL242,'Data Input'!AN242,'Data Input'!AO242,'Data Input'!AP242,'Data Input'!AQ242,'Data Input'!AR242,'Data Input'!AS242,'Data Input'!AT242,'Data Input'!AU242,'Data Input'!AV242,'Data Input'!AW242,'Data Input'!AX242,'Data Input'!AY242))","v":""},{"$f":"IF(N238=\"\",\"\",N238/COUNTIF('Data Input'!$C$8:$AZ$8,$N$2))","v":""},null,{"$f":"IF(P238=\"\",\"\",P238/COUNTIF('Data Input'!$C$8:$AZ$8,$P$2))","v":""},{"$f":"IF(ISBLANK('Data Input'!A242),\"\",SUM('Data Input'!AH242))","v":""},{"$f":"IF(R238=\"\",\"\",R238/COUNTIF('Data Input'!$C$8:$AZ$8,$R$2))","v":""},{"$f":"IF(ISBLANK('Data Input'!$A242),\"\",SUM('Data Input'!AI242))","v":""},{"$f":"IF(T238=\"\",\"\",T238/COUNTIF('Data Input'!$C$8:$AZ$8,$T$2))","v":""},null,{"$f":"IF(V238=\"\",\"\",V238/COUNTIF('Data Input'!$C$8:$AZ$8,$V$2))","v":""}]
[{"$f":"IF('Data Input'!A243=0,\"\",'Data Input'!A243)","v":""},{"$f":"IF(F239=\"\",\"\",IF(F239>Welcome!$J$20-1,\"Exceeding\",IF(F239>Welcome!$F$20-1,\"Expected\",IF(F239<Welcome!$F$20,\"Below\"))))","v":""},{"$f":"IF(ISBLANK('Data Input'!A243),\"\",COUNTIF('Data Input'!C243:AZ243,\"\"))","v":""},{"$f":"IF(ISBLANK('Data Input'!A243),\"\",COUNTIF('Data Input'!C243:AZ243,\"0\"))","v":""},{"$f":"IF(ISBLANK('Data Input'!A243),\"\",SUM(C239,D239))","v":""},{"$f":"IF(ISBLANK('Data Input'!A243),\"\",SUM('Data Input'!C243:AZ243))","v":""},{"$f":"IF(F239=\"\",\"\",F239/(COUNTA('Data Input'!$C$8:$AZ$8)))","v":""},{"$f":"IF(ISBLANK('Data Input'!A243),\"\",SUM('Data Input'!C243,'Data Input'!H243,'Data Input'!J243,'Data Input'!N243,'Data Input'!R243,'Data Input'!T243,'Data Input'!Y243,'Data Input'!AE243,'Data Input'!AK243,'Data Input'!AM243))","v":""},{"$f":"IF(H239=\"\",\"\",H239/COUNTIF('Data Input'!$C$8:$AZ$8,$H$2))","v":""},{"$f":"IF(ISBLANK('Data Input'!A243),\"\",SUM('Data Input'!G243,'Data Input'!I243,'Data Input'!K243,'Data Input'!O243,'Data Input'!P243,'Data Input'!S243,'Data Input'!U243,'Data Input'!V243,'Data Input'!W243,'Data Input'!X243,'Data Input'!Z243,'Data Input'!AA243,'Data Input'!AD243,'Data Input'!AZ243))","v":""},{"$f":"IF(J239=\"\",\"\",J239/COUNTIF('Data Input'!$C$8:$AZ$8,$J$2))","v":""},{"$f":"IF(ISBLANK('Data Input'!A243),\"\",SUM('Data Input'!Q243,'Data Input'!AG243))","v":""},{"$f":"IF(L239=\"\",\"\",L239/COUNTIF('Data Input'!$C$8:$AZ$8,$L$2))","v":""},{"$f":"IF(ISBLANK('Data Input'!A243),\"\",SUM('Data Input'!D243,'Data Input'!E243,'Data Input'!F243,'Data Input'!L243,'Data Input'!M243,'Data Input'!AB243,'Data Input'!AC243,'Data Input'!AF243,'Data Input'!AJ243,'Data Input'!AL243,'Data Input'!AN243,'Data Input'!AO243,'Data Input'!AP243,'Data Input'!AQ243,'Data Input'!AR243,'Data Input'!AS243,'Data Input'!AT243,'Data Input'!AU243,'Data Input'!AV243,'Data Input'!AW243,'Data Input'!AX243,'Data Input'!AY243))","v":""},{"$f":"IF(N239=\"\",\"\",N239/COUNTIF('Data Input'!$C$8:$AZ$8,$N$2))","v":""},null,{"$f":"IF(P239=\"\",\"\",P239/COUNTIF('Data Input'!$C$8:$AZ$8,$P$2))","v":""},{"$f":"IF(ISBLANK('Data Input'!A243),\"\",SUM('Data Input'!AH243))","v":""},{"$f":"IF(R239=\"\",\"\",R239/COUNTIF('Data Input'!$C$8:$AZ$8,$R$2))","v":""},{"$f":"IF(ISBLANK('Data Input'!$A243),\"\",SUM('Data Input'!AI243))","v":""},{"$f":"IF(T239=\"\",\"\",T239/COUNTIF('Data Input'!$C$8:$AZ$8,$T$2))","v":""},null,{"$f":"IF(V239=\"\",\"\",V239/COUNTIF('Data Input'!$C$8:$AZ$8,$V$2))","v":""}]
[{"$f":"IF('Data Input'!A244=0,\"\",'Data Input'!A244)","v":""},{"$f":"IF(F240=\"\",\"\",IF(F240>Welcome!$J$20-1,\"Exceeding\",IF(F240>Welcome!$F$20-1,\"Expected\",IF(F240<Welcome!$F$20,\"Below\"))))","v":""},{"$f":"IF(ISBLANK('Data Input'!A244),\"\",COUNTIF('Data Input'!C244:AZ244,\"\"))","v":""},{"$f":"IF(ISBLANK('Data Input'!A244),\"\",COUNTIF('Data Input'!C244:AZ244,\"0\"))","v":""},{"$f":"IF(ISBLANK('Data Input'!A244),\"\",SUM(C240,D240))","v":""},{"$f":"IF(ISBLANK('Data Input'!A244),\"\",SUM('Data Input'!C244:AZ244))","v":""},{"$f":"IF(F240=\"\",\"\",F240/(COUNTA('Data Input'!$C$8:$AZ$8)))","v":""},{"$f":"IF(ISBLANK('Data Input'!A244),\"\",SUM('Data Input'!C244,'Data Input'!H244,'Data Input'!J244,'Data Input'!N244,'Data Input'!R244,'Data Input'!T244,'Data Input'!Y244,'Data Input'!AE244,'Data Input'!AK244,'Data Input'!AM244))","v":""},{"$f":"IF(H240=\"\",\"\",H240/COUNTIF('Data Input'!$C$8:$AZ$8,$H$2))","v":""},{"$f":"IF(ISBLANK('Data Input'!A244),\"\",SUM('Data Input'!G244,'Data Input'!I244,'Data Input'!K244,'Data Input'!O244,'Data Input'!P244,'Data Input'!S244,'Data Input'!U244,'Data Input'!V244,'Data Input'!W244,'Data Input'!X244,'Data Input'!Z244,'Data Input'!AA244,'Data Input'!AD244,'Data Input'!AZ244))","v":""},{"$f":"IF(J240=\"\",\"\",J240/COUNTIF('Data Input'!$C$8:$AZ$8,$J$2))","v":""},{"$f":"IF(ISBLANK('Data Input'!A244),\"\",SUM('Data Input'!Q244,'Data Input'!AG244))","v":""},{"$f":"IF(L240=\"\",\"\",L240/COUNTIF('Data Input'!$C$8:$AZ$8,$L$2))","v":""},{"$f":"IF(ISBLANK('Data Input'!A244),\"\",SUM('Data Input'!D244,'Data Input'!E244,'Data Input'!F244,'Data Input'!L244,'Data Input'!M244,'Data Input'!AB244,'Data Input'!AC244,'Data Input'!AF244,'Data Input'!AJ244,'Data Input'!AL244,'Data Input'!AN244,'Data Input'!AO244,'Data Input'!AP244,'Data Input'!AQ244,'Data Input'!AR244,'Data Input'!AS244,'Data Input'!AT244,'Data Input'!AU244,'Data Input'!AV244,'Data Input'!AW244,'Data Input'!AX244,'Data Input'!AY244))","v":""},{"$f":"IF(N240=\"\",\"\",N240/COUNTIF('Data Input'!$C$8:$AZ$8,$N$2))","v":""},null,{"$f":"IF(P240=\"\",\"\",P240/COUNTIF('Data Input'!$C$8:$AZ$8,$P$2))","v":""},{"$f":"IF(ISBLANK('Data Input'!A244),\"\",SUM('Data Input'!AH244))","v":""},{"$f":"IF(R240=\"\",\"\",R240/COUNTIF('Data Input'!$C$8:$AZ$8,$R$2))","v":""},{"$f":"IF(ISBLANK('Data Input'!$A244),\"\",SUM('Data Input'!AI244))","v":""},{"$f":"IF(T240=\"\",\"\",T240/COUNTIF('Data Input'!$C$8:$AZ$8,$T$2))","v":""},null,{"$f":"IF(V240=\"\",\"\",V240/COUNTIF('Data Input'!$C$8:$AZ$8,$V$2))","v":""}]
[{"$f":"IF('Data Input'!A245=0,\"\",'Data Input'!A245)","v":""},{"$f":"IF(F241=\"\",\"\",IF(F241>Welcome!$J$20-1,\"Exceeding\",IF(F241>Welcome!$F$20-1,\"Expected\",IF(F241<Welcome!$F$20,\"Below\"))))","v":""},{"$f":"IF(ISBLANK('Data Input'!A245),\"\",COUNTIF('Data Input'!C245:AZ245,\"\"))","v":""},{"$f":"IF(ISBLANK('Data Input'!A245),\"\",COUNTIF('Data Input'!C245:AZ245,\"0\"))","v":""},{"$f":"IF(ISBLANK('Data Input'!A245),\"\",SUM(C241,D241))","v":""},{"$f":"IF(ISBLANK('Data Input'!A245),\"\",SUM('Data Input'!C245:AZ245))","v":""},{"$f":"IF(F241=\"\",\"\",F241/(COUNTA('Data Input'!$C$8:$AZ$8)))","v":""},{"$f":"IF(ISBLANK('Data Input'!A245),\"\",SUM('Data Input'!C245,'Data Input'!H245,'Data Input'!J245,'Data Input'!N245,'Data Input'!R245,'Data Input'!T245,'Data Input'!Y245,'Data Input'!AE245,'Data Input'!AK245,'Data Input'!AM245))","v":""},{"$f":"IF(H241=\"\",\"\",H241/COUNTIF('Data Input'!$C$8:$AZ$8,$H$2))","v":""},{"$f":"IF(ISBLANK('Data Input'!A245),\"\",SUM('Data Input'!G245,'Data Input'!I245,'Data Input'!K245,'Data Input'!O245,'Data Input'!P245,'Data Input'!S245,'Data Input'!U245,'Data Input'!V245,'Data Input'!W245,'Data Input'!X245,'Data Input'!Z245,'Data Input'!AA245,'Data Input'!AD245,'Data Input'!AZ245))","v":""},{"$f":"IF(J241=\"\",\"\",J241/COUNTIF('Data Input'!$C$8:$AZ$8,$J$2))","v":""},{"$f":"IF(ISBLANK('Data Input'!A245),\"\",SUM('Data Input'!Q245,'Data Input'!AG245))","v":""},{"$f":"IF(L241=\"\",\"\",L241/COUNTIF('Data Input'!$C$8:$AZ$8,$L$2))","v":""},{"$f":"IF(ISBLANK('Data Input'!A245),\"\",SUM('Data Input'!D245,'Data Input'!E245,'Data Input'!F245,'Data Input'!L245,'Data Input'!M245,'Data Input'!AB245,'Data Input'!AC245,'Data Input'!AF245,'Data Input'!AJ245,'Data Input'!AL245,'Data Input'!AN245,'Data Input'!AO245,'Data Input'!AP245,'Data Input'!AQ245,'Data Input'!AR245,'Data Input'!AS245,'Data Input'!AT245,'Data Input'!AU245,'Data Input'!AV245,'Data Input'!AW245,'Data Input'!AX245,'Data Input'!AY245))","v":""},{"$f":"IF(N241=\"\",\"\",N241/COUNTIF('Data Input'!$C$8:$AZ$8,$N$2))","v":""},null,{"$f":"IF(P241=\"\",\"\",P241/COUNTIF('Data Input'!$C$8:$AZ$8,$P$2))","v":""},{"$f":"IF(ISBLANK('Data Input'!A245),\"\",SUM('Data Input'!AH245))","v":""},{"$f":"IF(R241=\"\",\"\",R241/COUNTIF('Data Input'!$C$8:$AZ$8,$R$2))","v":""},{"$f":"IF(ISBLANK('Data Input'!$A245),\"\",SUM('Data Input'!AI245))","v":""},{"$f":"IF(T241=\"\",\"\",T241/COUNTIF('Data Input'!$C$8:$AZ$8,$T$2))","v":""},null,{"$f":"IF(V241=\"\",\"\",V241/COUNTIF('Data Input'!$C$8:$AZ$8,$V$2))","v":""}]
[{"$f":"IF('Data Input'!A246=0,\"\",'Data Input'!A246)","v":""},{"$f":"IF(F242=\"\",\"\",IF(F242>Welcome!$J$20-1,\"Exceeding\",IF(F242>Welcome!$F$20-1,\"Expected\",IF(F242<Welcome!$F$20,\"Below\"))))","v":""},{"$f":"IF(ISBLANK('Data Input'!A246),\"\",COUNTIF('Data Input'!C246:AZ246,\"\"))","v":""},{"$f":"IF(ISBLANK('Data Input'!A246),\"\",COUNTIF('Data Input'!C246:AZ246,\"0\"))","v":""},{"$f":"IF(ISBLANK('Data Input'!A246),\"\",SUM(C242,D242))","v":""},{"$f":"IF(ISBLANK('Data Input'!A246),\"\",SUM('Data Input'!C246:AZ246))","v":""},{"$f":"IF(F242=\"\",\"\",F242/(COUNTA('Data Input'!$C$8:$AZ$8)))","v":""},{"$f":"IF(ISBLANK('Data Input'!A246),\"\",SUM('Data Input'!C246,'Data Input'!H246,'Data Input'!J246,'Data Input'!N246,'Data Input'!R246,'Data Input'!T246,'Data Input'!Y246,'Data Input'!AE246,'Data Input'!AK246,'Data Input'!AM246))","v":""},{"$f":"IF(H242=\"\",\"\",H242/COUNTIF('Data Input'!$C$8:$AZ$8,$H$2))","v":""},{"$f":"IF(ISBLANK('Data Input'!A246),\"\",SUM('Data Input'!G246,'Data Input'!I246,'Data Input'!K246,'Data Input'!O246,'Data Input'!P246,'Data Input'!S246,'Data Input'!U246,'Data Input'!V246,'Data Input'!W246,'Data Input'!X246,'Data Input'!Z246,'Data Input'!AA246,'Data Input'!AD246,'Data Input'!AZ246))","v":""},{"$f":"IF(J242=\"\",\"\",J242/COUNTIF('Data Input'!$C$8:$AZ$8,$J$2))","v":""},{"$f":"IF(ISBLANK('Data Input'!A246),\"\",SUM('Data Input'!Q246,'Data Input'!AG246))","v":""},{"$f":"IF(L242=\"\",\"\",L242/COUNTIF('Data Input'!$C$8:$AZ$8,$L$2))","v":""},{"$f":"IF(ISBLANK('Data Input'!A246),\"\",SUM('Data Input'!D246,'Data Input'!E246,'Data Input'!F246,'Data Input'!L246,'Data Input'!M246,'Data Input'!AB246,'Data Input'!AC246,'Data Input'!AF246,'Data Input'!AJ246,'Data Input'!AL246,'Data Input'!AN246,'Data Input'!AO246,'Data Input'!AP246,'Data Input'!AQ246,'Data Input'!AR246,'Data Input'!AS246,'Data Input'!AT246,'Data Input'!AU246,'Data Input'!AV246,'Data Input'!AW246,'Data Input'!AX246,'Data Input'!AY246))","v":""},{"$f":"IF(N242=\"\",\"\",N242/COUNTIF('Data Input'!$C$8:$AZ$8,$N$2))","v":""},null,{"$f":"IF(P242=\"\",\"\",P242/COUNTIF('Data Input'!$C$8:$AZ$8,$P$2))","v":""},{"$f":"IF(ISBLANK('Data Input'!A246),\"\",SUM('Data Input'!AH246))","v":""},{"$f":"IF(R242=\"\",\"\",R242/COUNTIF('Data Input'!$C$8:$AZ$8,$R$2))","v":""},{"$f":"IF(ISBLANK('Data Input'!$A246),\"\",SUM('Data Input'!AI246))","v":""},{"$f":"IF(T242=\"\",\"\",T242/COUNTIF('Data Input'!$C$8:$AZ$8,$T$2))","v":""},null,{"$f":"IF(V242=\"\",\"\",V242/COUNTIF('Data Input'!$C$8:$AZ$8,$V$2))","v":""}]
[{"$f":"IF('Data Input'!A247=0,\"\",'Data Input'!A247)","v":""},{"$f":"IF(F243=\"\",\"\",IF(F243>Welcome!$J$20-1,\"Exceeding\",IF(F243>Welcome!$F$20-1,\"Expected\",IF(F243<Welcome!$F$20,\"Below\"))))","v":""},{"$f":"IF(ISBLANK('Data Input'!A247),\"\",COUNTIF('Data Input'!C247:AZ247,\"\"))","v":""},{"$f":"IF(ISBLANK('Data Input'!A247),\"\",COUNTIF('Data Input'!C247:AZ247,\"0\"))","v":""},{"$f":"IF(ISBLANK('Data Input'!A247),\"\",SUM(C243,D243))","v":""},{"$f":"IF(ISBLANK('Data Input'!A247),\"\",SUM('Data Input'!C247:AZ247))","v":""},{"$f":"IF(F243=\"\",\"\",F243/(COUNTA('Data Input'!$C$8:$AZ$8)))","v":""},{"$f":"IF(ISBLANK('Data Input'!A247),\"\",SUM('Data Input'!C247,'Data Input'!H247,'Data Input'!J247,'Data Input'!N247,'Data Input'!R247,'Data Input'!T247,'Data Input'!Y247,'Data Input'!AE247,'Data Input'!AK247,'Data Input'!AM247))","v":""},{"$f":"IF(H243=\"\",\"\",H243/COUNTIF('Data Input'!$C$8:$AZ$8,$H$2))","v":""},{"$f":"IF(ISBLANK('Data Input'!A247),\"\",SUM('Data Input'!G247,'Data Input'!I247,'Data Input'!K247,'Data Input'!O247,'Data Input'!P247,'Data Input'!S247,'Data Input'!U247,'Data Input'!V247,'Data Input'!W247,'Data Input'!X247,'Data Input'!Z247,'Data Input'!AA247,'Data Input'!AD247,'Data Input'!AZ247))","v":""},{"$f":"IF(J243=\"\",\"\",J243/COUNTIF('Data Input'!$C$8:$AZ$8,$J$2))","v":""},{"$f":"IF(ISBLANK('Data Input'!A247),\"\",SUM('Data Input'!Q247,'Data Input'!AG247))","v":""},{"$f":"IF(L243=\"\",\"\",L243/COUNTIF('Data Input'!$C$8:$AZ$8,$L$2))","v":""},{"$f":"IF(ISBLANK('Data Input'!A247),\"\",SUM('Data Input'!D247,'Data Input'!E247,'Data Input'!F247,'Data Input'!L247,'Data Input'!M247,'Data Input'!AB247,'Data Input'!AC247,'Data Input'!AF247,'Data Input'!AJ247,'Data Input'!AL247,'Data Input'!AN247,'Data Input'!AO247,'Data Input'!AP247,'Data Input'!AQ247,'Data Input'!AR247,'Data Input'!AS247,'Data Input'!AT247,'Data Input'!AU247,'Data Input'!AV247,'Data Input'!AW247,'Data Input'!AX247,'Data Input'!AY247))","v":""},{"$f":"IF(N243=\"\",\"\",N243/COUNTIF('Data Input'!$C$8:$AZ$8,$N$2))","v":""},null,{"$f":"IF(P243=\"\",\"\",P243/COUNTIF('Data Input'!$C$8:$AZ$8,$P$2))","v":""},{"$f":"IF(ISBLANK('Data Input'!A247),\"\",SUM('Data Input'!AH247))","v":""},{"$f":"IF(R243=\"\",\"\",R243/COUNTIF('Data Input'!$C$8:$AZ$8,$R$2))","v":""},{"$f":"IF(ISBLANK('Data Input'!$A247),\"\",SUM('Data Input'!AI247))","v":""},{"$f":"IF(T243=\"\",\"\",T243/COUNTIF('Data Input'!$C$8:$AZ$8,$T$2))","v":""},null,{"$f":"IF(V243=\"\",\"\",V243/COUNTIF('Data Input'!$C$8:$AZ$8,$V$2))","v":""}]
[{"$f":"IF('Data Input'!A248=0,\"\",'Data Input'!A248)","v":""},{"$f":"IF(F244=\"\",\"\",IF(F244>Welcome!$J$20-1,\"Exceeding\",IF(F244>Welcome!$F$20-1,\"Expected\",IF(F244<Welcome!$F$20,\"Below\"))))","v":""},{"$f":"IF(ISBLANK('Data Input'!A248),\"\",COUNTIF('Data Input'!C248:AZ248,\"\"))","v":""},{"$f":"IF(ISBLANK('Data Input'!A248),\"\",COUNTIF('Data Input'!C248:AZ248,\"0\"))","v":""},{"$f":"IF(ISBLANK('Data Input'!A248),\"\",SUM(C244,D244))","v":""},{"$f":"IF(ISBLANK('Data Input'!A248),\"\",SUM('Data Input'!C248:AZ248))","v":""},{"$f":"IF(F244=\"\",\"\",F244/(COUNTA('Data Input'!$C$8:$AZ$8)))","v":""},{"$f":"IF(ISBLANK('Data Input'!A248),\"\",SUM('Data Input'!C248,'Data Input'!H248,'Data Input'!J248,'Data Input'!N248,'Data Input'!R248,'Data Input'!T248,'Data Input'!Y248,'Data Input'!AE248,'Data Input'!AK248,'Data Input'!AM248))","v":""},{"$f":"IF(H244=\"\",\"\",H244/COUNTIF('Data Input'!$C$8:$AZ$8,$H$2))","v":""},{"$f":"IF(ISBLANK('Data Input'!A248),\"\",SUM('Data Input'!G248,'Data Input'!I248,'Data Input'!K248,'Data Input'!O248,'Data Input'!P248,'Data Input'!S248,'Data Input'!U248,'Data Input'!V248,'Data Input'!W248,'Data Input'!X248,'Data Input'!Z248,'Data Input'!AA248,'Data Input'!AD248,'Data Input'!AZ248))","v":""},{"$f":"IF(J244=\"\",\"\",J244/COUNTIF('Data Input'!$C$8:$AZ$8,$J$2))","v":""},{"$f":"IF(ISBLANK('Data Input'!A248),\"\",SUM('Data Input'!Q248,'Data Input'!AG248))","v":""},{"$f":"IF(L244=\"\",\"\",L244/COUNTIF('Data Input'!$C$8:$AZ$8,$L$2))","v":""},{"$f":"IF(ISBLANK('Data Input'!A248),\"\",SUM('Data Input'!D248,'Data Input'!E248,'Data Input'!F248,'Data Input'!L248,'Data Input'!M248,'Data Input'!AB248,'Data Input'!AC248,'Data Input'!AF248,'Data Input'!AJ248,'Data Input'!AL248,'Data Input'!AN248,'Data Input'!AO248,'Data Input'!AP248,'Data Input'!AQ248,'Data Input'!AR248,'Data Input'!AS248,'Data Input'!AT248,'Data Input'!AU248,'Data Input'!AV248,'Data Input'!AW248,'Data Input'!AX248,'Data Input'!AY248))","v":""},{"$f":"IF(N244=\"\",\"\",N244/COUNTIF('Data Input'!$C$8:$AZ$8,$N$2))","v":""},null,{"$f":"IF(P244=\"\",\"\",P244/COUNTIF('Data Input'!$C$8:$AZ$8,$P$2))","v":""},{"$f":"IF(ISBLANK('Data Input'!A248),\"\",SUM('Data Input'!AH248))","v":""},{"$f":"IF(R244=\"\",\"\",R244/COUNTIF('Data Input'!$C$8:$AZ$8,$R$2))","v":""},{"$f":"IF(ISBLANK('Data Input'!$A248),\"\",SUM('Data Input'!AI248))","v":""},{"$f":"IF(T244=\"\",\"\",T244/COUNTIF('Data Input'!$C$8:$AZ$8,$T$2))","v":""},null,{"$f":"IF(V244=\"\",\"\",V244/COUNTIF('Data Input'!$C$8:$AZ$8,$V$2))","v":""}]
[{"$f":"IF('Data Input'!A249=0,\"\",'Data Input'!A249)","v":""},{"$f":"IF(F245=\"\",\"\",IF(F245>Welcome!$J$20-1,\"Exceeding\",IF(F245>Welcome!$F$20-1,\"Expected\",IF(F245<Welcome!$F$20,\"Below\"))))","v":""},{"$f":"IF(ISBLANK('Data Input'!A249),\"\",COUNTIF('Data Input'!C249:AZ249,\"\"))","v":""},{"$f":"IF(ISBLANK('Data Input'!A249),\"\",COUNTIF('Data Input'!C249:AZ249,\"0\"))","v":""},{"$f":"IF(ISBLANK('Data Input'!A249),\"\",SUM(C245,D245))","v":""},{"$f":"IF(ISBLANK('Data Input'!A249),\"\",SUM('Data Input'!C249:AZ249))","v":""},{"$f":"IF(F245=\"\",\"\",F245/(COUNTA('Data Input'!$C$8:$AZ$8)))","v":""},{"$f":"IF(ISBLANK('Data Input'!A249),\"\",SUM('Data Input'!C249,'Data Input'!H249,'Data Input'!J249,'Data Input'!N249,'Data Input'!R249,'Data Input'!T249,'Data Input'!Y249,'Data Input'!AE249,'Data Input'!AK249,'Data Input'!AM249))","v":""},{"$f":"IF(H245=\"\",\"\",H245/COUNTIF('Data Input'!$C$8:$AZ$8,$H$2))","v":""},{"$f":"IF(ISBLANK('Data Input'!A249),\"\",SUM('Data Input'!G249,'Data Input'!I249,'Data Input'!K249,'Data Input'!O249,'Data Input'!P249,'Data Input'!S249,'Data Input'!U249,'Data Input'!V249,'Data Input'!W249,'Data Input'!X249,'Data Input'!Z249,'Data Input'!AA249,'Data Input'!AD249,'Data Input'!AZ249))","v":""},{"$f":"IF(J245=\"\",\"\",J245/COUNTIF('Data Input'!$C$8:$AZ$8,$J$2))","v":""},{"$f":"IF(ISBLANK('Data Input'!A249),\"\",SUM('Data Input'!Q249,'Data Input'!AG249))","v":""},{"$f":"IF(L245=\"\",\"\",L245/COUNTIF('Data Input'!$C$8:$AZ$8,$L$2))","v":""},{"$f":"IF(ISBLANK('Data Input'!A249),\"\",SUM('Data Input'!D249,'Data Input'!E249,'Data Input'!F249,'Data Input'!L249,'Data Input'!M249,'Data Input'!AB249,'Data Input'!AC249,'Data Input'!AF249,'Data Input'!AJ249,'Data Input'!AL249,'Data Input'!AN249,'Data Input'!AO249,'Data Input'!AP249,'Data Input'!AQ249,'Data Input'!AR249,'Data Input'!AS249,'Data Input'!AT249,'Data Input'!AU249,'Data Input'!AV249,'Data Input'!AW249,'Data Input'!AX249,'Data Input'!AY249))","v":""},{"$f":"IF(N245=\"\",\"\",N245/COUNTIF('Data Input'!$C$8:$AZ$8,$N$2))","v":""},null,{"$f":"IF(P245=\"\",\"\",P245/COUNTIF('Data Input'!$C$8:$AZ$8,$P$2))","v":""},{"$f":"IF(ISBLANK('Data Input'!A249),\"\",SUM('Data Input'!AH249))","v":""},{"$f":"IF(R245=\"\",\"\",R245/COUNTIF('Data Input'!$C$8:$AZ$8,$R$2))","v":""},{"$f":"IF(ISBLANK('Data Input'!$A249),\"\",SUM('Data Input'!AI249))","v":""},{"$f":"IF(T245=\"\",\"\",T245/COUNTIF('Data Input'!$C$8:$AZ$8,$T$2))","v":""},null,{"$f":"IF(V245=\"\",\"\",V245/COUNTIF('Data Input'!$C$8:$AZ$8,$V$2))","v":""}]
[{"$f":"IF('Data Input'!A250=0,\"\",'Data Input'!A250)","v":""},{"$f":"IF(F246=\"\",\"\",IF(F246>Welcome!$J$20-1,\"Exceeding\",IF(F246>Welcome!$F$20-1,\"Expected\",IF(F246<Welcome!$F$20,\"Below\"))))","v":""},{"$f":"IF(ISBLANK('Data Input'!A250),\"\",COUNTIF('Data Input'!C250:AZ250,\"\"))","v":""},{"$f":"IF(ISBLANK('Data Input'!A250),\"\",COUNTIF('Data Input'!C250:AZ250,\"0\"))","v":""},{"$f":"IF(ISBLANK('Data Input'!A250),\"\",SUM(C246,D246))","v":""},{"$f":"IF(ISBLANK('Data Input'!A250),\"\",SUM('Data Input'!C250:AZ250))","v":""},{"$f":"IF(F246=\"\",\"\",F246/(COUNTA('Data Input'!$C$8:$AZ$8)))","v":""},{"$f":"IF(ISBLANK('Data Input'!A250),\"\",SUM('Data Input'!C250,'Data Input'!H250,'Data Input'!J250,'Data Input'!N250,'Data Input'!R250,'Data Input'!T250,'Data Input'!Y250,'Data Input'!AE250,'Data Input'!AK250,'Data Input'!AM250))","v":""},{"$f":"IF(H246=\"\",\"\",H246/COUNTIF('Data Input'!$C$8:$AZ$8,$H$2))","v":""},{"$f":"IF(ISBLANK('Data Input'!A250),\"\",SUM('Data Input'!G250,'Data Input'!I250,'Data Input'!K250,'Data Input'!O250,'Data Input'!P250,'Data Input'!S250,'Data Input'!U250,'Data Input'!V250,'Data Input'!W250,'Data Input'!X250,'Data Input'!Z250,'Data Input'!AA250,'Data Input'!AD250,'Data Input'!AZ250))","v":""},{"$f":"IF(J246=\"\",\"\",J246/COUNTIF('Data Input'!$C$8:$AZ$8,$J$2))","v":""},{"$f":"IF(ISBLANK('Data Input'!A250),\"\",SUM('Data Input'!Q250,'Data Input'!AG250))","v":""},{"$f":"IF(L246=\"\",\"\",L246/COUNTIF('Data Input'!$C$8:$AZ$8,$L$2))","v":""},{"$f":"IF(ISBLANK('Data Input'!A250),\"\",SUM('Data Input'!D250,'Data Input'!E250,'Data Input'!F250,'Data Input'!L250,'Data Input'!M250,'Data Input'!AB250,'Data Input'!AC250,'Data Input'!AF250,'Data Input'!AJ250,'Data Input'!AL250,'Data Input'!AN250,'Data Input'!AO250,'Data Input'!AP250,'Data Input'!AQ250,'Data Input'!AR250,'Data Input'!AS250,'Data Input'!AT250,'Data Input'!AU250,'Data Input'!AV250,'Data Input'!AW250,'Data Input'!AX250,'Data Input'!AY250))","v":""},{"$f":"IF(N246=\"\",\"\",N246/COUNTIF('Data Input'!$C$8:$AZ$8,$N$2))","v":""},null,{"$f":"IF(P246=\"\",\"\",P246/COUNTIF('Data Input'!$C$8:$AZ$8,$P$2))","v":""},{"$f":"IF(ISBLANK('Data Input'!A250),\"\",SUM('Data Input'!AH250))","v":""},{"$f":"IF(R246=\"\",\"\",R246/COUNTIF('Data Input'!$C$8:$AZ$8,$R$2))","v":""},{"$f":"IF(ISBLANK('Data Input'!$A250),\"\",SUM('Data Input'!AI250))","v":""},{"$f":"IF(T246=\"\",\"\",T246/COUNTIF('Data Input'!$C$8:$AZ$8,$T$2))","v":""},null,{"$f":"IF(V246=\"\",\"\",V246/COUNTIF('Data Input'!$C$8:$AZ$8,$V$2))","v":""}]
[{"$f":"IF('Data Input'!A251=0,\"\",'Data Input'!A251)","v":""},{"$f":"IF(F247=\"\",\"\",IF(F247>Welcome!$J$20-1,\"Exceeding\",IF(F247>Welcome!$F$20-1,\"Expected\",IF(F247<Welcome!$F$20,\"Below\"))))","v":""},{"$f":"IF(ISBLANK('Data Input'!A251),\"\",COUNTIF('Data Input'!C251:AZ251,\"\"))","v":""},{"$f":"IF(ISBLANK('Data Input'!A251),\"\",COUNTIF('Data Input'!C251:AZ251,\"0\"))","v":""},{"$f":"IF(ISBLANK('Data Input'!A251),\"\",SUM(C247,D247))","v":""},{"$f":"IF(ISBLANK('Data Input'!A251),\"\",SUM('Data Input'!C251:AZ251))","v":""},{"$f":"IF(F247=\"\",\"\",F247/(COUNTA('Data Input'!$C$8:$AZ$8)))","v":""},{"$f":"IF(ISBLANK('Data Input'!A251),\"\",SUM('Data Input'!C251,'Data Input'!H251,'Data Input'!J251,'Data Input'!N251,'Data Input'!R251,'Data Input'!T251,'Data Input'!Y251,'Data Input'!AE251,'Data Input'!AK251,'Data Input'!AM251))","v":""},{"$f":"IF(H247=\"\",\"\",H247/COUNTIF('Data Input'!$C$8:$AZ$8,$H$2))","v":""},{"$f":"IF(ISBLANK('Data Input'!A251),\"\",SUM('Data Input'!G251,'Data Input'!I251,'Data Input'!K251,'Data Input'!O251,'Data Input'!P251,'Data Input'!S251,'Data Input'!U251,'Data Input'!V251,'Data Input'!W251,'Data Input'!X251,'Data Input'!Z251,'Data Input'!AA251,'Data Input'!AD251,'Data Input'!AZ251))","v":""},{"$f":"IF(J247=\"\",\"\",J247/COUNTIF('Data Input'!$C$8:$AZ$8,$J$2))","v":""},{"$f":"IF(ISBLANK('Data Input'!A251),\"\",SUM('Data Input'!Q251,'Data Input'!AG251))","v":""},{"$f":"IF(L247=\"\",\"\",L247/COUNTIF('Data Input'!$C$8:$AZ$8,$L$2))","v":""},{"$f":"IF(ISBLANK('Data Input'!A251),\"\",SUM('Data Input'!D251,'Data Input'!E251,'Data Input'!F251,'Data Input'!L251,'Data Input'!M251,'Data Input'!AB251,'Data Input'!AC251,'Data Input'!AF251,'Data Input'!AJ251,'Data Input'!AL251,'Data Input'!AN251,'Data Input'!AO251,'Data Input'!AP251,'Data Input'!AQ251,'Data Input'!AR251,'Data Input'!AS251,'Data Input'!AT251,'Data Input'!AU251,'Data Input'!AV251,'Data Input'!AW251,'Data Input'!AX251,'Data Input'!AY251))","v":""},{"$f":"IF(N247=\"\",\"\",N247/COUNTIF('Data Input'!$C$8:$AZ$8,$N$2))","v":""},null,{"$f":"IF(P247=\"\",\"\",P247/COUNTIF('Data Input'!$C$8:$AZ$8,$P$2))","v":""},{"$f":"IF(ISBLANK('Data Input'!A251),\"\",SUM('Data Input'!AH251))","v":""},{"$f":"IF(R247=\"\",\"\",R247/COUNTIF('Data Input'!$C$8:$AZ$8,$R$2))","v":""},{"$f":"IF(ISBLANK('Data Input'!$A251),\"\",SUM('Data Input'!AI251))","v":""},{"$f":"IF(T247=\"\",\"\",T247/COUNTIF('Data Input'!$C$8:$AZ$8,$T$2))","v":""},null,{"$f":"IF(V247=\"\",\"\",V247/COUNTIF('Data Input'!$C$8:$AZ$8,$V$2))","v":""}]
[{"$f":"IF('Data Input'!A252=0,\"\",'Data Input'!A252)","v":""},{"$f":"IF(F248=\"\",\"\",IF(F248>Welcome!$J$20-1,\"Exceeding\",IF(F248>Welcome!$F$20-1,\"Expected\",IF(F248<Welcome!$F$20,\"Below\"))))","v":""},{"$f":"IF(ISBLANK('Data Input'!A252),\"\",COUNTIF('Data Input'!C252:AZ252,\"\"))","v":""},{"$f":"IF(ISBLANK('Data Input'!A252),\"\",COUNTIF('Data Input'!C252:AZ252,\"0\"))","v":""},{"$f":"IF(ISBLANK('Data Input'!A252),\"\",SUM(C248,D248))","v":""},{"$f":"IF(ISBLANK('Data Input'!A252),\"\",SUM('Data Input'!C252:AZ252))","v":""},{"$f":"IF(F248=\"\",\"\",F248/(COUNTA('Data Input'!$C$8:$AZ$8)))","v":""},{"$f":"IF(ISBLANK('Data Input'!A252),\"\",SUM('Data Input'!C252,'Data Input'!H252,'Data Input'!J252,'Data Input'!N252,'Data Input'!R252,'Data Input'!T252,'Data Input'!Y252,'Data Input'!AE252,'Data Input'!AK252,'Data Input'!AM252))","v":""},{"$f":"IF(H248=\"\",\"\",H248/COUNTIF('Data Input'!$C$8:$AZ$8,$H$2))","v":""},{"$f":"IF(ISBLANK('Data Input'!A252),\"\",SUM('Data Input'!G252,'Data Input'!I252,'Data Input'!K252,'Data Input'!O252,'Data Input'!P252,'Data Input'!S252,'Data Input'!U252,'Data Input'!V252,'Data Input'!W252,'Data Input'!X252,'Data Input'!Z252,'Data Input'!AA252,'Data Input'!AD252,'Data Input'!AZ252))","v":""},{"$f":"IF(J248=\"\",\"\",J248/COUNTIF('Data Input'!$C$8:$AZ$8,$J$2))","v":""},{"$f":"IF(ISBLANK('Data Input'!A252),\"\",SUM('Data Input'!Q252,'Data Input'!AG252))","v":""},{"$f":"IF(L248=\"\",\"\",L248/COUNTIF('Data Input'!$C$8:$AZ$8,$L$2))","v":""},{"$f":"IF(ISBLANK('Data Input'!A252),\"\",SUM('Data Input'!D252,'Data Input'!E252,'Data Input'!F252,'Data Input'!L252,'Data Input'!M252,'Data Input'!AB252,'Data Input'!AC252,'Data Input'!AF252,'Data Input'!AJ252,'Data Input'!AL252,'Data Input'!AN252,'Data Input'!AO252,'Data Input'!AP252,'Data Input'!AQ252,'Data Input'!AR252,'Data Input'!AS252,'Data Input'!AT252,'Data Input'!AU252,'Data Input'!AV252,'Data Input'!AW252,'Data Input'!AX252,'Data Input'!AY252))","v":""},{"$f":"IF(N248=\"\",\"\",N248/COUNTIF('Data Input'!$C$8:$AZ$8,$N$2))","v":""},null,{"$f":"IF(P248=\"\",\"\",P248/COUNTIF('Data Input'!$C$8:$AZ$8,$P$2))","v":""},{"$f":"IF(ISBLANK('Data Input'!A252),\"\",SUM('Data Input'!AH252))","v":""},{"$f":"IF(R248=\"\",\"\",R248/COUNTIF('Data Input'!$C$8:$AZ$8,$R$2))","v":""},{"$f":"IF(ISBLANK('Data Input'!$A252),\"\",SUM('Data Input'!AI252))","v":""},{"$f":"IF(T248=\"\",\"\",T248/COUNTIF('Data Input'!$C$8:$AZ$8,$T$2))","v":""},null,{"$f":"IF(V248=\"\",\"\",V248/COUNTIF('Data Input'!$C$8:$AZ$8,$V$2))","v":""}]
[{"$f":"IF('Data Input'!A253=0,\"\",'Data Input'!A253)","v":""},{"$f":"IF(F249=\"\",\"\",IF(F249>Welcome!$J$20-1,\"Exceeding\",IF(F249>Welcome!$F$20-1,\"Expected\",IF(F249<Welcome!$F$20,\"Below\"))))","v":""},{"$f":"IF(ISBLANK('Data Input'!A253),\"\",COUNTIF('Data Input'!C253:AZ253,\"\"))","v":""},{"$f":"IF(ISBLANK('Data Input'!A253),\"\",COUNTIF('Data Input'!C253:AZ253,\"0\"))","v":""},{"$f":"IF(ISBLANK('Data Input'!A253),\"\",SUM(C249,D249))","v":""},{"$f":"IF(ISBLANK('Data Input'!A253),\"\",SUM('Data Input'!C253:AZ253))","v":""},{"$f":"IF(F249=\"\",\"\",F249/(COUNTA('Data Input'!$C$8:$AZ$8)))","v":""},{"$f":"IF(ISBLANK('Data Input'!A253),\"\",SUM('Data Input'!C253,'Data Input'!H253,'Data Input'!J253,'Data Input'!N253,'Data Input'!R253,'Data Input'!T253,'Data Input'!Y253,'Data Input'!AE253,'Data Input'!AK253,'Data Input'!AM253))","v":""},{"$f":"IF(H249=\"\",\"\",H249/COUNTIF('Data Input'!$C$8:$AZ$8,$H$2))","v":""},{"$f":"IF(ISBLANK('Data Input'!A253),\"\",SUM('Data Input'!G253,'Data Input'!I253,'Data Input'!K253,'Data Input'!O253,'Data Input'!P253,'Data Input'!S253,'Data Input'!U253,'Data Input'!V253,'Data Input'!W253,'Data Input'!X253,'Data Input'!Z253,'Data Input'!AA253,'Data Input'!AD253,'Data Input'!AZ253))","v":""},{"$f":"IF(J249=\"\",\"\",J249/COUNTIF('Data Input'!$C$8:$AZ$8,$J$2))","v":""},{"$f":"IF(ISBLANK('Data Input'!A253),\"\",SUM('Data Input'!Q253,'Data Input'!AG253))","v":""},{"$f":"IF(L249=\"\",\"\",L249/COUNTIF('Data Input'!$C$8:$AZ$8,$L$2))","v":""},{"$f":"IF(ISBLANK('Data Input'!A253),\"\",SUM('Data Input'!D253,'Data Input'!E253,'Data Input'!F253,'Data Input'!L253,'Data Input'!M253,'Data Input'!AB253,'Data Input'!AC253,'Data Input'!AF253,'Data Input'!AJ253,'Data Input'!AL253,'Data Input'!AN253,'Data Input'!AO253,'Data Input'!AP253,'Data Input'!AQ253,'Data Input'!AR253,'Data Input'!AS253,'Data Input'!AT253,'Data Input'!AU253,'Data Input'!AV253,'Data Input'!AW253,'Data Input'!AX253,'Data Input'!AY253))","v":""},{"$f":"IF(N249=\"\",\"\",N249/COUNTIF('Data Input'!$C$8:$AZ$8,$N$2))","v":""},null,{"$f":"IF(P249=\"\",\"\",P249/COUNTIF('Data Input'!$C$8:$AZ$8,$P$2))","v":""},{"$f":"IF(ISBLANK('Data Input'!A253),\"\",SUM('Data Input'!AH253))","v":""},{"$f":"IF(R249=\"\",\"\",R249/COUNTIF('Data Input'!$C$8:$AZ$8,$R$2))","v":""},{"$f":"IF(ISBLANK('Data Input'!$A253),\"\",SUM('Data Input'!AI253))","v":""},{"$f":"IF(T249=\"\",\"\",T249/COUNTIF('Data Input'!$C$8:$AZ$8,$T$2))","v":""},null,{"$f":"IF(V249=\"\",\"\",V249/COUNTIF('Data Input'!$C$8:$AZ$8,$V$2))","v":""}]
[{"$f":"IF('Data Input'!A254=0,\"\",'Data Input'!A254)","v":""},{"$f":"IF(F250=\"\",\"\",IF(F250>Welcome!$J$20-1,\"Exceeding\",IF(F250>Welcome!$F$20-1,\"Expected\",IF(F250<Welcome!$F$20,\"Below\"))))","v":""},{"$f":"IF(ISBLANK('Data Input'!A254),\"\",COUNTIF('Data Input'!C254:AZ254,\"\"))","v":""},{"$f":"IF(ISBLANK('Data Input'!A254),\"\",COUNTIF('Data Input'!C254:AZ254,\"0\"))","v":""},{"$f":"IF(ISBLANK('Data Input'!A254),\"\",SUM(C250,D250))","v":""},{"$f":"IF(ISBLANK('Data Input'!A254),\"\",SUM('Data Input'!C254:AZ254))","v":""},{"$f":"IF(F250=\"\",\"\",F250/(COUNTA('Data Input'!$C$8:$AZ$8)))","v":""},{"$f":"IF(ISBLANK('Data Input'!A254),\"\",SUM('Data Input'!C254,'Data Input'!H254,'Data Input'!J254,'Data Input'!N254,'Data Input'!R254,'Data Input'!T254,'Data Input'!Y254,'Data Input'!AE254,'Data Input'!AK254,'Data Input'!AM254))","v":""},{"$f":"IF(H250=\"\",\"\",H250/COUNTIF('Data Input'!$C$8:$AZ$8,$H$2))","v":""},{"$f":"IF(ISBLANK('Data Input'!A254),\"\",SUM('Data Input'!G254,'Data Input'!I254,'Data Input'!K254,'Data Input'!O254,'Data Input'!P254,'Data Input'!S254,'Data Input'!U254,'Data Input'!V254,'Data Input'!W254,'Data Input'!X254,'Data Input'!Z254,'Data Input'!AA254,'Data Input'!AD254,'Data Input'!AZ254))","v":""},{"$f":"IF(J250=\"\",\"\",J250/COUNTIF('Data Input'!$C$8:$AZ$8,$J$2))","v":""},{"$f":"IF(ISBLANK('Data Input'!A254),\"\",SUM('Data Input'!Q254,'Data Input'!AG254))","v":""},{"$f":"IF(L250=\"\",\"\",L250/COUNTIF('Data Input'!$C$8:$AZ$8,$L$2))","v":""},{"$f":"IF(ISBLANK('Data Input'!A254),\"\",SUM('Data Input'!D254,'Data Input'!E254,'Data Input'!F254,'Data Input'!L254,'Data Input'!M254,'Data Input'!AB254,'Data Input'!AC254,'Data Input'!AF254,'Data Input'!AJ254,'Data Input'!AL254,'Data Input'!AN254,'Data Input'!AO254,'Data Input'!AP254,'Data Input'!AQ254,'Data Input'!AR254,'Data Input'!AS254,'Data Input'!AT254,'Data Input'!AU254,'Data Input'!AV254,'Data Input'!AW254,'Data Input'!AX254,'Data Input'!AY254))","v":""},{"$f":"IF(N250=\"\",\"\",N250/COUNTIF('Data Input'!$C$8:$AZ$8,$N$2))","v":""},null,{"$f":"IF(P250=\"\",\"\",P250/COUNTIF('Data Input'!$C$8:$AZ$8,$P$2))","v":""},{"$f":"IF(ISBLANK('Data Input'!A254),\"\",SUM('Data Input'!AH254))","v":""},{"$f":"IF(R250=\"\",\"\",R250/COUNTIF('Data Input'!$C$8:$AZ$8,$R$2))","v":""},{"$f":"IF(ISBLANK('Data Input'!$A254),\"\",SUM('Data Input'!AI254))","v":""},{"$f":"IF(T250=\"\",\"\",T250/COUNTIF('Data Input'!$C$8:$AZ$8,$T$2))","v":""},null,{"$f":"IF(V250=\"\",\"\",V250/COUNTIF('Data Input'!$C$8:$AZ$8,$V$2))","v":""}]
[{"$f":"IF('Data Input'!A255=0,\"\",'Data Input'!A255)","v":""},{"$f":"IF(F251=\"\",\"\",IF(F251>Welcome!$J$20-1,\"Exceeding\",IF(F251>Welcome!$F$20-1,\"Expected\",IF(F251<Welcome!$F$20,\"Below\"))))","v":""},{"$f":"IF(ISBLANK('Data Input'!A255),\"\",COUNTIF('Data Input'!C255:AZ255,\"\"))","v":""},{"$f":"IF(ISBLANK('Data Input'!A255),\"\",COUNTIF('Data Input'!C255:AZ255,\"0\"))","v":""},{"$f":"IF(ISBLANK('Data Input'!A255),\"\",SUM(C251,D251))","v":""},{"$f":"IF(ISBLANK('Data Input'!A255),\"\",SUM('Data Input'!C255:AZ255))","v":""},{"$f":"IF(F251=\"\",\"\",F251/(COUNTA('Data Input'!$C$8:$AZ$8)))","v":""},{"$f":"IF(ISBLANK('Data Input'!A255),\"\",SUM('Data Input'!C255,'Data Input'!H255,'Data Input'!J255,'Data Input'!N255,'Data Input'!R255,'Data Input'!T255,'Data Input'!Y255,'Data Input'!AE255,'Data Input'!AK255,'Data Input'!AM255))","v":""},{"$f":"IF(H251=\"\",\"\",H251/COUNTIF('Data Input'!$C$8:$AZ$8,$H$2))","v":""},{"$f":"IF(ISBLANK('Data Input'!A255),\"\",SUM('Data Input'!G255,'Data Input'!I255,'Data Input'!K255,'Data Input'!O255,'Data Input'!P255,'Data Input'!S255,'Data Input'!U255,'Data Input'!V255,'Data Input'!W255,'Data Input'!X255,'Data Input'!Z255,'Data Input'!AA255,'Data Input'!AD255,'Data Input'!AZ255))","v":""},{"$f":"IF(J251=\"\",\"\",J251/COUNTIF('Data Input'!$C$8:$AZ$8,$J$2))","v":""},{"$f":"IF(ISBLANK('Data Input'!A255),\"\",SUM('Data Input'!Q255,'Data Input'!AG255))","v":""},{"$f":"IF(L251=\"\",\"\",L251/COUNTIF('Data Input'!$C$8:$AZ$8,$L$2))","v":""},{"$f":"IF(ISBLANK('Data Input'!A255),\"\",SUM('Data Input'!D255,'Data Input'!E255,'Data Input'!F255,'Data Input'!L255,'Data Input'!M255,'Data Input'!AB255,'Data Input'!AC255,'Data Input'!AF255,'Data Input'!AJ255,'Data Input'!AL255,'Data Input'!AN255,'Data Input'!AO255,'Data Input'!AP255,'Data Input'!AQ255,'Data Input'!AR255,'Data Input'!AS255,'Data Input'!AT255,'Data Input'!AU255,'Data Input'!AV255,'Data Input'!AW255,'Data Input'!AX255,'Data Input'!AY255))","v":""},{"$f":"IF(N251=\"\",\"\",N251/COUNTIF('Data Input'!$C$8:$AZ$8,$N$2))","v":""},null,{"$f":"IF(P251=\"\",\"\",P251/COUNTIF('Data Input'!$C$8:$AZ$8,$P$2))","v":""},{"$f":"IF(ISBLANK('Data Input'!A255),\"\",SUM('Data Input'!AH255))","v":""},{"$f":"IF(R251=\"\",\"\",R251/COUNTIF('Data Input'!$C$8:$AZ$8,$R$2))","v":""},{"$f":"IF(ISBLANK('Data Input'!$A255),\"\",SUM('Data Input'!AI255))","v":""},{"$f":"IF(T251=\"\",\"\",T251/COUNTIF('Data Input'!$C$8:$AZ$8,$T$2))","v":""},null,{"$f":"IF(V251=\"\",\"\",V251/COUNTIF('Data Input'!$C$8:$AZ$8,$V$2))","v":""}]
[{"$f":"IF('Data Input'!A256=0,\"\",'Data Input'!A256)","v":""},{"$f":"IF(F252=\"\",\"\",IF(F252>Welcome!$J$20-1,\"Exceeding\",IF(F252>Welcome!$F$20-1,\"Expected\",IF(F252<Welcome!$F$20,\"Below\"))))","v":""},{"$f":"IF(ISBLANK('Data Input'!A256),\"\",COUNTIF('Data Input'!C256:AZ256,\"\"))","v":""},{"$f":"IF(ISBLANK('Data Input'!A256),\"\",COUNTIF('Data Input'!C256:AZ256,\"0\"))","v":""},{"$f":"IF(ISBLANK('Data Input'!A256),\"\",SUM(C252,D252))","v":""},{"$f":"IF(ISBLANK('Data Input'!A256),\"\",SUM('Data Input'!C256:AZ256))","v":""},{"$f":"IF(F252=\"\",\"\",F252/(COUNTA('Data Input'!$C$8:$AZ$8)))","v":""},{"$f":"IF(ISBLANK('Data Input'!A256),\"\",SUM('Data Input'!C256,'Data Input'!H256,'Data Input'!J256,'Data Input'!N256,'Data Input'!R256,'Data Input'!T256,'Data Input'!Y256,'Data Input'!AE256,'Data Input'!AK256,'Data Input'!AM256))","v":""},{"$f":"IF(H252=\"\",\"\",H252/COUNTIF('Data Input'!$C$8:$AZ$8,$H$2))","v":""},{"$f":"IF(ISBLANK('Data Input'!A256),\"\",SUM('Data Input'!G256,'Data Input'!I256,'Data Input'!K256,'Data Input'!O256,'Data Input'!P256,'Data Input'!S256,'Data Input'!U256,'Data Input'!V256,'Data Input'!W256,'Data Input'!X256,'Data Input'!Z256,'Data Input'!AA256,'Data Input'!AD256,'Data Input'!AZ256))","v":""},{"$f":"IF(J252=\"\",\"\",J252/COUNTIF('Data Input'!$C$8:$AZ$8,$J$2))","v":""},{"$f":"IF(ISBLANK('Data Input'!A256),\"\",SUM('Data Input'!Q256,'Data Input'!AG256))","v":""},{"$f":"IF(L252=\"\",\"\",L252/COUNTIF('Data Input'!$C$8:$AZ$8,$L$2))","v":""},{"$f":"IF(ISBLANK('Data Input'!A256),\"\",SUM('Data Input'!D256,'Data Input'!E256,'Data Input'!F256,'Data Input'!L256,'Data Input'!M256,'Data Input'!AB256,'Data Input'!AC256,'Data Input'!AF256,'Data Input'!AJ256,'Data Input'!AL256,'Data Input'!AN256,'Data Input'!AO256,'Data Input'!AP256,'Data Input'!AQ256,'Data Input'!AR256,'Data Input'!AS256,'Data Input'!AT256,'Data Input'!AU256,'Data Input'!AV256,'Data Input'!AW256,'Data Input'!AX256,'Data Input'!AY256))","v":""},{"$f":"IF(N252=\"\",\"\",N252/COUNTIF('Data Input'!$C$8:$AZ$8,$N$2))","v":""},null,{"$f":"IF(P252=\"\",\"\",P252/COUNTIF('Data Input'!$C$8:$AZ$8,$P$2))","v":""},{"$f":"IF(ISBLANK('Data Input'!A256),\"\",SUM('Data Input'!AH256))","v":""},{"$f":"IF(R252=\"\",\"\",R252/COUNTIF('Data Input'!$C$8:$AZ$8,$R$2))","v":""},{"$f":"IF(ISBLANK('Data Input'!$A256),\"\",SUM('Data Input'!AI256))","v":""},{"$f":"IF(T252=\"\",\"\",T252/COUNTIF('Data Input'!$C$8:$AZ$8,$T$2))","v":""},null,{"$f":"IF(V252=\"\",\"\",V252/COUNTIF('Data Input'!$C$8:$AZ$8,$V$2))","v":""}]
[{"$f":"IF('Data Input'!A257=0,\"\",'Data Input'!A257)","v":""},{"$f":"IF(F253=\"\",\"\",IF(F253>Welcome!$J$20-1,\"Exceeding\",IF(F253>Welcome!$F$20-1,\"Expected\",IF(F253<Welcome!$F$20,\"Below\"))))","v":""},{"$f":"IF(ISBLANK('Data Input'!A257),\"\",COUNTIF('Data Input'!C257:AZ257,\"\"))","v":""},{"$f":"IF(ISBLANK('Data Input'!A257),\"\",COUNTIF('Data Input'!C257:AZ257,\"0\"))","v":""},{"$f":"IF(ISBLANK('Data Input'!A257),\"\",SUM(C253,D253))","v":""},{"$f":"IF(ISBLANK('Data Input'!A257),\"\",SUM('Data Input'!C257:AZ257))","v":""},{"$f":"IF(F253=\"\",\"\",F253/(COUNTA('Data Input'!$C$8:$AZ$8)))","v":""},{"$f":"IF(ISBLANK('Data Input'!A257),\"\",SUM('Data Input'!C257,'Data Input'!H257,'Data Input'!J257,'Data Input'!N257,'Data Input'!R257,'Data Input'!T257,'Data Input'!Y257,'Data Input'!AE257,'Data Input'!AK257,'Data Input'!AM257))","v":""},{"$f":"IF(H253=\"\",\"\",H253/COUNTIF('Data Input'!$C$8:$AZ$8,$H$2))","v":""},{"$f":"IF(ISBLANK('Data Input'!A257),\"\",SUM('Data Input'!G257,'Data Input'!I257,'Data Input'!K257,'Data Input'!O257,'Data Input'!P257,'Data Input'!S257,'Data Input'!U257,'Data Input'!V257,'Data Input'!W257,'Data Input'!X257,'Data Input'!Z257,'Data Input'!AA257,'Data Input'!AD257,'Data Input'!AZ257))","v":""},{"$f":"IF(J253=\"\",\"\",J253/COUNTIF('Data Input'!$C$8:$AZ$8,$J$2))","v":""},{"$f":"IF(ISBLANK('Data Input'!A257),\"\",SUM('Data Input'!Q257,'Data Input'!AG257))","v":""},{"$f":"IF(L253=\"\",\"\",L253/COUNTIF('Data Input'!$C$8:$AZ$8,$L$2))","v":""},{"$f":"IF(ISBLANK('Data Input'!A257),\"\",SUM('Data Input'!D257,'Data Input'!E257,'Data Input'!F257,'Data Input'!L257,'Data Input'!M257,'Data Input'!AB257,'Data Input'!AC257,'Data Input'!AF257,'Data Input'!AJ257,'Data Input'!AL257,'Data Input'!AN257,'Data Input'!AO257,'Data Input'!AP257,'Data Input'!AQ257,'Data Input'!AR257,'Data Input'!AS257,'Data Input'!AT257,'Data Input'!AU257,'Data Input'!AV257,'Data Input'!AW257,'Data Input'!AX257,'Data Input'!AY257))","v":""},{"$f":"IF(N253=\"\",\"\",N253/COUNTIF('Data Input'!$C$8:$AZ$8,$N$2))","v":""},null,{"$f":"IF(P253=\"\",\"\",P253/COUNTIF('Data Input'!$C$8:$AZ$8,$P$2))","v":""},{"$f":"IF(ISBLANK('Data Input'!A257),\"\",SUM('Data Input'!AH257))","v":""},{"$f":"IF(R253=\"\",\"\",R253/COUNTIF('Data Input'!$C$8:$AZ$8,$R$2))","v":""},{"$f":"IF(ISBLANK('Data Input'!$A257),\"\",SUM('Data Input'!AI257))","v":""},{"$f":"IF(T253=\"\",\"\",T253/COUNTIF('Data Input'!$C$8:$AZ$8,$T$2))","v":""},null,{"$f":"IF(V253=\"\",\"\",V253/COUNTIF('Data Input'!$C$8:$AZ$8,$V$2))","v":""}]
[{"$f":"IF('Data Input'!A258=0,\"\",'Data Input'!A258)","v":""},{"$f":"IF(F254=\"\",\"\",IF(F254>Welcome!$J$20-1,\"Exceeding\",IF(F254>Welcome!$F$20-1,\"Expected\",IF(F254<Welcome!$F$20,\"Below\"))))","v":""},{"$f":"IF(ISBLANK('Data Input'!A258),\"\",COUNTIF('Data Input'!C258:AZ258,\"\"))","v":""},{"$f":"IF(ISBLANK('Data Input'!A258),\"\",COUNTIF('Data Input'!C258:AZ258,\"0\"))","v":""},{"$f":"IF(ISBLANK('Data Input'!A258),\"\",SUM(C254,D254))","v":""},{"$f":"IF(ISBLANK('Data Input'!A258),\"\",SUM('Data Input'!C258:AZ258))","v":""},{"$f":"IF(F254=\"\",\"\",F254/(COUNTA('Data Input'!$C$8:$AZ$8)))","v":""},{"$f":"IF(ISBLANK('Data Input'!A258),\"\",SUM('Data Input'!C258,'Data Input'!H258,'Data Input'!J258,'Data Input'!N258,'Data Input'!R258,'Data Input'!T258,'Data Input'!Y258,'Data Input'!AE258,'Data Input'!AK258,'Data Input'!AM258))","v":""},{"$f":"IF(H254=\"\",\"\",H254/COUNTIF('Data Input'!$C$8:$AZ$8,$H$2))","v":""},{"$f":"IF(ISBLANK('Data Input'!A258),\"\",SUM('Data Input'!G258,'Data Input'!I258,'Data Input'!K258,'Data Input'!O258,'Data Input'!P258,'Data Input'!S258,'Data Input'!U258,'Data Input'!V258,'Data Input'!W258,'Data Input'!X258,'Data Input'!Z258,'Data Input'!AA258,'Data Input'!AD258,'Data Input'!AZ258))","v":""},{"$f":"IF(J254=\"\",\"\",J254/COUNTIF('Data Input'!$C$8:$AZ$8,$J$2))","v":""},{"$f":"IF(ISBLANK('Data Input'!A258),\"\",SUM('Data Input'!Q258,'Data Input'!AG258))","v":""},{"$f":"IF(L254=\"\",\"\",L254/COUNTIF('Data Input'!$C$8:$AZ$8,$L$2))","v":""},{"$f":"IF(ISBLANK('Data Input'!A258),\"\",SUM('Data Input'!D258,'Data Input'!E258,'Data Input'!F258,'Data Input'!L258,'Data Input'!M258,'Data Input'!AB258,'Data Input'!AC258,'Data Input'!AF258,'Data Input'!AJ258,'Data Input'!AL258,'Data Input'!AN258,'Data Input'!AO258,'Data Input'!AP258,'Data Input'!AQ258,'Data Input'!AR258,'Data Input'!AS258,'Data Input'!AT258,'Data Input'!AU258,'Data Input'!AV258,'Data Input'!AW258,'Data Input'!AX258,'Data Input'!AY258))","v":""},{"$f":"IF(N254=\"\",\"\",N254/COUNTIF('Data Input'!$C$8:$AZ$8,$N$2))","v":""},null,{"$f":"IF(P254=\"\",\"\",P254/COUNTIF('Data Input'!$C$8:$AZ$8,$P$2))","v":""},{"$f":"IF(ISBLANK('Data Input'!A258),\"\",SUM('Data Input'!AH258))","v":""},{"$f":"IF(R254=\"\",\"\",R254/COUNTIF('Data Input'!$C$8:$AZ$8,$R$2))","v":""},{"$f":"IF(ISBLANK('Data Input'!$A258),\"\",SUM('Data Input'!AI258))","v":""},{"$f":"IF(T254=\"\",\"\",T254/COUNTIF('Data Input'!$C$8:$AZ$8,$T$2))","v":""},null,{"$f":"IF(V254=\"\",\"\",V254/COUNTIF('Data Input'!$C$8:$AZ$8,$V$2))","v":""}]
[{"$f":"IF('Data Input'!A259=0,\"\",'Data Input'!A259)","v":""},{"$f":"IF(F255=\"\",\"\",IF(F255>Welcome!$J$20-1,\"Exceeding\",IF(F255>Welcome!$F$20-1,\"Expected\",IF(F255<Welcome!$F$20,\"Below\"))))","v":""},{"$f":"IF(ISBLANK('Data Input'!A259),\"\",COUNTIF('Data Input'!C259:AZ259,\"\"))","v":""},{"$f":"IF(ISBLANK('Data Input'!A259),\"\",COUNTIF('Data Input'!C259:AZ259,\"0\"))","v":""},{"$f":"IF(ISBLANK('Data Input'!A259),\"\",SUM(C255,D255))","v":""},{"$f":"IF(ISBLANK('Data Input'!A259),\"\",SUM('Data Input'!C259:AZ259))","v":""},{"$f":"IF(F255=\"\",\"\",F255/(COUNTA('Data Input'!$C$8:$AZ$8)))","v":""},{"$f":"IF(ISBLANK('Data Input'!A259),\"\",SUM('Data Input'!C259,'Data Input'!H259,'Data Input'!J259,'Data Input'!N259,'Data Input'!R259,'Data Input'!T259,'Data Input'!Y259,'Data Input'!AE259,'Data Input'!AK259,'Data Input'!AM259))","v":""},{"$f":"IF(H255=\"\",\"\",H255/COUNTIF('Data Input'!$C$8:$AZ$8,$H$2))","v":""},{"$f":"IF(ISBLANK('Data Input'!A259),\"\",SUM('Data Input'!G259,'Data Input'!I259,'Data Input'!K259,'Data Input'!O259,'Data Input'!P259,'Data Input'!S259,'Data Input'!U259,'Data Input'!V259,'Data Input'!W259,'Data Input'!X259,'Data Input'!Z259,'Data Input'!AA259,'Data Input'!AD259,'Data Input'!AZ259))","v":""},{"$f":"IF(J255=\"\",\"\",J255/COUNTIF('Data Input'!$C$8:$AZ$8,$J$2))","v":""},{"$f":"IF(ISBLANK('Data Input'!A259),\"\",SUM('Data Input'!Q259,'Data Input'!AG259))","v":""},{"$f":"IF(L255=\"\",\"\",L255/COUNTIF('Data Input'!$C$8:$AZ$8,$L$2))","v":""},{"$f":"IF(ISBLANK('Data Input'!A259),\"\",SUM('Data Input'!D259,'Data Input'!E259,'Data Input'!F259,'Data Input'!L259,'Data Input'!M259,'Data Input'!AB259,'Data Input'!AC259,'Data Input'!AF259,'Data Input'!AJ259,'Data Input'!AL259,'Data Input'!AN259,'Data Input'!AO259,'Data Input'!AP259,'Data Input'!AQ259,'Data Input'!AR259,'Data Input'!AS259,'Data Input'!AT259,'Data Input'!AU259,'Data Input'!AV259,'Data Input'!AW259,'Data Input'!AX259,'Data Input'!AY259))","v":""},{"$f":"IF(N255=\"\",\"\",N255/COUNTIF('Data Input'!$C$8:$AZ$8,$N$2))","v":""},null,{"$f":"IF(P255=\"\",\"\",P255/COUNTIF('Data Input'!$C$8:$AZ$8,$P$2))","v":""},{"$f":"IF(ISBLANK('Data Input'!A259),\"\",SUM('Data Input'!AH259))","v":""},{"$f":"IF(R255=\"\",\"\",R255/COUNTIF('Data Input'!$C$8:$AZ$8,$R$2))","v":""},{"$f":"IF(ISBLANK('Data Input'!$A259),\"\",SUM('Data Input'!AI259))","v":""},{"$f":"IF(T255=\"\",\"\",T255/COUNTIF('Data Input'!$C$8:$AZ$8,$T$2))","v":""},null,{"$f":"IF(V255=\"\",\"\",V255/COUNTIF('Data Input'!$C$8:$AZ$8,$V$2))","v":""}]
[{"$f":"IF('Data Input'!A260=0,\"\",'Data Input'!A260)","v":""},{"$f":"IF(F256=\"\",\"\",IF(F256>Welcome!$J$20-1,\"Exceeding\",IF(F256>Welcome!$F$20-1,\"Expected\",IF(F256<Welcome!$F$20,\"Below\"))))","v":""},{"$f":"IF(ISBLANK('Data Input'!A260),\"\",COUNTIF('Data Input'!C260:AZ260,\"\"))","v":""},{"$f":"IF(ISBLANK('Data Input'!A260),\"\",COUNTIF('Data Input'!C260:AZ260,\"0\"))","v":""},{"$f":"IF(ISBLANK('Data Input'!A260),\"\",SUM(C256,D256))","v":""},{"$f":"IF(ISBLANK('Data Input'!A260),\"\",SUM('Data Input'!C260:AZ260))","v":""},{"$f":"IF(F256=\"\",\"\",F256/(COUNTA('Data Input'!$C$8:$AZ$8)))","v":""},{"$f":"IF(ISBLANK('Data Input'!A260),\"\",SUM('Data Input'!C260,'Data Input'!H260,'Data Input'!J260,'Data Input'!N260,'Data Input'!R260,'Data Input'!T260,'Data Input'!Y260,'Data Input'!AE260,'Data Input'!AK260,'Data Input'!AM260))","v":""},{"$f":"IF(H256=\"\",\"\",H256/COUNTIF('Data Input'!$C$8:$AZ$8,$H$2))","v":""},{"$f":"IF(ISBLANK('Data Input'!A260),\"\",SUM('Data Input'!G260,'Data Input'!I260,'Data Input'!K260,'Data Input'!O260,'Data Input'!P260,'Data Input'!S260,'Data Input'!U260,'Data Input'!V260,'Data Input'!W260,'Data Input'!X260,'Data Input'!Z260,'Data Input'!AA260,'Data Input'!AD260,'Data Input'!AZ260))","v":""},{"$f":"IF(J256=\"\",\"\",J256/COUNTIF('Data Input'!$C$8:$AZ$8,$J$2))","v":""},{"$f":"IF(ISBLANK('Data Input'!A260),\"\",SUM('Data Input'!Q260,'Data Input'!AG260))","v":""},{"$f":"IF(L256=\"\",\"\",L256/COUNTIF('Data Input'!$C$8:$AZ$8,$L$2))","v":""},{"$f":"IF(ISBLANK('Data Input'!A260),\"\",SUM('Data Input'!D260,'Data Input'!E260,'Data Input'!F260,'Data Input'!L260,'Data Input'!M260,'Data Input'!AB260,'Data Input'!AC260,'Data Input'!AF260,'Data Input'!AJ260,'Data Input'!AL260,'Data Input'!AN260,'Data Input'!AO260,'Data Input'!AP260,'Data Input'!AQ260,'Data Input'!AR260,'Data Input'!AS260,'Data Input'!AT260,'Data Input'!AU260,'Data Input'!AV260,'Data Input'!AW260,'Data Input'!AX260,'Data Input'!AY260))","v":""},{"$f":"IF(N256=\"\",\"\",N256/COUNTIF('Data Input'!$C$8:$AZ$8,$N$2))","v":""},null,{"$f":"IF(P256=\"\",\"\",P256/COUNTIF('Data Input'!$C$8:$AZ$8,$P$2))","v":""},{"$f":"IF(ISBLANK('Data Input'!A260),\"\",SUM('Data Input'!AH260))","v":""},{"$f":"IF(R256=\"\",\"\",R256/COUNTIF('Data Input'!$C$8:$AZ$8,$R$2))","v":""},{"$f":"IF(ISBLANK('Data Input'!$A260),\"\",SUM('Data Input'!AI260))","v":""},{"$f":"IF(T256=\"\",\"\",T256/COUNTIF('Data Input'!$C$8:$AZ$8,$T$2))","v":""},null,{"$f":"IF(V256=\"\",\"\",V256/COUNTIF('Data Input'!$C$8:$AZ$8,$V$2))","v":""}]
[{"$f":"IF('Data Input'!A261=0,\"\",'Data Input'!A261)","v":""},{"$f":"IF(F257=\"\",\"\",IF(F257>Welcome!$J$20-1,\"Exceeding\",IF(F257>Welcome!$F$20-1,\"Expected\",IF(F257<Welcome!$F$20,\"Below\"))))","v":""},{"$f":"IF(ISBLANK('Data Input'!A261),\"\",COUNTIF('Data Input'!C261:AZ261,\"\"))","v":""},{"$f":"IF(ISBLANK('Data Input'!A261),\"\",COUNTIF('Data Input'!C261:AZ261,\"0\"))","v":""},{"$f":"IF(ISBLANK('Data Input'!A261),\"\",SUM(C257,D257))","v":""},{"$f":"IF(ISBLANK('Data Input'!A261),\"\",SUM('Data Input'!C261:AZ261))","v":""},{"$f":"IF(F257=\"\",\"\",F257/(COUNTA('Data Input'!$C$8:$AZ$8)))","v":""},{"$f":"IF(ISBLANK('Data Input'!A261),\"\",SUM('Data Input'!C261,'Data Input'!H261,'Data Input'!J261,'Data Input'!N261,'Data Input'!R261,'Data Input'!T261,'Data Input'!Y261,'Data Input'!AE261,'Data Input'!AK261,'Data Input'!AM261))","v":""},{"$f":"IF(H257=\"\",\"\",H257/COUNTIF('Data Input'!$C$8:$AZ$8,$H$2))","v":""},{"$f":"IF(ISBLANK('Data Input'!A261),\"\",SUM('Data Input'!G261,'Data Input'!I261,'Data Input'!K261,'Data Input'!O261,'Data Input'!P261,'Data Input'!S261,'Data Input'!U261,'Data Input'!V261,'Data Input'!W261,'Data Input'!X261,'Data Input'!Z261,'Data Input'!AA261,'Data Input'!AD261,'Data Input'!AZ261))","v":""},{"$f":"IF(J257=\"\",\"\",J257/COUNTIF('Data Input'!$C$8:$AZ$8,$J$2))","v":""},{"$f":"IF(ISBLANK('Data Input'!A261),\"\",SUM('Data Input'!Q261,'Data Input'!AG261))","v":""},{"$f":"IF(L257=\"\",\"\",L257/COUNTIF('Data Input'!$C$8:$AZ$8,$L$2))","v":""},{"$f":"IF(ISBLANK('Data Input'!A261),\"\",SUM('Data Input'!D261,'Data Input'!E261,'Data Input'!F261,'Data Input'!L261,'Data Input'!M261,'Data Input'!AB261,'Data Input'!AC261,'Data Input'!AF261,'Data Input'!AJ261,'Data Input'!AL261,'Data Input'!AN261,'Data Input'!AO261,'Data Input'!AP261,'Data Input'!AQ261,'Data Input'!AR261,'Data Input'!AS261,'Data Input'!AT261,'Data Input'!AU261,'Data Input'!AV261,'Data Input'!AW261,'Data Input'!AX261,'Data Input'!AY261))","v":""},{"$f":"IF(N257=\"\",\"\",N257/COUNTIF('Data Input'!$C$8:$AZ$8,$N$2))","v":""},null,{"$f":"IF(P257=\"\",\"\",P257/COUNTIF('Data Input'!$C$8:$AZ$8,$P$2))","v":""},{"$f":"IF(ISBLANK('Data Input'!A261),\"\",SUM('Data Input'!AH261))","v":""},{"$f":"IF(R257=\"\",\"\",R257/COUNTIF('Data Input'!$C$8:$AZ$8,$R$2))","v":""},{"$f":"IF(ISBLANK('Data Input'!$A261),\"\",SUM('Data Input'!AI261))","v":""},{"$f":"IF(T257=\"\",\"\",T257/COUNTIF('Data Input'!$C$8:$AZ$8,$T$2))","v":""},null,{"$f":"IF(V257=\"\",\"\",V257/COUNTIF('Data Input'!$C$8:$AZ$8,$V$2))","v":""}]
[{"$f":"IF('Data Input'!A262=0,\"\",'Data Input'!A262)","v":""},{"$f":"IF(F258=\"\",\"\",IF(F258>Welcome!$J$20-1,\"Exceeding\",IF(F258>Welcome!$F$20-1,\"Expected\",IF(F258<Welcome!$F$20,\"Below\"))))","v":""},{"$f":"IF(ISBLANK('Data Input'!A262),\"\",COUNTIF('Data Input'!C262:AZ262,\"\"))","v":""},{"$f":"IF(ISBLANK('Data Input'!A262),\"\",COUNTIF('Data Input'!C262:AZ262,\"0\"))","v":""},{"$f":"IF(ISBLANK('Data Input'!A262),\"\",SUM(C258,D258))","v":""},{"$f":"IF(ISBLANK('Data Input'!A262),\"\",SUM('Data Input'!C262:AZ262))","v":""},{"$f":"IF(F258=\"\",\"\",F258/(COUNTA('Data Input'!$C$8:$AZ$8)))","v":""},{"$f":"IF(ISBLANK('Data Input'!A262),\"\",SUM('Data Input'!C262,'Data Input'!H262,'Data Input'!J262,'Data Input'!N262,'Data Input'!R262,'Data Input'!T262,'Data Input'!Y262,'Data Input'!AE262,'Data Input'!AK262,'Data Input'!AM262))","v":""},{"$f":"IF(H258=\"\",\"\",H258/COUNTIF('Data Input'!$C$8:$AZ$8,$H$2))","v":""},{"$f":"IF(ISBLANK('Data Input'!A262),\"\",SUM('Data Input'!G262,'Data Input'!I262,'Data Input'!K262,'Data Input'!O262,'Data Input'!P262,'Data Input'!S262,'Data Input'!U262,'Data Input'!V262,'Data Input'!W262,'Data Input'!X262,'Data Input'!Z262,'Data Input'!AA262,'Data Input'!AD262,'Data Input'!AZ262))","v":""},{"$f":"IF(J258=\"\",\"\",J258/COUNTIF('Data Input'!$C$8:$AZ$8,$J$2))","v":""},{"$f":"IF(ISBLANK('Data Input'!A262),\"\",SUM('Data Input'!Q262,'Data Input'!AG262))","v":""},{"$f":"IF(L258=\"\",\"\",L258/COUNTIF('Data Input'!$C$8:$AZ$8,$L$2))","v":""},{"$f":"IF(ISBLANK('Data Input'!A262),\"\",SUM('Data Input'!D262,'Data Input'!E262,'Data Input'!F262,'Data Input'!L262,'Data Input'!M262,'Data Input'!AB262,'Data Input'!AC262,'Data Input'!AF262,'Data Input'!AJ262,'Data Input'!AL262,'Data Input'!AN262,'Data Input'!AO262,'Data Input'!AP262,'Data Input'!AQ262,'Data Input'!AR262,'Data Input'!AS262,'Data Input'!AT262,'Data Input'!AU262,'Data Input'!AV262,'Data Input'!AW262,'Data Input'!AX262,'Data Input'!AY262))","v":""},{"$f":"IF(N258=\"\",\"\",N258/COUNTIF('Data Input'!$C$8:$AZ$8,$N$2))","v":""},null,{"$f":"IF(P258=\"\",\"\",P258/COUNTIF('Data Input'!$C$8:$AZ$8,$P$2))","v":""},{"$f":"IF(ISBLANK('Data Input'!A262),\"\",SUM('Data Input'!AH262))","v":""},{"$f":"IF(R258=\"\",\"\",R258/COUNTIF('Data Input'!$C$8:$AZ$8,$R$2))","v":""},{"$f":"IF(ISBLANK('Data Input'!$A262),\"\",SUM('Data Input'!AI262))","v":""},{"$f":"IF(T258=\"\",\"\",T258/COUNTIF('Data Input'!$C$8:$AZ$8,$T$2))","v":""},null,{"$f":"IF(V258=\"\",\"\",V258/COUNTIF('Data Input'!$C$8:$AZ$8,$V$2))","v":""}]
[{"$f":"IF('Data Input'!A263=0,\"\",'Data Input'!A263)","v":""},{"$f":"IF(F259=\"\",\"\",IF(F259>Welcome!$J$20-1,\"Exceeding\",IF(F259>Welcome!$F$20-1,\"Expected\",IF(F259<Welcome!$F$20,\"Below\"))))","v":""},{"$f":"IF(ISBLANK('Data Input'!A263),\"\",COUNTIF('Data Input'!C263:AZ263,\"\"))","v":""},{"$f":"IF(ISBLANK('Data Input'!A263),\"\",COUNTIF('Data Input'!C263:AZ263,\"0\"))","v":""},{"$f":"IF(ISBLANK('Data Input'!A263),\"\",SUM(C259,D259))","v":""},{"$f":"IF(ISBLANK('Data Input'!A263),\"\",SUM('Data Input'!C263:AZ263))","v":""},{"$f":"IF(F259=\"\",\"\",F259/(COUNTA('Data Input'!$C$8:$AZ$8)))","v":""},{"$f":"IF(ISBLANK('Data Input'!A263),\"\",SUM('Data Input'!C263,'Data Input'!H263,'Data Input'!J263,'Data Input'!N263,'Data Input'!R263,'Data Input'!T263,'Data Input'!Y263,'Data Input'!AE263,'Data Input'!AK263,'Data Input'!AM263))","v":""},{"$f":"IF(H259=\"\",\"\",H259/COUNTIF('Data Input'!$C$8:$AZ$8,$H$2))","v":""},{"$f":"IF(ISBLANK('Data Input'!A263),\"\",SUM('Data Input'!G263,'Data Input'!I263,'Data Input'!K263,'Data Input'!O263,'Data Input'!P263,'Data Input'!S263,'Data Input'!U263,'Data Input'!V263,'Data Input'!W263,'Data Input'!X263,'Data Input'!Z263,'Data Input'!AA263,'Data Input'!AD263,'Data Input'!AZ263))","v":""},{"$f":"IF(J259=\"\",\"\",J259/COUNTIF('Data Input'!$C$8:$AZ$8,$J$2))","v":""},{"$f":"IF(ISBLANK('Data Input'!A263),\"\",SUM('Data Input'!Q263,'Data Input'!AG263))","v":""},{"$f":"IF(L259=\"\",\"\",L259/COUNTIF('Data Input'!$C$8:$AZ$8,$L$2))","v":""},{"$f":"IF(ISBLANK('Data Input'!A263),\"\",SUM('Data Input'!D263,'Data Input'!E263,'Data Input'!F263,'Data Input'!L263,'Data Input'!M263,'Data Input'!AB263,'Data Input'!AC263,'Data Input'!AF263,'Data Input'!AJ263,'Data Input'!AL263,'Data Input'!AN263,'Data Input'!AO263,'Data Input'!AP263,'Data Input'!AQ263,'Data Input'!AR263,'Data Input'!AS263,'Data Input'!AT263,'Data Input'!AU263,'Data Input'!AV263,'Data Input'!AW263,'Data Input'!AX263,'Data Input'!AY263))","v":""},{"$f":"IF(N259=\"\",\"\",N259/COUNTIF('Data Input'!$C$8:$AZ$8,$N$2))","v":""},null,{"$f":"IF(P259=\"\",\"\",P259/COUNTIF('Data Input'!$C$8:$AZ$8,$P$2))","v":""},{"$f":"IF(ISBLANK('Data Input'!A263),\"\",SUM('Data Input'!AH263))","v":""},{"$f":"IF(R259=\"\",\"\",R259/COUNTIF('Data Input'!$C$8:$AZ$8,$R$2))","v":""},{"$f":"IF(ISBLANK('Data Input'!$A263),\"\",SUM('Data Input'!AI263))","v":""},{"$f":"IF(T259=\"\",\"\",T259/COUNTIF('Data Input'!$C$8:$AZ$8,$T$2))","v":""},null,{"$f":"IF(V259=\"\",\"\",V259/COUNTIF('Data Input'!$C$8:$AZ$8,$V$2))","v":""}]
[{"$f":"IF('Data Input'!A264=0,\"\",'Data Input'!A264)","v":""},{"$f":"IF(F260=\"\",\"\",IF(F260>Welcome!$J$20-1,\"Exceeding\",IF(F260>Welcome!$F$20-1,\"Expected\",IF(F260<Welcome!$F$20,\"Below\"))))","v":""},{"$f":"IF(ISBLANK('Data Input'!A264),\"\",COUNTIF('Data Input'!C264:AZ264,\"\"))","v":""},{"$f":"IF(ISBLANK('Data Input'!A264),\"\",COUNTIF('Data Input'!C264:AZ264,\"0\"))","v":""},{"$f":"IF(ISBLANK('Data Input'!A264),\"\",SUM(C260,D260))","v":""},{"$f":"IF(ISBLANK('Data Input'!A264),\"\",SUM('Data Input'!C264:AZ264))","v":""},{"$f":"IF(F260=\"\",\"\",F260/(COUNTA('Data Input'!$C$8:$AZ$8)))","v":""},{"$f":"IF(ISBLANK('Data Input'!A264),\"\",SUM('Data Input'!C264,'Data Input'!H264,'Data Input'!J264,'Data Input'!N264,'Data Input'!R264,'Data Input'!T264,'Data Input'!Y264,'Data Input'!AE264,'Data Input'!AK264,'Data Input'!AM264))","v":""},{"$f":"IF(H260=\"\",\"\",H260/COUNTIF('Data Input'!$C$8:$AZ$8,$H$2))","v":""},{"$f":"IF(ISBLANK('Data Input'!A264),\"\",SUM('Data Input'!G264,'Data Input'!I264,'Data Input'!K264,'Data Input'!O264,'Data Input'!P264,'Data Input'!S264,'Data Input'!U264,'Data Input'!V264,'Data Input'!W264,'Data Input'!X264,'Data Input'!Z264,'Data Input'!AA264,'Data Input'!AD264,'Data Input'!AZ264))","v":""},{"$f":"IF(J260=\"\",\"\",J260/COUNTIF('Data Input'!$C$8:$AZ$8,$J$2))","v":""},{"$f":"IF(ISBLANK('Data Input'!A264),\"\",SUM('Data Input'!Q264,'Data Input'!AG264))","v":""},{"$f":"IF(L260=\"\",\"\",L260/COUNTIF('Data Input'!$C$8:$AZ$8,$L$2))","v":""},{"$f":"IF(ISBLANK('Data Input'!A264),\"\",SUM('Data Input'!D264,'Data Input'!E264,'Data Input'!F264,'Data Input'!L264,'Data Input'!M264,'Data Input'!AB264,'Data Input'!AC264,'Data Input'!AF264,'Data Input'!AJ264,'Data Input'!AL264,'Data Input'!AN264,'Data Input'!AO264,'Data Input'!AP264,'Data Input'!AQ264,'Data Input'!AR264,'Data Input'!AS264,'Data Input'!AT264,'Data Input'!AU264,'Data Input'!AV264,'Data Input'!AW264,'Data Input'!AX264,'Data Input'!AY264))","v":""},{"$f":"IF(N260=\"\",\"\",N260/COUNTIF('Data Input'!$C$8:$AZ$8,$N$2))","v":""},null,{"$f":"IF(P260=\"\",\"\",P260/COUNTIF('Data Input'!$C$8:$AZ$8,$P$2))","v":""},{"$f":"IF(ISBLANK('Data Input'!A264),\"\",SUM('Data Input'!AH264))","v":""},{"$f":"IF(R260=\"\",\"\",R260/COUNTIF('Data Input'!$C$8:$AZ$8,$R$2))","v":""},{"$f":"IF(ISBLANK('Data Input'!$A264),\"\",SUM('Data Input'!AI264))","v":""},{"$f":"IF(T260=\"\",\"\",T260/COUNTIF('Data Input'!$C$8:$AZ$8,$T$2))","v":""},null,{"$f":"IF(V260=\"\",\"\",V260/COUNTIF('Data Input'!$C$8:$AZ$8,$V$2))","v":""}]
[{"$f":"IF('Data Input'!A265=0,\"\",'Data Input'!A265)","v":""},{"$f":"IF(F261=\"\",\"\",IF(F261>Welcome!$J$20-1,\"Exceeding\",IF(F261>Welcome!$F$20-1,\"Expected\",IF(F261<Welcome!$F$20,\"Below\"))))","v":""},{"$f":"IF(ISBLANK('Data Input'!A265),\"\",COUNTIF('Data Input'!C265:AZ265,\"\"))","v":""},{"$f":"IF(ISBLANK('Data Input'!A265),\"\",COUNTIF('Data Input'!C265:AZ265,\"0\"))","v":""},{"$f":"IF(ISBLANK('Data Input'!A265),\"\",SUM(C261,D261))","v":""},{"$f":"IF(ISBLANK('Data Input'!A265),\"\",SUM('Data Input'!C265:AZ265))","v":""},{"$f":"IF(F261=\"\",\"\",F261/(COUNTA('Data Input'!$C$8:$AZ$8)))","v":""},{"$f":"IF(ISBLANK('Data Input'!A265),\"\",SUM('Data Input'!C265,'Data Input'!H265,'Data Input'!J265,'Data Input'!N265,'Data Input'!R265,'Data Input'!T265,'Data Input'!Y265,'Data Input'!AE265,'Data Input'!AK265,'Data Input'!AM265))","v":""},{"$f":"IF(H261=\"\",\"\",H261/COUNTIF('Data Input'!$C$8:$AZ$8,$H$2))","v":""},{"$f":"IF(ISBLANK('Data Input'!A265),\"\",SUM('Data Input'!G265,'Data Input'!I265,'Data Input'!K265,'Data Input'!O265,'Data Input'!P265,'Data Input'!S265,'Data Input'!U265,'Data Input'!V265,'Data Input'!W265,'Data Input'!X265,'Data Input'!Z265,'Data Input'!AA265,'Data Input'!AD265,'Data Input'!AZ265))","v":""},{"$f":"IF(J261=\"\",\"\",J261/COUNTIF('Data Input'!$C$8:$AZ$8,$J$2))","v":""},{"$f":"IF(ISBLANK('Data Input'!A265),\"\",SUM('Data Input'!Q265,'Data Input'!AG265))","v":""},{"$f":"IF(L261=\"\",\"\",L261/COUNTIF('Data Input'!$C$8:$AZ$8,$L$2))","v":""},{"$f":"IF(ISBLANK('Data Input'!A265),\"\",SUM('Data Input'!D265,'Data Input'!E265,'Data Input'!F265,'Data Input'!L265,'Data Input'!M265,'Data Input'!AB265,'Data Input'!AC265,'Data Input'!AF265,'Data Input'!AJ265,'Data Input'!AL265,'Data Input'!AN265,'Data Input'!AO265,'Data Input'!AP265,'Data Input'!AQ265,'Data Input'!AR265,'Data Input'!AS265,'Data Input'!AT265,'Data Input'!AU265,'Data Input'!AV265,'Data Input'!AW265,'Data Input'!AX265,'Data Input'!AY265))","v":""},{"$f":"IF(N261=\"\",\"\",N261/COUNTIF('Data Input'!$C$8:$AZ$8,$N$2))","v":""},null,{"$f":"IF(P261=\"\",\"\",P261/COUNTIF('Data Input'!$C$8:$AZ$8,$P$2))","v":""},{"$f":"IF(ISBLANK('Data Input'!A265),\"\",SUM('Data Input'!AH265))","v":""},{"$f":"IF(R261=\"\",\"\",R261/COUNTIF('Data Input'!$C$8:$AZ$8,$R$2))","v":""},{"$f":"IF(ISBLANK('Data Input'!$A265),\"\",SUM('Data Input'!AI265))","v":""},{"$f":"IF(T261=\"\",\"\",T261/COUNTIF('Data Input'!$C$8:$AZ$8,$T$2))","v":""},null,{"$f":"IF(V261=\"\",\"\",V261/COUNTIF('Data Input'!$C$8:$AZ$8,$V$2))","v":""}]
[{"$f":"IF('Data Input'!A266=0,\"\",'Data Input'!A266)","v":""},{"$f":"IF(F262=\"\",\"\",IF(F262>Welcome!$J$20-1,\"Exceeding\",IF(F262>Welcome!$F$20-1,\"Expected\",IF(F262<Welcome!$F$20,\"Below\"))))","v":""},{"$f":"IF(ISBLANK('Data Input'!A266),\"\",COUNTIF('Data Input'!C266:AZ266,\"\"))","v":""},{"$f":"IF(ISBLANK('Data Input'!A266),\"\",COUNTIF('Data Input'!C266:AZ266,\"0\"))","v":""},{"$f":"IF(ISBLANK('Data Input'!A266),\"\",SUM(C262,D262))","v":""},{"$f":"IF(ISBLANK('Data Input'!A266),\"\",SUM('Data Input'!C266:AZ266))","v":""},{"$f":"IF(F262=\"\",\"\",F262/(COUNTA('Data Input'!$C$8:$AZ$8)))","v":""},{"$f":"IF(ISBLANK('Data Input'!A266),\"\",SUM('Data Input'!C266,'Data Input'!H266,'Data Input'!J266,'Data Input'!N266,'Data Input'!R266,'Data Input'!T266,'Data Input'!Y266,'Data Input'!AE266,'Data Input'!AK266,'Data Input'!AM266))","v":""},{"$f":"IF(H262=\"\",\"\",H262/COUNTIF('Data Input'!$C$8:$AZ$8,$H$2))","v":""},{"$f":"IF(ISBLANK('Data Input'!A266),\"\",SUM('Data Input'!G266,'Data Input'!I266,'Data Input'!K266,'Data Input'!O266,'Data Input'!P266,'Data Input'!S266,'Data Input'!U266,'Data Input'!V266,'Data Input'!W266,'Data Input'!X266,'Data Input'!Z266,'Data Input'!AA266,'Data Input'!AD266,'Data Input'!AZ266))","v":""},{"$f":"IF(J262=\"\",\"\",J262/COUNTIF('Data Input'!$C$8:$AZ$8,$J$2))","v":""},{"$f":"IF(ISBLANK('Data Input'!A266),\"\",SUM('Data Input'!Q266,'Data Input'!AG266))","v":""},{"$f":"IF(L262=\"\",\"\",L262/COUNTIF('Data Input'!$C$8:$AZ$8,$L$2))","v":""},{"$f":"IF(ISBLANK('Data Input'!A266),\"\",SUM('Data Input'!D266,'Data Input'!E266,'Data Input'!F266,'Data Input'!L266,'Data Input'!M266,'Data Input'!AB266,'Data Input'!AC266,'Data Input'!AF266,'Data Input'!AJ266,'Data Input'!AL266,'Data Input'!AN266,'Data Input'!AO266,'Data Input'!AP266,'Data Input'!AQ266,'Data Input'!AR266,'Data Input'!AS266,'Data Input'!AT266,'Data Input'!AU266,'Data Input'!AV266,'Data Input'!AW266,'Data Input'!AX266,'Data Input'!AY266))","v":""},{"$f":"IF(N262=\"\",\"\",N262/COUNTIF('Data Input'!$C$8:$AZ$8,$N$2))","v":""},null,{"$f":"IF(P262=\"\",\"\",P262/COUNTIF('Data Input'!$C$8:$AZ$8,$P$2))","v":""},{"$f":"IF(ISBLANK('Data Input'!A266),\"\",SUM('Data Input'!AH266))","v":""},{"$f":"IF(R262=\"\",\"\",R262/COUNTIF('Data Input'!$C$8:$AZ$8,$R$2))","v":""},{"$f":"IF(ISBLANK('Data Input'!$A266),\"\",SUM('Data Input'!AI266))","v":""},{"$f":"IF(T262=\"\",\"\",T262/COUNTIF('Data Input'!$C$8:$AZ$8,$T$2))","v":""},null,{"$f":"IF(V262=\"\",\"\",V262/COUNTIF('Data Input'!$C$8:$AZ$8,$V$2))","v":""}]
[{"$f":"IF('Data Input'!A267=0,\"\",'Data Input'!A267)","v":""},{"$f":"IF(F263=\"\",\"\",IF(F263>Welcome!$J$20-1,\"Exceeding\",IF(F263>Welcome!$F$20-1,\"Expected\",IF(F263<Welcome!$F$20,\"Below\"))))","v":""},{"$f":"IF(ISBLANK('Data Input'!A267),\"\",COUNTIF('Data Input'!C267:AZ267,\"\"))","v":""},{"$f":"IF(ISBLANK('Data Input'!A267),\"\",COUNTIF('Data Input'!C267:AZ267,\"0\"))","v":""},{"$f":"IF(ISBLANK('Data Input'!A267),\"\",SUM(C263,D263))","v":""},{"$f":"IF(ISBLANK('Data Input'!A267),\"\",SUM('Data Input'!C267:AZ267))","v":""},{"$f":"IF(F263=\"\",\"\",F263/(COUNTA('Data Input'!$C$8:$AZ$8)))","v":""},{"$f":"IF(ISBLANK('Data Input'!A267),\"\",SUM('Data Input'!C267,'Data Input'!H267,'Data Input'!J267,'Data Input'!N267,'Data Input'!R267,'Data Input'!T267,'Data Input'!Y267,'Data Input'!AE267,'Data Input'!AK267,'Data Input'!AM267))","v":""},{"$f":"IF(H263=\"\",\"\",H263/COUNTIF('Data Input'!$C$8:$AZ$8,$H$2))","v":""},{"$f":"IF(ISBLANK('Data Input'!A267),\"\",SUM('Data Input'!G267,'Data Input'!I267,'Data Input'!K267,'Data Input'!O267,'Data Input'!P267,'Data Input'!S267,'Data Input'!U267,'Data Input'!V267,'Data Input'!W267,'Data Input'!X267,'Data Input'!Z267,'Data Input'!AA267,'Data Input'!AD267,'Data Input'!AZ267))","v":""},{"$f":"IF(J263=\"\",\"\",J263/COUNTIF('Data Input'!$C$8:$AZ$8,$J$2))","v":""},{"$f":"IF(ISBLANK('Data Input'!A267),\"\",SUM('Data Input'!Q267,'Data Input'!AG267))","v":""},{"$f":"IF(L263=\"\",\"\",L263/COUNTIF('Data Input'!$C$8:$AZ$8,$L$2))","v":""},{"$f":"IF(ISBLANK('Data Input'!A267),\"\",SUM('Data Input'!D267,'Data Input'!E267,'Data Input'!F267,'Data Input'!L267,'Data Input'!M267,'Data Input'!AB267,'Data Input'!AC267,'Data Input'!AF267,'Data Input'!AJ267,'Data Input'!AL267,'Data Input'!AN267,'Data Input'!AO267,'Data Input'!AP267,'Data Input'!AQ267,'Data Input'!AR267,'Data Input'!AS267,'Data Input'!AT267,'Data Input'!AU267,'Data Input'!AV267,'Data Input'!AW267,'Data Input'!AX267,'Data Input'!AY267))","v":""},{"$f":"IF(N263=\"\",\"\",N263/COUNTIF('Data Input'!$C$8:$AZ$8,$N$2))","v":""},null,{"$f":"IF(P263=\"\",\"\",P263/COUNTIF('Data Input'!$C$8:$AZ$8,$P$2))","v":""},{"$f":"IF(ISBLANK('Data Input'!A267),\"\",SUM('Data Input'!AH267))","v":""},{"$f":"IF(R263=\"\",\"\",R263/COUNTIF('Data Input'!$C$8:$AZ$8,$R$2))","v":""},{"$f":"IF(ISBLANK('Data Input'!$A267),\"\",SUM('Data Input'!AI267))","v":""},{"$f":"IF(T263=\"\",\"\",T263/COUNTIF('Data Input'!$C$8:$AZ$8,$T$2))","v":""},null,{"$f":"IF(V263=\"\",\"\",V263/COUNTIF('Data Input'!$C$8:$AZ$8,$V$2))","v":""}]
[{"$f":"IF('Data Input'!A268=0,\"\",'Data Input'!A268)","v":""},{"$f":"IF(F264=\"\",\"\",IF(F264>Welcome!$J$20-1,\"Exceeding\",IF(F264>Welcome!$F$20-1,\"Expected\",IF(F264<Welcome!$F$20,\"Below\"))))","v":""},{"$f":"IF(ISBLANK('Data Input'!A268),\"\",COUNTIF('Data Input'!C268:AZ268,\"\"))","v":""},{"$f":"IF(ISBLANK('Data Input'!A268),\"\",COUNTIF('Data Input'!C268:AZ268,\"0\"))","v":""},{"$f":"IF(ISBLANK('Data Input'!A268),\"\",SUM(C264,D264))","v":""},{"$f":"IF(ISBLANK('Data Input'!A268),\"\",SUM('Data Input'!C268:AZ268))","v":""},{"$f":"IF(F264=\"\",\"\",F264/(COUNTA('Data Input'!$C$8:$AZ$8)))","v":""},{"$f":"IF(ISBLANK('Data Input'!A268),\"\",SUM('Data Input'!C268,'Data Input'!H268,'Data Input'!J268,'Data Input'!N268,'Data Input'!R268,'Data Input'!T268,'Data Input'!Y268,'Data Input'!AE268,'Data Input'!AK268,'Data Input'!AM268))","v":""},{"$f":"IF(H264=\"\",\"\",H264/COUNTIF('Data Input'!$C$8:$AZ$8,$H$2))","v":""},{"$f":"IF(ISBLANK('Data Input'!A268),\"\",SUM('Data Input'!G268,'Data Input'!I268,'Data Input'!K268,'Data Input'!O268,'Data Input'!P268,'Data Input'!S268,'Data Input'!U268,'Data Input'!V268,'Data Input'!W268,'Data Input'!X268,'Data Input'!Z268,'Data Input'!AA268,'Data Input'!AD268,'Data Input'!AZ268))","v":""},{"$f":"IF(J264=\"\",\"\",J264/COUNTIF('Data Input'!$C$8:$AZ$8,$J$2))","v":""},{"$f":"IF(ISBLANK('Data Input'!A268),\"\",SUM('Data Input'!Q268,'Data Input'!AG268))","v":""},{"$f":"IF(L264=\"\",\"\",L264/COUNTIF('Data Input'!$C$8:$AZ$8,$L$2))","v":""},{"$f":"IF(ISBLANK('Data Input'!A268),\"\",SUM('Data Input'!D268,'Data Input'!E268,'Data Input'!F268,'Data Input'!L268,'Data Input'!M268,'Data Input'!AB268,'Data Input'!AC268,'Data Input'!AF268,'Data Input'!AJ268,'Data Input'!AL268,'Data Input'!AN268,'Data Input'!AO268,'Data Input'!AP268,'Data Input'!AQ268,'Data Input'!AR268,'Data Input'!AS268,'Data Input'!AT268,'Data Input'!AU268,'Data Input'!AV268,'Data Input'!AW268,'Data Input'!AX268,'Data Input'!AY268))","v":""},{"$f":"IF(N264=\"\",\"\",N264/COUNTIF('Data Input'!$C$8:$AZ$8,$N$2))","v":""},null,{"$f":"IF(P264=\"\",\"\",P264/COUNTIF('Data Input'!$C$8:$AZ$8,$P$2))","v":""},{"$f":"IF(ISBLANK('Data Input'!A268),\"\",SUM('Data Input'!AH268))","v":""},{"$f":"IF(R264=\"\",\"\",R264/COUNTIF('Data Input'!$C$8:$AZ$8,$R$2))","v":""},{"$f":"IF(ISBLANK('Data Input'!$A268),\"\",SUM('Data Input'!AI268))","v":""},{"$f":"IF(T264=\"\",\"\",T264/COUNTIF('Data Input'!$C$8:$AZ$8,$T$2))","v":""},null,{"$f":"IF(V264=\"\",\"\",V264/COUNTIF('Data Input'!$C$8:$AZ$8,$V$2))","v":""}]
[{"$f":"IF('Data Input'!A269=0,\"\",'Data Input'!A269)","v":""},{"$f":"IF(F265=\"\",\"\",IF(F265>Welcome!$J$20-1,\"Exceeding\",IF(F265>Welcome!$F$20-1,\"Expected\",IF(F265<Welcome!$F$20,\"Below\"))))","v":""},{"$f":"IF(ISBLANK('Data Input'!A269),\"\",COUNTIF('Data Input'!C269:AZ269,\"\"))","v":""},{"$f":"IF(ISBLANK('Data Input'!A269),\"\",COUNTIF('Data Input'!C269:AZ269,\"0\"))","v":""},{"$f":"IF(ISBLANK('Data Input'!A269),\"\",SUM(C265,D265))","v":""},{"$f":"IF(ISBLANK('Data Input'!A269),\"\",SUM('Data Input'!C269:AZ269))","v":""},{"$f":"IF(F265=\"\",\"\",F265/(COUNTA('Data Input'!$C$8:$AZ$8)))","v":""},{"$f":"IF(ISBLANK('Data Input'!A269),\"\",SUM('Data Input'!C269,'Data Input'!H269,'Data Input'!J269,'Data Input'!N269,'Data Input'!R269,'Data Input'!T269,'Data Input'!Y269,'Data Input'!AE269,'Data Input'!AK269,'Data Input'!AM269))","v":""},{"$f":"IF(H265=\"\",\"\",H265/COUNTIF('Data Input'!$C$8:$AZ$8,$H$2))","v":""},{"$f":"IF(ISBLANK('Data Input'!A269),\"\",SUM('Data Input'!G269,'Data Input'!I269,'Data Input'!K269,'Data Input'!O269,'Data Input'!P269,'Data Input'!S269,'Data Input'!U269,'Data Input'!V269,'Data Input'!W269,'Data Input'!X269,'Data Input'!Z269,'Data Input'!AA269,'Data Input'!AD269,'Data Input'!AZ269))","v":""},{"$f":"IF(J265=\"\",\"\",J265/COUNTIF('Data Input'!$C$8:$AZ$8,$J$2))","v":""},{"$f":"IF(ISBLANK('Data Input'!A269),\"\",SUM('Data Input'!Q269,'Data Input'!AG269))","v":""},{"$f":"IF(L265=\"\",\"\",L265/COUNTIF('Data Input'!$C$8:$AZ$8,$L$2))","v":""},{"$f":"IF(ISBLANK('Data Input'!A269),\"\",SUM('Data Input'!D269,'Data Input'!E269,'Data Input'!F269,'Data Input'!L269,'Data Input'!M269,'Data Input'!AB269,'Data Input'!AC269,'Data Input'!AF269,'Data Input'!AJ269,'Data Input'!AL269,'Data Input'!AN269,'Data Input'!AO269,'Data Input'!AP269,'Data Input'!AQ269,'Data Input'!AR269,'Data Input'!AS269,'Data Input'!AT269,'Data Input'!AU269,'Data Input'!AV269,'Data Input'!AW269,'Data Input'!AX269,'Data Input'!AY269))","v":""},{"$f":"IF(N265=\"\",\"\",N265/COUNTIF('Data Input'!$C$8:$AZ$8,$N$2))","v":""},null,{"$f":"IF(P265=\"\",\"\",P265/COUNTIF('Data Input'!$C$8:$AZ$8,$P$2))","v":""},{"$f":"IF(ISBLANK('Data Input'!A269),\"\",SUM('Data Input'!AH269))","v":""},{"$f":"IF(R265=\"\",\"\",R265/COUNTIF('Data Input'!$C$8:$AZ$8,$R$2))","v":""},{"$f":"IF(ISBLANK('Data Input'!$A269),\"\",SUM('Data Input'!AI269))","v":""},{"$f":"IF(T265=\"\",\"\",T265/COUNTIF('Data Input'!$C$8:$AZ$8,$T$2))","v":""},null,{"$f":"IF(V265=\"\",\"\",V265/COUNTIF('Data Input'!$C$8:$AZ$8,$V$2))","v":""}]
[{"$f":"IF('Data Input'!A270=0,\"\",'Data Input'!A270)","v":""},{"$f":"IF(F266=\"\",\"\",IF(F266>Welcome!$J$20-1,\"Exceeding\",IF(F266>Welcome!$F$20-1,\"Expected\",IF(F266<Welcome!$F$20,\"Below\"))))","v":""},{"$f":"IF(ISBLANK('Data Input'!A270),\"\",COUNTIF('Data Input'!C270:AZ270,\"\"))","v":""},{"$f":"IF(ISBLANK('Data Input'!A270),\"\",COUNTIF('Data Input'!C270:AZ270,\"0\"))","v":""},{"$f":"IF(ISBLANK('Data Input'!A270),\"\",SUM(C266,D266))","v":""},{"$f":"IF(ISBLANK('Data Input'!A270),\"\",SUM('Data Input'!C270:AZ270))","v":""},{"$f":"IF(F266=\"\",\"\",F266/(COUNTA('Data Input'!$C$8:$AZ$8)))","v":""},{"$f":"IF(ISBLANK('Data Input'!A270),\"\",SUM('Data Input'!C270,'Data Input'!H270,'Data Input'!J270,'Data Input'!N270,'Data Input'!R270,'Data Input'!T270,'Data Input'!Y270,'Data Input'!AE270,'Data Input'!AK270,'Data Input'!AM270))","v":""},{"$f":"IF(H266=\"\",\"\",H266/COUNTIF('Data Input'!$C$8:$AZ$8,$H$2))","v":""},{"$f":"IF(ISBLANK('Data Input'!A270),\"\",SUM('Data Input'!G270,'Data Input'!I270,'Data Input'!K270,'Data Input'!O270,'Data Input'!P270,'Data Input'!S270,'Data Input'!U270,'Data Input'!V270,'Data Input'!W270,'Data Input'!X270,'Data Input'!Z270,'Data Input'!AA270,'Data Input'!AD270,'Data Input'!AZ270))","v":""},{"$f":"IF(J266=\"\",\"\",J266/COUNTIF('Data Input'!$C$8:$AZ$8,$J$2))","v":""},{"$f":"IF(ISBLANK('Data Input'!A270),\"\",SUM('Data Input'!Q270,'Data Input'!AG270))","v":""},{"$f":"IF(L266=\"\",\"\",L266/COUNTIF('Data Input'!$C$8:$AZ$8,$L$2))","v":""},{"$f":"IF(ISBLANK('Data Input'!A270),\"\",SUM('Data Input'!D270,'Data Input'!E270,'Data Input'!F270,'Data Input'!L270,'Data Input'!M270,'Data Input'!AB270,'Data Input'!AC270,'Data Input'!AF270,'Data Input'!AJ270,'Data Input'!AL270,'Data Input'!AN270,'Data Input'!AO270,'Data Input'!AP270,'Data Input'!AQ270,'Data Input'!AR270,'Data Input'!AS270,'Data Input'!AT270,'Data Input'!AU270,'Data Input'!AV270,'Data Input'!AW270,'Data Input'!AX270,'Data Input'!AY270))","v":""},{"$f":"IF(N266=\"\",\"\",N266/COUNTIF('Data Input'!$C$8:$AZ$8,$N$2))","v":""},null,{"$f":"IF(P266=\"\",\"\",P266/COUNTIF('Data Input'!$C$8:$AZ$8,$P$2))","v":""},{"$f":"IF(ISBLANK('Data Input'!A270),\"\",SUM('Data Input'!AH270))","v":""},{"$f":"IF(R266=\"\",\"\",R266/COUNTIF('Data Input'!$C$8:$AZ$8,$R$2))","v":""},{"$f":"IF(ISBLANK('Data Input'!$A270),\"\",SUM('Data Input'!AI270))","v":""},{"$f":"IF(T266=\"\",\"\",T266/COUNTIF('Data Input'!$C$8:$AZ$8,$T$2))","v":""},null,{"$f":"IF(V266=\"\",\"\",V266/COUNTIF('Data Input'!$C$8:$AZ$8,$V$2))","v":""}]
[{"$f":"IF('Data Input'!A271=0,\"\",'Data Input'!A271)","v":""},{"$f":"IF(F267=\"\",\"\",IF(F267>Welcome!$J$20-1,\"Exceeding\",IF(F267>Welcome!$F$20-1,\"Expected\",IF(F267<Welcome!$F$20,\"Below\"))))","v":""},{"$f":"IF(ISBLANK('Data Input'!A271),\"\",COUNTIF('Data Input'!C271:AZ271,\"\"))","v":""},{"$f":"IF(ISBLANK('Data Input'!A271),\"\",COUNTIF('Data Input'!C271:AZ271,\"0\"))","v":""},{"$f":"IF(ISBLANK('Data Input'!A271),\"\",SUM(C267,D267))","v":""},{"$f":"IF(ISBLANK('Data Input'!A271),\"\",SUM('Data Input'!C271:AZ271))","v":""},{"$f":"IF(F267=\"\",\"\",F267/(COUNTA('Data Input'!$C$8:$AZ$8)))","v":""},{"$f":"IF(ISBLANK('Data Input'!A271),\"\",SUM('Data Input'!C271,'Data Input'!H271,'Data Input'!J271,'Data Input'!N271,'Data Input'!R271,'Data Input'!T271,'Data Input'!Y271,'Data Input'!AE271,'Data Input'!AK271,'Data Input'!AM271))","v":""},{"$f":"IF(H267=\"\",\"\",H267/COUNTIF('Data Input'!$C$8:$AZ$8,$H$2))","v":""},{"$f":"IF(ISBLANK('Data Input'!A271),\"\",SUM('Data Input'!G271,'Data Input'!I271,'Data Input'!K271,'Data Input'!O271,'Data Input'!P271,'Data Input'!S271,'Data Input'!U271,'Data Input'!V271,'Data Input'!W271,'Data Input'!X271,'Data Input'!Z271,'Data Input'!AA271,'Data Input'!AD271,'Data Input'!AZ271))","v":""},{"$f":"IF(J267=\"\",\"\",J267/COUNTIF('Data Input'!$C$8:$AZ$8,$J$2))","v":""},{"$f":"IF(ISBLANK('Data Input'!A271),\"\",SUM('Data Input'!Q271,'Data Input'!AG271))","v":""},{"$f":"IF(L267=\"\",\"\",L267/COUNTIF('Data Input'!$C$8:$AZ$8,$L$2))","v":""},{"$f":"IF(ISBLANK('Data Input'!A271),\"\",SUM('Data Input'!D271,'Data Input'!E271,'Data Input'!F271,'Data Input'!L271,'Data Input'!M271,'Data Input'!AB271,'Data Input'!AC271,'Data Input'!AF271,'Data Input'!AJ271,'Data Input'!AL271,'Data Input'!AN271,'Data Input'!AO271,'Data Input'!AP271,'Data Input'!AQ271,'Data Input'!AR271,'Data Input'!AS271,'Data Input'!AT271,'Data Input'!AU271,'Data Input'!AV271,'Data Input'!AW271,'Data Input'!AX271,'Data Input'!AY271))","v":""},{"$f":"IF(N267=\"\",\"\",N267/COUNTIF('Data Input'!$C$8:$AZ$8,$N$2))","v":""},null,{"$f":"IF(P267=\"\",\"\",P267/COUNTIF('Data Input'!$C$8:$AZ$8,$P$2))","v":""},{"$f":"IF(ISBLANK('Data Input'!A271),\"\",SUM('Data Input'!AH271))","v":""},{"$f":"IF(R267=\"\",\"\",R267/COUNTIF('Data Input'!$C$8:$AZ$8,$R$2))","v":""},{"$f":"IF(ISBLANK('Data Input'!$A271),\"\",SUM('Data Input'!AI271))","v":""},{"$f":"IF(T267=\"\",\"\",T267/COUNTIF('Data Input'!$C$8:$AZ$8,$T$2))","v":""},null,{"$f":"IF(V267=\"\",\"\",V267/COUNTIF('Data Input'!$C$8:$AZ$8,$V$2))","v":""}]
[{"$f":"IF('Data Input'!A272=0,\"\",'Data Input'!A272)","v":""},{"$f":"IF(F268=\"\",\"\",IF(F268>Welcome!$J$20-1,\"Exceeding\",IF(F268>Welcome!$F$20-1,\"Expected\",IF(F268<Welcome!$F$20,\"Below\"))))","v":""},{"$f":"IF(ISBLANK('Data Input'!A272),\"\",COUNTIF('Data Input'!C272:AZ272,\"\"))","v":""},{"$f":"IF(ISBLANK('Data Input'!A272),\"\",COUNTIF('Data Input'!C272:AZ272,\"0\"))","v":""},{"$f":"IF(ISBLANK('Data Input'!A272),\"\",SUM(C268,D268))","v":""},{"$f":"IF(ISBLANK('Data Input'!A272),\"\",SUM('Data Input'!C272:AZ272))","v":""},{"$f":"IF(F268=\"\",\"\",F268/(COUNTA('Data Input'!$C$8:$AZ$8)))","v":""},{"$f":"IF(ISBLANK('Data Input'!A272),\"\",SUM('Data Input'!C272,'Data Input'!H272,'Data Input'!J272,'Data Input'!N272,'Data Input'!R272,'Data Input'!T272,'Data Input'!Y272,'Data Input'!AE272,'Data Input'!AK272,'Data Input'!AM272))","v":""},{"$f":"IF(H268=\"\",\"\",H268/COUNTIF('Data Input'!$C$8:$AZ$8,$H$2))","v":""},{"$f":"IF(ISBLANK('Data Input'!A272),\"\",SUM('Data Input'!G272,'Data Input'!I272,'Data Input'!K272,'Data Input'!O272,'Data Input'!P272,'Data Input'!S272,'Data Input'!U272,'Data Input'!V272,'Data Input'!W272,'Data Input'!X272,'Data Input'!Z272,'Data Input'!AA272,'Data Input'!AD272,'Data Input'!AZ272))","v":""},{"$f":"IF(J268=\"\",\"\",J268/COUNTIF('Data Input'!$C$8:$AZ$8,$J$2))","v":""},{"$f":"IF(ISBLANK('Data Input'!A272),\"\",SUM('Data Input'!Q272,'Data Input'!AG272))","v":""},{"$f":"IF(L268=\"\",\"\",L268/COUNTIF('Data Input'!$C$8:$AZ$8,$L$2))","v":""},{"$f":"IF(ISBLANK('Data Input'!A272),\"\",SUM('Data Input'!D272,'Data Input'!E272,'Data Input'!F272,'Data Input'!L272,'Data Input'!M272,'Data Input'!AB272,'Data Input'!AC272,'Data Input'!AF272,'Data Input'!AJ272,'Data Input'!AL272,'Data Input'!AN272,'Data Input'!AO272,'Data Input'!AP272,'Data Input'!AQ272,'Data Input'!AR272,'Data Input'!AS272,'Data Input'!AT272,'Data Input'!AU272,'Data Input'!AV272,'Data Input'!AW272,'Data Input'!AX272,'Data Input'!AY272))","v":""},{"$f":"IF(N268=\"\",\"\",N268/COUNTIF('Data Input'!$C$8:$AZ$8,$N$2))","v":""},null,{"$f":"IF(P268=\"\",\"\",P268/COUNTIF('Data Input'!$C$8:$AZ$8,$P$2))","v":""},{"$f":"IF(ISBLANK('Data Input'!A272),\"\",SUM('Data Input'!AH272))","v":""},{"$f":"IF(R268=\"\",\"\",R268/COUNTIF('Data Input'!$C$8:$AZ$8,$R$2))","v":""},{"$f":"IF(ISBLANK('Data Input'!$A272),\"\",SUM('Data Input'!AI272))","v":""},{"$f":"IF(T268=\"\",\"\",T268/COUNTIF('Data Input'!$C$8:$AZ$8,$T$2))","v":""},null,{"$f":"IF(V268=\"\",\"\",V268/COUNTIF('Data Input'!$C$8:$AZ$8,$V$2))","v":""}]
[{"$f":"IF('Data Input'!A273=0,\"\",'Data Input'!A273)","v":""},{"$f":"IF(F269=\"\",\"\",IF(F269>Welcome!$J$20-1,\"Exceeding\",IF(F269>Welcome!$F$20-1,\"Expected\",IF(F269<Welcome!$F$20,\"Below\"))))","v":""},{"$f":"IF(ISBLANK('Data Input'!A273),\"\",COUNTIF('Data Input'!C273:AZ273,\"\"))","v":""},{"$f":"IF(ISBLANK('Data Input'!A273),\"\",COUNTIF('Data Input'!C273:AZ273,\"0\"))","v":""},{"$f":"IF(ISBLANK('Data Input'!A273),\"\",SUM(C269,D269))","v":""},{"$f":"IF(ISBLANK('Data Input'!A273),\"\",SUM('Data Input'!C273:AZ273))","v":""},{"$f":"IF(F269=\"\",\"\",F269/(COUNTA('Data Input'!$C$8:$AZ$8)))","v":""},{"$f":"IF(ISBLANK('Data Input'!A273),\"\",SUM('Data Input'!C273,'Data Input'!H273,'Data Input'!J273,'Data Input'!N273,'Data Input'!R273,'Data Input'!T273,'Data Input'!Y273,'Data Input'!AE273,'Data Input'!AK273,'Data Input'!AM273))","v":""},{"$f":"IF(H269=\"\",\"\",H269/COUNTIF('Data Input'!$C$8:$AZ$8,$H$2))","v":""},{"$f":"IF(ISBLANK('Data Input'!A273),\"\",SUM('Data Input'!G273,'Data Input'!I273,'Data Input'!K273,'Data Input'!O273,'Data Input'!P273,'Data Input'!S273,'Data Input'!U273,'Data Input'!V273,'Data Input'!W273,'Data Input'!X273,'Data Input'!Z273,'Data Input'!AA273,'Data Input'!AD273,'Data Input'!AZ273))","v":""},{"$f":"IF(J269=\"\",\"\",J269/COUNTIF('Data Input'!$C$8:$AZ$8,$J$2))","v":""},{"$f":"IF(ISBLANK('Data Input'!A273),\"\",SUM('Data Input'!Q273,'Data Input'!AG273))","v":""},{"$f":"IF(L269=\"\",\"\",L269/COUNTIF('Data Input'!$C$8:$AZ$8,$L$2))","v":""},{"$f":"IF(ISBLANK('Data Input'!A273),\"\",SUM('Data Input'!D273,'Data Input'!E273,'Data Input'!F273,'Data Input'!L273,'Data Input'!M273,'Data Input'!AB273,'Data Input'!AC273,'Data Input'!AF273,'Data Input'!AJ273,'Data Input'!AL273,'Data Input'!AN273,'Data Input'!AO273,'Data Input'!AP273,'Data Input'!AQ273,'Data Input'!AR273,'Data Input'!AS273,'Data Input'!AT273,'Data Input'!AU273,'Data Input'!AV273,'Data Input'!AW273,'Data Input'!AX273,'Data Input'!AY273))","v":""},{"$f":"IF(N269=\"\",\"\",N269/COUNTIF('Data Input'!$C$8:$AZ$8,$N$2))","v":""},null,{"$f":"IF(P269=\"\",\"\",P269/COUNTIF('Data Input'!$C$8:$AZ$8,$P$2))","v":""},{"$f":"IF(ISBLANK('Data Input'!A273),\"\",SUM('Data Input'!AH273))","v":""},{"$f":"IF(R269=\"\",\"\",R269/COUNTIF('Data Input'!$C$8:$AZ$8,$R$2))","v":""},{"$f":"IF(ISBLANK('Data Input'!$A273),\"\",SUM('Data Input'!AI273))","v":""},{"$f":"IF(T269=\"\",\"\",T269/COUNTIF('Data Input'!$C$8:$AZ$8,$T$2))","v":""},null,{"$f":"IF(V269=\"\",\"\",V269/COUNTIF('Data Input'!$C$8:$AZ$8,$V$2))","v":""}]
[{"$f":"IF('Data Input'!A274=0,\"\",'Data Input'!A274)","v":""},{"$f":"IF(F270=\"\",\"\",IF(F270>Welcome!$J$20-1,\"Exceeding\",IF(F270>Welcome!$F$20-1,\"Expected\",IF(F270<Welcome!$F$20,\"Below\"))))","v":""},{"$f":"IF(ISBLANK('Data Input'!A274),\"\",COUNTIF('Data Input'!C274:AZ274,\"\"))","v":""},{"$f":"IF(ISBLANK('Data Input'!A274),\"\",COUNTIF('Data Input'!C274:AZ274,\"0\"))","v":""},{"$f":"IF(ISBLANK('Data Input'!A274),\"\",SUM(C270,D270))","v":""},{"$f":"IF(ISBLANK('Data Input'!A274),\"\",SUM('Data Input'!C274:AZ274))","v":""},{"$f":"IF(F270=\"\",\"\",F270/(COUNTA('Data Input'!$C$8:$AZ$8)))","v":""},{"$f":"IF(ISBLANK('Data Input'!A274),\"\",SUM('Data Input'!C274,'Data Input'!H274,'Data Input'!J274,'Data Input'!N274,'Data Input'!R274,'Data Input'!T274,'Data Input'!Y274,'Data Input'!AE274,'Data Input'!AK274,'Data Input'!AM274))","v":""},{"$f":"IF(H270=\"\",\"\",H270/COUNTIF('Data Input'!$C$8:$AZ$8,$H$2))","v":""},{"$f":"IF(ISBLANK('Data Input'!A274),\"\",SUM('Data Input'!G274,'Data Input'!I274,'Data Input'!K274,'Data Input'!O274,'Data Input'!P274,'Data Input'!S274,'Data Input'!U274,'Data Input'!V274,'Data Input'!W274,'Data Input'!X274,'Data Input'!Z274,'Data Input'!AA274,'Data Input'!AD274,'Data Input'!AZ274))","v":""},{"$f":"IF(J270=\"\",\"\",J270/COUNTIF('Data Input'!$C$8:$AZ$8,$J$2))","v":""},{"$f":"IF(ISBLANK('Data Input'!A274),\"\",SUM('Data Input'!Q274,'Data Input'!AG274))","v":""},{"$f":"IF(L270=\"\",\"\",L270/COUNTIF('Data Input'!$C$8:$AZ$8,$L$2))","v":""},{"$f":"IF(ISBLANK('Data Input'!A274),\"\",SUM('Data Input'!D274,'Data Input'!E274,'Data Input'!F274,'Data Input'!L274,'Data Input'!M274,'Data Input'!AB274,'Data Input'!AC274,'Data Input'!AF274,'Data Input'!AJ274,'Data Input'!AL274,'Data Input'!AN274,'Data Input'!AO274,'Data Input'!AP274,'Data Input'!AQ274,'Data Input'!AR274,'Data Input'!AS274,'Data Input'!AT274,'Data Input'!AU274,'Data Input'!AV274,'Data Input'!AW274,'Data Input'!AX274,'Data Input'!AY274))","v":""},{"$f":"IF(N270=\"\",\"\",N270/COUNTIF('Data Input'!$C$8:$AZ$8,$N$2))","v":""},null,{"$f":"IF(P270=\"\",\"\",P270/COUNTIF('Data Input'!$C$8:$AZ$8,$P$2))","v":""},{"$f":"IF(ISBLANK('Data Input'!A274),\"\",SUM('Data Input'!AH274))","v":""},{"$f":"IF(R270=\"\",\"\",R270/COUNTIF('Data Input'!$C$8:$AZ$8,$R$2))","v":""},{"$f":"IF(ISBLANK('Data Input'!$A274),\"\",SUM('Data Input'!AI274))","v":""},{"$f":"IF(T270=\"\",\"\",T270/COUNTIF('Data Input'!$C$8:$AZ$8,$T$2))","v":""},null,{"$f":"IF(V270=\"\",\"\",V270/COUNTIF('Data Input'!$C$8:$AZ$8,$V$2))","v":""}]
[{"$f":"IF('Data Input'!A275=0,\"\",'Data Input'!A275)","v":""},{"$f":"IF(F271=\"\",\"\",IF(F271>Welcome!$J$20-1,\"Exceeding\",IF(F271>Welcome!$F$20-1,\"Expected\",IF(F271<Welcome!$F$20,\"Below\"))))","v":""},{"$f":"IF(ISBLANK('Data Input'!A275),\"\",COUNTIF('Data Input'!C275:AZ275,\"\"))","v":""},{"$f":"IF(ISBLANK('Data Input'!A275),\"\",COUNTIF('Data Input'!C275:AZ275,\"0\"))","v":""},{"$f":"IF(ISBLANK('Data Input'!A275),\"\",SUM(C271,D271))","v":""},{"$f":"IF(ISBLANK('Data Input'!A275),\"\",SUM('Data Input'!C275:AZ275))","v":""},{"$f":"IF(F271=\"\",\"\",F271/(COUNTA('Data Input'!$C$8:$AZ$8)))","v":""},{"$f":"IF(ISBLANK('Data Input'!A275),\"\",SUM('Data Input'!C275,'Data Input'!H275,'Data Input'!J275,'Data Input'!N275,'Data Input'!R275,'Data Input'!T275,'Data Input'!Y275,'Data Input'!AE275,'Data Input'!AK275,'Data Input'!AM275))","v":""},{"$f":"IF(H271=\"\",\"\",H271/COUNTIF('Data Input'!$C$8:$AZ$8,$H$2))","v":""},{"$f":"IF(ISBLANK('Data Input'!A275),\"\",SUM('Data Input'!G275,'Data Input'!I275,'Data Input'!K275,'Data Input'!O275,'Data Input'!P275,'Data Input'!S275,'Data Input'!U275,'Data Input'!V275,'Data Input'!W275,'Data Input'!X275,'Data Input'!Z275,'Data Input'!AA275,'Data Input'!AD275,'Data Input'!AZ275))","v":""},{"$f":"IF(J271=\"\",\"\",J271/COUNTIF('Data Input'!$C$8:$AZ$8,$J$2))","v":""},{"$f":"IF(ISBLANK('Data Input'!A275),\"\",SUM('Data Input'!Q275,'Data Input'!AG275))","v":""},{"$f":"IF(L271=\"\",\"\",L271/COUNTIF('Data Input'!$C$8:$AZ$8,$L$2))","v":""},{"$f":"IF(ISBLANK('Data Input'!A275),\"\",SUM('Data Input'!D275,'Data Input'!E275,'Data Input'!F275,'Data Input'!L275,'Data Input'!M275,'Data Input'!AB275,'Data Input'!AC275,'Data Input'!AF275,'Data Input'!AJ275,'Data Input'!AL275,'Data Input'!AN275,'Data Input'!AO275,'Data Input'!AP275,'Data Input'!AQ275,'Data Input'!AR275,'Data Input'!AS275,'Data Input'!AT275,'Data Input'!AU275,'Data Input'!AV275,'Data Input'!AW275,'Data Input'!AX275,'Data Input'!AY275))","v":""},{"$f":"IF(N271=\"\",\"\",N271/COUNTIF('Data Input'!$C$8:$AZ$8,$N$2))","v":""},null,{"$f":"IF(P271=\"\",\"\",P271/COUNTIF('Data Input'!$C$8:$AZ$8,$P$2))","v":""},{"$f":"IF(ISBLANK('Data Input'!A275),\"\",SUM('Data Input'!AH275))","v":""},{"$f":"IF(R271=\"\",\"\",R271/COUNTIF('Data Input'!$C$8:$AZ$8,$R$2))","v":""},{"$f":"IF(ISBLANK('Data Input'!$A275),\"\",SUM('Data Input'!AI275))","v":""},{"$f":"IF(T271=\"\",\"\",T271/COUNTIF('Data Input'!$C$8:$AZ$8,$T$2))","v":""},null,{"$f":"IF(V271=\"\",\"\",V271/COUNTIF('Data Input'!$C$8:$AZ$8,$V$2))","v":""}]
[{"$f":"IF('Data Input'!A276=0,\"\",'Data Input'!A276)","v":""},{"$f":"IF(F272=\"\",\"\",IF(F272>Welcome!$J$20-1,\"Exceeding\",IF(F272>Welcome!$F$20-1,\"Expected\",IF(F272<Welcome!$F$20,\"Below\"))))","v":""},{"$f":"IF(ISBLANK('Data Input'!A276),\"\",COUNTIF('Data Input'!C276:AZ276,\"\"))","v":""},{"$f":"IF(ISBLANK('Data Input'!A276),\"\",COUNTIF('Data Input'!C276:AZ276,\"0\"))","v":""},{"$f":"IF(ISBLANK('Data Input'!A276),\"\",SUM(C272,D272))","v":""},{"$f":"IF(ISBLANK('Data Input'!A276),\"\",SUM('Data Input'!C276:AZ276))","v":""},{"$f":"IF(F272=\"\",\"\",F272/(COUNTA('Data Input'!$C$8:$AZ$8)))","v":""},{"$f":"IF(ISBLANK('Data Input'!A276),\"\",SUM('Data Input'!C276,'Data Input'!H276,'Data Input'!J276,'Data Input'!N276,'Data Input'!R276,'Data Input'!T276,'Data Input'!Y276,'Data Input'!AE276,'Data Input'!AK276,'Data Input'!AM276))","v":""},{"$f":"IF(H272=\"\",\"\",H272/COUNTIF('Data Input'!$C$8:$AZ$8,$H$2))","v":""},{"$f":"IF(ISBLANK('Data Input'!A276),\"\",SUM('Data Input'!G276,'Data Input'!I276,'Data Input'!K276,'Data Input'!O276,'Data Input'!P276,'Data Input'!S276,'Data Input'!U276,'Data Input'!V276,'Data Input'!W276,'Data Input'!X276,'Data Input'!Z276,'Data Input'!AA276,'Data Input'!AD276,'Data Input'!AZ276))","v":""},{"$f":"IF(J272=\"\",\"\",J272/COUNTIF('Data Input'!$C$8:$AZ$8,$J$2))","v":""},{"$f":"IF(ISBLANK('Data Input'!A276),\"\",SUM('Data Input'!Q276,'Data Input'!AG276))","v":""},{"$f":"IF(L272=\"\",\"\",L272/COUNTIF('Data Input'!$C$8:$AZ$8,$L$2))","v":""},{"$f":"IF(ISBLANK('Data Input'!A276),\"\",SUM('Data Input'!D276,'Data Input'!E276,'Data Input'!F276,'Data Input'!L276,'Data Input'!M276,'Data Input'!AB276,'Data Input'!AC276,'Data Input'!AF276,'Data Input'!AJ276,'Data Input'!AL276,'Data Input'!AN276,'Data Input'!AO276,'Data Input'!AP276,'Data Input'!AQ276,'Data Input'!AR276,'Data Input'!AS276,'Data Input'!AT276,'Data Input'!AU276,'Data Input'!AV276,'Data Input'!AW276,'Data Input'!AX276,'Data Input'!AY276))","v":""},{"$f":"IF(N272=\"\",\"\",N272/COUNTIF('Data Input'!$C$8:$AZ$8,$N$2))","v":""},null,{"$f":"IF(P272=\"\",\"\",P272/COUNTIF('Data Input'!$C$8:$AZ$8,$P$2))","v":""},{"$f":"IF(ISBLANK('Data Input'!A276),\"\",SUM('Data Input'!AH276))","v":""},{"$f":"IF(R272=\"\",\"\",R272/COUNTIF('Data Input'!$C$8:$AZ$8,$R$2))","v":""},{"$f":"IF(ISBLANK('Data Input'!$A276),\"\",SUM('Data Input'!AI276))","v":""},{"$f":"IF(T272=\"\",\"\",T272/COUNTIF('Data Input'!$C$8:$AZ$8,$T$2))","v":""},null,{"$f":"IF(V272=\"\",\"\",V272/COUNTIF('Data Input'!$C$8:$AZ$8,$V$2))","v":""}]
[{"$f":"IF('Data Input'!A277=0,\"\",'Data Input'!A277)","v":""},{"$f":"IF(F273=\"\",\"\",IF(F273>Welcome!$J$20-1,\"Exceeding\",IF(F273>Welcome!$F$20-1,\"Expected\",IF(F273<Welcome!$F$20,\"Below\"))))","v":""},{"$f":"IF(ISBLANK('Data Input'!A277),\"\",COUNTIF('Data Input'!C277:AZ277,\"\"))","v":""},{"$f":"IF(ISBLANK('Data Input'!A277),\"\",COUNTIF('Data Input'!C277:AZ277,\"0\"))","v":""},{"$f":"IF(ISBLANK('Data Input'!A277),\"\",SUM(C273,D273))","v":""},{"$f":"IF(ISBLANK('Data Input'!A277),\"\",SUM('Data Input'!C277:AZ277))","v":""},{"$f":"IF(F273=\"\",\"\",F273/(COUNTA('Data Input'!$C$8:$AZ$8)))","v":""},{"$f":"IF(ISBLANK('Data Input'!A277),\"\",SUM('Data Input'!C277,'Data Input'!H277,'Data Input'!J277,'Data Input'!N277,'Data Input'!R277,'Data Input'!T277,'Data Input'!Y277,'Data Input'!AE277,'Data Input'!AK277,'Data Input'!AM277))","v":""},{"$f":"IF(H273=\"\",\"\",H273/COUNTIF('Data Input'!$C$8:$AZ$8,$H$2))","v":""},{"$f":"IF(ISBLANK('Data Input'!A277),\"\",SUM('Data Input'!G277,'Data Input'!I277,'Data Input'!K277,'Data Input'!O277,'Data Input'!P277,'Data Input'!S277,'Data Input'!U277,'Data Input'!V277,'Data Input'!W277,'Data Input'!X277,'Data Input'!Z277,'Data Input'!AA277,'Data Input'!AD277,'Data Input'!AZ277))","v":""},{"$f":"IF(J273=\"\",\"\",J273/COUNTIF('Data Input'!$C$8:$AZ$8,$J$2))","v":""},{"$f":"IF(ISBLANK('Data Input'!A277),\"\",SUM('Data Input'!Q277,'Data Input'!AG277))","v":""},{"$f":"IF(L273=\"\",\"\",L273/COUNTIF('Data Input'!$C$8:$AZ$8,$L$2))","v":""},{"$f":"IF(ISBLANK('Data Input'!A277),\"\",SUM('Data Input'!D277,'Data Input'!E277,'Data Input'!F277,'Data Input'!L277,'Data Input'!M277,'Data Input'!AB277,'Data Input'!AC277,'Data Input'!AF277,'Data Input'!AJ277,'Data Input'!AL277,'Data Input'!AN277,'Data Input'!AO277,'Data Input'!AP277,'Data Input'!AQ277,'Data Input'!AR277,'Data Input'!AS277,'Data Input'!AT277,'Data Input'!AU277,'Data Input'!AV277,'Data Input'!AW277,'Data Input'!AX277,'Data Input'!AY277))","v":""},{"$f":"IF(N273=\"\",\"\",N273/COUNTIF('Data Input'!$C$8:$AZ$8,$N$2))","v":""},null,{"$f":"IF(P273=\"\",\"\",P273/COUNTIF('Data Input'!$C$8:$AZ$8,$P$2))","v":""},{"$f":"IF(ISBLANK('Data Input'!A277),\"\",SUM('Data Input'!AH277))","v":""},{"$f":"IF(R273=\"\",\"\",R273/COUNTIF('Data Input'!$C$8:$AZ$8,$R$2))","v":""},{"$f":"IF(ISBLANK('Data Input'!$A277),\"\",SUM('Data Input'!AI277))","v":""},{"$f":"IF(T273=\"\",\"\",T273/COUNTIF('Data Input'!$C$8:$AZ$8,$T$2))","v":""},null,{"$f":"IF(V273=\"\",\"\",V273/COUNTIF('Data Input'!$C$8:$AZ$8,$V$2))","v":""}]
[{"$f":"IF('Data Input'!A278=0,\"\",'Data Input'!A278)","v":""},{"$f":"IF(F274=\"\",\"\",IF(F274>Welcome!$J$20-1,\"Exceeding\",IF(F274>Welcome!$F$20-1,\"Expected\",IF(F274<Welcome!$F$20,\"Below\"))))","v":""},{"$f":"IF(ISBLANK('Data Input'!A278),\"\",COUNTIF('Data Input'!C278:AZ278,\"\"))","v":""},{"$f":"IF(ISBLANK('Data Input'!A278),\"\",COUNTIF('Data Input'!C278:AZ278,\"0\"))","v":""},{"$f":"IF(ISBLANK('Data Input'!A278),\"\",SUM(C274,D274))","v":""},{"$f":"IF(ISBLANK('Data Input'!A278),\"\",SUM('Data Input'!C278:AZ278))","v":""},{"$f":"IF(F274=\"\",\"\",F274/(COUNTA('Data Input'!$C$8:$AZ$8)))","v":""},{"$f":"IF(ISBLANK('Data Input'!A278),\"\",SUM('Data Input'!C278,'Data Input'!H278,'Data Input'!J278,'Data Input'!N278,'Data Input'!R278,'Data Input'!T278,'Data Input'!Y278,'Data Input'!AE278,'Data Input'!AK278,'Data Input'!AM278))","v":""},{"$f":"IF(H274=\"\",\"\",H274/COUNTIF('Data Input'!$C$8:$AZ$8,$H$2))","v":""},{"$f":"IF(ISBLANK('Data Input'!A278),\"\",SUM('Data Input'!G278,'Data Input'!I278,'Data Input'!K278,'Data Input'!O278,'Data Input'!P278,'Data Input'!S278,'Data Input'!U278,'Data Input'!V278,'Data Input'!W278,'Data Input'!X278,'Data Input'!Z278,'Data Input'!AA278,'Data Input'!AD278,'Data Input'!AZ278))","v":""},{"$f":"IF(J274=\"\",\"\",J274/COUNTIF('Data Input'!$C$8:$AZ$8,$J$2))","v":""},{"$f":"IF(ISBLANK('Data Input'!A278),\"\",SUM('Data Input'!Q278,'Data Input'!AG278))","v":""},{"$f":"IF(L274=\"\",\"\",L274/COUNTIF('Data Input'!$C$8:$AZ$8,$L$2))","v":""},{"$f":"IF(ISBLANK('Data Input'!A278),\"\",SUM('Data Input'!D278,'Data Input'!E278,'Data Input'!F278,'Data Input'!L278,'Data Input'!M278,'Data Input'!AB278,'Data Input'!AC278,'Data Input'!AF278,'Data Input'!AJ278,'Data Input'!AL278,'Data Input'!AN278,'Data Input'!AO278,'Data Input'!AP278,'Data Input'!AQ278,'Data Input'!AR278,'Data Input'!AS278,'Data Input'!AT278,'Data Input'!AU278,'Data Input'!AV278,'Data Input'!AW278,'Data Input'!AX278,'Data Input'!AY278))","v":""},{"$f":"IF(N274=\"\",\"\",N274/COUNTIF('Data Input'!$C$8:$AZ$8,$N$2))","v":""},null,{"$f":"IF(P274=\"\",\"\",P274/COUNTIF('Data Input'!$C$8:$AZ$8,$P$2))","v":""},{"$f":"IF(ISBLANK('Data Input'!A278),\"\",SUM('Data Input'!AH278))","v":""},{"$f":"IF(R274=\"\",\"\",R274/COUNTIF('Data Input'!$C$8:$AZ$8,$R$2))","v":""},{"$f":"IF(ISBLANK('Data Input'!$A278),\"\",SUM('Data Input'!AI278))","v":""},{"$f":"IF(T274=\"\",\"\",T274/COUNTIF('Data Input'!$C$8:$AZ$8,$T$2))","v":""},null,{"$f":"IF(V274=\"\",\"\",V274/COUNTIF('Data Input'!$C$8:$AZ$8,$V$2))","v":""}]
[{"$f":"IF('Data Input'!A279=0,\"\",'Data Input'!A279)","v":""},{"$f":"IF(F275=\"\",\"\",IF(F275>Welcome!$J$20-1,\"Exceeding\",IF(F275>Welcome!$F$20-1,\"Expected\",IF(F275<Welcome!$F$20,\"Below\"))))","v":""},{"$f":"IF(ISBLANK('Data Input'!A279),\"\",COUNTIF('Data Input'!C279:AZ279,\"\"))","v":""},{"$f":"IF(ISBLANK('Data Input'!A279),\"\",COUNTIF('Data Input'!C279:AZ279,\"0\"))","v":""},{"$f":"IF(ISBLANK('Data Input'!A279),\"\",SUM(C275,D275))","v":""},{"$f":"IF(ISBLANK('Data Input'!A279),\"\",SUM('Data Input'!C279:AZ279))","v":""},{"$f":"IF(F275=\"\",\"\",F275/(COUNTA('Data Input'!$C$8:$AZ$8)))","v":""},{"$f":"IF(ISBLANK('Data Input'!A279),\"\",SUM('Data Input'!C279,'Data Input'!H279,'Data Input'!J279,'Data Input'!N279,'Data Input'!R279,'Data Input'!T279,'Data Input'!Y279,'Data Input'!AE279,'Data Input'!AK279,'Data Input'!AM279))","v":""},{"$f":"IF(H275=\"\",\"\",H275/COUNTIF('Data Input'!$C$8:$AZ$8,$H$2))","v":""},{"$f":"IF(ISBLANK('Data Input'!A279),\"\",SUM('Data Input'!G279,'Data Input'!I279,'Data Input'!K279,'Data Input'!O279,'Data Input'!P279,'Data Input'!S279,'Data Input'!U279,'Data Input'!V279,'Data Input'!W279,'Data Input'!X279,'Data Input'!Z279,'Data Input'!AA279,'Data Input'!AD279,'Data Input'!AZ279))","v":""},{"$f":"IF(J275=\"\",\"\",J275/COUNTIF('Data Input'!$C$8:$AZ$8,$J$2))","v":""},{"$f":"IF(ISBLANK('Data Input'!A279),\"\",SUM('Data Input'!Q279,'Data Input'!AG279))","v":""},{"$f":"IF(L275=\"\",\"\",L275/COUNTIF('Data Input'!$C$8:$AZ$8,$L$2))","v":""},{"$f":"IF(ISBLANK('Data Input'!A279),\"\",SUM('Data Input'!D279,'Data Input'!E279,'Data Input'!F279,'Data Input'!L279,'Data Input'!M279,'Data Input'!AB279,'Data Input'!AC279,'Data Input'!AF279,'Data Input'!AJ279,'Data Input'!AL279,'Data Input'!AN279,'Data Input'!AO279,'Data Input'!AP279,'Data Input'!AQ279,'Data Input'!AR279,'Data Input'!AS279,'Data Input'!AT279,'Data Input'!AU279,'Data Input'!AV279,'Data Input'!AW279,'Data Input'!AX279,'Data Input'!AY279))","v":""},{"$f":"IF(N275=\"\",\"\",N275/COUNTIF('Data Input'!$C$8:$AZ$8,$N$2))","v":""},null,{"$f":"IF(P275=\"\",\"\",P275/COUNTIF('Data Input'!$C$8:$AZ$8,$P$2))","v":""},{"$f":"IF(ISBLANK('Data Input'!A279),\"\",SUM('Data Input'!AH279))","v":""},{"$f":"IF(R275=\"\",\"\",R275/COUNTIF('Data Input'!$C$8:$AZ$8,$R$2))","v":""},{"$f":"IF(ISBLANK('Data Input'!$A279),\"\",SUM('Data Input'!AI279))","v":""},{"$f":"IF(T275=\"\",\"\",T275/COUNTIF('Data Input'!$C$8:$AZ$8,$T$2))","v":""},null,{"$f":"IF(V275=\"\",\"\",V275/COUNTIF('Data Input'!$C$8:$AZ$8,$V$2))","v":""}]
[{"$f":"IF('Data Input'!A280=0,\"\",'Data Input'!A280)","v":""},{"$f":"IF(F276=\"\",\"\",IF(F276>Welcome!$J$20-1,\"Exceeding\",IF(F276>Welcome!$F$20-1,\"Expected\",IF(F276<Welcome!$F$20,\"Below\"))))","v":""},{"$f":"IF(ISBLANK('Data Input'!A280),\"\",COUNTIF('Data Input'!C280:AZ280,\"\"))","v":""},{"$f":"IF(ISBLANK('Data Input'!A280),\"\",COUNTIF('Data Input'!C280:AZ280,\"0\"))","v":""},{"$f":"IF(ISBLANK('Data Input'!A280),\"\",SUM(C276,D276))","v":""},{"$f":"IF(ISBLANK('Data Input'!A280),\"\",SUM('Data Input'!C280:AZ280))","v":""},{"$f":"IF(F276=\"\",\"\",F276/(COUNTA('Data Input'!$C$8:$AZ$8)))","v":""},{"$f":"IF(ISBLANK('Data Input'!A280),\"\",SUM('Data Input'!C280,'Data Input'!H280,'Data Input'!J280,'Data Input'!N280,'Data Input'!R280,'Data Input'!T280,'Data Input'!Y280,'Data Input'!AE280,'Data Input'!AK280,'Data Input'!AM280))","v":""},{"$f":"IF(H276=\"\",\"\",H276/COUNTIF('Data Input'!$C$8:$AZ$8,$H$2))","v":""},{"$f":"IF(ISBLANK('Data Input'!A280),\"\",SUM('Data Input'!G280,'Data Input'!I280,'Data Input'!K280,'Data Input'!O280,'Data Input'!P280,'Data Input'!S280,'Data Input'!U280,'Data Input'!V280,'Data Input'!W280,'Data Input'!X280,'Data Input'!Z280,'Data Input'!AA280,'Data Input'!AD280,'Data Input'!AZ280))","v":""},{"$f":"IF(J276=\"\",\"\",J276/COUNTIF('Data Input'!$C$8:$AZ$8,$J$2))","v":""},{"$f":"IF(ISBLANK('Data Input'!A280),\"\",SUM('Data Input'!Q280,'Data Input'!AG280))","v":""},{"$f":"IF(L276=\"\",\"\",L276/COUNTIF('Data Input'!$C$8:$AZ$8,$L$2))","v":""},{"$f":"IF(ISBLANK('Data Input'!A280),\"\",SUM('Data Input'!D280,'Data Input'!E280,'Data Input'!F280,'Data Input'!L280,'Data Input'!M280,'Data Input'!AB280,'Data Input'!AC280,'Data Input'!AF280,'Data Input'!AJ280,'Data Input'!AL280,'Data Input'!AN280,'Data Input'!AO280,'Data Input'!AP280,'Data Input'!AQ280,'Data Input'!AR280,'Data Input'!AS280,'Data Input'!AT280,'Data Input'!AU280,'Data Input'!AV280,'Data Input'!AW280,'Data Input'!AX280,'Data Input'!AY280))","v":""},{"$f":"IF(N276=\"\",\"\",N276/COUNTIF('Data Input'!$C$8:$AZ$8,$N$2))","v":""},null,{"$f":"IF(P276=\"\",\"\",P276/COUNTIF('Data Input'!$C$8:$AZ$8,$P$2))","v":""},{"$f":"IF(ISBLANK('Data Input'!A280),\"\",SUM('Data Input'!AH280))","v":""},{"$f":"IF(R276=\"\",\"\",R276/COUNTIF('Data Input'!$C$8:$AZ$8,$R$2))","v":""},{"$f":"IF(ISBLANK('Data Input'!$A280),\"\",SUM('Data Input'!AI280))","v":""},{"$f":"IF(T276=\"\",\"\",T276/COUNTIF('Data Input'!$C$8:$AZ$8,$T$2))","v":""},null,{"$f":"IF(V276=\"\",\"\",V276/COUNTIF('Data Input'!$C$8:$AZ$8,$V$2))","v":""}]
[{"$f":"IF('Data Input'!A281=0,\"\",'Data Input'!A281)","v":""},{"$f":"IF(F277=\"\",\"\",IF(F277>Welcome!$J$20-1,\"Exceeding\",IF(F277>Welcome!$F$20-1,\"Expected\",IF(F277<Welcome!$F$20,\"Below\"))))","v":""},{"$f":"IF(ISBLANK('Data Input'!A281),\"\",COUNTIF('Data Input'!C281:AZ281,\"\"))","v":""},{"$f":"IF(ISBLANK('Data Input'!A281),\"\",COUNTIF('Data Input'!C281:AZ281,\"0\"))","v":""},{"$f":"IF(ISBLANK('Data Input'!A281),\"\",SUM(C277,D277))","v":""},{"$f":"IF(ISBLANK('Data Input'!A281),\"\",SUM('Data Input'!C281:AZ281))","v":""},{"$f":"IF(F277=\"\",\"\",F277/(COUNTA('Data Input'!$C$8:$AZ$8)))","v":""},{"$f":"IF(ISBLANK('Data Input'!A281),\"\",SUM('Data Input'!C281,'Data Input'!H281,'Data Input'!J281,'Data Input'!N281,'Data Input'!R281,'Data Input'!T281,'Data Input'!Y281,'Data Input'!AE281,'Data Input'!AK281,'Data Input'!AM281))","v":""},{"$f":"IF(H277=\"\",\"\",H277/COUNTIF('Data Input'!$C$8:$AZ$8,$H$2))","v":""},{"$f":"IF(ISBLANK('Data Input'!A281),\"\",SUM('Data Input'!G281,'Data Input'!I281,'Data Input'!K281,'Data Input'!O281,'Data Input'!P281,'Data Input'!S281,'Data Input'!U281,'Data Input'!V281,'Data Input'!W281,'Data Input'!X281,'Data Input'!Z281,'Data Input'!AA281,'Data Input'!AD281,'Data Input'!AZ281))","v":""},{"$f":"IF(J277=\"\",\"\",J277/COUNTIF('Data Input'!$C$8:$AZ$8,$J$2))","v":""},{"$f":"IF(ISBLANK('Data Input'!A281),\"\",SUM('Data Input'!Q281,'Data Input'!AG281))","v":""},{"$f":"IF(L277=\"\",\"\",L277/COUNTIF('Data Input'!$C$8:$AZ$8,$L$2))","v":""},{"$f":"IF(ISBLANK('Data Input'!A281),\"\",SUM('Data Input'!D281,'Data Input'!E281,'Data Input'!F281,'Data Input'!L281,'Data Input'!M281,'Data Input'!AB281,'Data Input'!AC281,'Data Input'!AF281,'Data Input'!AJ281,'Data Input'!AL281,'Data Input'!AN281,'Data Input'!AO281,'Data Input'!AP281,'Data Input'!AQ281,'Data Input'!AR281,'Data Input'!AS281,'Data Input'!AT281,'Data Input'!AU281,'Data Input'!AV281,'Data Input'!AW281,'Data Input'!AX281,'Data Input'!AY281))","v":""},{"$f":"IF(N277=\"\",\"\",N277/COUNTIF('Data Input'!$C$8:$AZ$8,$N$2))","v":""},null,{"$f":"IF(P277=\"\",\"\",P277/COUNTIF('Data Input'!$C$8:$AZ$8,$P$2))","v":""},{"$f":"IF(ISBLANK('Data Input'!A281),\"\",SUM('Data Input'!AH281))","v":""},{"$f":"IF(R277=\"\",\"\",R277/COUNTIF('Data Input'!$C$8:$AZ$8,$R$2))","v":""},{"$f":"IF(ISBLANK('Data Input'!$A281),\"\",SUM('Data Input'!AI281))","v":""},{"$f":"IF(T277=\"\",\"\",T277/COUNTIF('Data Input'!$C$8:$AZ$8,$T$2))","v":""},null,{"$f":"IF(V277=\"\",\"\",V277/COUNTIF('Data Input'!$C$8:$AZ$8,$V$2))","v":""}]
[{"$f":"IF('Data Input'!A282=0,\"\",'Data Input'!A282)","v":""},{"$f":"IF(F278=\"\",\"\",IF(F278>Welcome!$J$20-1,\"Exceeding\",IF(F278>Welcome!$F$20-1,\"Expected\",IF(F278<Welcome!$F$20,\"Below\"))))","v":""},{"$f":"IF(ISBLANK('Data Input'!A282),\"\",COUNTIF('Data Input'!C282:AZ282,\"\"))","v":""},{"$f":"IF(ISBLANK('Data Input'!A282),\"\",COUNTIF('Data Input'!C282:AZ282,\"0\"))","v":""},{"$f":"IF(ISBLANK('Data Input'!A282),\"\",SUM(C278,D278))","v":""},{"$f":"IF(ISBLANK('Data Input'!A282),\"\",SUM('Data Input'!C282:AZ282))","v":""},{"$f":"IF(F278=\"\",\"\",F278/(COUNTA('Data Input'!$C$8:$AZ$8)))","v":""},{"$f":"IF(ISBLANK('Data Input'!A282),\"\",SUM('Data Input'!C282,'Data Input'!H282,'Data Input'!J282,'Data Input'!N282,'Data Input'!R282,'Data Input'!T282,'Data Input'!Y282,'Data Input'!AE282,'Data Input'!AK282,'Data Input'!AM282))","v":""},{"$f":"IF(H278=\"\",\"\",H278/COUNTIF('Data Input'!$C$8:$AZ$8,$H$2))","v":""},{"$f":"IF(ISBLANK('Data Input'!A282),\"\",SUM('Data Input'!G282,'Data Input'!I282,'Data Input'!K282,'Data Input'!O282,'Data Input'!P282,'Data Input'!S282,'Data Input'!U282,'Data Input'!V282,'Data Input'!W282,'Data Input'!X282,'Data Input'!Z282,'Data Input'!AA282,'Data Input'!AD282,'Data Input'!AZ282))","v":""},{"$f":"IF(J278=\"\",\"\",J278/COUNTIF('Data Input'!$C$8:$AZ$8,$J$2))","v":""},{"$f":"IF(ISBLANK('Data Input'!A282),\"\",SUM('Data Input'!Q282,'Data Input'!AG282))","v":""},{"$f":"IF(L278=\"\",\"\",L278/COUNTIF('Data Input'!$C$8:$AZ$8,$L$2))","v":""},{"$f":"IF(ISBLANK('Data Input'!A282),\"\",SUM('Data Input'!D282,'Data Input'!E282,'Data Input'!F282,'Data Input'!L282,'Data Input'!M282,'Data Input'!AB282,'Data Input'!AC282,'Data Input'!AF282,'Data Input'!AJ282,'Data Input'!AL282,'Data Input'!AN282,'Data Input'!AO282,'Data Input'!AP282,'Data Input'!AQ282,'Data Input'!AR282,'Data Input'!AS282,'Data Input'!AT282,'Data Input'!AU282,'Data Input'!AV282,'Data Input'!AW282,'Data Input'!AX282,'Data Input'!AY282))","v":""},{"$f":"IF(N278=\"\",\"\",N278/COUNTIF('Data Input'!$C$8:$AZ$8,$N$2))","v":""},null,{"$f":"IF(P278=\"\",\"\",P278/COUNTIF('Data Input'!$C$8:$AZ$8,$P$2))","v":""},{"$f":"IF(ISBLANK('Data Input'!A282),\"\",SUM('Data Input'!AH282))","v":""},{"$f":"IF(R278=\"\",\"\",R278/COUNTIF('Data Input'!$C$8:$AZ$8,$R$2))","v":""},{"$f":"IF(ISBLANK('Data Input'!$A282),\"\",SUM('Data Input'!AI282))","v":""},{"$f":"IF(T278=\"\",\"\",T278/COUNTIF('Data Input'!$C$8:$AZ$8,$T$2))","v":""},null,{"$f":"IF(V278=\"\",\"\",V278/COUNTIF('Data Input'!$C$8:$AZ$8,$V$2))","v":""}]
[{"$f":"IF('Data Input'!A283=0,\"\",'Data Input'!A283)","v":""},{"$f":"IF(F279=\"\",\"\",IF(F279>Welcome!$J$20-1,\"Exceeding\",IF(F279>Welcome!$F$20-1,\"Expected\",IF(F279<Welcome!$F$20,\"Below\"))))","v":""},{"$f":"IF(ISBLANK('Data Input'!A283),\"\",COUNTIF('Data Input'!C283:AZ283,\"\"))","v":""},{"$f":"IF(ISBLANK('Data Input'!A283),\"\",COUNTIF('Data Input'!C283:AZ283,\"0\"))","v":""},{"$f":"IF(ISBLANK('Data Input'!A283),\"\",SUM(C279,D279))","v":""},{"$f":"IF(ISBLANK('Data Input'!A283),\"\",SUM('Data Input'!C283:AZ283))","v":""},{"$f":"IF(F279=\"\",\"\",F279/(COUNTA('Data Input'!$C$8:$AZ$8)))","v":""},{"$f":"IF(ISBLANK('Data Input'!A283),\"\",SUM('Data Input'!C283,'Data Input'!H283,'Data Input'!J283,'Data Input'!N283,'Data Input'!R283,'Data Input'!T283,'Data Input'!Y283,'Data Input'!AE283,'Data Input'!AK283,'Data Input'!AM283))","v":""},{"$f":"IF(H279=\"\",\"\",H279/COUNTIF('Data Input'!$C$8:$AZ$8,$H$2))","v":""},{"$f":"IF(ISBLANK('Data Input'!A283),\"\",SUM('Data Input'!G283,'Data Input'!I283,'Data Input'!K283,'Data Input'!O283,'Data Input'!P283,'Data Input'!S283,'Data Input'!U283,'Data Input'!V283,'Data Input'!W283,'Data Input'!X283,'Data Input'!Z283,'Data Input'!AA283,'Data Input'!AD283,'Data Input'!AZ283))","v":""},{"$f":"IF(J279=\"\",\"\",J279/COUNTIF('Data Input'!$C$8:$AZ$8,$J$2))","v":""},{"$f":"IF(ISBLANK('Data Input'!A283),\"\",SUM('Data Input'!Q283,'Data Input'!AG283))","v":""},{"$f":"IF(L279=\"\",\"\",L279/COUNTIF('Data Input'!$C$8:$AZ$8,$L$2))","v":""},{"$f":"IF(ISBLANK('Data Input'!A283),\"\",SUM('Data Input'!D283,'Data Input'!E283,'Data Input'!F283,'Data Input'!L283,'Data Input'!M283,'Data Input'!AB283,'Data Input'!AC283,'Data Input'!AF283,'Data Input'!AJ283,'Data Input'!AL283,'Data Input'!AN283,'Data Input'!AO283,'Data Input'!AP283,'Data Input'!AQ283,'Data Input'!AR283,'Data Input'!AS283,'Data Input'!AT283,'Data Input'!AU283,'Data Input'!AV283,'Data Input'!AW283,'Data Input'!AX283,'Data Input'!AY283))","v":""},{"$f":"IF(N279=\"\",\"\",N279/COUNTIF('Data Input'!$C$8:$AZ$8,$N$2))","v":""},null,{"$f":"IF(P279=\"\",\"\",P279/COUNTIF('Data Input'!$C$8:$AZ$8,$P$2))","v":""},{"$f":"IF(ISBLANK('Data Input'!A283),\"\",SUM('Data Input'!AH283))","v":""},{"$f":"IF(R279=\"\",\"\",R279/COUNTIF('Data Input'!$C$8:$AZ$8,$R$2))","v":""},{"$f":"IF(ISBLANK('Data Input'!$A283),\"\",SUM('Data Input'!AI283))","v":""},{"$f":"IF(T279=\"\",\"\",T279/COUNTIF('Data Input'!$C$8:$AZ$8,$T$2))","v":""},null,{"$f":"IF(V279=\"\",\"\",V279/COUNTIF('Data Input'!$C$8:$AZ$8,$V$2))","v":""}]
[{"$f":"IF('Data Input'!A284=0,\"\",'Data Input'!A284)","v":""},{"$f":"IF(F280=\"\",\"\",IF(F280>Welcome!$J$20-1,\"Exceeding\",IF(F280>Welcome!$F$20-1,\"Expected\",IF(F280<Welcome!$F$20,\"Below\"))))","v":""},{"$f":"IF(ISBLANK('Data Input'!A284),\"\",COUNTIF('Data Input'!C284:AZ284,\"\"))","v":""},{"$f":"IF(ISBLANK('Data Input'!A284),\"\",COUNTIF('Data Input'!C284:AZ284,\"0\"))","v":""},{"$f":"IF(ISBLANK('Data Input'!A284),\"\",SUM(C280,D280))","v":""},{"$f":"IF(ISBLANK('Data Input'!A284),\"\",SUM('Data Input'!C284:AZ284))","v":""},{"$f":"IF(F280=\"\",\"\",F280/(COUNTA('Data Input'!$C$8:$AZ$8)))","v":""},{"$f":"IF(ISBLANK('Data Input'!A284),\"\",SUM('Data Input'!C284,'Data Input'!H284,'Data Input'!J284,'Data Input'!N284,'Data Input'!R284,'Data Input'!T284,'Data Input'!Y284,'Data Input'!AE284,'Data Input'!AK284,'Data Input'!AM284))","v":""},{"$f":"IF(H280=\"\",\"\",H280/COUNTIF('Data Input'!$C$8:$AZ$8,$H$2))","v":""},{"$f":"IF(ISBLANK('Data Input'!A284),\"\",SUM('Data Input'!G284,'Data Input'!I284,'Data Input'!K284,'Data Input'!O284,'Data Input'!P284,'Data Input'!S284,'Data Input'!U284,'Data Input'!V284,'Data Input'!W284,'Data Input'!X284,'Data Input'!Z284,'Data Input'!AA284,'Data Input'!AD284,'Data Input'!AZ284))","v":""},{"$f":"IF(J280=\"\",\"\",J280/COUNTIF('Data Input'!$C$8:$AZ$8,$J$2))","v":""},{"$f":"IF(ISBLANK('Data Input'!A284),\"\",SUM('Data Input'!Q284,'Data Input'!AG284))","v":""},{"$f":"IF(L280=\"\",\"\",L280/COUNTIF('Data Input'!$C$8:$AZ$8,$L$2))","v":""},{"$f":"IF(ISBLANK('Data Input'!A284),\"\",SUM('Data Input'!D284,'Data Input'!E284,'Data Input'!F284,'Data Input'!L284,'Data Input'!M284,'Data Input'!AB284,'Data Input'!AC284,'Data Input'!AF284,'Data Input'!AJ284,'Data Input'!AL284,'Data Input'!AN284,'Data Input'!AO284,'Data Input'!AP284,'Data Input'!AQ284,'Data Input'!AR284,'Data Input'!AS284,'Data Input'!AT284,'Data Input'!AU284,'Data Input'!AV284,'Data Input'!AW284,'Data Input'!AX284,'Data Input'!AY284))","v":""},{"$f":"IF(N280=\"\",\"\",N280/COUNTIF('Data Input'!$C$8:$AZ$8,$N$2))","v":""},null,{"$f":"IF(P280=\"\",\"\",P280/COUNTIF('Data Input'!$C$8:$AZ$8,$P$2))","v":""},{"$f":"IF(ISBLANK('Data Input'!A284),\"\",SUM('Data Input'!AH284))","v":""},{"$f":"IF(R280=\"\",\"\",R280/COUNTIF('Data Input'!$C$8:$AZ$8,$R$2))","v":""},{"$f":"IF(ISBLANK('Data Input'!$A284),\"\",SUM('Data Input'!AI284))","v":""},{"$f":"IF(T280=\"\",\"\",T280/COUNTIF('Data Input'!$C$8:$AZ$8,$T$2))","v":""},null,{"$f":"IF(V280=\"\",\"\",V280/COUNTIF('Data Input'!$C$8:$AZ$8,$V$2))","v":""}]
[{"$f":"IF('Data Input'!A285=0,\"\",'Data Input'!A285)","v":""},{"$f":"IF(F281=\"\",\"\",IF(F281>Welcome!$J$20-1,\"Exceeding\",IF(F281>Welcome!$F$20-1,\"Expected\",IF(F281<Welcome!$F$20,\"Below\"))))","v":""},{"$f":"IF(ISBLANK('Data Input'!A285),\"\",COUNTIF('Data Input'!C285:AZ285,\"\"))","v":""},{"$f":"IF(ISBLANK('Data Input'!A285),\"\",COUNTIF('Data Input'!C285:AZ285,\"0\"))","v":""},{"$f":"IF(ISBLANK('Data Input'!A285),\"\",SUM(C281,D281))","v":""},{"$f":"IF(ISBLANK('Data Input'!A285),\"\",SUM('Data Input'!C285:AZ285))","v":""},{"$f":"IF(F281=\"\",\"\",F281/(COUNTA('Data Input'!$C$8:$AZ$8)))","v":""},{"$f":"IF(ISBLANK('Data Input'!A285),\"\",SUM('Data Input'!C285,'Data Input'!H285,'Data Input'!J285,'Data Input'!N285,'Data Input'!R285,'Data Input'!T285,'Data Input'!Y285,'Data Input'!AE285,'Data Input'!AK285,'Data Input'!AM285))","v":""},{"$f":"IF(H281=\"\",\"\",H281/COUNTIF('Data Input'!$C$8:$AZ$8,$H$2))","v":""},{"$f":"IF(ISBLANK('Data Input'!A285),\"\",SUM('Data Input'!G285,'Data Input'!I285,'Data Input'!K285,'Data Input'!O285,'Data Input'!P285,'Data Input'!S285,'Data Input'!U285,'Data Input'!V285,'Data Input'!W285,'Data Input'!X285,'Data Input'!Z285,'Data Input'!AA285,'Data Input'!AD285,'Data Input'!AZ285))","v":""},{"$f":"IF(J281=\"\",\"\",J281/COUNTIF('Data Input'!$C$8:$AZ$8,$J$2))","v":""},{"$f":"IF(ISBLANK('Data Input'!A285),\"\",SUM('Data Input'!Q285,'Data Input'!AG285))","v":""},{"$f":"IF(L281=\"\",\"\",L281/COUNTIF('Data Input'!$C$8:$AZ$8,$L$2))","v":""},{"$f":"IF(ISBLANK('Data Input'!A285),\"\",SUM('Data Input'!D285,'Data Input'!E285,'Data Input'!F285,'Data Input'!L285,'Data Input'!M285,'Data Input'!AB285,'Data Input'!AC285,'Data Input'!AF285,'Data Input'!AJ285,'Data Input'!AL285,'Data Input'!AN285,'Data Input'!AO285,'Data Input'!AP285,'Data Input'!AQ285,'Data Input'!AR285,'Data Input'!AS285,'Data Input'!AT285,'Data Input'!AU285,'Data Input'!AV285,'Data Input'!AW285,'Data Input'!AX285,'Data Input'!AY285))","v":""},{"$f":"IF(N281=\"\",\"\",N281/COUNTIF('Data Input'!$C$8:$AZ$8,$N$2))","v":""},null,{"$f":"IF(P281=\"\",\"\",P281/COUNTIF('Data Input'!$C$8:$AZ$8,$P$2))","v":""},{"$f":"IF(ISBLANK('Data Input'!A285),\"\",SUM('Data Input'!AH285))","v":""},{"$f":"IF(R281=\"\",\"\",R281/COUNTIF('Data Input'!$C$8:$AZ$8,$R$2))","v":""},{"$f":"IF(ISBLANK('Data Input'!$A285),\"\",SUM('Data Input'!AI285))","v":""},{"$f":"IF(T281=\"\",\"\",T281/COUNTIF('Data Input'!$C$8:$AZ$8,$T$2))","v":""},null,{"$f":"IF(V281=\"\",\"\",V281/COUNTIF('Data Input'!$C$8:$AZ$8,$V$2))","v":""}]
[{"$f":"IF('Data Input'!A286=0,\"\",'Data Input'!A286)","v":""},{"$f":"IF(F282=\"\",\"\",IF(F282>Welcome!$J$20-1,\"Exceeding\",IF(F282>Welcome!$F$20-1,\"Expected\",IF(F282<Welcome!$F$20,\"Below\"))))","v":""},{"$f":"IF(ISBLANK('Data Input'!A286),\"\",COUNTIF('Data Input'!C286:AZ286,\"\"))","v":""},{"$f":"IF(ISBLANK('Data Input'!A286),\"\",COUNTIF('Data Input'!C286:AZ286,\"0\"))","v":""},{"$f":"IF(ISBLANK('Data Input'!A286),\"\",SUM(C282,D282))","v":""},{"$f":"IF(ISBLANK('Data Input'!A286),\"\",SUM('Data Input'!C286:AZ286))","v":""},{"$f":"IF(F282=\"\",\"\",F282/(COUNTA('Data Input'!$C$8:$AZ$8)))","v":""},{"$f":"IF(ISBLANK('Data Input'!A286),\"\",SUM('Data Input'!C286,'Data Input'!H286,'Data Input'!J286,'Data Input'!N286,'Data Input'!R286,'Data Input'!T286,'Data Input'!Y286,'Data Input'!AE286,'Data Input'!AK286,'Data Input'!AM286))","v":""},{"$f":"IF(H282=\"\",\"\",H282/COUNTIF('Data Input'!$C$8:$AZ$8,$H$2))","v":""},{"$f":"IF(ISBLANK('Data Input'!A286),\"\",SUM('Data Input'!G286,'Data Input'!I286,'Data Input'!K286,'Data Input'!O286,'Data Input'!P286,'Data Input'!S286,'Data Input'!U286,'Data Input'!V286,'Data Input'!W286,'Data Input'!X286,'Data Input'!Z286,'Data Input'!AA286,'Data Input'!AD286,'Data Input'!AZ286))","v":""},{"$f":"IF(J282=\"\",\"\",J282/COUNTIF('Data Input'!$C$8:$AZ$8,$J$2))","v":""},{"$f":"IF(ISBLANK('Data Input'!A286),\"\",SUM('Data Input'!Q286,'Data Input'!AG286))","v":""},{"$f":"IF(L282=\"\",\"\",L282/COUNTIF('Data Input'!$C$8:$AZ$8,$L$2))","v":""},{"$f":"IF(ISBLANK('Data Input'!A286),\"\",SUM('Data Input'!D286,'Data Input'!E286,'Data Input'!F286,'Data Input'!L286,'Data Input'!M286,'Data Input'!AB286,'Data Input'!AC286,'Data Input'!AF286,'Data Input'!AJ286,'Data Input'!AL286,'Data Input'!AN286,'Data Input'!AO286,'Data Input'!AP286,'Data Input'!AQ286,'Data Input'!AR286,'Data Input'!AS286,'Data Input'!AT286,'Data Input'!AU286,'Data Input'!AV286,'Data Input'!AW286,'Data Input'!AX286,'Data Input'!AY286))","v":""},{"$f":"IF(N282=\"\",\"\",N282/COUNTIF('Data Input'!$C$8:$AZ$8,$N$2))","v":""},null,{"$f":"IF(P282=\"\",\"\",P282/COUNTIF('Data Input'!$C$8:$AZ$8,$P$2))","v":""},{"$f":"IF(ISBLANK('Data Input'!A286),\"\",SUM('Data Input'!AH286))","v":""},{"$f":"IF(R282=\"\",\"\",R282/COUNTIF('Data Input'!$C$8:$AZ$8,$R$2))","v":""},{"$f":"IF(ISBLANK('Data Input'!$A286),\"\",SUM('Data Input'!AI286))","v":""},{"$f":"IF(T282=\"\",\"\",T282/COUNTIF('Data Input'!$C$8:$AZ$8,$T$2))","v":""},null,{"$f":"IF(V282=\"\",\"\",V282/COUNTIF('Data Input'!$C$8:$AZ$8,$V$2))","v":""}]
[{"$f":"IF('Data Input'!A287=0,\"\",'Data Input'!A287)","v":""},{"$f":"IF(F283=\"\",\"\",IF(F283>Welcome!$J$20-1,\"Exceeding\",IF(F283>Welcome!$F$20-1,\"Expected\",IF(F283<Welcome!$F$20,\"Below\"))))","v":""},{"$f":"IF(ISBLANK('Data Input'!A287),\"\",COUNTIF('Data Input'!C287:AZ287,\"\"))","v":""},{"$f":"IF(ISBLANK('Data Input'!A287),\"\",COUNTIF('Data Input'!C287:AZ287,\"0\"))","v":""},{"$f":"IF(ISBLANK('Data Input'!A287),\"\",SUM(C283,D283))","v":""},{"$f":"IF(ISBLANK('Data Input'!A287),\"\",SUM('Data Input'!C287:AZ287))","v":""},{"$f":"IF(F283=\"\",\"\",F283/(COUNTA('Data Input'!$C$8:$AZ$8)))","v":""},{"$f":"IF(ISBLANK('Data Input'!A287),\"\",SUM('Data Input'!C287,'Data Input'!H287,'Data Input'!J287,'Data Input'!N287,'Data Input'!R287,'Data Input'!T287,'Data Input'!Y287,'Data Input'!AE287,'Data Input'!AK287,'Data Input'!AM287))","v":""},{"$f":"IF(H283=\"\",\"\",H283/COUNTIF('Data Input'!$C$8:$AZ$8,$H$2))","v":""},{"$f":"IF(ISBLANK('Data Input'!A287),\"\",SUM('Data Input'!G287,'Data Input'!I287,'Data Input'!K287,'Data Input'!O287,'Data Input'!P287,'Data Input'!S287,'Data Input'!U287,'Data Input'!V287,'Data Input'!W287,'Data Input'!X287,'Data Input'!Z287,'Data Input'!AA287,'Data Input'!AD287,'Data Input'!AZ287))","v":""},{"$f":"IF(J283=\"\",\"\",J283/COUNTIF('Data Input'!$C$8:$AZ$8,$J$2))","v":""},{"$f":"IF(ISBLANK('Data Input'!A287),\"\",SUM('Data Input'!Q287,'Data Input'!AG287))","v":""},{"$f":"IF(L283=\"\",\"\",L283/COUNTIF('Data Input'!$C$8:$AZ$8,$L$2))","v":""},{"$f":"IF(ISBLANK('Data Input'!A287),\"\",SUM('Data Input'!D287,'Data Input'!E287,'Data Input'!F287,'Data Input'!L287,'Data Input'!M287,'Data Input'!AB287,'Data Input'!AC287,'Data Input'!AF287,'Data Input'!AJ287,'Data Input'!AL287,'Data Input'!AN287,'Data Input'!AO287,'Data Input'!AP287,'Data Input'!AQ287,'Data Input'!AR287,'Data Input'!AS287,'Data Input'!AT287,'Data Input'!AU287,'Data Input'!AV287,'Data Input'!AW287,'Data Input'!AX287,'Data Input'!AY287))","v":""},{"$f":"IF(N283=\"\",\"\",N283/COUNTIF('Data Input'!$C$8:$AZ$8,$N$2))","v":""},null,{"$f":"IF(P283=\"\",\"\",P283/COUNTIF('Data Input'!$C$8:$AZ$8,$P$2))","v":""},{"$f":"IF(ISBLANK('Data Input'!A287),\"\",SUM('Data Input'!AH287))","v":""},{"$f":"IF(R283=\"\",\"\",R283/COUNTIF('Data Input'!$C$8:$AZ$8,$R$2))","v":""},{"$f":"IF(ISBLANK('Data Input'!$A287),\"\",SUM('Data Input'!AI287))","v":""},{"$f":"IF(T283=\"\",\"\",T283/COUNTIF('Data Input'!$C$8:$AZ$8,$T$2))","v":""},null,{"$f":"IF(V283=\"\",\"\",V283/COUNTIF('Data Input'!$C$8:$AZ$8,$V$2))","v":""}]
[{"$f":"IF('Data Input'!A288=0,\"\",'Data Input'!A288)","v":""},{"$f":"IF(F284=\"\",\"\",IF(F284>Welcome!$J$20-1,\"Exceeding\",IF(F284>Welcome!$F$20-1,\"Expected\",IF(F284<Welcome!$F$20,\"Below\"))))","v":""},{"$f":"IF(ISBLANK('Data Input'!A288),\"\",COUNTIF('Data Input'!C288:AZ288,\"\"))","v":""},{"$f":"IF(ISBLANK('Data Input'!A288),\"\",COUNTIF('Data Input'!C288:AZ288,\"0\"))","v":""},{"$f":"IF(ISBLANK('Data Input'!A288),\"\",SUM(C284,D284))","v":""},{"$f":"IF(ISBLANK('Data Input'!A288),\"\",SUM('Data Input'!C288:AZ288))","v":""},{"$f":"IF(F284=\"\",\"\",F284/(COUNTA('Data Input'!$C$8:$AZ$8)))","v":""},{"$f":"IF(ISBLANK('Data Input'!A288),\"\",SUM('Data Input'!C288,'Data Input'!H288,'Data Input'!J288,'Data Input'!N288,'Data Input'!R288,'Data Input'!T288,'Data Input'!Y288,'Data Input'!AE288,'Data Input'!AK288,'Data Input'!AM288))","v":""},{"$f":"IF(H284=\"\",\"\",H284/COUNTIF('Data Input'!$C$8:$AZ$8,$H$2))","v":""},{"$f":"IF(ISBLANK('Data Input'!A288),\"\",SUM('Data Input'!G288,'Data Input'!I288,'Data Input'!K288,'Data Input'!O288,'Data Input'!P288,'Data Input'!S288,'Data Input'!U288,'Data Input'!V288,'Data Input'!W288,'Data Input'!X288,'Data Input'!Z288,'Data Input'!AA288,'Data Input'!AD288,'Data Input'!AZ288))","v":""},{"$f":"IF(J284=\"\",\"\",J284/COUNTIF('Data Input'!$C$8:$AZ$8,$J$2))","v":""},{"$f":"IF(ISBLANK('Data Input'!A288),\"\",SUM('Data Input'!Q288,'Data Input'!AG288))","v":""},{"$f":"IF(L284=\"\",\"\",L284/COUNTIF('Data Input'!$C$8:$AZ$8,$L$2))","v":""},{"$f":"IF(ISBLANK('Data Input'!A288),\"\",SUM('Data Input'!D288,'Data Input'!E288,'Data Input'!F288,'Data Input'!L288,'Data Input'!M288,'Data Input'!AB288,'Data Input'!AC288,'Data Input'!AF288,'Data Input'!AJ288,'Data Input'!AL288,'Data Input'!AN288,'Data Input'!AO288,'Data Input'!AP288,'Data Input'!AQ288,'Data Input'!AR288,'Data Input'!AS288,'Data Input'!AT288,'Data Input'!AU288,'Data Input'!AV288,'Data Input'!AW288,'Data Input'!AX288,'Data Input'!AY288))","v":""},{"$f":"IF(N284=\"\",\"\",N284/COUNTIF('Data Input'!$C$8:$AZ$8,$N$2))","v":""},null,{"$f":"IF(P284=\"\",\"\",P284/COUNTIF('Data Input'!$C$8:$AZ$8,$P$2))","v":""},{"$f":"IF(ISBLANK('Data Input'!A288),\"\",SUM('Data Input'!AH288))","v":""},{"$f":"IF(R284=\"\",\"\",R284/COUNTIF('Data Input'!$C$8:$AZ$8,$R$2))","v":""},{"$f":"IF(ISBLANK('Data Input'!$A288),\"\",SUM('Data Input'!AI288))","v":""},{"$f":"IF(T284=\"\",\"\",T284/COUNTIF('Data Input'!$C$8:$AZ$8,$T$2))","v":""},null,{"$f":"IF(V284=\"\",\"\",V284/COUNTIF('Data Input'!$C$8:$AZ$8,$V$2))","v":""}]
[{"$f":"IF('Data Input'!A289=0,\"\",'Data Input'!A289)","v":""},{"$f":"IF(F285=\"\",\"\",IF(F285>Welcome!$J$20-1,\"Exceeding\",IF(F285>Welcome!$F$20-1,\"Expected\",IF(F285<Welcome!$F$20,\"Below\"))))","v":""},{"$f":"IF(ISBLANK('Data Input'!A289),\"\",COUNTIF('Data Input'!C289:AZ289,\"\"))","v":""},{"$f":"IF(ISBLANK('Data Input'!A289),\"\",COUNTIF('Data Input'!C289:AZ289,\"0\"))","v":""},{"$f":"IF(ISBLANK('Data Input'!A289),\"\",SUM(C285,D285))","v":""},{"$f":"IF(ISBLANK('Data Input'!A289),\"\",SUM('Data Input'!C289:AZ289))","v":""},{"$f":"IF(F285=\"\",\"\",F285/(COUNTA('Data Input'!$C$8:$AZ$8)))","v":""},{"$f":"IF(ISBLANK('Data Input'!A289),\"\",SUM('Data Input'!C289,'Data Input'!H289,'Data Input'!J289,'Data Input'!N289,'Data Input'!R289,'Data Input'!T289,'Data Input'!Y289,'Data Input'!AE289,'Data Input'!AK289,'Data Input'!AM289))","v":""},{"$f":"IF(H285=\"\",\"\",H285/COUNTIF('Data Input'!$C$8:$AZ$8,$H$2))","v":""},{"$f":"IF(ISBLANK('Data Input'!A289),\"\",SUM('Data Input'!G289,'Data Input'!I289,'Data Input'!K289,'Data Input'!O289,'Data Input'!P289,'Data Input'!S289,'Data Input'!U289,'Data Input'!V289,'Data Input'!W289,'Data Input'!X289,'Data Input'!Z289,'Data Input'!AA289,'Data Input'!AD289,'Data Input'!AZ289))","v":""},{"$f":"IF(J285=\"\",\"\",J285/COUNTIF('Data Input'!$C$8:$AZ$8,$J$2))","v":""},{"$f":"IF(ISBLANK('Data Input'!A289),\"\",SUM('Data Input'!Q289,'Data Input'!AG289))","v":""},{"$f":"IF(L285=\"\",\"\",L285/COUNTIF('Data Input'!$C$8:$AZ$8,$L$2))","v":""},{"$f":"IF(ISBLANK('Data Input'!A289),\"\",SUM('Data Input'!D289,'Data Input'!E289,'Data Input'!F289,'Data Input'!L289,'Data Input'!M289,'Data Input'!AB289,'Data Input'!AC289,'Data Input'!AF289,'Data Input'!AJ289,'Data Input'!AL289,'Data Input'!AN289,'Data Input'!AO289,'Data Input'!AP289,'Data Input'!AQ289,'Data Input'!AR289,'Data Input'!AS289,'Data Input'!AT289,'Data Input'!AU289,'Data Input'!AV289,'Data Input'!AW289,'Data Input'!AX289,'Data Input'!AY289))","v":""},{"$f":"IF(N285=\"\",\"\",N285/COUNTIF('Data Input'!$C$8:$AZ$8,$N$2))","v":""},null,{"$f":"IF(P285=\"\",\"\",P285/COUNTIF('Data Input'!$C$8:$AZ$8,$P$2))","v":""},{"$f":"IF(ISBLANK('Data Input'!A289),\"\",SUM('Data Input'!AH289))","v":""},{"$f":"IF(R285=\"\",\"\",R285/COUNTIF('Data Input'!$C$8:$AZ$8,$R$2))","v":""},{"$f":"IF(ISBLANK('Data Input'!$A289),\"\",SUM('Data Input'!AI289))","v":""},{"$f":"IF(T285=\"\",\"\",T285/COUNTIF('Data Input'!$C$8:$AZ$8,$T$2))","v":""},null,{"$f":"IF(V285=\"\",\"\",V285/COUNTIF('Data Input'!$C$8:$AZ$8,$V$2))","v":""}]
[{"$f":"IF('Data Input'!A290=0,\"\",'Data Input'!A290)","v":""},{"$f":"IF(F286=\"\",\"\",IF(F286>Welcome!$J$20-1,\"Exceeding\",IF(F286>Welcome!$F$20-1,\"Expected\",IF(F286<Welcome!$F$20,\"Below\"))))","v":""},{"$f":"IF(ISBLANK('Data Input'!A290),\"\",COUNTIF('Data Input'!C290:AZ290,\"\"))","v":""},{"$f":"IF(ISBLANK('Data Input'!A290),\"\",COUNTIF('Data Input'!C290:AZ290,\"0\"))","v":""},{"$f":"IF(ISBLANK('Data Input'!A290),\"\",SUM(C286,D286))","v":""},{"$f":"IF(ISBLANK('Data Input'!A290),\"\",SUM('Data Input'!C290:AZ290))","v":""},{"$f":"IF(F286=\"\",\"\",F286/(COUNTA('Data Input'!$C$8:$AZ$8)))","v":""},{"$f":"IF(ISBLANK('Data Input'!A290),\"\",SUM('Data Input'!C290,'Data Input'!H290,'Data Input'!J290,'Data Input'!N290,'Data Input'!R290,'Data Input'!T290,'Data Input'!Y290,'Data Input'!AE290,'Data Input'!AK290,'Data Input'!AM290))","v":""},{"$f":"IF(H286=\"\",\"\",H286/COUNTIF('Data Input'!$C$8:$AZ$8,$H$2))","v":""},{"$f":"IF(ISBLANK('Data Input'!A290),\"\",SUM('Data Input'!G290,'Data Input'!I290,'Data Input'!K290,'Data Input'!O290,'Data Input'!P290,'Data Input'!S290,'Data Input'!U290,'Data Input'!V290,'Data Input'!W290,'Data Input'!X290,'Data Input'!Z290,'Data Input'!AA290,'Data Input'!AD290,'Data Input'!AZ290))","v":""},{"$f":"IF(J286=\"\",\"\",J286/COUNTIF('Data Input'!$C$8:$AZ$8,$J$2))","v":""},{"$f":"IF(ISBLANK('Data Input'!A290),\"\",SUM('Data Input'!Q290,'Data Input'!AG290))","v":""},{"$f":"IF(L286=\"\",\"\",L286/COUNTIF('Data Input'!$C$8:$AZ$8,$L$2))","v":""},{"$f":"IF(ISBLANK('Data Input'!A290),\"\",SUM('Data Input'!D290,'Data Input'!E290,'Data Input'!F290,'Data Input'!L290,'Data Input'!M290,'Data Input'!AB290,'Data Input'!AC290,'Data Input'!AF290,'Data Input'!AJ290,'Data Input'!AL290,'Data Input'!AN290,'Data Input'!AO290,'Data Input'!AP290,'Data Input'!AQ290,'Data Input'!AR290,'Data Input'!AS290,'Data Input'!AT290,'Data Input'!AU290,'Data Input'!AV290,'Data Input'!AW290,'Data Input'!AX290,'Data Input'!AY290))","v":""},{"$f":"IF(N286=\"\",\"\",N286/COUNTIF('Data Input'!$C$8:$AZ$8,$N$2))","v":""},null,{"$f":"IF(P286=\"\",\"\",P286/COUNTIF('Data Input'!$C$8:$AZ$8,$P$2))","v":""},{"$f":"IF(ISBLANK('Data Input'!A290),\"\",SUM('Data Input'!AH290))","v":""},{"$f":"IF(R286=\"\",\"\",R286/COUNTIF('Data Input'!$C$8:$AZ$8,$R$2))","v":""},{"$f":"IF(ISBLANK('Data Input'!$A290),\"\",SUM('Data Input'!AI290))","v":""},{"$f":"IF(T286=\"\",\"\",T286/COUNTIF('Data Input'!$C$8:$AZ$8,$T$2))","v":""},null,{"$f":"IF(V286=\"\",\"\",V286/COUNTIF('Data Input'!$C$8:$AZ$8,$V$2))","v":""}]
[{"$f":"IF('Data Input'!A291=0,\"\",'Data Input'!A291)","v":""},{"$f":"IF(F287=\"\",\"\",IF(F287>Welcome!$J$20-1,\"Exceeding\",IF(F287>Welcome!$F$20-1,\"Expected\",IF(F287<Welcome!$F$20,\"Below\"))))","v":""},{"$f":"IF(ISBLANK('Data Input'!A291),\"\",COUNTIF('Data Input'!C291:AZ291,\"\"))","v":""},{"$f":"IF(ISBLANK('Data Input'!A291),\"\",COUNTIF('Data Input'!C291:AZ291,\"0\"))","v":""},{"$f":"IF(ISBLANK('Data Input'!A291),\"\",SUM(C287,D287))","v":""},{"$f":"IF(ISBLANK('Data Input'!A291),\"\",SUM('Data Input'!C291:AZ291))","v":""},{"$f":"IF(F287=\"\",\"\",F287/(COUNTA('Data Input'!$C$8:$AZ$8)))","v":""},{"$f":"IF(ISBLANK('Data Input'!A291),\"\",SUM('Data Input'!C291,'Data Input'!H291,'Data Input'!J291,'Data Input'!N291,'Data Input'!R291,'Data Input'!T291,'Data Input'!Y291,'Data Input'!AE291,'Data Input'!AK291,'Data Input'!AM291))","v":""},{"$f":"IF(H287=\"\",\"\",H287/COUNTIF('Data Input'!$C$8:$AZ$8,$H$2))","v":""},{"$f":"IF(ISBLANK('Data Input'!A291),\"\",SUM('Data Input'!G291,'Data Input'!I291,'Data Input'!K291,'Data Input'!O291,'Data Input'!P291,'Data Input'!S291,'Data Input'!U291,'Data Input'!V291,'Data Input'!W291,'Data Input'!X291,'Data Input'!Z291,'Data Input'!AA291,'Data Input'!AD291,'Data Input'!AZ291))","v":""},{"$f":"IF(J287=\"\",\"\",J287/COUNTIF('Data Input'!$C$8:$AZ$8,$J$2))","v":""},{"$f":"IF(ISBLANK('Data Input'!A291),\"\",SUM('Data Input'!Q291,'Data Input'!AG291))","v":""},{"$f":"IF(L287=\"\",\"\",L287/COUNTIF('Data Input'!$C$8:$AZ$8,$L$2))","v":""},{"$f":"IF(ISBLANK('Data Input'!A291),\"\",SUM('Data Input'!D291,'Data Input'!E291,'Data Input'!F291,'Data Input'!L291,'Data Input'!M291,'Data Input'!AB291,'Data Input'!AC291,'Data Input'!AF291,'Data Input'!AJ291,'Data Input'!AL291,'Data Input'!AN291,'Data Input'!AO291,'Data Input'!AP291,'Data Input'!AQ291,'Data Input'!AR291,'Data Input'!AS291,'Data Input'!AT291,'Data Input'!AU291,'Data Input'!AV291,'Data Input'!AW291,'Data Input'!AX291,'Data Input'!AY291))","v":""},{"$f":"IF(N287=\"\",\"\",N287/COUNTIF('Data Input'!$C$8:$AZ$8,$N$2))","v":""},null,{"$f":"IF(P287=\"\",\"\",P287/COUNTIF('Data Input'!$C$8:$AZ$8,$P$2))","v":""},{"$f":"IF(ISBLANK('Data Input'!A291),\"\",SUM('Data Input'!AH291))","v":""},{"$f":"IF(R287=\"\",\"\",R287/COUNTIF('Data Input'!$C$8:$AZ$8,$R$2))","v":""},{"$f":"IF(ISBLANK('Data Input'!$A291),\"\",SUM('Data Input'!AI291))","v":""},{"$f":"IF(T287=\"\",\"\",T287/COUNTIF('Data Input'!$C$8:$AZ$8,$T$2))","v":""},null,{"$f":"IF(V287=\"\",\"\",V287/COUNTIF('Data Input'!$C$8:$AZ$8,$V$2))","v":""}]
[{"$f":"IF('Data Input'!A292=0,\"\",'Data Input'!A292)","v":""},{"$f":"IF(F288=\"\",\"\",IF(F288>Welcome!$J$20-1,\"Exceeding\",IF(F288>Welcome!$F$20-1,\"Expected\",IF(F288<Welcome!$F$20,\"Below\"))))","v":""},{"$f":"IF(ISBLANK('Data Input'!A292),\"\",COUNTIF('Data Input'!C292:AZ292,\"\"))","v":""},{"$f":"IF(ISBLANK('Data Input'!A292),\"\",COUNTIF('Data Input'!C292:AZ292,\"0\"))","v":""},{"$f":"IF(ISBLANK('Data Input'!A292),\"\",SUM(C288,D288))","v":""},{"$f":"IF(ISBLANK('Data Input'!A292),\"\",SUM('Data Input'!C292:AZ292))","v":""},{"$f":"IF(F288=\"\",\"\",F288/(COUNTA('Data Input'!$C$8:$AZ$8)))","v":""},{"$f":"IF(ISBLANK('Data Input'!A292),\"\",SUM('Data Input'!C292,'Data Input'!H292,'Data Input'!J292,'Data Input'!N292,'Data Input'!R292,'Data Input'!T292,'Data Input'!Y292,'Data Input'!AE292,'Data Input'!AK292,'Data Input'!AM292))","v":""},{"$f":"IF(H288=\"\",\"\",H288/COUNTIF('Data Input'!$C$8:$AZ$8,$H$2))","v":""},{"$f":"IF(ISBLANK('Data Input'!A292),\"\",SUM('Data Input'!G292,'Data Input'!I292,'Data Input'!K292,'Data Input'!O292,'Data Input'!P292,'Data Input'!S292,'Data Input'!U292,'Data Input'!V292,'Data Input'!W292,'Data Input'!X292,'Data Input'!Z292,'Data Input'!AA292,'Data Input'!AD292,'Data Input'!AZ292))","v":""},{"$f":"IF(J288=\"\",\"\",J288/COUNTIF('Data Input'!$C$8:$AZ$8,$J$2))","v":""},{"$f":"IF(ISBLANK('Data Input'!A292),\"\",SUM('Data Input'!Q292,'Data Input'!AG292))","v":""},{"$f":"IF(L288=\"\",\"\",L288/COUNTIF('Data Input'!$C$8:$AZ$8,$L$2))","v":""},{"$f":"IF(ISBLANK('Data Input'!A292),\"\",SUM('Data Input'!D292,'Data Input'!E292,'Data Input'!F292,'Data Input'!L292,'Data Input'!M292,'Data Input'!AB292,'Data Input'!AC292,'Data Input'!AF292,'Data Input'!AJ292,'Data Input'!AL292,'Data Input'!AN292,'Data Input'!AO292,'Data Input'!AP292,'Data Input'!AQ292,'Data Input'!AR292,'Data Input'!AS292,'Data Input'!AT292,'Data Input'!AU292,'Data Input'!AV292,'Data Input'!AW292,'Data Input'!AX292,'Data Input'!AY292))","v":""},{"$f":"IF(N288=\"\",\"\",N288/COUNTIF('Data Input'!$C$8:$AZ$8,$N$2))","v":""},null,{"$f":"IF(P288=\"\",\"\",P288/COUNTIF('Data Input'!$C$8:$AZ$8,$P$2))","v":""},{"$f":"IF(ISBLANK('Data Input'!A292),\"\",SUM('Data Input'!AH292))","v":""},{"$f":"IF(R288=\"\",\"\",R288/COUNTIF('Data Input'!$C$8:$AZ$8,$R$2))","v":""},{"$f":"IF(ISBLANK('Data Input'!$A292),\"\",SUM('Data Input'!AI292))","v":""},{"$f":"IF(T288=\"\",\"\",T288/COUNTIF('Data Input'!$C$8:$AZ$8,$T$2))","v":""},null,{"$f":"IF(V288=\"\",\"\",V288/COUNTIF('Data Input'!$C$8:$AZ$8,$V$2))","v":""}]
[{"$f":"IF('Data Input'!A293=0,\"\",'Data Input'!A293)","v":""},{"$f":"IF(F289=\"\",\"\",IF(F289>Welcome!$J$20-1,\"Exceeding\",IF(F289>Welcome!$F$20-1,\"Expected\",IF(F289<Welcome!$F$20,\"Below\"))))","v":""},{"$f":"IF(ISBLANK('Data Input'!A293),\"\",COUNTIF('Data Input'!C293:AZ293,\"\"))","v":""},{"$f":"IF(ISBLANK('Data Input'!A293),\"\",COUNTIF('Data Input'!C293:AZ293,\"0\"))","v":""},{"$f":"IF(ISBLANK('Data Input'!A293),\"\",SUM(C289,D289))","v":""},{"$f":"IF(ISBLANK('Data Input'!A293),\"\",SUM('Data Input'!C293:AZ293))","v":""},{"$f":"IF(F289=\"\",\"\",F289/(COUNTA('Data Input'!$C$8:$AZ$8)))","v":""},{"$f":"IF(ISBLANK('Data Input'!A293),\"\",SUM('Data Input'!C293,'Data Input'!H293,'Data Input'!J293,'Data Input'!N293,'Data Input'!R293,'Data Input'!T293,'Data Input'!Y293,'Data Input'!AE293,'Data Input'!AK293,'Data Input'!AM293))","v":""},{"$f":"IF(H289=\"\",\"\",H289/COUNTIF('Data Input'!$C$8:$AZ$8,$H$2))","v":""},{"$f":"IF(ISBLANK('Data Input'!A293),\"\",SUM('Data Input'!G293,'Data Input'!I293,'Data Input'!K293,'Data Input'!O293,'Data Input'!P293,'Data Input'!S293,'Data Input'!U293,'Data Input'!V293,'Data Input'!W293,'Data Input'!X293,'Data Input'!Z293,'Data Input'!AA293,'Data Input'!AD293,'Data Input'!AZ293))","v":""},{"$f":"IF(J289=\"\",\"\",J289/COUNTIF('Data Input'!$C$8:$AZ$8,$J$2))","v":""},{"$f":"IF(ISBLANK('Data Input'!A293),\"\",SUM('Data Input'!Q293,'Data Input'!AG293))","v":""},{"$f":"IF(L289=\"\",\"\",L289/COUNTIF('Data Input'!$C$8:$AZ$8,$L$2))","v":""},{"$f":"IF(ISBLANK('Data Input'!A293),\"\",SUM('Data Input'!D293,'Data Input'!E293,'Data Input'!F293,'Data Input'!L293,'Data Input'!M293,'Data Input'!AB293,'Data Input'!AC293,'Data Input'!AF293,'Data Input'!AJ293,'Data Input'!AL293,'Data Input'!AN293,'Data Input'!AO293,'Data Input'!AP293,'Data Input'!AQ293,'Data Input'!AR293,'Data Input'!AS293,'Data Input'!AT293,'Data Input'!AU293,'Data Input'!AV293,'Data Input'!AW293,'Data Input'!AX293,'Data Input'!AY293))","v":""},{"$f":"IF(N289=\"\",\"\",N289/COUNTIF('Data Input'!$C$8:$AZ$8,$N$2))","v":""},null,{"$f":"IF(P289=\"\",\"\",P289/COUNTIF('Data Input'!$C$8:$AZ$8,$P$2))","v":""},{"$f":"IF(ISBLANK('Data Input'!A293),\"\",SUM('Data Input'!AH293))","v":""},{"$f":"IF(R289=\"\",\"\",R289/COUNTIF('Data Input'!$C$8:$AZ$8,$R$2))","v":""},{"$f":"IF(ISBLANK('Data Input'!$A293),\"\",SUM('Data Input'!AI293))","v":""},{"$f":"IF(T289=\"\",\"\",T289/COUNTIF('Data Input'!$C$8:$AZ$8,$T$2))","v":""},null,{"$f":"IF(V289=\"\",\"\",V289/COUNTIF('Data Input'!$C$8:$AZ$8,$V$2))","v":""}]
[{"$f":"IF('Data Input'!A294=0,\"\",'Data Input'!A294)","v":""},{"$f":"IF(F290=\"\",\"\",IF(F290>Welcome!$J$20-1,\"Exceeding\",IF(F290>Welcome!$F$20-1,\"Expected\",IF(F290<Welcome!$F$20,\"Below\"))))","v":""},{"$f":"IF(ISBLANK('Data Input'!A294),\"\",COUNTIF('Data Input'!C294:AZ294,\"\"))","v":""},{"$f":"IF(ISBLANK('Data Input'!A294),\"\",COUNTIF('Data Input'!C294:AZ294,\"0\"))","v":""},{"$f":"IF(ISBLANK('Data Input'!A294),\"\",SUM(C290,D290))","v":""},{"$f":"IF(ISBLANK('Data Input'!A294),\"\",SUM('Data Input'!C294:AZ294))","v":""},{"$f":"IF(F290=\"\",\"\",F290/(COUNTA('Data Input'!$C$8:$AZ$8)))","v":""},{"$f":"IF(ISBLANK('Data Input'!A294),\"\",SUM('Data Input'!C294,'Data Input'!H294,'Data Input'!J294,'Data Input'!N294,'Data Input'!R294,'Data Input'!T294,'Data Input'!Y294,'Data Input'!AE294,'Data Input'!AK294,'Data Input'!AM294))","v":""},{"$f":"IF(H290=\"\",\"\",H290/COUNTIF('Data Input'!$C$8:$AZ$8,$H$2))","v":""},{"$f":"IF(ISBLANK('Data Input'!A294),\"\",SUM('Data Input'!G294,'Data Input'!I294,'Data Input'!K294,'Data Input'!O294,'Data Input'!P294,'Data Input'!S294,'Data Input'!U294,'Data Input'!V294,'Data Input'!W294,'Data Input'!X294,'Data Input'!Z294,'Data Input'!AA294,'Data Input'!AD294,'Data Input'!AZ294))","v":""},{"$f":"IF(J290=\"\",\"\",J290/COUNTIF('Data Input'!$C$8:$AZ$8,$J$2))","v":""},{"$f":"IF(ISBLANK('Data Input'!A294),\"\",SUM('Data Input'!Q294,'Data Input'!AG294))","v":""},{"$f":"IF(L290=\"\",\"\",L290/COUNTIF('Data Input'!$C$8:$AZ$8,$L$2))","v":""},{"$f":"IF(ISBLANK('Data Input'!A294),\"\",SUM('Data Input'!D294,'Data Input'!E294,'Data Input'!F294,'Data Input'!L294,'Data Input'!M294,'Data Input'!AB294,'Data Input'!AC294,'Data Input'!AF294,'Data Input'!AJ294,'Data Input'!AL294,'Data Input'!AN294,'Data Input'!AO294,'Data Input'!AP294,'Data Input'!AQ294,'Data Input'!AR294,'Data Input'!AS294,'Data Input'!AT294,'Data Input'!AU294,'Data Input'!AV294,'Data Input'!AW294,'Data Input'!AX294,'Data Input'!AY294))","v":""},{"$f":"IF(N290=\"\",\"\",N290/COUNTIF('Data Input'!$C$8:$AZ$8,$N$2))","v":""},null,{"$f":"IF(P290=\"\",\"\",P290/COUNTIF('Data Input'!$C$8:$AZ$8,$P$2))","v":""},{"$f":"IF(ISBLANK('Data Input'!A294),\"\",SUM('Data Input'!AH294))","v":""},{"$f":"IF(R290=\"\",\"\",R290/COUNTIF('Data Input'!$C$8:$AZ$8,$R$2))","v":""},{"$f":"IF(ISBLANK('Data Input'!$A294),\"\",SUM('Data Input'!AI294))","v":""},{"$f":"IF(T290=\"\",\"\",T290/COUNTIF('Data Input'!$C$8:$AZ$8,$T$2))","v":""},null,{"$f":"IF(V290=\"\",\"\",V290/COUNTIF('Data Input'!$C$8:$AZ$8,$V$2))","v":""}]
[{"$f":"IF('Data Input'!A295=0,\"\",'Data Input'!A295)","v":""},{"$f":"IF(F291=\"\",\"\",IF(F291>Welcome!$J$20-1,\"Exceeding\",IF(F291>Welcome!$F$20-1,\"Expected\",IF(F291<Welcome!$F$20,\"Below\"))))","v":""},{"$f":"IF(ISBLANK('Data Input'!A295),\"\",COUNTIF('Data Input'!C295:AZ295,\"\"))","v":""},{"$f":"IF(ISBLANK('Data Input'!A295),\"\",COUNTIF('Data Input'!C295:AZ295,\"0\"))","v":""},{"$f":"IF(ISBLANK('Data Input'!A295),\"\",SUM(C291,D291))","v":""},{"$f":"IF(ISBLANK('Data Input'!A295),\"\",SUM('Data Input'!C295:AZ295))","v":""},{"$f":"IF(F291=\"\",\"\",F291/(COUNTA('Data Input'!$C$8:$AZ$8)))","v":""},{"$f":"IF(ISBLANK('Data Input'!A295),\"\",SUM('Data Input'!C295,'Data Input'!H295,'Data Input'!J295,'Data Input'!N295,'Data Input'!R295,'Data Input'!T295,'Data Input'!Y295,'Data Input'!AE295,'Data Input'!AK295,'Data Input'!AM295))","v":""},{"$f":"IF(H291=\"\",\"\",H291/COUNTIF('Data Input'!$C$8:$AZ$8,$H$2))","v":""},{"$f":"IF(ISBLANK('Data Input'!A295),\"\",SUM('Data Input'!G295,'Data Input'!I295,'Data Input'!K295,'Data Input'!O295,'Data Input'!P295,'Data Input'!S295,'Data Input'!U295,'Data Input'!V295,'Data Input'!W295,'Data Input'!X295,'Data Input'!Z295,'Data Input'!AA295,'Data Input'!AD295,'Data Input'!AZ295))","v":""},{"$f":"IF(J291=\"\",\"\",J291/COUNTIF('Data Input'!$C$8:$AZ$8,$J$2))","v":""},{"$f":"IF(ISBLANK('Data Input'!A295),\"\",SUM('Data Input'!Q295,'Data Input'!AG295))","v":""},{"$f":"IF(L291=\"\",\"\",L291/COUNTIF('Data Input'!$C$8:$AZ$8,$L$2))","v":""},{"$f":"IF(ISBLANK('Data Input'!A295),\"\",SUM('Data Input'!D295,'Data Input'!E295,'Data Input'!F295,'Data Input'!L295,'Data Input'!M295,'Data Input'!AB295,'Data Input'!AC295,'Data Input'!AF295,'Data Input'!AJ295,'Data Input'!AL295,'Data Input'!AN295,'Data Input'!AO295,'Data Input'!AP295,'Data Input'!AQ295,'Data Input'!AR295,'Data Input'!AS295,'Data Input'!AT295,'Data Input'!AU295,'Data Input'!AV295,'Data Input'!AW295,'Data Input'!AX295,'Data Input'!AY295))","v":""},{"$f":"IF(N291=\"\",\"\",N291/COUNTIF('Data Input'!$C$8:$AZ$8,$N$2))","v":""},null,{"$f":"IF(P291=\"\",\"\",P291/COUNTIF('Data Input'!$C$8:$AZ$8,$P$2))","v":""},{"$f":"IF(ISBLANK('Data Input'!A295),\"\",SUM('Data Input'!AH295))","v":""},{"$f":"IF(R291=\"\",\"\",R291/COUNTIF('Data Input'!$C$8:$AZ$8,$R$2))","v":""},{"$f":"IF(ISBLANK('Data Input'!$A295),\"\",SUM('Data Input'!AI295))","v":""},{"$f":"IF(T291=\"\",\"\",T291/COUNTIF('Data Input'!$C$8:$AZ$8,$T$2))","v":""},null,{"$f":"IF(V291=\"\",\"\",V291/COUNTIF('Data Input'!$C$8:$AZ$8,$V$2))","v":""}]
[{"$f":"IF('Data Input'!A296=0,\"\",'Data Input'!A296)","v":""},{"$f":"IF(F292=\"\",\"\",IF(F292>Welcome!$J$20-1,\"Exceeding\",IF(F292>Welcome!$F$20-1,\"Expected\",IF(F292<Welcome!$F$20,\"Below\"))))","v":""},{"$f":"IF(ISBLANK('Data Input'!A296),\"\",COUNTIF('Data Input'!C296:AZ296,\"\"))","v":""},{"$f":"IF(ISBLANK('Data Input'!A296),\"\",COUNTIF('Data Input'!C296:AZ296,\"0\"))","v":""},{"$f":"IF(ISBLANK('Data Input'!A296),\"\",SUM(C292,D292))","v":""},{"$f":"IF(ISBLANK('Data Input'!A296),\"\",SUM('Data Input'!C296:AZ296))","v":""},{"$f":"IF(F292=\"\",\"\",F292/(COUNTA('Data Input'!$C$8:$AZ$8)))","v":""},{"$f":"IF(ISBLANK('Data Input'!A296),\"\",SUM('Data Input'!C296,'Data Input'!H296,'Data Input'!J296,'Data Input'!N296,'Data Input'!R296,'Data Input'!T296,'Data Input'!Y296,'Data Input'!AE296,'Data Input'!AK296,'Data Input'!AM296))","v":""},{"$f":"IF(H292=\"\",\"\",H292/COUNTIF('Data Input'!$C$8:$AZ$8,$H$2))","v":""},{"$f":"IF(ISBLANK('Data Input'!A296),\"\",SUM('Data Input'!G296,'Data Input'!I296,'Data Input'!K296,'Data Input'!O296,'Data Input'!P296,'Data Input'!S296,'Data Input'!U296,'Data Input'!V296,'Data Input'!W296,'Data Input'!X296,'Data Input'!Z296,'Data Input'!AA296,'Data Input'!AD296,'Data Input'!AZ296))","v":""},{"$f":"IF(J292=\"\",\"\",J292/COUNTIF('Data Input'!$C$8:$AZ$8,$J$2))","v":""},{"$f":"IF(ISBLANK('Data Input'!A296),\"\",SUM('Data Input'!Q296,'Data Input'!AG296))","v":""},{"$f":"IF(L292=\"\",\"\",L292/COUNTIF('Data Input'!$C$8:$AZ$8,$L$2))","v":""},{"$f":"IF(ISBLANK('Data Input'!A296),\"\",SUM('Data Input'!D296,'Data Input'!E296,'Data Input'!F296,'Data Input'!L296,'Data Input'!M296,'Data Input'!AB296,'Data Input'!AC296,'Data Input'!AF296,'Data Input'!AJ296,'Data Input'!AL296,'Data Input'!AN296,'Data Input'!AO296,'Data Input'!AP296,'Data Input'!AQ296,'Data Input'!AR296,'Data Input'!AS296,'Data Input'!AT296,'Data Input'!AU296,'Data Input'!AV296,'Data Input'!AW296,'Data Input'!AX296,'Data Input'!AY296))","v":""},{"$f":"IF(N292=\"\",\"\",N292/COUNTIF('Data Input'!$C$8:$AZ$8,$N$2))","v":""},null,{"$f":"IF(P292=\"\",\"\",P292/COUNTIF('Data Input'!$C$8:$AZ$8,$P$2))","v":""},{"$f":"IF(ISBLANK('Data Input'!A296),\"\",SUM('Data Input'!AH296))","v":""},{"$f":"IF(R292=\"\",\"\",R292/COUNTIF('Data Input'!$C$8:$AZ$8,$R$2))","v":""},{"$f":"IF(ISBLANK('Data Input'!$A296),\"\",SUM('Data Input'!AI296))","v":""},{"$f":"IF(T292=\"\",\"\",T292/COUNTIF('Data Input'!$C$8:$AZ$8,$T$2))","v":""},null,{"$f":"IF(V292=\"\",\"\",V292/COUNTIF('Data Input'!$C$8:$AZ$8,$V$2))","v":""}]
[{"$f":"IF('Data Input'!A297=0,\"\",'Data Input'!A297)","v":""},{"$f":"IF(F293=\"\",\"\",IF(F293>Welcome!$J$20-1,\"Exceeding\",IF(F293>Welcome!$F$20-1,\"Expected\",IF(F293<Welcome!$F$20,\"Below\"))))","v":""},{"$f":"IF(ISBLANK('Data Input'!A297),\"\",COUNTIF('Data Input'!C297:AZ297,\"\"))","v":""},{"$f":"IF(ISBLANK('Data Input'!A297),\"\",COUNTIF('Data Input'!C297:AZ297,\"0\"))","v":""},{"$f":"IF(ISBLANK('Data Input'!A297),\"\",SUM(C293,D293))","v":""},{"$f":"IF(ISBLANK('Data Input'!A297),\"\",SUM('Data Input'!C297:AZ297))","v":""},{"$f":"IF(F293=\"\",\"\",F293/(COUNTA('Data Input'!$C$8:$AZ$8)))","v":""},{"$f":"IF(ISBLANK('Data Input'!A297),\"\",SUM('Data Input'!C297,'Data Input'!H297,'Data Input'!J297,'Data Input'!N297,'Data Input'!R297,'Data Input'!T297,'Data Input'!Y297,'Data Input'!AE297,'Data Input'!AK297,'Data Input'!AM297))","v":""},{"$f":"IF(H293=\"\",\"\",H293/COUNTIF('Data Input'!$C$8:$AZ$8,$H$2))","v":""},{"$f":"IF(ISBLANK('Data Input'!A297),\"\",SUM('Data Input'!G297,'Data Input'!I297,'Data Input'!K297,'Data Input'!O297,'Data Input'!P297,'Data Input'!S297,'Data Input'!U297,'Data Input'!V297,'Data Input'!W297,'Data Input'!X297,'Data Input'!Z297,'Data Input'!AA297,'Data Input'!AD297,'Data Input'!AZ297))","v":""},{"$f":"IF(J293=\"\",\"\",J293/COUNTIF('Data Input'!$C$8:$AZ$8,$J$2))","v":""},{"$f":"IF(ISBLANK('Data Input'!A297),\"\",SUM('Data Input'!Q297,'Data Input'!AG297))","v":""},{"$f":"IF(L293=\"\",\"\",L293/COUNTIF('Data Input'!$C$8:$AZ$8,$L$2))","v":""},{"$f":"IF(ISBLANK('Data Input'!A297),\"\",SUM('Data Input'!D297,'Data Input'!E297,'Data Input'!F297,'Data Input'!L297,'Data Input'!M297,'Data Input'!AB297,'Data Input'!AC297,'Data Input'!AF297,'Data Input'!AJ297,'Data Input'!AL297,'Data Input'!AN297,'Data Input'!AO297,'Data Input'!AP297,'Data Input'!AQ297,'Data Input'!AR297,'Data Input'!AS297,'Data Input'!AT297,'Data Input'!AU297,'Data Input'!AV297,'Data Input'!AW297,'Data Input'!AX297,'Data Input'!AY297))","v":""},{"$f":"IF(N293=\"\",\"\",N293/COUNTIF('Data Input'!$C$8:$AZ$8,$N$2))","v":""},null,{"$f":"IF(P293=\"\",\"\",P293/COUNTIF('Data Input'!$C$8:$AZ$8,$P$2))","v":""},{"$f":"IF(ISBLANK('Data Input'!A297),\"\",SUM('Data Input'!AH297))","v":""},{"$f":"IF(R293=\"\",\"\",R293/COUNTIF('Data Input'!$C$8:$AZ$8,$R$2))","v":""},{"$f":"IF(ISBLANK('Data Input'!$A297),\"\",SUM('Data Input'!AI297))","v":""},{"$f":"IF(T293=\"\",\"\",T293/COUNTIF('Data Input'!$C$8:$AZ$8,$T$2))","v":""},null,{"$f":"IF(V293=\"\",\"\",V293/COUNTIF('Data Input'!$C$8:$AZ$8,$V$2))","v":""}]
[{"$f":"IF('Data Input'!A298=0,\"\",'Data Input'!A298)","v":""},{"$f":"IF(F294=\"\",\"\",IF(F294>Welcome!$J$20-1,\"Exceeding\",IF(F294>Welcome!$F$20-1,\"Expected\",IF(F294<Welcome!$F$20,\"Below\"))))","v":""},{"$f":"IF(ISBLANK('Data Input'!A298),\"\",COUNTIF('Data Input'!C298:AZ298,\"\"))","v":""},{"$f":"IF(ISBLANK('Data Input'!A298),\"\",COUNTIF('Data Input'!C298:AZ298,\"0\"))","v":""},{"$f":"IF(ISBLANK('Data Input'!A298),\"\",SUM(C294,D294))","v":""},{"$f":"IF(ISBLANK('Data Input'!A298),\"\",SUM('Data Input'!C298:AZ298))","v":""},{"$f":"IF(F294=\"\",\"\",F294/(COUNTA('Data Input'!$C$8:$AZ$8)))","v":""},{"$f":"IF(ISBLANK('Data Input'!A298),\"\",SUM('Data Input'!C298,'Data Input'!H298,'Data Input'!J298,'Data Input'!N298,'Data Input'!R298,'Data Input'!T298,'Data Input'!Y298,'Data Input'!AE298,'Data Input'!AK298,'Data Input'!AM298))","v":""},{"$f":"IF(H294=\"\",\"\",H294/COUNTIF('Data Input'!$C$8:$AZ$8,$H$2))","v":""},{"$f":"IF(ISBLANK('Data Input'!A298),\"\",SUM('Data Input'!G298,'Data Input'!I298,'Data Input'!K298,'Data Input'!O298,'Data Input'!P298,'Data Input'!S298,'Data Input'!U298,'Data Input'!V298,'Data Input'!W298,'Data Input'!X298,'Data Input'!Z298,'Data Input'!AA298,'Data Input'!AD298,'Data Input'!AZ298))","v":""},{"$f":"IF(J294=\"\",\"\",J294/COUNTIF('Data Input'!$C$8:$AZ$8,$J$2))","v":""},{"$f":"IF(ISBLANK('Data Input'!A298),\"\",SUM('Data Input'!Q298,'Data Input'!AG298))","v":""},{"$f":"IF(L294=\"\",\"\",L294/COUNTIF('Data Input'!$C$8:$AZ$8,$L$2))","v":""},{"$f":"IF(ISBLANK('Data Input'!A298),\"\",SUM('Data Input'!D298,'Data Input'!E298,'Data Input'!F298,'Data Input'!L298,'Data Input'!M298,'Data Input'!AB298,'Data Input'!AC298,'Data Input'!AF298,'Data Input'!AJ298,'Data Input'!AL298,'Data Input'!AN298,'Data Input'!AO298,'Data Input'!AP298,'Data Input'!AQ298,'Data Input'!AR298,'Data Input'!AS298,'Data Input'!AT298,'Data Input'!AU298,'Data Input'!AV298,'Data Input'!AW298,'Data Input'!AX298,'Data Input'!AY298))","v":""},{"$f":"IF(N294=\"\",\"\",N294/COUNTIF('Data Input'!$C$8:$AZ$8,$N$2))","v":""},null,{"$f":"IF(P294=\"\",\"\",P294/COUNTIF('Data Input'!$C$8:$AZ$8,$P$2))","v":""},{"$f":"IF(ISBLANK('Data Input'!A298),\"\",SUM('Data Input'!AH298))","v":""},{"$f":"IF(R294=\"\",\"\",R294/COUNTIF('Data Input'!$C$8:$AZ$8,$R$2))","v":""},{"$f":"IF(ISBLANK('Data Input'!$A298),\"\",SUM('Data Input'!AI298))","v":""},{"$f":"IF(T294=\"\",\"\",T294/COUNTIF('Data Input'!$C$8:$AZ$8,$T$2))","v":""},null,{"$f":"IF(V294=\"\",\"\",V294/COUNTIF('Data Input'!$C$8:$AZ$8,$V$2))","v":""}]
[{"$f":"IF('Data Input'!A299=0,\"\",'Data Input'!A299)","v":""},{"$f":"IF(F295=\"\",\"\",IF(F295>Welcome!$J$20-1,\"Exceeding\",IF(F295>Welcome!$F$20-1,\"Expected\",IF(F295<Welcome!$F$20,\"Below\"))))","v":""},{"$f":"IF(ISBLANK('Data Input'!A299),\"\",COUNTIF('Data Input'!C299:AZ299,\"\"))","v":""},{"$f":"IF(ISBLANK('Data Input'!A299),\"\",COUNTIF('Data Input'!C299:AZ299,\"0\"))","v":""},{"$f":"IF(ISBLANK('Data Input'!A299),\"\",SUM(C295,D295))","v":""},{"$f":"IF(ISBLANK('Data Input'!A299),\"\",SUM('Data Input'!C299:AZ299))","v":""},{"$f":"IF(F295=\"\",\"\",F295/(COUNTA('Data Input'!$C$8:$AZ$8)))","v":""},{"$f":"IF(ISBLANK('Data Input'!A299),\"\",SUM('Data Input'!C299,'Data Input'!H299,'Data Input'!J299,'Data Input'!N299,'Data Input'!R299,'Data Input'!T299,'Data Input'!Y299,'Data Input'!AE299,'Data Input'!AK299,'Data Input'!AM299))","v":""},{"$f":"IF(H295=\"\",\"\",H295/COUNTIF('Data Input'!$C$8:$AZ$8,$H$2))","v":""},{"$f":"IF(ISBLANK('Data Input'!A299),\"\",SUM('Data Input'!G299,'Data Input'!I299,'Data Input'!K299,'Data Input'!O299,'Data Input'!P299,'Data Input'!S299,'Data Input'!U299,'Data Input'!V299,'Data Input'!W299,'Data Input'!X299,'Data Input'!Z299,'Data Input'!AA299,'Data Input'!AD299,'Data Input'!AZ299))","v":""},{"$f":"IF(J295=\"\",\"\",J295/COUNTIF('Data Input'!$C$8:$AZ$8,$J$2))","v":""},{"$f":"IF(ISBLANK('Data Input'!A299),\"\",SUM('Data Input'!Q299,'Data Input'!AG299))","v":""},{"$f":"IF(L295=\"\",\"\",L295/COUNTIF('Data Input'!$C$8:$AZ$8,$L$2))","v":""},{"$f":"IF(ISBLANK('Data Input'!A299),\"\",SUM('Data Input'!D299,'Data Input'!E299,'Data Input'!F299,'Data Input'!L299,'Data Input'!M299,'Data Input'!AB299,'Data Input'!AC299,'Data Input'!AF299,'Data Input'!AJ299,'Data Input'!AL299,'Data Input'!AN299,'Data Input'!AO299,'Data Input'!AP299,'Data Input'!AQ299,'Data Input'!AR299,'Data Input'!AS299,'Data Input'!AT299,'Data Input'!AU299,'Data Input'!AV299,'Data Input'!AW299,'Data Input'!AX299,'Data Input'!AY299))","v":""},{"$f":"IF(N295=\"\",\"\",N295/COUNTIF('Data Input'!$C$8:$AZ$8,$N$2))","v":""},null,{"$f":"IF(P295=\"\",\"\",P295/COUNTIF('Data Input'!$C$8:$AZ$8,$P$2))","v":""},{"$f":"IF(ISBLANK('Data Input'!A299),\"\",SUM('Data Input'!AH299))","v":""},{"$f":"IF(R295=\"\",\"\",R295/COUNTIF('Data Input'!$C$8:$AZ$8,$R$2))","v":""},{"$f":"IF(ISBLANK('Data Input'!$A299),\"\",SUM('Data Input'!AI299))","v":""},{"$f":"IF(T295=\"\",\"\",T295/COUNTIF('Data Input'!$C$8:$AZ$8,$T$2))","v":""},null,{"$f":"IF(V295=\"\",\"\",V295/COUNTIF('Data Input'!$C$8:$AZ$8,$V$2))","v":""}]
[{"$f":"IF('Data Input'!A300=0,\"\",'Data Input'!A300)","v":""},{"$f":"IF(F296=\"\",\"\",IF(F296>Welcome!$J$20-1,\"Exceeding\",IF(F296>Welcome!$F$20-1,\"Expected\",IF(F296<Welcome!$F$20,\"Below\"))))","v":""},{"$f":"IF(ISBLANK('Data Input'!A300),\"\",COUNTIF('Data Input'!C300:AZ300,\"\"))","v":""},{"$f":"IF(ISBLANK('Data Input'!A300),\"\",COUNTIF('Data Input'!C300:AZ300,\"0\"))","v":""},{"$f":"IF(ISBLANK('Data Input'!A300),\"\",SUM(C296,D296))","v":""},{"$f":"IF(ISBLANK('Data Input'!A300),\"\",SUM('Data Input'!C300:AZ300))","v":""},{"$f":"IF(F296=\"\",\"\",F296/(COUNTA('Data Input'!$C$8:$AZ$8)))","v":""},{"$f":"IF(ISBLANK('Data Input'!A300),\"\",SUM('Data Input'!C300,'Data Input'!H300,'Data Input'!J300,'Data Input'!N300,'Data Input'!R300,'Data Input'!T300,'Data Input'!Y300,'Data Input'!AE300,'Data Input'!AK300,'Data Input'!AM300))","v":""},{"$f":"IF(H296=\"\",\"\",H296/COUNTIF('Data Input'!$C$8:$AZ$8,$H$2))","v":""},{"$f":"IF(ISBLANK('Data Input'!A300),\"\",SUM('Data Input'!G300,'Data Input'!I300,'Data Input'!K300,'Data Input'!O300,'Data Input'!P300,'Data Input'!S300,'Data Input'!U300,'Data Input'!V300,'Data Input'!W300,'Data Input'!X300,'Data Input'!Z300,'Data Input'!AA300,'Data Input'!AD300,'Data Input'!AZ300))","v":""},{"$f":"IF(J296=\"\",\"\",J296/COUNTIF('Data Input'!$C$8:$AZ$8,$J$2))","v":""},{"$f":"IF(ISBLANK('Data Input'!A300),\"\",SUM('Data Input'!Q300,'Data Input'!AG300))","v":""},{"$f":"IF(L296=\"\",\"\",L296/COUNTIF('Data Input'!$C$8:$AZ$8,$L$2))","v":""},{"$f":"IF(ISBLANK('Data Input'!A300),\"\",SUM('Data Input'!D300,'Data Input'!E300,'Data Input'!F300,'Data Input'!L300,'Data Input'!M300,'Data Input'!AB300,'Data Input'!AC300,'Data Input'!AF300,'Data Input'!AJ300,'Data Input'!AL300,'Data Input'!AN300,'Data Input'!AO300,'Data Input'!AP300,'Data Input'!AQ300,'Data Input'!AR300,'Data Input'!AS300,'Data Input'!AT300,'Data Input'!AU300,'Data Input'!AV300,'Data Input'!AW300,'Data Input'!AX300,'Data Input'!AY300))","v":""},{"$f":"IF(N296=\"\",\"\",N296/COUNTIF('Data Input'!$C$8:$AZ$8,$N$2))","v":""},null,{"$f":"IF(P296=\"\",\"\",P296/COUNTIF('Data Input'!$C$8:$AZ$8,$P$2))","v":""},{"$f":"IF(ISBLANK('Data Input'!A300),\"\",SUM('Data Input'!AH300))","v":""},{"$f":"IF(R296=\"\",\"\",R296/COUNTIF('Data Input'!$C$8:$AZ$8,$R$2))","v":""},{"$f":"IF(ISBLANK('Data Input'!$A300),\"\",SUM('Data Input'!AI300))","v":""},{"$f":"IF(T296=\"\",\"\",T296/COUNTIF('Data Input'!$C$8:$AZ$8,$T$2))","v":""},null,{"$f":"IF(V296=\"\",\"\",V296/COUNTIF('Data Input'!$C$8:$AZ$8,$V$2))","v":""}]
[{"$f":"IF('Data Input'!A301=0,\"\",'Data Input'!A301)","v":""},{"$f":"IF(F297=\"\",\"\",IF(F297>Welcome!$J$20-1,\"Exceeding\",IF(F297>Welcome!$F$20-1,\"Expected\",IF(F297<Welcome!$F$20,\"Below\"))))","v":""},{"$f":"IF(ISBLANK('Data Input'!A301),\"\",COUNTIF('Data Input'!C301:AZ301,\"\"))","v":""},{"$f":"IF(ISBLANK('Data Input'!A301),\"\",COUNTIF('Data Input'!C301:AZ301,\"0\"))","v":""},{"$f":"IF(ISBLANK('Data Input'!A301),\"\",SUM(C297,D297))","v":""},{"$f":"IF(ISBLANK('Data Input'!A301),\"\",SUM('Data Input'!C301:AZ301))","v":""},{"$f":"IF(F297=\"\",\"\",F297/(COUNTA('Data Input'!$C$8:$AZ$8)))","v":""},{"$f":"IF(ISBLANK('Data Input'!A301),\"\",SUM('Data Input'!C301,'Data Input'!H301,'Data Input'!J301,'Data Input'!N301,'Data Input'!R301,'Data Input'!T301,'Data Input'!Y301,'Data Input'!AE301,'Data Input'!AK301,'Data Input'!AM301))","v":""},{"$f":"IF(H297=\"\",\"\",H297/COUNTIF('Data Input'!$C$8:$AZ$8,$H$2))","v":""},{"$f":"IF(ISBLANK('Data Input'!A301),\"\",SUM('Data Input'!G301,'Data Input'!I301,'Data Input'!K301,'Data Input'!O301,'Data Input'!P301,'Data Input'!S301,'Data Input'!U301,'Data Input'!V301,'Data Input'!W301,'Data Input'!X301,'Data Input'!Z301,'Data Input'!AA301,'Data Input'!AD301,'Data Input'!AZ301))","v":""},{"$f":"IF(J297=\"\",\"\",J297/COUNTIF('Data Input'!$C$8:$AZ$8,$J$2))","v":""},{"$f":"IF(ISBLANK('Data Input'!A301),\"\",SUM('Data Input'!Q301,'Data Input'!AG301))","v":""},{"$f":"IF(L297=\"\",\"\",L297/COUNTIF('Data Input'!$C$8:$AZ$8,$L$2))","v":""},{"$f":"IF(ISBLANK('Data Input'!A301),\"\",SUM('Data Input'!D301,'Data Input'!E301,'Data Input'!F301,'Data Input'!L301,'Data Input'!M301,'Data Input'!AB301,'Data Input'!AC301,'Data Input'!AF301,'Data Input'!AJ301,'Data Input'!AL301,'Data Input'!AN301,'Data Input'!AO301,'Data Input'!AP301,'Data Input'!AQ301,'Data Input'!AR301,'Data Input'!AS301,'Data Input'!AT301,'Data Input'!AU301,'Data Input'!AV301,'Data Input'!AW301,'Data Input'!AX301,'Data Input'!AY301))","v":""},{"$f":"IF(N297=\"\",\"\",N297/COUNTIF('Data Input'!$C$8:$AZ$8,$N$2))","v":""},null,{"$f":"IF(P297=\"\",\"\",P297/COUNTIF('Data Input'!$C$8:$AZ$8,$P$2))","v":""},{"$f":"IF(ISBLANK('Data Input'!A301),\"\",SUM('Data Input'!AH301))","v":""},{"$f":"IF(R297=\"\",\"\",R297/COUNTIF('Data Input'!$C$8:$AZ$8,$R$2))","v":""},{"$f":"IF(ISBLANK('Data Input'!$A301),\"\",SUM('Data Input'!AI301))","v":""},{"$f":"IF(T297=\"\",\"\",T297/COUNTIF('Data Input'!$C$8:$AZ$8,$T$2))","v":""},null,{"$f":"IF(V297=\"\",\"\",V297/COUNTIF('Data Input'!$C$8:$AZ$8,$V$2))","v":""}]
[{"$f":"IF('Data Input'!A302=0,\"\",'Data Input'!A302)","v":""},{"$f":"IF(F298=\"\",\"\",IF(F298>Welcome!$J$20-1,\"Exceeding\",IF(F298>Welcome!$F$20-1,\"Expected\",IF(F298<Welcome!$F$20,\"Below\"))))","v":""},{"$f":"IF(ISBLANK('Data Input'!A302),\"\",COUNTIF('Data Input'!C302:AZ302,\"\"))","v":""},{"$f":"IF(ISBLANK('Data Input'!A302),\"\",COUNTIF('Data Input'!C302:AZ302,\"0\"))","v":""},{"$f":"IF(ISBLANK('Data Input'!A302),\"\",SUM(C298,D298))","v":""},{"$f":"IF(ISBLANK('Data Input'!A302),\"\",SUM('Data Input'!C302:AZ302))","v":""},{"$f":"IF(F298=\"\",\"\",F298/(COUNTA('Data Input'!$C$8:$AZ$8)))","v":""},{"$f":"IF(ISBLANK('Data Input'!A302),\"\",SUM('Data Input'!C302,'Data Input'!H302,'Data Input'!J302,'Data Input'!N302,'Data Input'!R302,'Data Input'!T302,'Data Input'!Y302,'Data Input'!AE302,'Data Input'!AK302,'Data Input'!AM302))","v":""},{"$f":"IF(H298=\"\",\"\",H298/COUNTIF('Data Input'!$C$8:$AZ$8,$H$2))","v":""},{"$f":"IF(ISBLANK('Data Input'!A302),\"\",SUM('Data Input'!G302,'Data Input'!I302,'Data Input'!K302,'Data Input'!O302,'Data Input'!P302,'Data Input'!S302,'Data Input'!U302,'Data Input'!V302,'Data Input'!W302,'Data Input'!X302,'Data Input'!Z302,'Data Input'!AA302,'Data Input'!AD302,'Data Input'!AZ302))","v":""},{"$f":"IF(J298=\"\",\"\",J298/COUNTIF('Data Input'!$C$8:$AZ$8,$J$2))","v":""},{"$f":"IF(ISBLANK('Data Input'!A302),\"\",SUM('Data Input'!Q302,'Data Input'!AG302))","v":""},{"$f":"IF(L298=\"\",\"\",L298/COUNTIF('Data Input'!$C$8:$AZ$8,$L$2))","v":""},{"$f":"IF(ISBLANK('Data Input'!A302),\"\",SUM('Data Input'!D302,'Data Input'!E302,'Data Input'!F302,'Data Input'!L302,'Data Input'!M302,'Data Input'!AB302,'Data Input'!AC302,'Data Input'!AF302,'Data Input'!AJ302,'Data Input'!AL302,'Data Input'!AN302,'Data Input'!AO302,'Data Input'!AP302,'Data Input'!AQ302,'Data Input'!AR302,'Data Input'!AS302,'Data Input'!AT302,'Data Input'!AU302,'Data Input'!AV302,'Data Input'!AW302,'Data Input'!AX302,'Data Input'!AY302))","v":""},{"$f":"IF(N298=\"\",\"\",N298/COUNTIF('Data Input'!$C$8:$AZ$8,$N$2))","v":""},null,{"$f":"IF(P298=\"\",\"\",P298/COUNTIF('Data Input'!$C$8:$AZ$8,$P$2))","v":""},{"$f":"IF(ISBLANK('Data Input'!A302),\"\",SUM('Data Input'!AH302))","v":""},{"$f":"IF(R298=\"\",\"\",R298/COUNTIF('Data Input'!$C$8:$AZ$8,$R$2))","v":""},{"$f":"IF(ISBLANK('Data Input'!$A302),\"\",SUM('Data Input'!AI302))","v":""},{"$f":"IF(T298=\"\",\"\",T298/COUNTIF('Data Input'!$C$8:$AZ$8,$T$2))","v":""},null,{"$f":"IF(V298=\"\",\"\",V298/COUNTIF('Data Input'!$C$8:$AZ$8,$V$2))","v":""}]
[{"$f":"IF('Data Input'!A303=0,\"\",'Data Input'!A303)","v":""},{"$f":"IF(F299=\"\",\"\",IF(F299>Welcome!$J$20-1,\"Exceeding\",IF(F299>Welcome!$F$20-1,\"Expected\",IF(F299<Welcome!$F$20,\"Below\"))))","v":""},{"$f":"IF(ISBLANK('Data Input'!A303),\"\",COUNTIF('Data Input'!C303:AZ303,\"\"))","v":""},{"$f":"IF(ISBLANK('Data Input'!A303),\"\",COUNTIF('Data Input'!C303:AZ303,\"0\"))","v":""},{"$f":"IF(ISBLANK('Data Input'!A303),\"\",SUM(C299,D299))","v":""},{"$f":"IF(ISBLANK('Data Input'!A303),\"\",SUM('Data Input'!C303:AZ303))","v":""},{"$f":"IF(F299=\"\",\"\",F299/(COUNTA('Data Input'!$C$8:$AZ$8)))","v":""},{"$f":"IF(ISBLANK('Data Input'!A303),\"\",SUM('Data Input'!C303,'Data Input'!H303,'Data Input'!J303,'Data Input'!N303,'Data Input'!R303,'Data Input'!T303,'Data Input'!Y303,'Data Input'!AE303,'Data Input'!AK303,'Data Input'!AM303))","v":""},{"$f":"IF(H299=\"\",\"\",H299/COUNTIF('Data Input'!$C$8:$AZ$8,$H$2))","v":""},{"$f":"IF(ISBLANK('Data Input'!A303),\"\",SUM('Data Input'!G303,'Data Input'!I303,'Data Input'!K303,'Data Input'!O303,'Data Input'!P303,'Data Input'!S303,'Data Input'!U303,'Data Input'!V303,'Data Input'!W303,'Data Input'!X303,'Data Input'!Z303,'Data Input'!AA303,'Data Input'!AD303,'Data Input'!AZ303))","v":""},{"$f":"IF(J299=\"\",\"\",J299/COUNTIF('Data Input'!$C$8:$AZ$8,$J$2))","v":""},{"$f":"IF(ISBLANK('Data Input'!A303),\"\",SUM('Data Input'!Q303,'Data Input'!AG303))","v":""},{"$f":"IF(L299=\"\",\"\",L299/COUNTIF('Data Input'!$C$8:$AZ$8,$L$2))","v":""},{"$f":"IF(ISBLANK('Data Input'!A303),\"\",SUM('Data Input'!D303,'Data Input'!E303,'Data Input'!F303,'Data Input'!L303,'Data Input'!M303,'Data Input'!AB303,'Data Input'!AC303,'Data Input'!AF303,'Data Input'!AJ303,'Data Input'!AL303,'Data Input'!AN303,'Data Input'!AO303,'Data Input'!AP303,'Data Input'!AQ303,'Data Input'!AR303,'Data Input'!AS303,'Data Input'!AT303,'Data Input'!AU303,'Data Input'!AV303,'Data Input'!AW303,'Data Input'!AX303,'Data Input'!AY303))","v":""},{"$f":"IF(N299=\"\",\"\",N299/COUNTIF('Data Input'!$C$8:$AZ$8,$N$2))","v":""},null,{"$f":"IF(P299=\"\",\"\",P299/COUNTIF('Data Input'!$C$8:$AZ$8,$P$2))","v":""},{"$f":"IF(ISBLANK('Data Input'!A303),\"\",SUM('Data Input'!AH303))","v":""},{"$f":"IF(R299=\"\",\"\",R299/COUNTIF('Data Input'!$C$8:$AZ$8,$R$2))","v":""},{"$f":"IF(ISBLANK('Data Input'!$A303),\"\",SUM('Data Input'!AI303))","v":""},{"$f":"IF(T299=\"\",\"\",T299/COUNTIF('Data Input'!$C$8:$AZ$8,$T$2))","v":""},null,{"$f":"IF(V299=\"\",\"\",V299/COUNTIF('Data Input'!$C$8:$AZ$8,$V$2))","v":""}]
[{"$f":"IF('Data Input'!A304=0,\"\",'Data Input'!A304)","v":""},{"$f":"IF(F300=\"\",\"\",IF(F300>Welcome!$J$20-1,\"Exceeding\",IF(F300>Welcome!$F$20-1,\"Expected\",IF(F300<Welcome!$F$20,\"Below\"))))","v":""},{"$f":"IF(ISBLANK('Data Input'!A304),\"\",COUNTIF('Data Input'!C304:AZ304,\"\"))","v":""},{"$f":"IF(ISBLANK('Data Input'!A304),\"\",COUNTIF('Data Input'!C304:AZ304,\"0\"))","v":""},{"$f":"IF(ISBLANK('Data Input'!A304),\"\",SUM(C300,D300))","v":""},{"$f":"IF(ISBLANK('Data Input'!A304),\"\",SUM('Data Input'!C304:AZ304))","v":""},{"$f":"IF(F300=\"\",\"\",F300/(COUNTA('Data Input'!$C$8:$AZ$8)))","v":""},{"$f":"IF(ISBLANK('Data Input'!A304),\"\",SUM('Data Input'!C304,'Data Input'!H304,'Data Input'!J304,'Data Input'!N304,'Data Input'!R304,'Data Input'!T304,'Data Input'!Y304,'Data Input'!AE304,'Data Input'!AK304,'Data Input'!AM304))","v":""},{"$f":"IF(H300=\"\",\"\",H300/COUNTIF('Data Input'!$C$8:$AZ$8,$H$2))","v":""},{"$f":"IF(ISBLANK('Data Input'!A304),\"\",SUM('Data Input'!G304,'Data Input'!I304,'Data Input'!K304,'Data Input'!O304,'Data Input'!P304,'Data Input'!S304,'Data Input'!U304,'Data Input'!V304,'Data Input'!W304,'Data Input'!X304,'Data Input'!Z304,'Data Input'!AA304,'Data Input'!AD304,'Data Input'!AZ304))","v":""},{"$f":"IF(J300=\"\",\"\",J300/COUNTIF('Data Input'!$C$8:$AZ$8,$J$2))","v":""},{"$f":"IF(ISBLANK('Data Input'!A304),\"\",SUM('Data Input'!Q304,'Data Input'!AG304))","v":""},{"$f":"IF(L300=\"\",\"\",L300/COUNTIF('Data Input'!$C$8:$AZ$8,$L$2))","v":""},{"$f":"IF(ISBLANK('Data Input'!A304),\"\",SUM('Data Input'!D304,'Data Input'!E304,'Data Input'!F304,'Data Input'!L304,'Data Input'!M304,'Data Input'!AB304,'Data Input'!AC304,'Data Input'!AF304,'Data Input'!AJ304,'Data Input'!AL304,'Data Input'!AN304,'Data Input'!AO304,'Data Input'!AP304,'Data Input'!AQ304,'Data Input'!AR304,'Data Input'!AS304,'Data Input'!AT304,'Data Input'!AU304,'Data Input'!AV304,'Data Input'!AW304,'Data Input'!AX304,'Data Input'!AY304))","v":""},{"$f":"IF(N300=\"\",\"\",N300/COUNTIF('Data Input'!$C$8:$AZ$8,$N$2))","v":""},null,{"$f":"IF(P300=\"\",\"\",P300/COUNTIF('Data Input'!$C$8:$AZ$8,$P$2))","v":""},{"$f":"IF(ISBLANK('Data Input'!A304),\"\",SUM('Data Input'!AH304))","v":""},{"$f":"IF(R300=\"\",\"\",R300/COUNTIF('Data Input'!$C$8:$AZ$8,$R$2))","v":""},{"$f":"IF(ISBLANK('Data Input'!$A304),\"\",SUM('Data Input'!AI304))","v":""},{"$f":"IF(T300=\"\",\"\",T300/COUNTIF('Data Input'!$C$8:$AZ$8,$T$2))","v":""},null,{"$f":"IF(V300=\"\",\"\",V300/COUNTIF('Data Input'!$C$8:$AZ$8,$V$2))","v":""}]
[{"$f":"IF('Data Input'!A305=0,\"\",'Data Input'!A305)","v":""},{"$f":"IF(F301=\"\",\"\",IF(F301>Welcome!$J$20-1,\"Exceeding\",IF(F301>Welcome!$F$20-1,\"Expected\",IF(F301<Welcome!$F$20,\"Below\"))))","v":""},{"$f":"IF(ISBLANK('Data Input'!A305),\"\",COUNTIF('Data Input'!C305:AZ305,\"\"))","v":""},{"$f":"IF(ISBLANK('Data Input'!A305),\"\",COUNTIF('Data Input'!C305:AZ305,\"0\"))","v":""},{"$f":"IF(ISBLANK('Data Input'!A305),\"\",SUM(C301,D301))","v":""},{"$f":"IF(ISBLANK('Data Input'!A305),\"\",SUM('Data Input'!C305:AZ305))","v":""},{"$f":"IF(F301=\"\",\"\",F301/(COUNTA('Data Input'!$C$8:$AZ$8)))","v":""},{"$f":"IF(ISBLANK('Data Input'!A305),\"\",SUM('Data Input'!C305,'Data Input'!H305,'Data Input'!J305,'Data Input'!N305,'Data Input'!R305,'Data Input'!T305,'Data Input'!Y305,'Data Input'!AE305,'Data Input'!AK305,'Data Input'!AM305))","v":""},{"$f":"IF(H301=\"\",\"\",H301/COUNTIF('Data Input'!$C$8:$AZ$8,$H$2))","v":""},{"$f":"IF(ISBLANK('Data Input'!A305),\"\",SUM('Data Input'!G305,'Data Input'!I305,'Data Input'!K305,'Data Input'!O305,'Data Input'!P305,'Data Input'!S305,'Data Input'!U305,'Data Input'!V305,'Data Input'!W305,'Data Input'!X305,'Data Input'!Z305,'Data Input'!AA305,'Data Input'!AD305,'Data Input'!AZ305))","v":""},{"$f":"IF(J301=\"\",\"\",J301/COUNTIF('Data Input'!$C$8:$AZ$8,$J$2))","v":""},{"$f":"IF(ISBLANK('Data Input'!A305),\"\",SUM('Data Input'!Q305,'Data Input'!AG305))","v":""},{"$f":"IF(L301=\"\",\"\",L301/COUNTIF('Data Input'!$C$8:$AZ$8,$L$2))","v":""},{"$f":"IF(ISBLANK('Data Input'!A305),\"\",SUM('Data Input'!D305,'Data Input'!E305,'Data Input'!F305,'Data Input'!L305,'Data Input'!M305,'Data Input'!AB305,'Data Input'!AC305,'Data Input'!AF305,'Data Input'!AJ305,'Data Input'!AL305,'Data Input'!AN305,'Data Input'!AO305,'Data Input'!AP305,'Data Input'!AQ305,'Data Input'!AR305,'Data Input'!AS305,'Data Input'!AT305,'Data Input'!AU305,'Data Input'!AV305,'Data Input'!AW305,'Data Input'!AX305,'Data Input'!AY305))","v":""},{"$f":"IF(N301=\"\",\"\",N301/COUNTIF('Data Input'!$C$8:$AZ$8,$N$2))","v":""},null,{"$f":"IF(P301=\"\",\"\",P301/COUNTIF('Data Input'!$C$8:$AZ$8,$P$2))","v":""},{"$f":"IF(ISBLANK('Data Input'!A305),\"\",SUM('Data Input'!AH305))","v":""},{"$f":"IF(R301=\"\",\"\",R301/COUNTIF('Data Input'!$C$8:$AZ$8,$R$2))","v":""},{"$f":"IF(ISBLANK('Data Input'!$A305),\"\",SUM('Data Input'!AI305))","v":""},{"$f":"IF(T301=\"\",\"\",T301/COUNTIF('Data Input'!$C$8:$AZ$8,$T$2))","v":""},null,{"$f":"IF(V301=\"\",\"\",V301/COUNTIF('Data Input'!$C$8:$AZ$8,$V$2))","v":""}]
[{"$f":"IF('Data Input'!A306=0,\"\",'Data Input'!A306)","v":""},{"$f":"IF(F302=\"\",\"\",IF(F302>Welcome!$J$20-1,\"Exceeding\",IF(F302>Welcome!$F$20-1,\"Expected\",IF(F302<Welcome!$F$20,\"Below\"))))","v":""},{"$f":"IF(ISBLANK('Data Input'!A306),\"\",COUNTIF('Data Input'!C306:AZ306,\"\"))","v":""},{"$f":"IF(ISBLANK('Data Input'!A306),\"\",COUNTIF('Data Input'!C306:AZ306,\"0\"))","v":""},{"$f":"IF(ISBLANK('Data Input'!A306),\"\",SUM(C302,D302))","v":""},{"$f":"IF(ISBLANK('Data Input'!A306),\"\",SUM('Data Input'!C306:AZ306))","v":""},{"$f":"IF(F302=\"\",\"\",F302/(COUNTA('Data Input'!$C$8:$AZ$8)))","v":""},{"$f":"IF(ISBLANK('Data Input'!A306),\"\",SUM('Data Input'!C306,'Data Input'!H306,'Data Input'!J306,'Data Input'!N306,'Data Input'!R306,'Data Input'!T306,'Data Input'!Y306,'Data Input'!AE306,'Data Input'!AK306,'Data Input'!AM306))","v":""},{"$f":"IF(H302=\"\",\"\",H302/COUNTIF('Data Input'!$C$8:$AZ$8,$H$2))","v":""},{"$f":"IF(ISBLANK('Data Input'!A306),\"\",SUM('Data Input'!G306,'Data Input'!I306,'Data Input'!K306,'Data Input'!O306,'Data Input'!P306,'Data Input'!S306,'Data Input'!U306,'Data Input'!V306,'Data Input'!W306,'Data Input'!X306,'Data Input'!Z306,'Data Input'!AA306,'Data Input'!AD306,'Data Input'!AZ306))","v":""},{"$f":"IF(J302=\"\",\"\",J302/COUNTIF('Data Input'!$C$8:$AZ$8,$J$2))","v":""},{"$f":"IF(ISBLANK('Data Input'!A306),\"\",SUM('Data Input'!Q306,'Data Input'!AG306))","v":""},{"$f":"IF(L302=\"\",\"\",L302/COUNTIF('Data Input'!$C$8:$AZ$8,$L$2))","v":""},{"$f":"IF(ISBLANK('Data Input'!A306),\"\",SUM('Data Input'!D306,'Data Input'!E306,'Data Input'!F306,'Data Input'!L306,'Data Input'!M306,'Data Input'!AB306,'Data Input'!AC306,'Data Input'!AF306,'Data Input'!AJ306,'Data Input'!AL306,'Data Input'!AN306,'Data Input'!AO306,'Data Input'!AP306,'Data Input'!AQ306,'Data Input'!AR306,'Data Input'!AS306,'Data Input'!AT306,'Data Input'!AU306,'Data Input'!AV306,'Data Input'!AW306,'Data Input'!AX306,'Data Input'!AY306))","v":""},{"$f":"IF(N302=\"\",\"\",N302/COUNTIF('Data Input'!$C$8:$AZ$8,$N$2))","v":""},null,{"$f":"IF(P302=\"\",\"\",P302/COUNTIF('Data Input'!$C$8:$AZ$8,$P$2))","v":""},{"$f":"IF(ISBLANK('Data Input'!A306),\"\",SUM('Data Input'!AH306))","v":""},{"$f":"IF(R302=\"\",\"\",R302/COUNTIF('Data Input'!$C$8:$AZ$8,$R$2))","v":""},{"$f":"IF(ISBLANK('Data Input'!$A306),\"\",SUM('Data Input'!AI306))","v":""},{"$f":"IF(T302=\"\",\"\",T302/COUNTIF('Data Input'!$C$8:$AZ$8,$T$2))","v":""},null,{"$f":"IF(V302=\"\",\"\",V302/COUNTIF('Data Input'!$C$8:$AZ$8,$V$2))","v":""}]
[{"$f":"IF('Data Input'!A307=0,\"\",'Data Input'!A307)","v":""},{"$f":"IF(F303=\"\",\"\",IF(F303>Welcome!$J$20-1,\"Exceeding\",IF(F303>Welcome!$F$20-1,\"Expected\",IF(F303<Welcome!$F$20,\"Below\"))))","v":""},{"$f":"IF(ISBLANK('Data Input'!A307),\"\",COUNTIF('Data Input'!C307:AZ307,\"\"))","v":""},{"$f":"IF(ISBLANK('Data Input'!A307),\"\",COUNTIF('Data Input'!C307:AZ307,\"0\"))","v":""},{"$f":"IF(ISBLANK('Data Input'!A307),\"\",SUM(C303,D303))","v":""},{"$f":"IF(ISBLANK('Data Input'!A307),\"\",SUM('Data Input'!C307:AZ307))","v":""},{"$f":"IF(F303=\"\",\"\",F303/(COUNTA('Data Input'!$C$8:$AZ$8)))","v":""},{"$f":"IF(ISBLANK('Data Input'!A307),\"\",SUM('Data Input'!C307,'Data Input'!H307,'Data Input'!J307,'Data Input'!N307,'Data Input'!R307,'Data Input'!T307,'Data Input'!Y307,'Data Input'!AE307,'Data Input'!AK307,'Data Input'!AM307))","v":""},{"$f":"IF(H303=\"\",\"\",H303/COUNTIF('Data Input'!$C$8:$AZ$8,$H$2))","v":""},{"$f":"IF(ISBLANK('Data Input'!A307),\"\",SUM('Data Input'!G307,'Data Input'!I307,'Data Input'!K307,'Data Input'!O307,'Data Input'!P307,'Data Input'!S307,'Data Input'!U307,'Data Input'!V307,'Data Input'!W307,'Data Input'!X307,'Data Input'!Z307,'Data Input'!AA307,'Data Input'!AD307,'Data Input'!AZ307))","v":""},{"$f":"IF(J303=\"\",\"\",J303/COUNTIF('Data Input'!$C$8:$AZ$8,$J$2))","v":""},{"$f":"IF(ISBLANK('Data Input'!A307),\"\",SUM('Data Input'!Q307,'Data Input'!AG307))","v":""},{"$f":"IF(L303=\"\",\"\",L303/COUNTIF('Data Input'!$C$8:$AZ$8,$L$2))","v":""},{"$f":"IF(ISBLANK('Data Input'!A307),\"\",SUM('Data Input'!D307,'Data Input'!E307,'Data Input'!F307,'Data Input'!L307,'Data Input'!M307,'Data Input'!AB307,'Data Input'!AC307,'Data Input'!AF307,'Data Input'!AJ307,'Data Input'!AL307,'Data Input'!AN307,'Data Input'!AO307,'Data Input'!AP307,'Data Input'!AQ307,'Data Input'!AR307,'Data Input'!AS307,'Data Input'!AT307,'Data Input'!AU307,'Data Input'!AV307,'Data Input'!AW307,'Data Input'!AX307,'Data Input'!AY307))","v":""},{"$f":"IF(N303=\"\",\"\",N303/COUNTIF('Data Input'!$C$8:$AZ$8,$N$2))","v":""},null,{"$f":"IF(P303=\"\",\"\",P303/COUNTIF('Data Input'!$C$8:$AZ$8,$P$2))","v":""},{"$f":"IF(ISBLANK('Data Input'!A307),\"\",SUM('Data Input'!AH307))","v":""},{"$f":"IF(R303=\"\",\"\",R303/COUNTIF('Data Input'!$C$8:$AZ$8,$R$2))","v":""},{"$f":"IF(ISBLANK('Data Input'!$A307),\"\",SUM('Data Input'!AI307))","v":""},{"$f":"IF(T303=\"\",\"\",T303/COUNTIF('Data Input'!$C$8:$AZ$8,$T$2))","v":""},null,{"$f":"IF(V303=\"\",\"\",V303/COUNTIF('Data Input'!$C$8:$AZ$8,$V$2))","v":""}]
[{"$f":"IF('Data Input'!A308=0,\"\",'Data Input'!A308)","v":""},{"$f":"IF(F304=\"\",\"\",IF(F304>Welcome!$J$20-1,\"Exceeding\",IF(F304>Welcome!$F$20-1,\"Expected\",IF(F304<Welcome!$F$20,\"Below\"))))","v":""},{"$f":"IF(ISBLANK('Data Input'!A308),\"\",COUNTIF('Data Input'!C308:AZ308,\"\"))","v":""},{"$f":"IF(ISBLANK('Data Input'!A308),\"\",COUNTIF('Data Input'!C308:AZ308,\"0\"))","v":""},{"$f":"IF(ISBLANK('Data Input'!A308),\"\",SUM(C304,D304))","v":""},{"$f":"IF(ISBLANK('Data Input'!A308),\"\",SUM('Data Input'!C308:AZ308))","v":""},{"$f":"IF(F304=\"\",\"\",F304/(COUNTA('Data Input'!$C$8:$AZ$8)))","v":""},{"$f":"IF(ISBLANK('Data Input'!A308),\"\",SUM('Data Input'!C308,'Data Input'!H308,'Data Input'!J308,'Data Input'!N308,'Data Input'!R308,'Data Input'!T308,'Data Input'!Y308,'Data Input'!AE308,'Data Input'!AK308,'Data Input'!AM308))","v":""},{"$f":"IF(H304=\"\",\"\",H304/COUNTIF('Data Input'!$C$8:$AZ$8,$H$2))","v":""},{"$f":"IF(ISBLANK('Data Input'!A308),\"\",SUM('Data Input'!G308,'Data Input'!I308,'Data Input'!K308,'Data Input'!O308,'Data Input'!P308,'Data Input'!S308,'Data Input'!U308,'Data Input'!V308,'Data Input'!W308,'Data Input'!X308,'Data Input'!Z308,'Data Input'!AA308,'Data Input'!AD308,'Data Input'!AZ308))","v":""},{"$f":"IF(J304=\"\",\"\",J304/COUNTIF('Data Input'!$C$8:$AZ$8,$J$2))","v":""},{"$f":"IF(ISBLANK('Data Input'!A308),\"\",SUM('Data Input'!Q308,'Data Input'!AG308))","v":""},{"$f":"IF(L304=\"\",\"\",L304/COUNTIF('Data Input'!$C$8:$AZ$8,$L$2))","v":""},{"$f":"IF(ISBLANK('Data Input'!A308),\"\",SUM('Data Input'!D308,'Data Input'!E308,'Data Input'!F308,'Data Input'!L308,'Data Input'!M308,'Data Input'!AB308,'Data Input'!AC308,'Data Input'!AF308,'Data Input'!AJ308,'Data Input'!AL308,'Data Input'!AN308,'Data Input'!AO308,'Data Input'!AP308,'Data Input'!AQ308,'Data Input'!AR308,'Data Input'!AS308,'Data Input'!AT308,'Data Input'!AU308,'Data Input'!AV308,'Data Input'!AW308,'Data Input'!AX308,'Data Input'!AY308))","v":""},{"$f":"IF(N304=\"\",\"\",N304/COUNTIF('Data Input'!$C$8:$AZ$8,$N$2))","v":""},null,{"$f":"IF(P304=\"\",\"\",P304/COUNTIF('Data Input'!$C$8:$AZ$8,$P$2))","v":""},{"$f":"IF(ISBLANK('Data Input'!A308),\"\",SUM('Data Input'!AH308))","v":""},{"$f":"IF(R304=\"\",\"\",R304/COUNTIF('Data Input'!$C$8:$AZ$8,$R$2))","v":""},{"$f":"IF(ISBLANK('Data Input'!$A308),\"\",SUM('Data Input'!AI308))","v":""},{"$f":"IF(T304=\"\",\"\",T304/COUNTIF('Data Input'!$C$8:$AZ$8,$T$2))","v":""},null,{"$f":"IF(V304=\"\",\"\",V304/COUNTIF('Data Input'!$C$8:$AZ$8,$V$2))","v":""}]
[{"$f":"IF('Data Input'!A309=0,\"\",'Data Input'!A309)","v":""},{"$f":"IF(F305=\"\",\"\",IF(F305>Welcome!$J$20-1,\"Exceeding\",IF(F305>Welcome!$F$20-1,\"Expected\",IF(F305<Welcome!$F$20,\"Below\"))))","v":""},{"$f":"IF(ISBLANK('Data Input'!A309),\"\",COUNTIF('Data Input'!C309:AZ309,\"\"))","v":""},{"$f":"IF(ISBLANK('Data Input'!A309),\"\",COUNTIF('Data Input'!C309:AZ309,\"0\"))","v":""},{"$f":"IF(ISBLANK('Data Input'!A309),\"\",SUM(C305,D305))","v":""},{"$f":"IF(ISBLANK('Data Input'!A309),\"\",SUM('Data Input'!C309:AZ309))","v":""},{"$f":"IF(F305=\"\",\"\",F305/(COUNTA('Data Input'!$C$8:$AZ$8)))","v":""},{"$f":"IF(ISBLANK('Data Input'!A309),\"\",SUM('Data Input'!C309,'Data Input'!H309,'Data Input'!J309,'Data Input'!N309,'Data Input'!R309,'Data Input'!T309,'Data Input'!Y309,'Data Input'!AE309,'Data Input'!AK309,'Data Input'!AM309))","v":""},{"$f":"IF(H305=\"\",\"\",H305/COUNTIF('Data Input'!$C$8:$AZ$8,$H$2))","v":""},{"$f":"IF(ISBLANK('Data Input'!A309),\"\",SUM('Data Input'!G309,'Data Input'!I309,'Data Input'!K309,'Data Input'!O309,'Data Input'!P309,'Data Input'!S309,'Data Input'!U309,'Data Input'!V309,'Data Input'!W309,'Data Input'!X309,'Data Input'!Z309,'Data Input'!AA309,'Data Input'!AD309,'Data Input'!AZ309))","v":""},{"$f":"IF(J305=\"\",\"\",J305/COUNTIF('Data Input'!$C$8:$AZ$8,$J$2))","v":""},{"$f":"IF(ISBLANK('Data Input'!A309),\"\",SUM('Data Input'!Q309,'Data Input'!AG309))","v":""},{"$f":"IF(L305=\"\",\"\",L305/COUNTIF('Data Input'!$C$8:$AZ$8,$L$2))","v":""},{"$f":"IF(ISBLANK('Data Input'!A309),\"\",SUM('Data Input'!D309,'Data Input'!E309,'Data Input'!F309,'Data Input'!L309,'Data Input'!M309,'Data Input'!AB309,'Data Input'!AC309,'Data Input'!AF309,'Data Input'!AJ309,'Data Input'!AL309,'Data Input'!AN309,'Data Input'!AO309,'Data Input'!AP309,'Data Input'!AQ309,'Data Input'!AR309,'Data Input'!AS309,'Data Input'!AT309,'Data Input'!AU309,'Data Input'!AV309,'Data Input'!AW309,'Data Input'!AX309,'Data Input'!AY309))","v":""},{"$f":"IF(N305=\"\",\"\",N305/COUNTIF('Data Input'!$C$8:$AZ$8,$N$2))","v":""},null,{"$f":"IF(P305=\"\",\"\",P305/COUNTIF('Data Input'!$C$8:$AZ$8,$P$2))","v":""},{"$f":"IF(ISBLANK('Data Input'!A309),\"\",SUM('Data Input'!AH309))","v":""},{"$f":"IF(R305=\"\",\"\",R305/COUNTIF('Data Input'!$C$8:$AZ$8,$R$2))","v":""},{"$f":"IF(ISBLANK('Data Input'!$A309),\"\",SUM('Data Input'!AI309))","v":""},{"$f":"IF(T305=\"\",\"\",T305/COUNTIF('Data Input'!$C$8:$AZ$8,$T$2))","v":""},null,{"$f":"IF(V305=\"\",\"\",V305/COUNTIF('Data Input'!$C$8:$AZ$8,$V$2))","v":""}]
[{"$f":"IF('Data Input'!A310=0,\"\",'Data Input'!A310)","v":""},{"$f":"IF(F306=\"\",\"\",IF(F306>Welcome!$J$20-1,\"Exceeding\",IF(F306>Welcome!$F$20-1,\"Expected\",IF(F306<Welcome!$F$20,\"Below\"))))","v":""},{"$f":"IF(ISBLANK('Data Input'!A310),\"\",COUNTIF('Data Input'!C310:AZ310,\"\"))","v":""},{"$f":"IF(ISBLANK('Data Input'!A310),\"\",COUNTIF('Data Input'!C310:AZ310,\"0\"))","v":""},{"$f":"IF(ISBLANK('Data Input'!A310),\"\",SUM(C306,D306))","v":""},{"$f":"IF(ISBLANK('Data Input'!A310),\"\",SUM('Data Input'!C310:AZ310))","v":""},{"$f":"IF(F306=\"\",\"\",F306/(COUNTA('Data Input'!$C$8:$AZ$8)))","v":""},{"$f":"IF(ISBLANK('Data Input'!A310),\"\",SUM('Data Input'!C310,'Data Input'!H310,'Data Input'!J310,'Data Input'!N310,'Data Input'!R310,'Data Input'!T310,'Data Input'!Y310,'Data Input'!AE310,'Data Input'!AK310,'Data Input'!AM310))","v":""},{"$f":"IF(H306=\"\",\"\",H306/COUNTIF('Data Input'!$C$8:$AZ$8,$H$2))","v":""},{"$f":"IF(ISBLANK('Data Input'!A310),\"\",SUM('Data Input'!G310,'Data Input'!I310,'Data Input'!K310,'Data Input'!O310,'Data Input'!P310,'Data Input'!S310,'Data Input'!U310,'Data Input'!V310,'Data Input'!W310,'Data Input'!X310,'Data Input'!Z310,'Data Input'!AA310,'Data Input'!AD310,'Data Input'!AZ310))","v":""},{"$f":"IF(J306=\"\",\"\",J306/COUNTIF('Data Input'!$C$8:$AZ$8,$J$2))","v":""},{"$f":"IF(ISBLANK('Data Input'!A310),\"\",SUM('Data Input'!Q310,'Data Input'!AG310))","v":""},{"$f":"IF(L306=\"\",\"\",L306/COUNTIF('Data Input'!$C$8:$AZ$8,$L$2))","v":""},{"$f":"IF(ISBLANK('Data Input'!A310),\"\",SUM('Data Input'!D310,'Data Input'!E310,'Data Input'!F310,'Data Input'!L310,'Data Input'!M310,'Data Input'!AB310,'Data Input'!AC310,'Data Input'!AF310,'Data Input'!AJ310,'Data Input'!AL310,'Data Input'!AN310,'Data Input'!AO310,'Data Input'!AP310,'Data Input'!AQ310,'Data Input'!AR310,'Data Input'!AS310,'Data Input'!AT310,'Data Input'!AU310,'Data Input'!AV310,'Data Input'!AW310,'Data Input'!AX310,'Data Input'!AY310))","v":""},{"$f":"IF(N306=\"\",\"\",N306/COUNTIF('Data Input'!$C$8:$AZ$8,$N$2))","v":""},null,{"$f":"IF(P306=\"\",\"\",P306/COUNTIF('Data Input'!$C$8:$AZ$8,$P$2))","v":""},{"$f":"IF(ISBLANK('Data Input'!A310),\"\",SUM('Data Input'!AH310))","v":""},{"$f":"IF(R306=\"\",\"\",R306/COUNTIF('Data Input'!$C$8:$AZ$8,$R$2))","v":""},{"$f":"IF(ISBLANK('Data Input'!$A310),\"\",SUM('Data Input'!AI310))","v":""},{"$f":"IF(T306=\"\",\"\",T306/COUNTIF('Data Input'!$C$8:$AZ$8,$T$2))","v":""},null,{"$f":"IF(V306=\"\",\"\",V306/COUNTIF('Data Input'!$C$8:$AZ$8,$V$2))","v":""}]
[{"$f":"IF('Data Input'!A311=0,\"\",'Data Input'!A311)","v":""},{"$f":"IF(F307=\"\",\"\",IF(F307>Welcome!$J$20-1,\"Exceeding\",IF(F307>Welcome!$F$20-1,\"Expected\",IF(F307<Welcome!$F$20,\"Below\"))))","v":""},{"$f":"IF(ISBLANK('Data Input'!A311),\"\",COUNTIF('Data Input'!C311:AZ311,\"\"))","v":""},{"$f":"IF(ISBLANK('Data Input'!A311),\"\",COUNTIF('Data Input'!C311:AZ311,\"0\"))","v":""},{"$f":"IF(ISBLANK('Data Input'!A311),\"\",SUM(C307,D307))","v":""},{"$f":"IF(ISBLANK('Data Input'!A311),\"\",SUM('Data Input'!C311:AZ311))","v":""},{"$f":"IF(F307=\"\",\"\",F307/(COUNTA('Data Input'!$C$8:$AZ$8)))","v":""},{"$f":"IF(ISBLANK('Data Input'!A311),\"\",SUM('Data Input'!C311,'Data Input'!H311,'Data Input'!J311,'Data Input'!N311,'Data Input'!R311,'Data Input'!T311,'Data Input'!Y311,'Data Input'!AE311,'Data Input'!AK311,'Data Input'!AM311))","v":""},{"$f":"IF(H307=\"\",\"\",H307/COUNTIF('Data Input'!$C$8:$AZ$8,$H$2))","v":""},{"$f":"IF(ISBLANK('Data Input'!A311),\"\",SUM('Data Input'!G311,'Data Input'!I311,'Data Input'!K311,'Data Input'!O311,'Data Input'!P311,'Data Input'!S311,'Data Input'!U311,'Data Input'!V311,'Data Input'!W311,'Data Input'!X311,'Data Input'!Z311,'Data Input'!AA311,'Data Input'!AD311,'Data Input'!AZ311))","v":""},{"$f":"IF(J307=\"\",\"\",J307/COUNTIF('Data Input'!$C$8:$AZ$8,$J$2))","v":""},{"$f":"IF(ISBLANK('Data Input'!A311),\"\",SUM('Data Input'!Q311,'Data Input'!AG311))","v":""},{"$f":"IF(L307=\"\",\"\",L307/COUNTIF('Data Input'!$C$8:$AZ$8,$L$2))","v":""},{"$f":"IF(ISBLANK('Data Input'!A311),\"\",SUM('Data Input'!D311,'Data Input'!E311,'Data Input'!F311,'Data Input'!L311,'Data Input'!M311,'Data Input'!AB311,'Data Input'!AC311,'Data Input'!AF311,'Data Input'!AJ311,'Data Input'!AL311,'Data Input'!AN311,'Data Input'!AO311,'Data Input'!AP311,'Data Input'!AQ311,'Data Input'!AR311,'Data Input'!AS311,'Data Input'!AT311,'Data Input'!AU311,'Data Input'!AV311,'Data Input'!AW311,'Data Input'!AX311,'Data Input'!AY311))","v":""},{"$f":"IF(N307=\"\",\"\",N307/COUNTIF('Data Input'!$C$8:$AZ$8,$N$2))","v":""},null,{"$f":"IF(P307=\"\",\"\",P307/COUNTIF('Data Input'!$C$8:$AZ$8,$P$2))","v":""},{"$f":"IF(ISBLANK('Data Input'!A311),\"\",SUM('Data Input'!AH311))","v":""},{"$f":"IF(R307=\"\",\"\",R307/COUNTIF('Data Input'!$C$8:$AZ$8,$R$2))","v":""},{"$f":"IF(ISBLANK('Data Input'!$A311),\"\",SUM('Data Input'!AI311))","v":""},{"$f":"IF(T307=\"\",\"\",T307/COUNTIF('Data Input'!$C$8:$AZ$8,$T$2))","v":""},null,{"$f":"IF(V307=\"\",\"\",V307/COUNTIF('Data Input'!$C$8:$AZ$8,$V$2))","v":""}]
[{"$f":"IF('Data Input'!A312=0,\"\",'Data Input'!A312)","v":""},{"$f":"IF(F308=\"\",\"\",IF(F308>Welcome!$J$20-1,\"Exceeding\",IF(F308>Welcome!$F$20-1,\"Expected\",IF(F308<Welcome!$F$20,\"Below\"))))","v":""},{"$f":"IF(ISBLANK('Data Input'!A312),\"\",COUNTIF('Data Input'!C312:AZ312,\"\"))","v":""},{"$f":"IF(ISBLANK('Data Input'!A312),\"\",COUNTIF('Data Input'!C312:AZ312,\"0\"))","v":""},{"$f":"IF(ISBLANK('Data Input'!A312),\"\",SUM(C308,D308))","v":""},{"$f":"IF(ISBLANK('Data Input'!A312),\"\",SUM('Data Input'!C312:AZ312))","v":""},{"$f":"IF(F308=\"\",\"\",F308/(COUNTA('Data Input'!$C$8:$AZ$8)))","v":""},{"$f":"IF(ISBLANK('Data Input'!A312),\"\",SUM('Data Input'!C312,'Data Input'!H312,'Data Input'!J312,'Data Input'!N312,'Data Input'!R312,'Data Input'!T312,'Data Input'!Y312,'Data Input'!AE312,'Data Input'!AK312,'Data Input'!AM312))","v":""},{"$f":"IF(H308=\"\",\"\",H308/COUNTIF('Data Input'!$C$8:$AZ$8,$H$2))","v":""},{"$f":"IF(ISBLANK('Data Input'!A312),\"\",SUM('Data Input'!G312,'Data Input'!I312,'Data Input'!K312,'Data Input'!O312,'Data Input'!P312,'Data Input'!S312,'Data Input'!U312,'Data Input'!V312,'Data Input'!W312,'Data Input'!X312,'Data Input'!Z312,'Data Input'!AA312,'Data Input'!AD312,'Data Input'!AZ312))","v":""},{"$f":"IF(J308=\"\",\"\",J308/COUNTIF('Data Input'!$C$8:$AZ$8,$J$2))","v":""},{"$f":"IF(ISBLANK('Data Input'!A312),\"\",SUM('Data Input'!Q312,'Data Input'!AG312))","v":""},{"$f":"IF(L308=\"\",\"\",L308/COUNTIF('Data Input'!$C$8:$AZ$8,$L$2))","v":""},{"$f":"IF(ISBLANK('Data Input'!A312),\"\",SUM('Data Input'!D312,'Data Input'!E312,'Data Input'!F312,'Data Input'!L312,'Data Input'!M312,'Data Input'!AB312,'Data Input'!AC312,'Data Input'!AF312,'Data Input'!AJ312,'Data Input'!AL312,'Data Input'!AN312,'Data Input'!AO312,'Data Input'!AP312,'Data Input'!AQ312,'Data Input'!AR312,'Data Input'!AS312,'Data Input'!AT312,'Data Input'!AU312,'Data Input'!AV312,'Data Input'!AW312,'Data Input'!AX312,'Data Input'!AY312))","v":""},{"$f":"IF(N308=\"\",\"\",N308/COUNTIF('Data Input'!$C$8:$AZ$8,$N$2))","v":""},null,{"$f":"IF(P308=\"\",\"\",P308/COUNTIF('Data Input'!$C$8:$AZ$8,$P$2))","v":""},{"$f":"IF(ISBLANK('Data Input'!A312),\"\",SUM('Data Input'!AH312))","v":""},{"$f":"IF(R308=\"\",\"\",R308/COUNTIF('Data Input'!$C$8:$AZ$8,$R$2))","v":""},{"$f":"IF(ISBLANK('Data Input'!$A312),\"\",SUM('Data Input'!AI312))","v":""},{"$f":"IF(T308=\"\",\"\",T308/COUNTIF('Data Input'!$C$8:$AZ$8,$T$2))","v":""},null,{"$f":"IF(V308=\"\",\"\",V308/COUNTIF('Data Input'!$C$8:$AZ$8,$V$2))","v":""}]
[{"$f":"IF('Data Input'!A313=0,\"\",'Data Input'!A313)","v":""},{"$f":"IF(F309=\"\",\"\",IF(F309>Welcome!$J$20-1,\"Exceeding\",IF(F309>Welcome!$F$20-1,\"Expected\",IF(F309<Welcome!$F$20,\"Below\"))))","v":""},{"$f":"IF(ISBLANK('Data Input'!A313),\"\",COUNTIF('Data Input'!C313:AZ313,\"\"))","v":""},{"$f":"IF(ISBLANK('Data Input'!A313),\"\",COUNTIF('Data Input'!C313:AZ313,\"0\"))","v":""},{"$f":"IF(ISBLANK('Data Input'!A313),\"\",SUM(C309,D309))","v":""},{"$f":"IF(ISBLANK('Data Input'!A313),\"\",SUM('Data Input'!C313:AZ313))","v":""},{"$f":"IF(F309=\"\",\"\",F309/(COUNTA('Data Input'!$C$8:$AZ$8)))","v":""},{"$f":"IF(ISBLANK('Data Input'!A313),\"\",SUM('Data Input'!C313,'Data Input'!H313,'Data Input'!J313,'Data Input'!N313,'Data Input'!R313,'Data Input'!T313,'Data Input'!Y313,'Data Input'!AE313,'Data Input'!AK313,'Data Input'!AM313))","v":""},{"$f":"IF(H309=\"\",\"\",H309/COUNTIF('Data Input'!$C$8:$AZ$8,$H$2))","v":""},{"$f":"IF(ISBLANK('Data Input'!A313),\"\",SUM('Data Input'!G313,'Data Input'!I313,'Data Input'!K313,'Data Input'!O313,'Data Input'!P313,'Data Input'!S313,'Data Input'!U313,'Data Input'!V313,'Data Input'!W313,'Data Input'!X313,'Data Input'!Z313,'Data Input'!AA313,'Data Input'!AD313,'Data Input'!AZ313))","v":""},{"$f":"IF(J309=\"\",\"\",J309/COUNTIF('Data Input'!$C$8:$AZ$8,$J$2))","v":""},{"$f":"IF(ISBLANK('Data Input'!A313),\"\",SUM('Data Input'!Q313,'Data Input'!AG313))","v":""},{"$f":"IF(L309=\"\",\"\",L309/COUNTIF('Data Input'!$C$8:$AZ$8,$L$2))","v":""},{"$f":"IF(ISBLANK('Data Input'!A313),\"\",SUM('Data Input'!D313,'Data Input'!E313,'Data Input'!F313,'Data Input'!L313,'Data Input'!M313,'Data Input'!AB313,'Data Input'!AC313,'Data Input'!AF313,'Data Input'!AJ313,'Data Input'!AL313,'Data Input'!AN313,'Data Input'!AO313,'Data Input'!AP313,'Data Input'!AQ313,'Data Input'!AR313,'Data Input'!AS313,'Data Input'!AT313,'Data Input'!AU313,'Data Input'!AV313,'Data Input'!AW313,'Data Input'!AX313,'Data Input'!AY313))","v":""},{"$f":"IF(N309=\"\",\"\",N309/COUNTIF('Data Input'!$C$8:$AZ$8,$N$2))","v":""},null,{"$f":"IF(P309=\"\",\"\",P309/COUNTIF('Data Input'!$C$8:$AZ$8,$P$2))","v":""},{"$f":"IF(ISBLANK('Data Input'!A313),\"\",SUM('Data Input'!AH313))","v":""},{"$f":"IF(R309=\"\",\"\",R309/COUNTIF('Data Input'!$C$8:$AZ$8,$R$2))","v":""},{"$f":"IF(ISBLANK('Data Input'!$A313),\"\",SUM('Data Input'!AI313))","v":""},{"$f":"IF(T309=\"\",\"\",T309/COUNTIF('Data Input'!$C$8:$AZ$8,$T$2))","v":""},null,{"$f":"IF(V309=\"\",\"\",V309/COUNTIF('Data Input'!$C$8:$AZ$8,$V$2))","v":""}]
[{"$f":"IF('Data Input'!A314=0,\"\",'Data Input'!A314)","v":""},{"$f":"IF(F310=\"\",\"\",IF(F310>Welcome!$J$20-1,\"Exceeding\",IF(F310>Welcome!$F$20-1,\"Expected\",IF(F310<Welcome!$F$20,\"Below\"))))","v":""},{"$f":"IF(ISBLANK('Data Input'!A314),\"\",COUNTIF('Data Input'!C314:AZ314,\"\"))","v":""},{"$f":"IF(ISBLANK('Data Input'!A314),\"\",COUNTIF('Data Input'!C314:AZ314,\"0\"))","v":""},{"$f":"IF(ISBLANK('Data Input'!A314),\"\",SUM(C310,D310))","v":""},{"$f":"IF(ISBLANK('Data Input'!A314),\"\",SUM('Data Input'!C314:AZ314))","v":""},{"$f":"IF(F310=\"\",\"\",F310/(COUNTA('Data Input'!$C$8:$AZ$8)))","v":""},{"$f":"IF(ISBLANK('Data Input'!A314),\"\",SUM('Data Input'!C314,'Data Input'!H314,'Data Input'!J314,'Data Input'!N314,'Data Input'!R314,'Data Input'!T314,'Data Input'!Y314,'Data Input'!AE314,'Data Input'!AK314,'Data Input'!AM314))","v":""},{"$f":"IF(H310=\"\",\"\",H310/COUNTIF('Data Input'!$C$8:$AZ$8,$H$2))","v":""},{"$f":"IF(ISBLANK('Data Input'!A314),\"\",SUM('Data Input'!G314,'Data Input'!I314,'Data Input'!K314,'Data Input'!O314,'Data Input'!P314,'Data Input'!S314,'Data Input'!U314,'Data Input'!V314,'Data Input'!W314,'Data Input'!X314,'Data Input'!Z314,'Data Input'!AA314,'Data Input'!AD314,'Data Input'!AZ314))","v":""},{"$f":"IF(J310=\"\",\"\",J310/COUNTIF('Data Input'!$C$8:$AZ$8,$J$2))","v":""},{"$f":"IF(ISBLANK('Data Input'!A314),\"\",SUM('Data Input'!Q314,'Data Input'!AG314))","v":""},{"$f":"IF(L310=\"\",\"\",L310/COUNTIF('Data Input'!$C$8:$AZ$8,$L$2))","v":""},{"$f":"IF(ISBLANK('Data Input'!A314),\"\",SUM('Data Input'!D314,'Data Input'!E314,'Data Input'!F314,'Data Input'!L314,'Data Input'!M314,'Data Input'!AB314,'Data Input'!AC314,'Data Input'!AF314,'Data Input'!AJ314,'Data Input'!AL314,'Data Input'!AN314,'Data Input'!AO314,'Data Input'!AP314,'Data Input'!AQ314,'Data Input'!AR314,'Data Input'!AS314,'Data Input'!AT314,'Data Input'!AU314,'Data Input'!AV314,'Data Input'!AW314,'Data Input'!AX314,'Data Input'!AY314))","v":""},{"$f":"IF(N310=\"\",\"\",N310/COUNTIF('Data Input'!$C$8:$AZ$8,$N$2))","v":""},null,{"$f":"IF(P310=\"\",\"\",P310/COUNTIF('Data Input'!$C$8:$AZ$8,$P$2))","v":""},{"$f":"IF(ISBLANK('Data Input'!A314),\"\",SUM('Data Input'!AH314))","v":""},{"$f":"IF(R310=\"\",\"\",R310/COUNTIF('Data Input'!$C$8:$AZ$8,$R$2))","v":""},{"$f":"IF(ISBLANK('Data Input'!$A314),\"\",SUM('Data Input'!AI314))","v":""},{"$f":"IF(T310=\"\",\"\",T310/COUNTIF('Data Input'!$C$8:$AZ$8,$T$2))","v":""},null,{"$f":"IF(V310=\"\",\"\",V310/COUNTIF('Data Input'!$C$8:$AZ$8,$V$2))","v":""}]
[{"$f":"IF('Data Input'!A315=0,\"\",'Data Input'!A315)","v":""},{"$f":"IF(F311=\"\",\"\",IF(F311>Welcome!$J$20-1,\"Exceeding\",IF(F311>Welcome!$F$20-1,\"Expected\",IF(F311<Welcome!$F$20,\"Below\"))))","v":""},{"$f":"IF(ISBLANK('Data Input'!A315),\"\",COUNTIF('Data Input'!C315:AZ315,\"\"))","v":""},{"$f":"IF(ISBLANK('Data Input'!A315),\"\",COUNTIF('Data Input'!C315:AZ315,\"0\"))","v":""},{"$f":"IF(ISBLANK('Data Input'!A315),\"\",SUM(C311,D311))","v":""},{"$f":"IF(ISBLANK('Data Input'!A315),\"\",SUM('Data Input'!C315:AZ315))","v":""},{"$f":"IF(F311=\"\",\"\",F311/(COUNTA('Data Input'!$C$8:$AZ$8)))","v":""},{"$f":"IF(ISBLANK('Data Input'!A315),\"\",SUM('Data Input'!C315,'Data Input'!H315,'Data Input'!J315,'Data Input'!N315,'Data Input'!R315,'Data Input'!T315,'Data Input'!Y315,'Data Input'!AE315,'Data Input'!AK315,'Data Input'!AM315))","v":""},{"$f":"IF(H311=\"\",\"\",H311/COUNTIF('Data Input'!$C$8:$AZ$8,$H$2))","v":""},{"$f":"IF(ISBLANK('Data Input'!A315),\"\",SUM('Data Input'!G315,'Data Input'!I315,'Data Input'!K315,'Data Input'!O315,'Data Input'!P315,'Data Input'!S315,'Data Input'!U315,'Data Input'!V315,'Data Input'!W315,'Data Input'!X315,'Data Input'!Z315,'Data Input'!AA315,'Data Input'!AD315,'Data Input'!AZ315))","v":""},{"$f":"IF(J311=\"\",\"\",J311/COUNTIF('Data Input'!$C$8:$AZ$8,$J$2))","v":""},{"$f":"IF(ISBLANK('Data Input'!A315),\"\",SUM('Data Input'!Q315,'Data Input'!AG315))","v":""},{"$f":"IF(L311=\"\",\"\",L311/COUNTIF('Data Input'!$C$8:$AZ$8,$L$2))","v":""},{"$f":"IF(ISBLANK('Data Input'!A315),\"\",SUM('Data Input'!D315,'Data Input'!E315,'Data Input'!F315,'Data Input'!L315,'Data Input'!M315,'Data Input'!AB315,'Data Input'!AC315,'Data Input'!AF315,'Data Input'!AJ315,'Data Input'!AL315,'Data Input'!AN315,'Data Input'!AO315,'Data Input'!AP315,'Data Input'!AQ315,'Data Input'!AR315,'Data Input'!AS315,'Data Input'!AT315,'Data Input'!AU315,'Data Input'!AV315,'Data Input'!AW315,'Data Input'!AX315,'Data Input'!AY315))","v":""},{"$f":"IF(N311=\"\",\"\",N311/COUNTIF('Data Input'!$C$8:$AZ$8,$N$2))","v":""},null,{"$f":"IF(P311=\"\",\"\",P311/COUNTIF('Data Input'!$C$8:$AZ$8,$P$2))","v":""},{"$f":"IF(ISBLANK('Data Input'!A315),\"\",SUM('Data Input'!AH315))","v":""},{"$f":"IF(R311=\"\",\"\",R311/COUNTIF('Data Input'!$C$8:$AZ$8,$R$2))","v":""},{"$f":"IF(ISBLANK('Data Input'!$A315),\"\",SUM('Data Input'!AI315))","v":""},{"$f":"IF(T311=\"\",\"\",T311/COUNTIF('Data Input'!$C$8:$AZ$8,$T$2))","v":""},null,{"$f":"IF(V311=\"\",\"\",V311/COUNTIF('Data Input'!$C$8:$AZ$8,$V$2))","v":""}]
[{"$f":"IF('Data Input'!A316=0,\"\",'Data Input'!A316)","v":""},{"$f":"IF(F312=\"\",\"\",IF(F312>Welcome!$J$20-1,\"Exceeding\",IF(F312>Welcome!$F$20-1,\"Expected\",IF(F312<Welcome!$F$20,\"Below\"))))","v":""},{"$f":"IF(ISBLANK('Data Input'!A316),\"\",COUNTIF('Data Input'!C316:AZ316,\"\"))","v":""},{"$f":"IF(ISBLANK('Data Input'!A316),\"\",COUNTIF('Data Input'!C316:AZ316,\"0\"))","v":""},{"$f":"IF(ISBLANK('Data Input'!A316),\"\",SUM(C312,D312))","v":""},{"$f":"IF(ISBLANK('Data Input'!A316),\"\",SUM('Data Input'!C316:AZ316))","v":""},{"$f":"IF(F312=\"\",\"\",F312/(COUNTA('Data Input'!$C$8:$AZ$8)))","v":""},{"$f":"IF(ISBLANK('Data Input'!A316),\"\",SUM('Data Input'!C316,'Data Input'!H316,'Data Input'!J316,'Data Input'!N316,'Data Input'!R316,'Data Input'!T316,'Data Input'!Y316,'Data Input'!AE316,'Data Input'!AK316,'Data Input'!AM316))","v":""},{"$f":"IF(H312=\"\",\"\",H312/COUNTIF('Data Input'!$C$8:$AZ$8,$H$2))","v":""},{"$f":"IF(ISBLANK('Data Input'!A316),\"\",SUM('Data Input'!G316,'Data Input'!I316,'Data Input'!K316,'Data Input'!O316,'Data Input'!P316,'Data Input'!S316,'Data Input'!U316,'Data Input'!V316,'Data Input'!W316,'Data Input'!X316,'Data Input'!Z316,'Data Input'!AA316,'Data Input'!AD316,'Data Input'!AZ316))","v":""},{"$f":"IF(J312=\"\",\"\",J312/COUNTIF('Data Input'!$C$8:$AZ$8,$J$2))","v":""},{"$f":"IF(ISBLANK('Data Input'!A316),\"\",SUM('Data Input'!Q316,'Data Input'!AG316))","v":""},{"$f":"IF(L312=\"\",\"\",L312/COUNTIF('Data Input'!$C$8:$AZ$8,$L$2))","v":""},{"$f":"IF(ISBLANK('Data Input'!A316),\"\",SUM('Data Input'!D316,'Data Input'!E316,'Data Input'!F316,'Data Input'!L316,'Data Input'!M316,'Data Input'!AB316,'Data Input'!AC316,'Data Input'!AF316,'Data Input'!AJ316,'Data Input'!AL316,'Data Input'!AN316,'Data Input'!AO316,'Data Input'!AP316,'Data Input'!AQ316,'Data Input'!AR316,'Data Input'!AS316,'Data Input'!AT316,'Data Input'!AU316,'Data Input'!AV316,'Data Input'!AW316,'Data Input'!AX316,'Data Input'!AY316))","v":""},{"$f":"IF(N312=\"\",\"\",N312/COUNTIF('Data Input'!$C$8:$AZ$8,$N$2))","v":""},null,{"$f":"IF(P312=\"\",\"\",P312/COUNTIF('Data Input'!$C$8:$AZ$8,$P$2))","v":""},{"$f":"IF(ISBLANK('Data Input'!A316),\"\",SUM('Data Input'!AH316))","v":""},{"$f":"IF(R312=\"\",\"\",R312/COUNTIF('Data Input'!$C$8:$AZ$8,$R$2))","v":""},{"$f":"IF(ISBLANK('Data Input'!$A316),\"\",SUM('Data Input'!AI316))","v":""},{"$f":"IF(T312=\"\",\"\",T312/COUNTIF('Data Input'!$C$8:$AZ$8,$T$2))","v":""},null,{"$f":"IF(V312=\"\",\"\",V312/COUNTIF('Data Input'!$C$8:$AZ$8,$V$2))","v":""}]
[{"$f":"IF('Data Input'!A317=0,\"\",'Data Input'!A317)","v":""},{"$f":"IF(F313=\"\",\"\",IF(F313>Welcome!$J$20-1,\"Exceeding\",IF(F313>Welcome!$F$20-1,\"Expected\",IF(F313<Welcome!$F$20,\"Below\"))))","v":""},{"$f":"IF(ISBLANK('Data Input'!A317),\"\",COUNTIF('Data Input'!C317:AZ317,\"\"))","v":""},{"$f":"IF(ISBLANK('Data Input'!A317),\"\",COUNTIF('Data Input'!C317:AZ317,\"0\"))","v":""},{"$f":"IF(ISBLANK('Data Input'!A317),\"\",SUM(C313,D313))","v":""},{"$f":"IF(ISBLANK('Data Input'!A317),\"\",SUM('Data Input'!C317:AZ317))","v":""},{"$f":"IF(F313=\"\",\"\",F313/(COUNTA('Data Input'!$C$8:$AZ$8)))","v":""},{"$f":"IF(ISBLANK('Data Input'!A317),\"\",SUM('Data Input'!C317,'Data Input'!H317,'Data Input'!J317,'Data Input'!N317,'Data Input'!R317,'Data Input'!T317,'Data Input'!Y317,'Data Input'!AE317,'Data Input'!AK317,'Data Input'!AM317))","v":""},{"$f":"IF(H313=\"\",\"\",H313/COUNTIF('Data Input'!$C$8:$AZ$8,$H$2))","v":""},{"$f":"IF(ISBLANK('Data Input'!A317),\"\",SUM('Data Input'!G317,'Data Input'!I317,'Data Input'!K317,'Data Input'!O317,'Data Input'!P317,'Data Input'!S317,'Data Input'!U317,'Data Input'!V317,'Data Input'!W317,'Data Input'!X317,'Data Input'!Z317,'Data Input'!AA317,'Data Input'!AD317,'Data Input'!AZ317))","v":""},{"$f":"IF(J313=\"\",\"\",J313/COUNTIF('Data Input'!$C$8:$AZ$8,$J$2))","v":""},{"$f":"IF(ISBLANK('Data Input'!A317),\"\",SUM('Data Input'!Q317,'Data Input'!AG317))","v":""},{"$f":"IF(L313=\"\",\"\",L313/COUNTIF('Data Input'!$C$8:$AZ$8,$L$2))","v":""},{"$f":"IF(ISBLANK('Data Input'!A317),\"\",SUM('Data Input'!D317,'Data Input'!E317,'Data Input'!F317,'Data Input'!L317,'Data Input'!M317,'Data Input'!AB317,'Data Input'!AC317,'Data Input'!AF317,'Data Input'!AJ317,'Data Input'!AL317,'Data Input'!AN317,'Data Input'!AO317,'Data Input'!AP317,'Data Input'!AQ317,'Data Input'!AR317,'Data Input'!AS317,'Data Input'!AT317,'Data Input'!AU317,'Data Input'!AV317,'Data Input'!AW317,'Data Input'!AX317,'Data Input'!AY317))","v":""},{"$f":"IF(N313=\"\",\"\",N313/COUNTIF('Data Input'!$C$8:$AZ$8,$N$2))","v":""},null,{"$f":"IF(P313=\"\",\"\",P313/COUNTIF('Data Input'!$C$8:$AZ$8,$P$2))","v":""},{"$f":"IF(ISBLANK('Data Input'!A317),\"\",SUM('Data Input'!AH317))","v":""},{"$f":"IF(R313=\"\",\"\",R313/COUNTIF('Data Input'!$C$8:$AZ$8,$R$2))","v":""},{"$f":"IF(ISBLANK('Data Input'!$A317),\"\",SUM('Data Input'!AI317))","v":""},{"$f":"IF(T313=\"\",\"\",T313/COUNTIF('Data Input'!$C$8:$AZ$8,$T$2))","v":""},null,{"$f":"IF(V313=\"\",\"\",V313/COUNTIF('Data Input'!$C$8:$AZ$8,$V$2))","v":""}]
[{"$f":"IF('Data Input'!A318=0,\"\",'Data Input'!A318)","v":""},{"$f":"IF(F314=\"\",\"\",IF(F314>Welcome!$J$20-1,\"Exceeding\",IF(F314>Welcome!$F$20-1,\"Expected\",IF(F314<Welcome!$F$20,\"Below\"))))","v":""},{"$f":"IF(ISBLANK('Data Input'!A318),\"\",COUNTIF('Data Input'!C318:AZ318,\"\"))","v":""},{"$f":"IF(ISBLANK('Data Input'!A318),\"\",COUNTIF('Data Input'!C318:AZ318,\"0\"))","v":""},{"$f":"IF(ISBLANK('Data Input'!A318),\"\",SUM(C314,D314))","v":""},{"$f":"IF(ISBLANK('Data Input'!A318),\"\",SUM('Data Input'!C318:AZ318))","v":""},{"$f":"IF(F314=\"\",\"\",F314/(COUNTA('Data Input'!$C$8:$AZ$8)))","v":""},{"$f":"IF(ISBLANK('Data Input'!A318),\"\",SUM('Data Input'!C318,'Data Input'!H318,'Data Input'!J318,'Data Input'!N318,'Data Input'!R318,'Data Input'!T318,'Data Input'!Y318,'Data Input'!AE318,'Data Input'!AK318,'Data Input'!AM318))","v":""},{"$f":"IF(H314=\"\",\"\",H314/COUNTIF('Data Input'!$C$8:$AZ$8,$H$2))","v":""},{"$f":"IF(ISBLANK('Data Input'!A318),\"\",SUM('Data Input'!G318,'Data Input'!I318,'Data Input'!K318,'Data Input'!O318,'Data Input'!P318,'Data Input'!S318,'Data Input'!U318,'Data Input'!V318,'Data Input'!W318,'Data Input'!X318,'Data Input'!Z318,'Data Input'!AA318,'Data Input'!AD318,'Data Input'!AZ318))","v":""},{"$f":"IF(J314=\"\",\"\",J314/COUNTIF('Data Input'!$C$8:$AZ$8,$J$2))","v":""},{"$f":"IF(ISBLANK('Data Input'!A318),\"\",SUM('Data Input'!Q318,'Data Input'!AG318))","v":""},{"$f":"IF(L314=\"\",\"\",L314/COUNTIF('Data Input'!$C$8:$AZ$8,$L$2))","v":""},{"$f":"IF(ISBLANK('Data Input'!A318),\"\",SUM('Data Input'!D318,'Data Input'!E318,'Data Input'!F318,'Data Input'!L318,'Data Input'!M318,'Data Input'!AB318,'Data Input'!AC318,'Data Input'!AF318,'Data Input'!AJ318,'Data Input'!AL318,'Data Input'!AN318,'Data Input'!AO318,'Data Input'!AP318,'Data Input'!AQ318,'Data Input'!AR318,'Data Input'!AS318,'Data Input'!AT318,'Data Input'!AU318,'Data Input'!AV318,'Data Input'!AW318,'Data Input'!AX318,'Data Input'!AY318))","v":""},{"$f":"IF(N314=\"\",\"\",N314/COUNTIF('Data Input'!$C$8:$AZ$8,$N$2))","v":""},null,{"$f":"IF(P314=\"\",\"\",P314/COUNTIF('Data Input'!$C$8:$AZ$8,$P$2))","v":""},{"$f":"IF(ISBLANK('Data Input'!A318),\"\",SUM('Data Input'!AH318))","v":""},{"$f":"IF(R314=\"\",\"\",R314/COUNTIF('Data Input'!$C$8:$AZ$8,$R$2))","v":""},{"$f":"IF(ISBLANK('Data Input'!$A318),\"\",SUM('Data Input'!AI318))","v":""},{"$f":"IF(T314=\"\",\"\",T314/COUNTIF('Data Input'!$C$8:$AZ$8,$T$2))","v":""},null,{"$f":"IF(V314=\"\",\"\",V314/COUNTIF('Data Input'!$C$8:$AZ$8,$V$2))","v":""}]
[{"$f":"IF('Data Input'!A319=0,\"\",'Data Input'!A319)","v":""},{"$f":"IF(F315=\"\",\"\",IF(F315>Welcome!$J$20-1,\"Exceeding\",IF(F315>Welcome!$F$20-1,\"Expected\",IF(F315<Welcome!$F$20,\"Below\"))))","v":""},{"$f":"IF(ISBLANK('Data Input'!A319),\"\",COUNTIF('Data Input'!C319:AZ319,\"\"))","v":""},{"$f":"IF(ISBLANK('Data Input'!A319),\"\",COUNTIF('Data Input'!C319:AZ319,\"0\"))","v":""},{"$f":"IF(ISBLANK('Data Input'!A319),\"\",SUM(C315,D315))","v":""},{"$f":"IF(ISBLANK('Data Input'!A319),\"\",SUM('Data Input'!C319:AZ319))","v":""},{"$f":"IF(F315=\"\",\"\",F315/(COUNTA('Data Input'!$C$8:$AZ$8)))","v":""},{"$f":"IF(ISBLANK('Data Input'!A319),\"\",SUM('Data Input'!C319,'Data Input'!H319,'Data Input'!J319,'Data Input'!N319,'Data Input'!R319,'Data Input'!T319,'Data Input'!Y319,'Data Input'!AE319,'Data Input'!AK319,'Data Input'!AM319))","v":""},{"$f":"IF(H315=\"\",\"\",H315/COUNTIF('Data Input'!$C$8:$AZ$8,$H$2))","v":""},{"$f":"IF(ISBLANK('Data Input'!A319),\"\",SUM('Data Input'!G319,'Data Input'!I319,'Data Input'!K319,'Data Input'!O319,'Data Input'!P319,'Data Input'!S319,'Data Input'!U319,'Data Input'!V319,'Data Input'!W319,'Data Input'!X319,'Data Input'!Z319,'Data Input'!AA319,'Data Input'!AD319,'Data Input'!AZ319))","v":""},{"$f":"IF(J315=\"\",\"\",J315/COUNTIF('Data Input'!$C$8:$AZ$8,$J$2))","v":""},{"$f":"IF(ISBLANK('Data Input'!A319),\"\",SUM('Data Input'!Q319,'Data Input'!AG319))","v":""},{"$f":"IF(L315=\"\",\"\",L315/COUNTIF('Data Input'!$C$8:$AZ$8,$L$2))","v":""},{"$f":"IF(ISBLANK('Data Input'!A319),\"\",SUM('Data Input'!D319,'Data Input'!E319,'Data Input'!F319,'Data Input'!L319,'Data Input'!M319,'Data Input'!AB319,'Data Input'!AC319,'Data Input'!AF319,'Data Input'!AJ319,'Data Input'!AL319,'Data Input'!AN319,'Data Input'!AO319,'Data Input'!AP319,'Data Input'!AQ319,'Data Input'!AR319,'Data Input'!AS319,'Data Input'!AT319,'Data Input'!AU319,'Data Input'!AV319,'Data Input'!AW319,'Data Input'!AX319,'Data Input'!AY319))","v":""},{"$f":"IF(N315=\"\",\"\",N315/COUNTIF('Data Input'!$C$8:$AZ$8,$N$2))","v":""},null,{"$f":"IF(P315=\"\",\"\",P315/COUNTIF('Data Input'!$C$8:$AZ$8,$P$2))","v":""},{"$f":"IF(ISBLANK('Data Input'!A319),\"\",SUM('Data Input'!AH319))","v":""},{"$f":"IF(R315=\"\",\"\",R315/COUNTIF('Data Input'!$C$8:$AZ$8,$R$2))","v":""},{"$f":"IF(ISBLANK('Data Input'!$A319),\"\",SUM('Data Input'!AI319))","v":""},{"$f":"IF(T315=\"\",\"\",T315/COUNTIF('Data Input'!$C$8:$AZ$8,$T$2))","v":""},null,{"$f":"IF(V315=\"\",\"\",V315/COUNTIF('Data Input'!$C$8:$AZ$8,$V$2))","v":""}]
[{"$f":"IF('Data Input'!A320=0,\"\",'Data Input'!A320)","v":""},{"$f":"IF(F316=\"\",\"\",IF(F316>Welcome!$J$20-1,\"Exceeding\",IF(F316>Welcome!$F$20-1,\"Expected\",IF(F316<Welcome!$F$20,\"Below\"))))","v":""},{"$f":"IF(ISBLANK('Data Input'!A320),\"\",COUNTIF('Data Input'!C320:AZ320,\"\"))","v":""},{"$f":"IF(ISBLANK('Data Input'!A320),\"\",COUNTIF('Data Input'!C320:AZ320,\"0\"))","v":""},{"$f":"IF(ISBLANK('Data Input'!A320),\"\",SUM(C316,D316))","v":""},{"$f":"IF(ISBLANK('Data Input'!A320),\"\",SUM('Data Input'!C320:AZ320))","v":""},{"$f":"IF(F316=\"\",\"\",F316/(COUNTA('Data Input'!$C$8:$AZ$8)))","v":""},{"$f":"IF(ISBLANK('Data Input'!A320),\"\",SUM('Data Input'!C320,'Data Input'!H320,'Data Input'!J320,'Data Input'!N320,'Data Input'!R320,'Data Input'!T320,'Data Input'!Y320,'Data Input'!AE320,'Data Input'!AK320,'Data Input'!AM320))","v":""},{"$f":"IF(H316=\"\",\"\",H316/COUNTIF('Data Input'!$C$8:$AZ$8,$H$2))","v":""},{"$f":"IF(ISBLANK('Data Input'!A320),\"\",SUM('Data Input'!G320,'Data Input'!I320,'Data Input'!K320,'Data Input'!O320,'Data Input'!P320,'Data Input'!S320,'Data Input'!U320,'Data Input'!V320,'Data Input'!W320,'Data Input'!X320,'Data Input'!Z320,'Data Input'!AA320,'Data Input'!AD320,'Data Input'!AZ320))","v":""},{"$f":"IF(J316=\"\",\"\",J316/COUNTIF('Data Input'!$C$8:$AZ$8,$J$2))","v":""},{"$f":"IF(ISBLANK('Data Input'!A320),\"\",SUM('Data Input'!Q320,'Data Input'!AG320))","v":""},{"$f":"IF(L316=\"\",\"\",L316/COUNTIF('Data Input'!$C$8:$AZ$8,$L$2))","v":""},{"$f":"IF(ISBLANK('Data Input'!A320),\"\",SUM('Data Input'!D320,'Data Input'!E320,'Data Input'!F320,'Data Input'!L320,'Data Input'!M320,'Data Input'!AB320,'Data Input'!AC320,'Data Input'!AF320,'Data Input'!AJ320,'Data Input'!AL320,'Data Input'!AN320,'Data Input'!AO320,'Data Input'!AP320,'Data Input'!AQ320,'Data Input'!AR320,'Data Input'!AS320,'Data Input'!AT320,'Data Input'!AU320,'Data Input'!AV320,'Data Input'!AW320,'Data Input'!AX320,'Data Input'!AY320))","v":""},{"$f":"IF(N316=\"\",\"\",N316/COUNTIF('Data Input'!$C$8:$AZ$8,$N$2))","v":""},null,{"$f":"IF(P316=\"\",\"\",P316/COUNTIF('Data Input'!$C$8:$AZ$8,$P$2))","v":""},{"$f":"IF(ISBLANK('Data Input'!A320),\"\",SUM('Data Input'!AH320))","v":""},{"$f":"IF(R316=\"\",\"\",R316/COUNTIF('Data Input'!$C$8:$AZ$8,$R$2))","v":""},{"$f":"IF(ISBLANK('Data Input'!$A320),\"\",SUM('Data Input'!AI320))","v":""},{"$f":"IF(T316=\"\",\"\",T316/COUNTIF('Data Input'!$C$8:$AZ$8,$T$2))","v":""},null,{"$f":"IF(V316=\"\",\"\",V316/COUNTIF('Data Input'!$C$8:$AZ$8,$V$2))","v":""}]
[{"$f":"IF('Data Input'!A321=0,\"\",'Data Input'!A321)","v":""},{"$f":"IF(F317=\"\",\"\",IF(F317>Welcome!$J$20-1,\"Exceeding\",IF(F317>Welcome!$F$20-1,\"Expected\",IF(F317<Welcome!$F$20,\"Below\"))))","v":""},{"$f":"IF(ISBLANK('Data Input'!A321),\"\",COUNTIF('Data Input'!C321:AZ321,\"\"))","v":""},{"$f":"IF(ISBLANK('Data Input'!A321),\"\",COUNTIF('Data Input'!C321:AZ321,\"0\"))","v":""},{"$f":"IF(ISBLANK('Data Input'!A321),\"\",SUM(C317,D317))","v":""},{"$f":"IF(ISBLANK('Data Input'!A321),\"\",SUM('Data Input'!C321:AZ321))","v":""},{"$f":"IF(F317=\"\",\"\",F317/(COUNTA('Data Input'!$C$8:$AZ$8)))","v":""},{"$f":"IF(ISBLANK('Data Input'!A321),\"\",SUM('Data Input'!C321,'Data Input'!H321,'Data Input'!J321,'Data Input'!N321,'Data Input'!R321,'Data Input'!T321,'Data Input'!Y321,'Data Input'!AE321,'Data Input'!AK321,'Data Input'!AM321))","v":""},{"$f":"IF(H317=\"\",\"\",H317/COUNTIF('Data Input'!$C$8:$AZ$8,$H$2))","v":""},{"$f":"IF(ISBLANK('Data Input'!A321),\"\",SUM('Data Input'!G321,'Data Input'!I321,'Data Input'!K321,'Data Input'!O321,'Data Input'!P321,'Data Input'!S321,'Data Input'!U321,'Data Input'!V321,'Data Input'!W321,'Data Input'!X321,'Data Input'!Z321,'Data Input'!AA321,'Data Input'!AD321,'Data Input'!AZ321))","v":""},{"$f":"IF(J317=\"\",\"\",J317/COUNTIF('Data Input'!$C$8:$AZ$8,$J$2))","v":""},{"$f":"IF(ISBLANK('Data Input'!A321),\"\",SUM('Data Input'!Q321,'Data Input'!AG321))","v":""},{"$f":"IF(L317=\"\",\"\",L317/COUNTIF('Data Input'!$C$8:$AZ$8,$L$2))","v":""},{"$f":"IF(ISBLANK('Data Input'!A321),\"\",SUM('Data Input'!D321,'Data Input'!E321,'Data Input'!F321,'Data Input'!L321,'Data Input'!M321,'Data Input'!AB321,'Data Input'!AC321,'Data Input'!AF321,'Data Input'!AJ321,'Data Input'!AL321,'Data Input'!AN321,'Data Input'!AO321,'Data Input'!AP321,'Data Input'!AQ321,'Data Input'!AR321,'Data Input'!AS321,'Data Input'!AT321,'Data Input'!AU321,'Data Input'!AV321,'Data Input'!AW321,'Data Input'!AX321,'Data Input'!AY321))","v":""},{"$f":"IF(N317=\"\",\"\",N317/COUNTIF('Data Input'!$C$8:$AZ$8,$N$2))","v":""},null,{"$f":"IF(P317=\"\",\"\",P317/COUNTIF('Data Input'!$C$8:$AZ$8,$P$2))","v":""},{"$f":"IF(ISBLANK('Data Input'!A321),\"\",SUM('Data Input'!AH321))","v":""},{"$f":"IF(R317=\"\",\"\",R317/COUNTIF('Data Input'!$C$8:$AZ$8,$R$2))","v":""},{"$f":"IF(ISBLANK('Data Input'!$A321),\"\",SUM('Data Input'!AI321))","v":""},{"$f":"IF(T317=\"\",\"\",T317/COUNTIF('Data Input'!$C$8:$AZ$8,$T$2))","v":""},null,{"$f":"IF(V317=\"\",\"\",V317/COUNTIF('Data Input'!$C$8:$AZ$8,$V$2))","v":""}]
[{"$f":"IF('Data Input'!A322=0,\"\",'Data Input'!A322)","v":""},{"$f":"IF(F318=\"\",\"\",IF(F318>Welcome!$J$20-1,\"Exceeding\",IF(F318>Welcome!$F$20-1,\"Expected\",IF(F318<Welcome!$F$20,\"Below\"))))","v":""},{"$f":"IF(ISBLANK('Data Input'!A322),\"\",COUNTIF('Data Input'!C322:AZ322,\"\"))","v":""},{"$f":"IF(ISBLANK('Data Input'!A322),\"\",COUNTIF('Data Input'!C322:AZ322,\"0\"))","v":""},{"$f":"IF(ISBLANK('Data Input'!A322),\"\",SUM(C318,D318))","v":""},{"$f":"IF(ISBLANK('Data Input'!A322),\"\",SUM('Data Input'!C322:AZ322))","v":""},{"$f":"IF(F318=\"\",\"\",F318/(COUNTA('Data Input'!$C$8:$AZ$8)))","v":""},{"$f":"IF(ISBLANK('Data Input'!A322),\"\",SUM('Data Input'!C322,'Data Input'!H322,'Data Input'!J322,'Data Input'!N322,'Data Input'!R322,'Data Input'!T322,'Data Input'!Y322,'Data Input'!AE322,'Data Input'!AK322,'Data Input'!AM322))","v":""},{"$f":"IF(H318=\"\",\"\",H318/COUNTIF('Data Input'!$C$8:$AZ$8,$H$2))","v":""},{"$f":"IF(ISBLANK('Data Input'!A322),\"\",SUM('Data Input'!G322,'Data Input'!I322,'Data Input'!K322,'Data Input'!O322,'Data Input'!P322,'Data Input'!S322,'Data Input'!U322,'Data Input'!V322,'Data Input'!W322,'Data Input'!X322,'Data Input'!Z322,'Data Input'!AA322,'Data Input'!AD322,'Data Input'!AZ322))","v":""},{"$f":"IF(J318=\"\",\"\",J318/COUNTIF('Data Input'!$C$8:$AZ$8,$J$2))","v":""},{"$f":"IF(ISBLANK('Data Input'!A322),\"\",SUM('Data Input'!Q322,'Data Input'!AG322))","v":""},{"$f":"IF(L318=\"\",\"\",L318/COUNTIF('Data Input'!$C$8:$AZ$8,$L$2))","v":""},{"$f":"IF(ISBLANK('Data Input'!A322),\"\",SUM('Data Input'!D322,'Data Input'!E322,'Data Input'!F322,'Data Input'!L322,'Data Input'!M322,'Data Input'!AB322,'Data Input'!AC322,'Data Input'!AF322,'Data Input'!AJ322,'Data Input'!AL322,'Data Input'!AN322,'Data Input'!AO322,'Data Input'!AP322,'Data Input'!AQ322,'Data Input'!AR322,'Data Input'!AS322,'Data Input'!AT322,'Data Input'!AU322,'Data Input'!AV322,'Data Input'!AW322,'Data Input'!AX322,'Data Input'!AY322))","v":""},{"$f":"IF(N318=\"\",\"\",N318/COUNTIF('Data Input'!$C$8:$AZ$8,$N$2))","v":""},null,{"$f":"IF(P318=\"\",\"\",P318/COUNTIF('Data Input'!$C$8:$AZ$8,$P$2))","v":""},{"$f":"IF(ISBLANK('Data Input'!A322),\"\",SUM('Data Input'!AH322))","v":""},{"$f":"IF(R318=\"\",\"\",R318/COUNTIF('Data Input'!$C$8:$AZ$8,$R$2))","v":""},{"$f":"IF(ISBLANK('Data Input'!$A322),\"\",SUM('Data Input'!AI322))","v":""},{"$f":"IF(T318=\"\",\"\",T318/COUNTIF('Data Input'!$C$8:$AZ$8,$T$2))","v":""},null,{"$f":"IF(V318=\"\",\"\",V318/COUNTIF('Data Input'!$C$8:$AZ$8,$V$2))","v":""}]
[{"$f":"IF('Data Input'!A323=0,\"\",'Data Input'!A323)","v":""},{"$f":"IF(F319=\"\",\"\",IF(F319>Welcome!$J$20-1,\"Exceeding\",IF(F319>Welcome!$F$20-1,\"Expected\",IF(F319<Welcome!$F$20,\"Below\"))))","v":""},{"$f":"IF(ISBLANK('Data Input'!A323),\"\",COUNTIF('Data Input'!C323:AZ323,\"\"))","v":""},{"$f":"IF(ISBLANK('Data Input'!A323),\"\",COUNTIF('Data Input'!C323:AZ323,\"0\"))","v":""},{"$f":"IF(ISBLANK('Data Input'!A323),\"\",SUM(C319,D319))","v":""},{"$f":"IF(ISBLANK('Data Input'!A323),\"\",SUM('Data Input'!C323:AZ323))","v":""},{"$f":"IF(F319=\"\",\"\",F319/(COUNTA('Data Input'!$C$8:$AZ$8)))","v":""},{"$f":"IF(ISBLANK('Data Input'!A323),\"\",SUM('Data Input'!C323,'Data Input'!H323,'Data Input'!J323,'Data Input'!N323,'Data Input'!R323,'Data Input'!T323,'Data Input'!Y323,'Data Input'!AE323,'Data Input'!AK323,'Data Input'!AM323))","v":""},{"$f":"IF(H319=\"\",\"\",H319/COUNTIF('Data Input'!$C$8:$AZ$8,$H$2))","v":""},{"$f":"IF(ISBLANK('Data Input'!A323),\"\",SUM('Data Input'!G323,'Data Input'!I323,'Data Input'!K323,'Data Input'!O323,'Data Input'!P323,'Data Input'!S323,'Data Input'!U323,'Data Input'!V323,'Data Input'!W323,'Data Input'!X323,'Data Input'!Z323,'Data Input'!AA323,'Data Input'!AD323,'Data Input'!AZ323))","v":""},{"$f":"IF(J319=\"\",\"\",J319/COUNTIF('Data Input'!$C$8:$AZ$8,$J$2))","v":""},{"$f":"IF(ISBLANK('Data Input'!A323),\"\",SUM('Data Input'!Q323,'Data Input'!AG323))","v":""},{"$f":"IF(L319=\"\",\"\",L319/COUNTIF('Data Input'!$C$8:$AZ$8,$L$2))","v":""},{"$f":"IF(ISBLANK('Data Input'!A323),\"\",SUM('Data Input'!D323,'Data Input'!E323,'Data Input'!F323,'Data Input'!L323,'Data Input'!M323,'Data Input'!AB323,'Data Input'!AC323,'Data Input'!AF323,'Data Input'!AJ323,'Data Input'!AL323,'Data Input'!AN323,'Data Input'!AO323,'Data Input'!AP323,'Data Input'!AQ323,'Data Input'!AR323,'Data Input'!AS323,'Data Input'!AT323,'Data Input'!AU323,'Data Input'!AV323,'Data Input'!AW323,'Data Input'!AX323,'Data Input'!AY323))","v":""},{"$f":"IF(N319=\"\",\"\",N319/COUNTIF('Data Input'!$C$8:$AZ$8,$N$2))","v":""},null,{"$f":"IF(P319=\"\",\"\",P319/COUNTIF('Data Input'!$C$8:$AZ$8,$P$2))","v":""},{"$f":"IF(ISBLANK('Data Input'!A323),\"\",SUM('Data Input'!AH323))","v":""},{"$f":"IF(R319=\"\",\"\",R319/COUNTIF('Data Input'!$C$8:$AZ$8,$R$2))","v":""},{"$f":"IF(ISBLANK('Data Input'!$A323),\"\",SUM('Data Input'!AI323))","v":""},{"$f":"IF(T319=\"\",\"\",T319/COUNTIF('Data Input'!$C$8:$AZ$8,$T$2))","v":""},null,{"$f":"IF(V319=\"\",\"\",V319/COUNTIF('Data Input'!$C$8:$AZ$8,$V$2))","v":""}]
[{"$f":"IF('Data Input'!A324=0,\"\",'Data Input'!A324)","v":""},{"$f":"IF(F320=\"\",\"\",IF(F320>Welcome!$J$20-1,\"Exceeding\",IF(F320>Welcome!$F$20-1,\"Expected\",IF(F320<Welcome!$F$20,\"Below\"))))","v":""},{"$f":"IF(ISBLANK('Data Input'!A324),\"\",COUNTIF('Data Input'!C324:AZ324,\"\"))","v":""},{"$f":"IF(ISBLANK('Data Input'!A324),\"\",COUNTIF('Data Input'!C324:AZ324,\"0\"))","v":""},{"$f":"IF(ISBLANK('Data Input'!A324),\"\",SUM(C320,D320))","v":""},{"$f":"IF(ISBLANK('Data Input'!A324),\"\",SUM('Data Input'!C324:AZ324))","v":""},{"$f":"IF(F320=\"\",\"\",F320/(COUNTA('Data Input'!$C$8:$AZ$8)))","v":""},{"$f":"IF(ISBLANK('Data Input'!A324),\"\",SUM('Data Input'!C324,'Data Input'!H324,'Data Input'!J324,'Data Input'!N324,'Data Input'!R324,'Data Input'!T324,'Data Input'!Y324,'Data Input'!AE324,'Data Input'!AK324,'Data Input'!AM324))","v":""},{"$f":"IF(H320=\"\",\"\",H320/COUNTIF('Data Input'!$C$8:$AZ$8,$H$2))","v":""},{"$f":"IF(ISBLANK('Data Input'!A324),\"\",SUM('Data Input'!G324,'Data Input'!I324,'Data Input'!K324,'Data Input'!O324,'Data Input'!P324,'Data Input'!S324,'Data Input'!U324,'Data Input'!V324,'Data Input'!W324,'Data Input'!X324,'Data Input'!Z324,'Data Input'!AA324,'Data Input'!AD324,'Data Input'!AZ324))","v":""},{"$f":"IF(J320=\"\",\"\",J320/COUNTIF('Data Input'!$C$8:$AZ$8,$J$2))","v":""},{"$f":"IF(ISBLANK('Data Input'!A324),\"\",SUM('Data Input'!Q324,'Data Input'!AG324))","v":""},{"$f":"IF(L320=\"\",\"\",L320/COUNTIF('Data Input'!$C$8:$AZ$8,$L$2))","v":""},{"$f":"IF(ISBLANK('Data Input'!A324),\"\",SUM('Data Input'!D324,'Data Input'!E324,'Data Input'!F324,'Data Input'!L324,'Data Input'!M324,'Data Input'!AB324,'Data Input'!AC324,'Data Input'!AF324,'Data Input'!AJ324,'Data Input'!AL324,'Data Input'!AN324,'Data Input'!AO324,'Data Input'!AP324,'Data Input'!AQ324,'Data Input'!AR324,'Data Input'!AS324,'Data Input'!AT324,'Data Input'!AU324,'Data Input'!AV324,'Data Input'!AW324,'Data Input'!AX324,'Data Input'!AY324))","v":""},{"$f":"IF(N320=\"\",\"\",N320/COUNTIF('Data Input'!$C$8:$AZ$8,$N$2))","v":""},null,{"$f":"IF(P320=\"\",\"\",P320/COUNTIF('Data Input'!$C$8:$AZ$8,$P$2))","v":""},{"$f":"IF(ISBLANK('Data Input'!A324),\"\",SUM('Data Input'!AH324))","v":""},{"$f":"IF(R320=\"\",\"\",R320/COUNTIF('Data Input'!$C$8:$AZ$8,$R$2))","v":""},{"$f":"IF(ISBLANK('Data Input'!$A324),\"\",SUM('Data Input'!AI324))","v":""},{"$f":"IF(T320=\"\",\"\",T320/COUNTIF('Data Input'!$C$8:$AZ$8,$T$2))","v":""},null,{"$f":"IF(V320=\"\",\"\",V320/COUNTIF('Data Input'!$C$8:$AZ$8,$V$2))","v":""}]
[{"$f":"IF('Data Input'!A325=0,\"\",'Data Input'!A325)","v":""},{"$f":"IF(F321=\"\",\"\",IF(F321>Welcome!$J$20-1,\"Exceeding\",IF(F321>Welcome!$F$20-1,\"Expected\",IF(F321<Welcome!$F$20,\"Below\"))))","v":""},{"$f":"IF(ISBLANK('Data Input'!A325),\"\",COUNTIF('Data Input'!C325:AZ325,\"\"))","v":""},{"$f":"IF(ISBLANK('Data Input'!A325),\"\",COUNTIF('Data Input'!C325:AZ325,\"0\"))","v":""},{"$f":"IF(ISBLANK('Data Input'!A325),\"\",SUM(C321,D321))","v":""},{"$f":"IF(ISBLANK('Data Input'!A325),\"\",SUM('Data Input'!C325:AZ325))","v":""},{"$f":"IF(F321=\"\",\"\",F321/(COUNTA('Data Input'!$C$8:$AZ$8)))","v":""},{"$f":"IF(ISBLANK('Data Input'!A325),\"\",SUM('Data Input'!C325,'Data Input'!H325,'Data Input'!J325,'Data Input'!N325,'Data Input'!R325,'Data Input'!T325,'Data Input'!Y325,'Data Input'!AE325,'Data Input'!AK325,'Data Input'!AM325))","v":""},{"$f":"IF(H321=\"\",\"\",H321/COUNTIF('Data Input'!$C$8:$AZ$8,$H$2))","v":""},{"$f":"IF(ISBLANK('Data Input'!A325),\"\",SUM('Data Input'!G325,'Data Input'!I325,'Data Input'!K325,'Data Input'!O325,'Data Input'!P325,'Data Input'!S325,'Data Input'!U325,'Data Input'!V325,'Data Input'!W325,'Data Input'!X325,'Data Input'!Z325,'Data Input'!AA325,'Data Input'!AD325,'Data Input'!AZ325))","v":""},{"$f":"IF(J321=\"\",\"\",J321/COUNTIF('Data Input'!$C$8:$AZ$8,$J$2))","v":""},{"$f":"IF(ISBLANK('Data Input'!A325),\"\",SUM('Data Input'!Q325,'Data Input'!AG325))","v":""},{"$f":"IF(L321=\"\",\"\",L321/COUNTIF('Data Input'!$C$8:$AZ$8,$L$2))","v":""},{"$f":"IF(ISBLANK('Data Input'!A325),\"\",SUM('Data Input'!D325,'Data Input'!E325,'Data Input'!F325,'Data Input'!L325,'Data Input'!M325,'Data Input'!AB325,'Data Input'!AC325,'Data Input'!AF325,'Data Input'!AJ325,'Data Input'!AL325,'Data Input'!AN325,'Data Input'!AO325,'Data Input'!AP325,'Data Input'!AQ325,'Data Input'!AR325,'Data Input'!AS325,'Data Input'!AT325,'Data Input'!AU325,'Data Input'!AV325,'Data Input'!AW325,'Data Input'!AX325,'Data Input'!AY325))","v":""},{"$f":"IF(N321=\"\",\"\",N321/COUNTIF('Data Input'!$C$8:$AZ$8,$N$2))","v":""},null,{"$f":"IF(P321=\"\",\"\",P321/COUNTIF('Data Input'!$C$8:$AZ$8,$P$2))","v":""},{"$f":"IF(ISBLANK('Data Input'!A325),\"\",SUM('Data Input'!AH325))","v":""},{"$f":"IF(R321=\"\",\"\",R321/COUNTIF('Data Input'!$C$8:$AZ$8,$R$2))","v":""},{"$f":"IF(ISBLANK('Data Input'!$A325),\"\",SUM('Data Input'!AI325))","v":""},{"$f":"IF(T321=\"\",\"\",T321/COUNTIF('Data Input'!$C$8:$AZ$8,$T$2))","v":""},null,{"$f":"IF(V321=\"\",\"\",V321/COUNTIF('Data Input'!$C$8:$AZ$8,$V$2))","v":""}]
[{"$f":"IF('Data Input'!A326=0,\"\",'Data Input'!A326)","v":""},{"$f":"IF(F322=\"\",\"\",IF(F322>Welcome!$J$20-1,\"Exceeding\",IF(F322>Welcome!$F$20-1,\"Expected\",IF(F322<Welcome!$F$20,\"Below\"))))","v":""},{"$f":"IF(ISBLANK('Data Input'!A326),\"\",COUNTIF('Data Input'!C326:AZ326,\"\"))","v":""},{"$f":"IF(ISBLANK('Data Input'!A326),\"\",COUNTIF('Data Input'!C326:AZ326,\"0\"))","v":""},{"$f":"IF(ISBLANK('Data Input'!A326),\"\",SUM(C322,D322))","v":""},{"$f":"IF(ISBLANK('Data Input'!A326),\"\",SUM('Data Input'!C326:AZ326))","v":""},{"$f":"IF(F322=\"\",\"\",F322/(COUNTA('Data Input'!$C$8:$AZ$8)))","v":""},{"$f":"IF(ISBLANK('Data Input'!A326),\"\",SUM('Data Input'!C326,'Data Input'!H326,'Data Input'!J326,'Data Input'!N326,'Data Input'!R326,'Data Input'!T326,'Data Input'!Y326,'Data Input'!AE326,'Data Input'!AK326,'Data Input'!AM326))","v":""},{"$f":"IF(H322=\"\",\"\",H322/COUNTIF('Data Input'!$C$8:$AZ$8,$H$2))","v":""},{"$f":"IF(ISBLANK('Data Input'!A326),\"\",SUM('Data Input'!G326,'Data Input'!I326,'Data Input'!K326,'Data Input'!O326,'Data Input'!P326,'Data Input'!S326,'Data Input'!U326,'Data Input'!V326,'Data Input'!W326,'Data Input'!X326,'Data Input'!Z326,'Data Input'!AA326,'Data Input'!AD326,'Data Input'!AZ326))","v":""},{"$f":"IF(J322=\"\",\"\",J322/COUNTIF('Data Input'!$C$8:$AZ$8,$J$2))","v":""},{"$f":"IF(ISBLANK('Data Input'!A326),\"\",SUM('Data Input'!Q326,'Data Input'!AG326))","v":""},{"$f":"IF(L322=\"\",\"\",L322/COUNTIF('Data Input'!$C$8:$AZ$8,$L$2))","v":""},{"$f":"IF(ISBLANK('Data Input'!A326),\"\",SUM('Data Input'!D326,'Data Input'!E326,'Data Input'!F326,'Data Input'!L326,'Data Input'!M326,'Data Input'!AB326,'Data Input'!AC326,'Data Input'!AF326,'Data Input'!AJ326,'Data Input'!AL326,'Data Input'!AN326,'Data Input'!AO326,'Data Input'!AP326,'Data Input'!AQ326,'Data Input'!AR326,'Data Input'!AS326,'Data Input'!AT326,'Data Input'!AU326,'Data Input'!AV326,'Data Input'!AW326,'Data Input'!AX326,'Data Input'!AY326))","v":""},{"$f":"IF(N322=\"\",\"\",N322/COUNTIF('Data Input'!$C$8:$AZ$8,$N$2))","v":""},null,{"$f":"IF(P322=\"\",\"\",P322/COUNTIF('Data Input'!$C$8:$AZ$8,$P$2))","v":""},{"$f":"IF(ISBLANK('Data Input'!A326),\"\",SUM('Data Input'!AH326))","v":""},{"$f":"IF(R322=\"\",\"\",R322/COUNTIF('Data Input'!$C$8:$AZ$8,$R$2))","v":""},{"$f":"IF(ISBLANK('Data Input'!$A326),\"\",SUM('Data Input'!AI326))","v":""},{"$f":"IF(T322=\"\",\"\",T322/COUNTIF('Data Input'!$C$8:$AZ$8,$T$2))","v":""},null,{"$f":"IF(V322=\"\",\"\",V322/COUNTIF('Data Input'!$C$8:$AZ$8,$V$2))","v":""}]
[{"$f":"IF('Data Input'!A327=0,\"\",'Data Input'!A327)","v":""},{"$f":"IF(F323=\"\",\"\",IF(F323>Welcome!$J$20-1,\"Exceeding\",IF(F323>Welcome!$F$20-1,\"Expected\",IF(F323<Welcome!$F$20,\"Below\"))))","v":""},{"$f":"IF(ISBLANK('Data Input'!A327),\"\",COUNTIF('Data Input'!C327:AZ327,\"\"))","v":""},{"$f":"IF(ISBLANK('Data Input'!A327),\"\",COUNTIF('Data Input'!C327:AZ327,\"0\"))","v":""},{"$f":"IF(ISBLANK('Data Input'!A327),\"\",SUM(C323,D323))","v":""},{"$f":"IF(ISBLANK('Data Input'!A327),\"\",SUM('Data Input'!C327:AZ327))","v":""},{"$f":"IF(F323=\"\",\"\",F323/(COUNTA('Data Input'!$C$8:$AZ$8)))","v":""},{"$f":"IF(ISBLANK('Data Input'!A327),\"\",SUM('Data Input'!C327,'Data Input'!H327,'Data Input'!J327,'Data Input'!N327,'Data Input'!R327,'Data Input'!T327,'Data Input'!Y327,'Data Input'!AE327,'Data Input'!AK327,'Data Input'!AM327))","v":""},{"$f":"IF(H323=\"\",\"\",H323/COUNTIF('Data Input'!$C$8:$AZ$8,$H$2))","v":""},{"$f":"IF(ISBLANK('Data Input'!A327),\"\",SUM('Data Input'!G327,'Data Input'!I327,'Data Input'!K327,'Data Input'!O327,'Data Input'!P327,'Data Input'!S327,'Data Input'!U327,'Data Input'!V327,'Data Input'!W327,'Data Input'!X327,'Data Input'!Z327,'Data Input'!AA327,'Data Input'!AD327,'Data Input'!AZ327))","v":""},{"$f":"IF(J323=\"\",\"\",J323/COUNTIF('Data Input'!$C$8:$AZ$8,$J$2))","v":""},{"$f":"IF(ISBLANK('Data Input'!A327),\"\",SUM('Data Input'!Q327,'Data Input'!AG327))","v":""},{"$f":"IF(L323=\"\",\"\",L323/COUNTIF('Data Input'!$C$8:$AZ$8,$L$2))","v":""},{"$f":"IF(ISBLANK('Data Input'!A327),\"\",SUM('Data Input'!D327,'Data Input'!E327,'Data Input'!F327,'Data Input'!L327,'Data Input'!M327,'Data Input'!AB327,'Data Input'!AC327,'Data Input'!AF327,'Data Input'!AJ327,'Data Input'!AL327,'Data Input'!AN327,'Data Input'!AO327,'Data Input'!AP327,'Data Input'!AQ327,'Data Input'!AR327,'Data Input'!AS327,'Data Input'!AT327,'Data Input'!AU327,'Data Input'!AV327,'Data Input'!AW327,'Data Input'!AX327,'Data Input'!AY327))","v":""},{"$f":"IF(N323=\"\",\"\",N323/COUNTIF('Data Input'!$C$8:$AZ$8,$N$2))","v":""},null,{"$f":"IF(P323=\"\",\"\",P323/COUNTIF('Data Input'!$C$8:$AZ$8,$P$2))","v":""},{"$f":"IF(ISBLANK('Data Input'!A327),\"\",SUM('Data Input'!AH327))","v":""},{"$f":"IF(R323=\"\",\"\",R323/COUNTIF('Data Input'!$C$8:$AZ$8,$R$2))","v":""},{"$f":"IF(ISBLANK('Data Input'!$A327),\"\",SUM('Data Input'!AI327))","v":""},{"$f":"IF(T323=\"\",\"\",T323/COUNTIF('Data Input'!$C$8:$AZ$8,$T$2))","v":""},null,{"$f":"IF(V323=\"\",\"\",V323/COUNTIF('Data Input'!$C$8:$AZ$8,$V$2))","v":""}]
[{"$f":"IF('Data Input'!A328=0,\"\",'Data Input'!A328)","v":""},{"$f":"IF(F324=\"\",\"\",IF(F324>Welcome!$J$20-1,\"Exceeding\",IF(F324>Welcome!$F$20-1,\"Expected\",IF(F324<Welcome!$F$20,\"Below\"))))","v":""},{"$f":"IF(ISBLANK('Data Input'!A328),\"\",COUNTIF('Data Input'!C328:AZ328,\"\"))","v":""},{"$f":"IF(ISBLANK('Data Input'!A328),\"\",COUNTIF('Data Input'!C328:AZ328,\"0\"))","v":""},{"$f":"IF(ISBLANK('Data Input'!A328),\"\",SUM(C324,D324))","v":""},{"$f":"IF(ISBLANK('Data Input'!A328),\"\",SUM('Data Input'!C328:AZ328))","v":""},{"$f":"IF(F324=\"\",\"\",F324/(COUNTA('Data Input'!$C$8:$AZ$8)))","v":""},{"$f":"IF(ISBLANK('Data Input'!A328),\"\",SUM('Data Input'!C328,'Data Input'!H328,'Data Input'!J328,'Data Input'!N328,'Data Input'!R328,'Data Input'!T328,'Data Input'!Y328,'Data Input'!AE328,'Data Input'!AK328,'Data Input'!AM328))","v":""},{"$f":"IF(H324=\"\",\"\",H324/COUNTIF('Data Input'!$C$8:$AZ$8,$H$2))","v":""},{"$f":"IF(ISBLANK('Data Input'!A328),\"\",SUM('Data Input'!G328,'Data Input'!I328,'Data Input'!K328,'Data Input'!O328,'Data Input'!P328,'Data Input'!S328,'Data Input'!U328,'Data Input'!V328,'Data Input'!W328,'Data Input'!X328,'Data Input'!Z328,'Data Input'!AA328,'Data Input'!AD328,'Data Input'!AZ328))","v":""},{"$f":"IF(J324=\"\",\"\",J324/COUNTIF('Data Input'!$C$8:$AZ$8,$J$2))","v":""},{"$f":"IF(ISBLANK('Data Input'!A328),\"\",SUM('Data Input'!Q328,'Data Input'!AG328))","v":""},{"$f":"IF(L324=\"\",\"\",L324/COUNTIF('Data Input'!$C$8:$AZ$8,$L$2))","v":""},{"$f":"IF(ISBLANK('Data Input'!A328),\"\",SUM('Data Input'!D328,'Data Input'!E328,'Data Input'!F328,'Data Input'!L328,'Data Input'!M328,'Data Input'!AB328,'Data Input'!AC328,'Data Input'!AF328,'Data Input'!AJ328,'Data Input'!AL328,'Data Input'!AN328,'Data Input'!AO328,'Data Input'!AP328,'Data Input'!AQ328,'Data Input'!AR328,'Data Input'!AS328,'Data Input'!AT328,'Data Input'!AU328,'Data Input'!AV328,'Data Input'!AW328,'Data Input'!AX328,'Data Input'!AY328))","v":""},{"$f":"IF(N324=\"\",\"\",N324/COUNTIF('Data Input'!$C$8:$AZ$8,$N$2))","v":""},null,{"$f":"IF(P324=\"\",\"\",P324/COUNTIF('Data Input'!$C$8:$AZ$8,$P$2))","v":""},{"$f":"IF(ISBLANK('Data Input'!A328),\"\",SUM('Data Input'!AH328))","v":""},{"$f":"IF(R324=\"\",\"\",R324/COUNTIF('Data Input'!$C$8:$AZ$8,$R$2))","v":""},{"$f":"IF(ISBLANK('Data Input'!$A328),\"\",SUM('Data Input'!AI328))","v":""},{"$f":"IF(T324=\"\",\"\",T324/COUNTIF('Data Input'!$C$8:$AZ$8,$T$2))","v":""},null,{"$f":"IF(V324=\"\",\"\",V324/COUNTIF('Data Input'!$C$8:$AZ$8,$V$2))","v":""}]
[{"$f":"IF('Data Input'!A329=0,\"\",'Data Input'!A329)","v":""},{"$f":"IF(F325=\"\",\"\",IF(F325>Welcome!$J$20-1,\"Exceeding\",IF(F325>Welcome!$F$20-1,\"Expected\",IF(F325<Welcome!$F$20,\"Below\"))))","v":""},{"$f":"IF(ISBLANK('Data Input'!A329),\"\",COUNTIF('Data Input'!C329:AZ329,\"\"))","v":""},{"$f":"IF(ISBLANK('Data Input'!A329),\"\",COUNTIF('Data Input'!C329:AZ329,\"0\"))","v":""},{"$f":"IF(ISBLANK('Data Input'!A329),\"\",SUM(C325,D325))","v":""},{"$f":"IF(ISBLANK('Data Input'!A329),\"\",SUM('Data Input'!C329:AZ329))","v":""},{"$f":"IF(F325=\"\",\"\",F325/(COUNTA('Data Input'!$C$8:$AZ$8)))","v":""},{"$f":"IF(ISBLANK('Data Input'!A329),\"\",SUM('Data Input'!C329,'Data Input'!H329,'Data Input'!J329,'Data Input'!N329,'Data Input'!R329,'Data Input'!T329,'Data Input'!Y329,'Data Input'!AE329,'Data Input'!AK329,'Data Input'!AM329))","v":""},{"$f":"IF(H325=\"\",\"\",H325/COUNTIF('Data Input'!$C$8:$AZ$8,$H$2))","v":""},{"$f":"IF(ISBLANK('Data Input'!A329),\"\",SUM('Data Input'!G329,'Data Input'!I329,'Data Input'!K329,'Data Input'!O329,'Data Input'!P329,'Data Input'!S329,'Data Input'!U329,'Data Input'!V329,'Data Input'!W329,'Data Input'!X329,'Data Input'!Z329,'Data Input'!AA329,'Data Input'!AD329,'Data Input'!AZ329))","v":""},{"$f":"IF(J325=\"\",\"\",J325/COUNTIF('Data Input'!$C$8:$AZ$8,$J$2))","v":""},{"$f":"IF(ISBLANK('Data Input'!A329),\"\",SUM('Data Input'!Q329,'Data Input'!AG329))","v":""},{"$f":"IF(L325=\"\",\"\",L325/COUNTIF('Data Input'!$C$8:$AZ$8,$L$2))","v":""},{"$f":"IF(ISBLANK('Data Input'!A329),\"\",SUM('Data Input'!D329,'Data Input'!E329,'Data Input'!F329,'Data Input'!L329,'Data Input'!M329,'Data Input'!AB329,'Data Input'!AC329,'Data Input'!AF329,'Data Input'!AJ329,'Data Input'!AL329,'Data Input'!AN329,'Data Input'!AO329,'Data Input'!AP329,'Data Input'!AQ329,'Data Input'!AR329,'Data Input'!AS329,'Data Input'!AT329,'Data Input'!AU329,'Data Input'!AV329,'Data Input'!AW329,'Data Input'!AX329,'Data Input'!AY329))","v":""},{"$f":"IF(N325=\"\",\"\",N325/COUNTIF('Data Input'!$C$8:$AZ$8,$N$2))","v":""},null,{"$f":"IF(P325=\"\",\"\",P325/COUNTIF('Data Input'!$C$8:$AZ$8,$P$2))","v":""},{"$f":"IF(ISBLANK('Data Input'!A329),\"\",SUM('Data Input'!AH329))","v":""},{"$f":"IF(R325=\"\",\"\",R325/COUNTIF('Data Input'!$C$8:$AZ$8,$R$2))","v":""},{"$f":"IF(ISBLANK('Data Input'!$A329),\"\",SUM('Data Input'!AI329))","v":""},{"$f":"IF(T325=\"\",\"\",T325/COUNTIF('Data Input'!$C$8:$AZ$8,$T$2))","v":""},null,{"$f":"IF(V325=\"\",\"\",V325/COUNTIF('Data Input'!$C$8:$AZ$8,$V$2))","v":""}]
[{"$f":"IF('Data Input'!A330=0,\"\",'Data Input'!A330)","v":""},{"$f":"IF(F326=\"\",\"\",IF(F326>Welcome!$J$20-1,\"Exceeding\",IF(F326>Welcome!$F$20-1,\"Expected\",IF(F326<Welcome!$F$20,\"Below\"))))","v":""},{"$f":"IF(ISBLANK('Data Input'!A330),\"\",COUNTIF('Data Input'!C330:AZ330,\"\"))","v":""},{"$f":"IF(ISBLANK('Data Input'!A330),\"\",COUNTIF('Data Input'!C330:AZ330,\"0\"))","v":""},{"$f":"IF(ISBLANK('Data Input'!A330),\"\",SUM(C326,D326))","v":""},{"$f":"IF(ISBLANK('Data Input'!A330),\"\",SUM('Data Input'!C330:AZ330))","v":""},{"$f":"IF(F326=\"\",\"\",F326/(COUNTA('Data Input'!$C$8:$AZ$8)))","v":""},{"$f":"IF(ISBLANK('Data Input'!A330),\"\",SUM('Data Input'!C330,'Data Input'!H330,'Data Input'!J330,'Data Input'!N330,'Data Input'!R330,'Data Input'!T330,'Data Input'!Y330,'Data Input'!AE330,'Data Input'!AK330,'Data Input'!AM330))","v":""},{"$f":"IF(H326=\"\",\"\",H326/COUNTIF('Data Input'!$C$8:$AZ$8,$H$2))","v":""},{"$f":"IF(ISBLANK('Data Input'!A330),\"\",SUM('Data Input'!G330,'Data Input'!I330,'Data Input'!K330,'Data Input'!O330,'Data Input'!P330,'Data Input'!S330,'Data Input'!U330,'Data Input'!V330,'Data Input'!W330,'Data Input'!X330,'Data Input'!Z330,'Data Input'!AA330,'Data Input'!AD330,'Data Input'!AZ330))","v":""},{"$f":"IF(J326=\"\",\"\",J326/COUNTIF('Data Input'!$C$8:$AZ$8,$J$2))","v":""},{"$f":"IF(ISBLANK('Data Input'!A330),\"\",SUM('Data Input'!Q330,'Data Input'!AG330))","v":""},{"$f":"IF(L326=\"\",\"\",L326/COUNTIF('Data Input'!$C$8:$AZ$8,$L$2))","v":""},{"$f":"IF(ISBLANK('Data Input'!A330),\"\",SUM('Data Input'!D330,'Data Input'!E330,'Data Input'!F330,'Data Input'!L330,'Data Input'!M330,'Data Input'!AB330,'Data Input'!AC330,'Data Input'!AF330,'Data Input'!AJ330,'Data Input'!AL330,'Data Input'!AN330,'Data Input'!AO330,'Data Input'!AP330,'Data Input'!AQ330,'Data Input'!AR330,'Data Input'!AS330,'Data Input'!AT330,'Data Input'!AU330,'Data Input'!AV330,'Data Input'!AW330,'Data Input'!AX330,'Data Input'!AY330))","v":""},{"$f":"IF(N326=\"\",\"\",N326/COUNTIF('Data Input'!$C$8:$AZ$8,$N$2))","v":""},null,{"$f":"IF(P326=\"\",\"\",P326/COUNTIF('Data Input'!$C$8:$AZ$8,$P$2))","v":""},{"$f":"IF(ISBLANK('Data Input'!A330),\"\",SUM('Data Input'!AH330))","v":""},{"$f":"IF(R326=\"\",\"\",R326/COUNTIF('Data Input'!$C$8:$AZ$8,$R$2))","v":""},{"$f":"IF(ISBLANK('Data Input'!$A330),\"\",SUM('Data Input'!AI330))","v":""},{"$f":"IF(T326=\"\",\"\",T326/COUNTIF('Data Input'!$C$8:$AZ$8,$T$2))","v":""},null,{"$f":"IF(V326=\"\",\"\",V326/COUNTIF('Data Input'!$C$8:$AZ$8,$V$2))","v":""}]
[{"$f":"IF('Data Input'!A331=0,\"\",'Data Input'!A331)","v":""},{"$f":"IF(F327=\"\",\"\",IF(F327>Welcome!$J$20-1,\"Exceeding\",IF(F327>Welcome!$F$20-1,\"Expected\",IF(F327<Welcome!$F$20,\"Below\"))))","v":""},{"$f":"IF(ISBLANK('Data Input'!A331),\"\",COUNTIF('Data Input'!C331:AZ331,\"\"))","v":""},{"$f":"IF(ISBLANK('Data Input'!A331),\"\",COUNTIF('Data Input'!C331:AZ331,\"0\"))","v":""},{"$f":"IF(ISBLANK('Data Input'!A331),\"\",SUM(C327,D327))","v":""},{"$f":"IF(ISBLANK('Data Input'!A331),\"\",SUM('Data Input'!C331:AZ331))","v":""},{"$f":"IF(F327=\"\",\"\",F327/(COUNTA('Data Input'!$C$8:$AZ$8)))","v":""},{"$f":"IF(ISBLANK('Data Input'!A331),\"\",SUM('Data Input'!C331,'Data Input'!H331,'Data Input'!J331,'Data Input'!N331,'Data Input'!R331,'Data Input'!T331,'Data Input'!Y331,'Data Input'!AE331,'Data Input'!AK331,'Data Input'!AM331))","v":""},{"$f":"IF(H327=\"\",\"\",H327/COUNTIF('Data Input'!$C$8:$AZ$8,$H$2))","v":""},{"$f":"IF(ISBLANK('Data Input'!A331),\"\",SUM('Data Input'!G331,'Data Input'!I331,'Data Input'!K331,'Data Input'!O331,'Data Input'!P331,'Data Input'!S331,'Data Input'!U331,'Data Input'!V331,'Data Input'!W331,'Data Input'!X331,'Data Input'!Z331,'Data Input'!AA331,'Data Input'!AD331,'Data Input'!AZ331))","v":""},{"$f":"IF(J327=\"\",\"\",J327/COUNTIF('Data Input'!$C$8:$AZ$8,$J$2))","v":""},{"$f":"IF(ISBLANK('Data Input'!A331),\"\",SUM('Data Input'!Q331,'Data Input'!AG331))","v":""},{"$f":"IF(L327=\"\",\"\",L327/COUNTIF('Data Input'!$C$8:$AZ$8,$L$2))","v":""},{"$f":"IF(ISBLANK('Data Input'!A331),\"\",SUM('Data Input'!D331,'Data Input'!E331,'Data Input'!F331,'Data Input'!L331,'Data Input'!M331,'Data Input'!AB331,'Data Input'!AC331,'Data Input'!AF331,'Data Input'!AJ331,'Data Input'!AL331,'Data Input'!AN331,'Data Input'!AO331,'Data Input'!AP331,'Data Input'!AQ331,'Data Input'!AR331,'Data Input'!AS331,'Data Input'!AT331,'Data Input'!AU331,'Data Input'!AV331,'Data Input'!AW331,'Data Input'!AX331,'Data Input'!AY331))","v":""},{"$f":"IF(N327=\"\",\"\",N327/COUNTIF('Data Input'!$C$8:$AZ$8,$N$2))","v":""},null,{"$f":"IF(P327=\"\",\"\",P327/COUNTIF('Data Input'!$C$8:$AZ$8,$P$2))","v":""},{"$f":"IF(ISBLANK('Data Input'!A331),\"\",SUM('Data Input'!AH331))","v":""},{"$f":"IF(R327=\"\",\"\",R327/COUNTIF('Data Input'!$C$8:$AZ$8,$R$2))","v":""},{"$f":"IF(ISBLANK('Data Input'!$A331),\"\",SUM('Data Input'!AI331))","v":""},{"$f":"IF(T327=\"\",\"\",T327/COUNTIF('Data Input'!$C$8:$AZ$8,$T$2))","v":""},null,{"$f":"IF(V327=\"\",\"\",V327/COUNTIF('Data Input'!$C$8:$AZ$8,$V$2))","v":""}]
[{"$f":"IF('Data Input'!A332=0,\"\",'Data Input'!A332)","v":""},{"$f":"IF(F328=\"\",\"\",IF(F328>Welcome!$J$20-1,\"Exceeding\",IF(F328>Welcome!$F$20-1,\"Expected\",IF(F328<Welcome!$F$20,\"Below\"))))","v":""},{"$f":"IF(ISBLANK('Data Input'!A332),\"\",COUNTIF('Data Input'!C332:AZ332,\"\"))","v":""},{"$f":"IF(ISBLANK('Data Input'!A332),\"\",COUNTIF('Data Input'!C332:AZ332,\"0\"))","v":""},{"$f":"IF(ISBLANK('Data Input'!A332),\"\",SUM(C328,D328))","v":""},{"$f":"IF(ISBLANK('Data Input'!A332),\"\",SUM('Data Input'!C332:AZ332))","v":""},{"$f":"IF(F328=\"\",\"\",F328/(COUNTA('Data Input'!$C$8:$AZ$8)))","v":""},{"$f":"IF(ISBLANK('Data Input'!A332),\"\",SUM('Data Input'!C332,'Data Input'!H332,'Data Input'!J332,'Data Input'!N332,'Data Input'!R332,'Data Input'!T332,'Data Input'!Y332,'Data Input'!AE332,'Data Input'!AK332,'Data Input'!AM332))","v":""},{"$f":"IF(H328=\"\",\"\",H328/COUNTIF('Data Input'!$C$8:$AZ$8,$H$2))","v":""},{"$f":"IF(ISBLANK('Data Input'!A332),\"\",SUM('Data Input'!G332,'Data Input'!I332,'Data Input'!K332,'Data Input'!O332,'Data Input'!P332,'Data Input'!S332,'Data Input'!U332,'Data Input'!V332,'Data Input'!W332,'Data Input'!X332,'Data Input'!Z332,'Data Input'!AA332,'Data Input'!AD332,'Data Input'!AZ332))","v":""},{"$f":"IF(J328=\"\",\"\",J328/COUNTIF('Data Input'!$C$8:$AZ$8,$J$2))","v":""},{"$f":"IF(ISBLANK('Data Input'!A332),\"\",SUM('Data Input'!Q332,'Data Input'!AG332))","v":""},{"$f":"IF(L328=\"\",\"\",L328/COUNTIF('Data Input'!$C$8:$AZ$8,$L$2))","v":""},{"$f":"IF(ISBLANK('Data Input'!A332),\"\",SUM('Data Input'!D332,'Data Input'!E332,'Data Input'!F332,'Data Input'!L332,'Data Input'!M332,'Data Input'!AB332,'Data Input'!AC332,'Data Input'!AF332,'Data Input'!AJ332,'Data Input'!AL332,'Data Input'!AN332,'Data Input'!AO332,'Data Input'!AP332,'Data Input'!AQ332,'Data Input'!AR332,'Data Input'!AS332,'Data Input'!AT332,'Data Input'!AU332,'Data Input'!AV332,'Data Input'!AW332,'Data Input'!AX332,'Data Input'!AY332))","v":""},{"$f":"IF(N328=\"\",\"\",N328/COUNTIF('Data Input'!$C$8:$AZ$8,$N$2))","v":""},null,{"$f":"IF(P328=\"\",\"\",P328/COUNTIF('Data Input'!$C$8:$AZ$8,$P$2))","v":""},{"$f":"IF(ISBLANK('Data Input'!A332),\"\",SUM('Data Input'!AH332))","v":""},{"$f":"IF(R328=\"\",\"\",R328/COUNTIF('Data Input'!$C$8:$AZ$8,$R$2))","v":""},{"$f":"IF(ISBLANK('Data Input'!$A332),\"\",SUM('Data Input'!AI332))","v":""},{"$f":"IF(T328=\"\",\"\",T328/COUNTIF('Data Input'!$C$8:$AZ$8,$T$2))","v":""},null,{"$f":"IF(V328=\"\",\"\",V328/COUNTIF('Data Input'!$C$8:$AZ$8,$V$2))","v":""}]
[{"$f":"IF('Data Input'!A333=0,\"\",'Data Input'!A333)","v":""},{"$f":"IF(F329=\"\",\"\",IF(F329>Welcome!$J$20-1,\"Exceeding\",IF(F329>Welcome!$F$20-1,\"Expected\",IF(F329<Welcome!$F$20,\"Below\"))))","v":""},{"$f":"IF(ISBLANK('Data Input'!A333),\"\",COUNTIF('Data Input'!C333:AZ333,\"\"))","v":""},{"$f":"IF(ISBLANK('Data Input'!A333),\"\",COUNTIF('Data Input'!C333:AZ333,\"0\"))","v":""},{"$f":"IF(ISBLANK('Data Input'!A333),\"\",SUM(C329,D329))","v":""},{"$f":"IF(ISBLANK('Data Input'!A333),\"\",SUM('Data Input'!C333:AZ333))","v":""},{"$f":"IF(F329=\"\",\"\",F329/(COUNTA('Data Input'!$C$8:$AZ$8)))","v":""},{"$f":"IF(ISBLANK('Data Input'!A333),\"\",SUM('Data Input'!C333,'Data Input'!H333,'Data Input'!J333,'Data Input'!N333,'Data Input'!R333,'Data Input'!T333,'Data Input'!Y333,'Data Input'!AE333,'Data Input'!AK333,'Data Input'!AM333))","v":""},{"$f":"IF(H329=\"\",\"\",H329/COUNTIF('Data Input'!$C$8:$AZ$8,$H$2))","v":""},{"$f":"IF(ISBLANK('Data Input'!A333),\"\",SUM('Data Input'!G333,'Data Input'!I333,'Data Input'!K333,'Data Input'!O333,'Data Input'!P333,'Data Input'!S333,'Data Input'!U333,'Data Input'!V333,'Data Input'!W333,'Data Input'!X333,'Data Input'!Z333,'Data Input'!AA333,'Data Input'!AD333,'Data Input'!AZ333))","v":""},{"$f":"IF(J329=\"\",\"\",J329/COUNTIF('Data Input'!$C$8:$AZ$8,$J$2))","v":""},{"$f":"IF(ISBLANK('Data Input'!A333),\"\",SUM('Data Input'!Q333,'Data Input'!AG333))","v":""},{"$f":"IF(L329=\"\",\"\",L329/COUNTIF('Data Input'!$C$8:$AZ$8,$L$2))","v":""},{"$f":"IF(ISBLANK('Data Input'!A333),\"\",SUM('Data Input'!D333,'Data Input'!E333,'Data Input'!F333,'Data Input'!L333,'Data Input'!M333,'Data Input'!AB333,'Data Input'!AC333,'Data Input'!AF333,'Data Input'!AJ333,'Data Input'!AL333,'Data Input'!AN333,'Data Input'!AO333,'Data Input'!AP333,'Data Input'!AQ333,'Data Input'!AR333,'Data Input'!AS333,'Data Input'!AT333,'Data Input'!AU333,'Data Input'!AV333,'Data Input'!AW333,'Data Input'!AX333,'Data Input'!AY333))","v":""},{"$f":"IF(N329=\"\",\"\",N329/COUNTIF('Data Input'!$C$8:$AZ$8,$N$2))","v":""},null,{"$f":"IF(P329=\"\",\"\",P329/COUNTIF('Data Input'!$C$8:$AZ$8,$P$2))","v":""},{"$f":"IF(ISBLANK('Data Input'!A333),\"\",SUM('Data Input'!AH333))","v":""},{"$f":"IF(R329=\"\",\"\",R329/COUNTIF('Data Input'!$C$8:$AZ$8,$R$2))","v":""},{"$f":"IF(ISBLANK('Data Input'!$A333),\"\",SUM('Data Input'!AI333))","v":""},{"$f":"IF(T329=\"\",\"\",T329/COUNTIF('Data Input'!$C$8:$AZ$8,$T$2))","v":""},null,{"$f":"IF(V329=\"\",\"\",V329/COUNTIF('Data Input'!$C$8:$AZ$8,$V$2))","v":""}]
[{"$f":"IF('Data Input'!A334=0,\"\",'Data Input'!A334)","v":""},{"$f":"IF(F330=\"\",\"\",IF(F330>Welcome!$J$20-1,\"Exceeding\",IF(F330>Welcome!$F$20-1,\"Expected\",IF(F330<Welcome!$F$20,\"Below\"))))","v":""},{"$f":"IF(ISBLANK('Data Input'!A334),\"\",COUNTIF('Data Input'!C334:AZ334,\"\"))","v":""},{"$f":"IF(ISBLANK('Data Input'!A334),\"\",COUNTIF('Data Input'!C334:AZ334,\"0\"))","v":""},{"$f":"IF(ISBLANK('Data Input'!A334),\"\",SUM(C330,D330))","v":""},{"$f":"IF(ISBLANK('Data Input'!A334),\"\",SUM('Data Input'!C334:AZ334))","v":""},{"$f":"IF(F330=\"\",\"\",F330/(COUNTA('Data Input'!$C$8:$AZ$8)))","v":""},{"$f":"IF(ISBLANK('Data Input'!A334),\"\",SUM('Data Input'!C334,'Data Input'!H334,'Data Input'!J334,'Data Input'!N334,'Data Input'!R334,'Data Input'!T334,'Data Input'!Y334,'Data Input'!AE334,'Data Input'!AK334,'Data Input'!AM334))","v":""},{"$f":"IF(H330=\"\",\"\",H330/COUNTIF('Data Input'!$C$8:$AZ$8,$H$2))","v":""},{"$f":"IF(ISBLANK('Data Input'!A334),\"\",SUM('Data Input'!G334,'Data Input'!I334,'Data Input'!K334,'Data Input'!O334,'Data Input'!P334,'Data Input'!S334,'Data Input'!U334,'Data Input'!V334,'Data Input'!W334,'Data Input'!X334,'Data Input'!Z334,'Data Input'!AA334,'Data Input'!AD334,'Data Input'!AZ334))","v":""},{"$f":"IF(J330=\"\",\"\",J330/COUNTIF('Data Input'!$C$8:$AZ$8,$J$2))","v":""},{"$f":"IF(ISBLANK('Data Input'!A334),\"\",SUM('Data Input'!Q334,'Data Input'!AG334))","v":""},{"$f":"IF(L330=\"\",\"\",L330/COUNTIF('Data Input'!$C$8:$AZ$8,$L$2))","v":""},{"$f":"IF(ISBLANK('Data Input'!A334),\"\",SUM('Data Input'!D334,'Data Input'!E334,'Data Input'!F334,'Data Input'!L334,'Data Input'!M334,'Data Input'!AB334,'Data Input'!AC334,'Data Input'!AF334,'Data Input'!AJ334,'Data Input'!AL334,'Data Input'!AN334,'Data Input'!AO334,'Data Input'!AP334,'Data Input'!AQ334,'Data Input'!AR334,'Data Input'!AS334,'Data Input'!AT334,'Data Input'!AU334,'Data Input'!AV334,'Data Input'!AW334,'Data Input'!AX334,'Data Input'!AY334))","v":""},{"$f":"IF(N330=\"\",\"\",N330/COUNTIF('Data Input'!$C$8:$AZ$8,$N$2))","v":""},null,{"$f":"IF(P330=\"\",\"\",P330/COUNTIF('Data Input'!$C$8:$AZ$8,$P$2))","v":""},{"$f":"IF(ISBLANK('Data Input'!A334),\"\",SUM('Data Input'!AH334))","v":""},{"$f":"IF(R330=\"\",\"\",R330/COUNTIF('Data Input'!$C$8:$AZ$8,$R$2))","v":""},{"$f":"IF(ISBLANK('Data Input'!$A334),\"\",SUM('Data Input'!AI334))","v":""},{"$f":"IF(T330=\"\",\"\",T330/COUNTIF('Data Input'!$C$8:$AZ$8,$T$2))","v":""},null,{"$f":"IF(V330=\"\",\"\",V330/COUNTIF('Data Input'!$C$8:$AZ$8,$V$2))","v":""}]
[{"$f":"IF('Data Input'!A335=0,\"\",'Data Input'!A335)","v":""},{"$f":"IF(F331=\"\",\"\",IF(F331>Welcome!$J$20-1,\"Exceeding\",IF(F331>Welcome!$F$20-1,\"Expected\",IF(F331<Welcome!$F$20,\"Below\"))))","v":""},{"$f":"IF(ISBLANK('Data Input'!A335),\"\",COUNTIF('Data Input'!C335:AZ335,\"\"))","v":""},{"$f":"IF(ISBLANK('Data Input'!A335),\"\",COUNTIF('Data Input'!C335:AZ335,\"0\"))","v":""},{"$f":"IF(ISBLANK('Data Input'!A335),\"\",SUM(C331,D331))","v":""},{"$f":"IF(ISBLANK('Data Input'!A335),\"\",SUM('Data Input'!C335:AZ335))","v":""},{"$f":"IF(F331=\"\",\"\",F331/(COUNTA('Data Input'!$C$8:$AZ$8)))","v":""},{"$f":"IF(ISBLANK('Data Input'!A335),\"\",SUM('Data Input'!C335,'Data Input'!H335,'Data Input'!J335,'Data Input'!N335,'Data Input'!R335,'Data Input'!T335,'Data Input'!Y335,'Data Input'!AE335,'Data Input'!AK335,'Data Input'!AM335))","v":""},{"$f":"IF(H331=\"\",\"\",H331/COUNTIF('Data Input'!$C$8:$AZ$8,$H$2))","v":""},{"$f":"IF(ISBLANK('Data Input'!A335),\"\",SUM('Data Input'!G335,'Data Input'!I335,'Data Input'!K335,'Data Input'!O335,'Data Input'!P335,'Data Input'!S335,'Data Input'!U335,'Data Input'!V335,'Data Input'!W335,'Data Input'!X335,'Data Input'!Z335,'Data Input'!AA335,'Data Input'!AD335,'Data Input'!AZ335))","v":""},{"$f":"IF(J331=\"\",\"\",J331/COUNTIF('Data Input'!$C$8:$AZ$8,$J$2))","v":""},{"$f":"IF(ISBLANK('Data Input'!A335),\"\",SUM('Data Input'!Q335,'Data Input'!AG335))","v":""},{"$f":"IF(L331=\"\",\"\",L331/COUNTIF('Data Input'!$C$8:$AZ$8,$L$2))","v":""},{"$f":"IF(ISBLANK('Data Input'!A335),\"\",SUM('Data Input'!D335,'Data Input'!E335,'Data Input'!F335,'Data Input'!L335,'Data Input'!M335,'Data Input'!AB335,'Data Input'!AC335,'Data Input'!AF335,'Data Input'!AJ335,'Data Input'!AL335,'Data Input'!AN335,'Data Input'!AO335,'Data Input'!AP335,'Data Input'!AQ335,'Data Input'!AR335,'Data Input'!AS335,'Data Input'!AT335,'Data Input'!AU335,'Data Input'!AV335,'Data Input'!AW335,'Data Input'!AX335,'Data Input'!AY335))","v":""},{"$f":"IF(N331=\"\",\"\",N331/COUNTIF('Data Input'!$C$8:$AZ$8,$N$2))","v":""},null,{"$f":"IF(P331=\"\",\"\",P331/COUNTIF('Data Input'!$C$8:$AZ$8,$P$2))","v":""},{"$f":"IF(ISBLANK('Data Input'!A335),\"\",SUM('Data Input'!AH335))","v":""},{"$f":"IF(R331=\"\",\"\",R331/COUNTIF('Data Input'!$C$8:$AZ$8,$R$2))","v":""},{"$f":"IF(ISBLANK('Data Input'!$A335),\"\",SUM('Data Input'!AI335))","v":""},{"$f":"IF(T331=\"\",\"\",T331/COUNTIF('Data Input'!$C$8:$AZ$8,$T$2))","v":""},null,{"$f":"IF(V331=\"\",\"\",V331/COUNTIF('Data Input'!$C$8:$AZ$8,$V$2))","v":""}]
[{"$f":"IF('Data Input'!A336=0,\"\",'Data Input'!A336)","v":""},{"$f":"IF(F332=\"\",\"\",IF(F332>Welcome!$J$20-1,\"Exceeding\",IF(F332>Welcome!$F$20-1,\"Expected\",IF(F332<Welcome!$F$20,\"Below\"))))","v":""},{"$f":"IF(ISBLANK('Data Input'!A336),\"\",COUNTIF('Data Input'!C336:AZ336,\"\"))","v":""},{"$f":"IF(ISBLANK('Data Input'!A336),\"\",COUNTIF('Data Input'!C336:AZ336,\"0\"))","v":""},{"$f":"IF(ISBLANK('Data Input'!A336),\"\",SUM(C332,D332))","v":""},{"$f":"IF(ISBLANK('Data Input'!A336),\"\",SUM('Data Input'!C336:AZ336))","v":""},{"$f":"IF(F332=\"\",\"\",F332/(COUNTA('Data Input'!$C$8:$AZ$8)))","v":""},{"$f":"IF(ISBLANK('Data Input'!A336),\"\",SUM('Data Input'!C336,'Data Input'!H336,'Data Input'!J336,'Data Input'!N336,'Data Input'!R336,'Data Input'!T336,'Data Input'!Y336,'Data Input'!AE336,'Data Input'!AK336,'Data Input'!AM336))","v":""},{"$f":"IF(H332=\"\",\"\",H332/COUNTIF('Data Input'!$C$8:$AZ$8,$H$2))","v":""},{"$f":"IF(ISBLANK('Data Input'!A336),\"\",SUM('Data Input'!G336,'Data Input'!I336,'Data Input'!K336,'Data Input'!O336,'Data Input'!P336,'Data Input'!S336,'Data Input'!U336,'Data Input'!V336,'Data Input'!W336,'Data Input'!X336,'Data Input'!Z336,'Data Input'!AA336,'Data Input'!AD336,'Data Input'!AZ336))","v":""},{"$f":"IF(J332=\"\",\"\",J332/COUNTIF('Data Input'!$C$8:$AZ$8,$J$2))","v":""},{"$f":"IF(ISBLANK('Data Input'!A336),\"\",SUM('Data Input'!Q336,'Data Input'!AG336))","v":""},{"$f":"IF(L332=\"\",\"\",L332/COUNTIF('Data Input'!$C$8:$AZ$8,$L$2))","v":""},{"$f":"IF(ISBLANK('Data Input'!A336),\"\",SUM('Data Input'!D336,'Data Input'!E336,'Data Input'!F336,'Data Input'!L336,'Data Input'!M336,'Data Input'!AB336,'Data Input'!AC336,'Data Input'!AF336,'Data Input'!AJ336,'Data Input'!AL336,'Data Input'!AN336,'Data Input'!AO336,'Data Input'!AP336,'Data Input'!AQ336,'Data Input'!AR336,'Data Input'!AS336,'Data Input'!AT336,'Data Input'!AU336,'Data Input'!AV336,'Data Input'!AW336,'Data Input'!AX336,'Data Input'!AY336))","v":""},{"$f":"IF(N332=\"\",\"\",N332/COUNTIF('Data Input'!$C$8:$AZ$8,$N$2))","v":""},null,{"$f":"IF(P332=\"\",\"\",P332/COUNTIF('Data Input'!$C$8:$AZ$8,$P$2))","v":""},{"$f":"IF(ISBLANK('Data Input'!A336),\"\",SUM('Data Input'!AH336))","v":""},{"$f":"IF(R332=\"\",\"\",R332/COUNTIF('Data Input'!$C$8:$AZ$8,$R$2))","v":""},{"$f":"IF(ISBLANK('Data Input'!$A336),\"\",SUM('Data Input'!AI336))","v":""},{"$f":"IF(T332=\"\",\"\",T332/COUNTIF('Data Input'!$C$8:$AZ$8,$T$2))","v":""},null,{"$f":"IF(V332=\"\",\"\",V332/COUNTIF('Data Input'!$C$8:$AZ$8,$V$2))","v":""}]
[{"$f":"IF('Data Input'!A337=0,\"\",'Data Input'!A337)","v":""},{"$f":"IF(F333=\"\",\"\",IF(F333>Welcome!$J$20-1,\"Exceeding\",IF(F333>Welcome!$F$20-1,\"Expected\",IF(F333<Welcome!$F$20,\"Below\"))))","v":""},{"$f":"IF(ISBLANK('Data Input'!A337),\"\",COUNTIF('Data Input'!C337:AZ337,\"\"))","v":""},{"$f":"IF(ISBLANK('Data Input'!A337),\"\",COUNTIF('Data Input'!C337:AZ337,\"0\"))","v":""},{"$f":"IF(ISBLANK('Data Input'!A337),\"\",SUM(C333,D333))","v":""},{"$f":"IF(ISBLANK('Data Input'!A337),\"\",SUM('Data Input'!C337:AZ337))","v":""},{"$f":"IF(F333=\"\",\"\",F333/(COUNTA('Data Input'!$C$8:$AZ$8)))","v":""},{"$f":"IF(ISBLANK('Data Input'!A337),\"\",SUM('Data Input'!C337,'Data Input'!H337,'Data Input'!J337,'Data Input'!N337,'Data Input'!R337,'Data Input'!T337,'Data Input'!Y337,'Data Input'!AE337,'Data Input'!AK337,'Data Input'!AM337))","v":""},{"$f":"IF(H333=\"\",\"\",H333/COUNTIF('Data Input'!$C$8:$AZ$8,$H$2))","v":""},{"$f":"IF(ISBLANK('Data Input'!A337),\"\",SUM('Data Input'!G337,'Data Input'!I337,'Data Input'!K337,'Data Input'!O337,'Data Input'!P337,'Data Input'!S337,'Data Input'!U337,'Data Input'!V337,'Data Input'!W337,'Data Input'!X337,'Data Input'!Z337,'Data Input'!AA337,'Data Input'!AD337,'Data Input'!AZ337))","v":""},{"$f":"IF(J333=\"\",\"\",J333/COUNTIF('Data Input'!$C$8:$AZ$8,$J$2))","v":""},{"$f":"IF(ISBLANK('Data Input'!A337),\"\",SUM('Data Input'!Q337,'Data Input'!AG337))","v":""},{"$f":"IF(L333=\"\",\"\",L333/COUNTIF('Data Input'!$C$8:$AZ$8,$L$2))","v":""},{"$f":"IF(ISBLANK('Data Input'!A337),\"\",SUM('Data Input'!D337,'Data Input'!E337,'Data Input'!F337,'Data Input'!L337,'Data Input'!M337,'Data Input'!AB337,'Data Input'!AC337,'Data Input'!AF337,'Data Input'!AJ337,'Data Input'!AL337,'Data Input'!AN337,'Data Input'!AO337,'Data Input'!AP337,'Data Input'!AQ337,'Data Input'!AR337,'Data Input'!AS337,'Data Input'!AT337,'Data Input'!AU337,'Data Input'!AV337,'Data Input'!AW337,'Data Input'!AX337,'Data Input'!AY337))","v":""},{"$f":"IF(N333=\"\",\"\",N333/COUNTIF('Data Input'!$C$8:$AZ$8,$N$2))","v":""},null,{"$f":"IF(P333=\"\",\"\",P333/COUNTIF('Data Input'!$C$8:$AZ$8,$P$2))","v":""},{"$f":"IF(ISBLANK('Data Input'!A337),\"\",SUM('Data Input'!AH337))","v":""},{"$f":"IF(R333=\"\",\"\",R333/COUNTIF('Data Input'!$C$8:$AZ$8,$R$2))","v":""},{"$f":"IF(ISBLANK('Data Input'!$A337),\"\",SUM('Data Input'!AI337))","v":""},{"$f":"IF(T333=\"\",\"\",T333/COUNTIF('Data Input'!$C$8:$AZ$8,$T$2))","v":""},null,{"$f":"IF(V333=\"\",\"\",V333/COUNTIF('Data Input'!$C$8:$AZ$8,$V$2))","v":""}]
[{"$f":"IF('Data Input'!A338=0,\"\",'Data Input'!A338)","v":""},{"$f":"IF(F334=\"\",\"\",IF(F334>Welcome!$J$20-1,\"Exceeding\",IF(F334>Welcome!$F$20-1,\"Expected\",IF(F334<Welcome!$F$20,\"Below\"))))","v":""},{"$f":"IF(ISBLANK('Data Input'!A338),\"\",COUNTIF('Data Input'!C338:AZ338,\"\"))","v":""},{"$f":"IF(ISBLANK('Data Input'!A338),\"\",COUNTIF('Data Input'!C338:AZ338,\"0\"))","v":""},{"$f":"IF(ISBLANK('Data Input'!A338),\"\",SUM(C334,D334))","v":""},{"$f":"IF(ISBLANK('Data Input'!A338),\"\",SUM('Data Input'!C338:AZ338))","v":""},{"$f":"IF(F334=\"\",\"\",F334/(COUNTA('Data Input'!$C$8:$AZ$8)))","v":""},{"$f":"IF(ISBLANK('Data Input'!A338),\"\",SUM('Data Input'!C338,'Data Input'!H338,'Data Input'!J338,'Data Input'!N338,'Data Input'!R338,'Data Input'!T338,'Data Input'!Y338,'Data Input'!AE338,'Data Input'!AK338,'Data Input'!AM338))","v":""},{"$f":"IF(H334=\"\",\"\",H334/COUNTIF('Data Input'!$C$8:$AZ$8,$H$2))","v":""},{"$f":"IF(ISBLANK('Data Input'!A338),\"\",SUM('Data Input'!G338,'Data Input'!I338,'Data Input'!K338,'Data Input'!O338,'Data Input'!P338,'Data Input'!S338,'Data Input'!U338,'Data Input'!V338,'Data Input'!W338,'Data Input'!X338,'Data Input'!Z338,'Data Input'!AA338,'Data Input'!AD338,'Data Input'!AZ338))","v":""},{"$f":"IF(J334=\"\",\"\",J334/COUNTIF('Data Input'!$C$8:$AZ$8,$J$2))","v":""},{"$f":"IF(ISBLANK('Data Input'!A338),\"\",SUM('Data Input'!Q338,'Data Input'!AG338))","v":""},{"$f":"IF(L334=\"\",\"\",L334/COUNTIF('Data Input'!$C$8:$AZ$8,$L$2))","v":""},{"$f":"IF(ISBLANK('Data Input'!A338),\"\",SUM('Data Input'!D338,'Data Input'!E338,'Data Input'!F338,'Data Input'!L338,'Data Input'!M338,'Data Input'!AB338,'Data Input'!AC338,'Data Input'!AF338,'Data Input'!AJ338,'Data Input'!AL338,'Data Input'!AN338,'Data Input'!AO338,'Data Input'!AP338,'Data Input'!AQ338,'Data Input'!AR338,'Data Input'!AS338,'Data Input'!AT338,'Data Input'!AU338,'Data Input'!AV338,'Data Input'!AW338,'Data Input'!AX338,'Data Input'!AY338))","v":""},{"$f":"IF(N334=\"\",\"\",N334/COUNTIF('Data Input'!$C$8:$AZ$8,$N$2))","v":""},null,{"$f":"IF(P334=\"\",\"\",P334/COUNTIF('Data Input'!$C$8:$AZ$8,$P$2))","v":""},{"$f":"IF(ISBLANK('Data Input'!A338),\"\",SUM('Data Input'!AH338))","v":""},{"$f":"IF(R334=\"\",\"\",R334/COUNTIF('Data Input'!$C$8:$AZ$8,$R$2))","v":""},{"$f":"IF(ISBLANK('Data Input'!$A338),\"\",SUM('Data Input'!AI338))","v":""},{"$f":"IF(T334=\"\",\"\",T334/COUNTIF('Data Input'!$C$8:$AZ$8,$T$2))","v":""},null,{"$f":"IF(V334=\"\",\"\",V334/COUNTIF('Data Input'!$C$8:$AZ$8,$V$2))","v":""}]
[{"$f":"IF('Data Input'!A339=0,\"\",'Data Input'!A339)","v":""},{"$f":"IF(F335=\"\",\"\",IF(F335>Welcome!$J$20-1,\"Exceeding\",IF(F335>Welcome!$F$20-1,\"Expected\",IF(F335<Welcome!$F$20,\"Below\"))))","v":""},{"$f":"IF(ISBLANK('Data Input'!A339),\"\",COUNTIF('Data Input'!C339:AZ339,\"\"))","v":""},{"$f":"IF(ISBLANK('Data Input'!A339),\"\",COUNTIF('Data Input'!C339:AZ339,\"0\"))","v":""},{"$f":"IF(ISBLANK('Data Input'!A339),\"\",SUM(C335,D335))","v":""},{"$f":"IF(ISBLANK('Data Input'!A339),\"\",SUM('Data Input'!C339:AZ339))","v":""},{"$f":"IF(F335=\"\",\"\",F335/(COUNTA('Data Input'!$C$8:$AZ$8)))","v":""},{"$f":"IF(ISBLANK('Data Input'!A339),\"\",SUM('Data Input'!C339,'Data Input'!H339,'Data Input'!J339,'Data Input'!N339,'Data Input'!R339,'Data Input'!T339,'Data Input'!Y339,'Data Input'!AE339,'Data Input'!AK339,'Data Input'!AM339))","v":""},{"$f":"IF(H335=\"\",\"\",H335/COUNTIF('Data Input'!$C$8:$AZ$8,$H$2))","v":""},{"$f":"IF(ISBLANK('Data Input'!A339),\"\",SUM('Data Input'!G339,'Data Input'!I339,'Data Input'!K339,'Data Input'!O339,'Data Input'!P339,'Data Input'!S339,'Data Input'!U339,'Data Input'!V339,'Data Input'!W339,'Data Input'!X339,'Data Input'!Z339,'Data Input'!AA339,'Data Input'!AD339,'Data Input'!AZ339))","v":""},{"$f":"IF(J335=\"\",\"\",J335/COUNTIF('Data Input'!$C$8:$AZ$8,$J$2))","v":""},{"$f":"IF(ISBLANK('Data Input'!A339),\"\",SUM('Data Input'!Q339,'Data Input'!AG339))","v":""},{"$f":"IF(L335=\"\",\"\",L335/COUNTIF('Data Input'!$C$8:$AZ$8,$L$2))","v":""},{"$f":"IF(ISBLANK('Data Input'!A339),\"\",SUM('Data Input'!D339,'Data Input'!E339,'Data Input'!F339,'Data Input'!L339,'Data Input'!M339,'Data Input'!AB339,'Data Input'!AC339,'Data Input'!AF339,'Data Input'!AJ339,'Data Input'!AL339,'Data Input'!AN339,'Data Input'!AO339,'Data Input'!AP339,'Data Input'!AQ339,'Data Input'!AR339,'Data Input'!AS339,'Data Input'!AT339,'Data Input'!AU339,'Data Input'!AV339,'Data Input'!AW339,'Data Input'!AX339,'Data Input'!AY339))","v":""},{"$f":"IF(N335=\"\",\"\",N335/COUNTIF('Data Input'!$C$8:$AZ$8,$N$2))","v":""},null,{"$f":"IF(P335=\"\",\"\",P335/COUNTIF('Data Input'!$C$8:$AZ$8,$P$2))","v":""},{"$f":"IF(ISBLANK('Data Input'!A339),\"\",SUM('Data Input'!AH339))","v":""},{"$f":"IF(R335=\"\",\"\",R335/COUNTIF('Data Input'!$C$8:$AZ$8,$R$2))","v":""},{"$f":"IF(ISBLANK('Data Input'!$A339),\"\",SUM('Data Input'!AI339))","v":""},{"$f":"IF(T335=\"\",\"\",T335/COUNTIF('Data Input'!$C$8:$AZ$8,$T$2))","v":""},null,{"$f":"IF(V335=\"\",\"\",V335/COUNTIF('Data Input'!$C$8:$AZ$8,$V$2))","v":""}]
[{"$f":"IF('Data Input'!A340=0,\"\",'Data Input'!A340)","v":""},{"$f":"IF(F336=\"\",\"\",IF(F336>Welcome!$J$20-1,\"Exceeding\",IF(F336>Welcome!$F$20-1,\"Expected\",IF(F336<Welcome!$F$20,\"Below\"))))","v":""},{"$f":"IF(ISBLANK('Data Input'!A340),\"\",COUNTIF('Data Input'!C340:AZ340,\"\"))","v":""},{"$f":"IF(ISBLANK('Data Input'!A340),\"\",COUNTIF('Data Input'!C340:AZ340,\"0\"))","v":""},{"$f":"IF(ISBLANK('Data Input'!A340),\"\",SUM(C336,D336))","v":""},{"$f":"IF(ISBLANK('Data Input'!A340),\"\",SUM('Data Input'!C340:AZ340))","v":""},{"$f":"IF(F336=\"\",\"\",F336/(COUNTA('Data Input'!$C$8:$AZ$8)))","v":""},{"$f":"IF(ISBLANK('Data Input'!A340),\"\",SUM('Data Input'!C340,'Data Input'!H340,'Data Input'!J340,'Data Input'!N340,'Data Input'!R340,'Data Input'!T340,'Data Input'!Y340,'Data Input'!AE340,'Data Input'!AK340,'Data Input'!AM340))","v":""},{"$f":"IF(H336=\"\",\"\",H336/COUNTIF('Data Input'!$C$8:$AZ$8,$H$2))","v":""},{"$f":"IF(ISBLANK('Data Input'!A340),\"\",SUM('Data Input'!G340,'Data Input'!I340,'Data Input'!K340,'Data Input'!O340,'Data Input'!P340,'Data Input'!S340,'Data Input'!U340,'Data Input'!V340,'Data Input'!W340,'Data Input'!X340,'Data Input'!Z340,'Data Input'!AA340,'Data Input'!AD340,'Data Input'!AZ340))","v":""},{"$f":"IF(J336=\"\",\"\",J336/COUNTIF('Data Input'!$C$8:$AZ$8,$J$2))","v":""},{"$f":"IF(ISBLANK('Data Input'!A340),\"\",SUM('Data Input'!Q340,'Data Input'!AG340))","v":""},{"$f":"IF(L336=\"\",\"\",L336/COUNTIF('Data Input'!$C$8:$AZ$8,$L$2))","v":""},{"$f":"IF(ISBLANK('Data Input'!A340),\"\",SUM('Data Input'!D340,'Data Input'!E340,'Data Input'!F340,'Data Input'!L340,'Data Input'!M340,'Data Input'!AB340,'Data Input'!AC340,'Data Input'!AF340,'Data Input'!AJ340,'Data Input'!AL340,'Data Input'!AN340,'Data Input'!AO340,'Data Input'!AP340,'Data Input'!AQ340,'Data Input'!AR340,'Data Input'!AS340,'Data Input'!AT340,'Data Input'!AU340,'Data Input'!AV340,'Data Input'!AW340,'Data Input'!AX340,'Data Input'!AY340))","v":""},{"$f":"IF(N336=\"\",\"\",N336/COUNTIF('Data Input'!$C$8:$AZ$8,$N$2))","v":""},null,{"$f":"IF(P336=\"\",\"\",P336/COUNTIF('Data Input'!$C$8:$AZ$8,$P$2))","v":""},{"$f":"IF(ISBLANK('Data Input'!A340),\"\",SUM('Data Input'!AH340))","v":""},{"$f":"IF(R336=\"\",\"\",R336/COUNTIF('Data Input'!$C$8:$AZ$8,$R$2))","v":""},{"$f":"IF(ISBLANK('Data Input'!$A340),\"\",SUM('Data Input'!AI340))","v":""},{"$f":"IF(T336=\"\",\"\",T336/COUNTIF('Data Input'!$C$8:$AZ$8,$T$2))","v":""},null,{"$f":"IF(V336=\"\",\"\",V336/COUNTIF('Data Input'!$C$8:$AZ$8,$V$2))","v":""}]
[{"$f":"IF('Data Input'!A341=0,\"\",'Data Input'!A341)","v":""},{"$f":"IF(F337=\"\",\"\",IF(F337>Welcome!$J$20-1,\"Exceeding\",IF(F337>Welcome!$F$20-1,\"Expected\",IF(F337<Welcome!$F$20,\"Below\"))))","v":""},{"$f":"IF(ISBLANK('Data Input'!A341),\"\",COUNTIF('Data Input'!C341:AZ341,\"\"))","v":""},{"$f":"IF(ISBLANK('Data Input'!A341),\"\",COUNTIF('Data Input'!C341:AZ341,\"0\"))","v":""},{"$f":"IF(ISBLANK('Data Input'!A341),\"\",SUM(C337,D337))","v":""},{"$f":"IF(ISBLANK('Data Input'!A341),\"\",SUM('Data Input'!C341:AZ341))","v":""},{"$f":"IF(F337=\"\",\"\",F337/(COUNTA('Data Input'!$C$8:$AZ$8)))","v":""},{"$f":"IF(ISBLANK('Data Input'!A341),\"\",SUM('Data Input'!C341,'Data Input'!H341,'Data Input'!J341,'Data Input'!N341,'Data Input'!R341,'Data Input'!T341,'Data Input'!Y341,'Data Input'!AE341,'Data Input'!AK341,'Data Input'!AM341))","v":""},{"$f":"IF(H337=\"\",\"\",H337/COUNTIF('Data Input'!$C$8:$AZ$8,$H$2))","v":""},{"$f":"IF(ISBLANK('Data Input'!A341),\"\",SUM('Data Input'!G341,'Data Input'!I341,'Data Input'!K341,'Data Input'!O341,'Data Input'!P341,'Data Input'!S341,'Data Input'!U341,'Data Input'!V341,'Data Input'!W341,'Data Input'!X341,'Data Input'!Z341,'Data Input'!AA341,'Data Input'!AD341,'Data Input'!AZ341))","v":""},{"$f":"IF(J337=\"\",\"\",J337/COUNTIF('Data Input'!$C$8:$AZ$8,$J$2))","v":""},{"$f":"IF(ISBLANK('Data Input'!A341),\"\",SUM('Data Input'!Q341,'Data Input'!AG341))","v":""},{"$f":"IF(L337=\"\",\"\",L337/COUNTIF('Data Input'!$C$8:$AZ$8,$L$2))","v":""},{"$f":"IF(ISBLANK('Data Input'!A341),\"\",SUM('Data Input'!D341,'Data Input'!E341,'Data Input'!F341,'Data Input'!L341,'Data Input'!M341,'Data Input'!AB341,'Data Input'!AC341,'Data Input'!AF341,'Data Input'!AJ341,'Data Input'!AL341,'Data Input'!AN341,'Data Input'!AO341,'Data Input'!AP341,'Data Input'!AQ341,'Data Input'!AR341,'Data Input'!AS341,'Data Input'!AT341,'Data Input'!AU341,'Data Input'!AV341,'Data Input'!AW341,'Data Input'!AX341,'Data Input'!AY341))","v":""},{"$f":"IF(N337=\"\",\"\",N337/COUNTIF('Data Input'!$C$8:$AZ$8,$N$2))","v":""},null,{"$f":"IF(P337=\"\",\"\",P337/COUNTIF('Data Input'!$C$8:$AZ$8,$P$2))","v":""},{"$f":"IF(ISBLANK('Data Input'!A341),\"\",SUM('Data Input'!AH341))","v":""},{"$f":"IF(R337=\"\",\"\",R337/COUNTIF('Data Input'!$C$8:$AZ$8,$R$2))","v":""},{"$f":"IF(ISBLANK('Data Input'!$A341),\"\",SUM('Data Input'!AI341))","v":""},{"$f":"IF(T337=\"\",\"\",T337/COUNTIF('Data Input'!$C$8:$AZ$8,$T$2))","v":""},null,{"$f":"IF(V337=\"\",\"\",V337/COUNTIF('Data Input'!$C$8:$AZ$8,$V$2))","v":""}]
[{"$f":"IF('Data Input'!A342=0,\"\",'Data Input'!A342)","v":""},{"$f":"IF(F338=\"\",\"\",IF(F338>Welcome!$J$20-1,\"Exceeding\",IF(F338>Welcome!$F$20-1,\"Expected\",IF(F338<Welcome!$F$20,\"Below\"))))","v":""},{"$f":"IF(ISBLANK('Data Input'!A342),\"\",COUNTIF('Data Input'!C342:AZ342,\"\"))","v":""},{"$f":"IF(ISBLANK('Data Input'!A342),\"\",COUNTIF('Data Input'!C342:AZ342,\"0\"))","v":""},{"$f":"IF(ISBLANK('Data Input'!A342),\"\",SUM(C338,D338))","v":""},{"$f":"IF(ISBLANK('Data Input'!A342),\"\",SUM('Data Input'!C342:AZ342))","v":""},{"$f":"IF(F338=\"\",\"\",F338/(COUNTA('Data Input'!$C$8:$AZ$8)))","v":""},{"$f":"IF(ISBLANK('Data Input'!A342),\"\",SUM('Data Input'!C342,'Data Input'!H342,'Data Input'!J342,'Data Input'!N342,'Data Input'!R342,'Data Input'!T342,'Data Input'!Y342,'Data Input'!AE342,'Data Input'!AK342,'Data Input'!AM342))","v":""},{"$f":"IF(H338=\"\",\"\",H338/COUNTIF('Data Input'!$C$8:$AZ$8,$H$2))","v":""},{"$f":"IF(ISBLANK('Data Input'!A342),\"\",SUM('Data Input'!G342,'Data Input'!I342,'Data Input'!K342,'Data Input'!O342,'Data Input'!P342,'Data Input'!S342,'Data Input'!U342,'Data Input'!V342,'Data Input'!W342,'Data Input'!X342,'Data Input'!Z342,'Data Input'!AA342,'Data Input'!AD342,'Data Input'!AZ342))","v":""},{"$f":"IF(J338=\"\",\"\",J338/COUNTIF('Data Input'!$C$8:$AZ$8,$J$2))","v":""},{"$f":"IF(ISBLANK('Data Input'!A342),\"\",SUM('Data Input'!Q342,'Data Input'!AG342))","v":""},{"$f":"IF(L338=\"\",\"\",L338/COUNTIF('Data Input'!$C$8:$AZ$8,$L$2))","v":""},{"$f":"IF(ISBLANK('Data Input'!A342),\"\",SUM('Data Input'!D342,'Data Input'!E342,'Data Input'!F342,'Data Input'!L342,'Data Input'!M342,'Data Input'!AB342,'Data Input'!AC342,'Data Input'!AF342,'Data Input'!AJ342,'Data Input'!AL342,'Data Input'!AN342,'Data Input'!AO342,'Data Input'!AP342,'Data Input'!AQ342,'Data Input'!AR342,'Data Input'!AS342,'Data Input'!AT342,'Data Input'!AU342,'Data Input'!AV342,'Data Input'!AW342,'Data Input'!AX342,'Data Input'!AY342))","v":""},{"$f":"IF(N338=\"\",\"\",N338/COUNTIF('Data Input'!$C$8:$AZ$8,$N$2))","v":""},null,{"$f":"IF(P338=\"\",\"\",P338/COUNTIF('Data Input'!$C$8:$AZ$8,$P$2))","v":""},{"$f":"IF(ISBLANK('Data Input'!A342),\"\",SUM('Data Input'!AH342))","v":""},{"$f":"IF(R338=\"\",\"\",R338/COUNTIF('Data Input'!$C$8:$AZ$8,$R$2))","v":""},{"$f":"IF(ISBLANK('Data Input'!$A342),\"\",SUM('Data Input'!AI342))","v":""},{"$f":"IF(T338=\"\",\"\",T338/COUNTIF('Data Input'!$C$8:$AZ$8,$T$2))","v":""},null,{"$f":"IF(V338=\"\",\"\",V338/COUNTIF('Data Input'!$C$8:$AZ$8,$V$2))","v":""}]
[{"$f":"IF('Data Input'!A343=0,\"\",'Data Input'!A343)","v":""},{"$f":"IF(F339=\"\",\"\",IF(F339>Welcome!$J$20-1,\"Exceeding\",IF(F339>Welcome!$F$20-1,\"Expected\",IF(F339<Welcome!$F$20,\"Below\"))))","v":""},{"$f":"IF(ISBLANK('Data Input'!A343),\"\",COUNTIF('Data Input'!C343:AZ343,\"\"))","v":""},{"$f":"IF(ISBLANK('Data Input'!A343),\"\",COUNTIF('Data Input'!C343:AZ343,\"0\"))","v":""},{"$f":"IF(ISBLANK('Data Input'!A343),\"\",SUM(C339,D339))","v":""},{"$f":"IF(ISBLANK('Data Input'!A343),\"\",SUM('Data Input'!C343:AZ343))","v":""},{"$f":"IF(F339=\"\",\"\",F339/(COUNTA('Data Input'!$C$8:$AZ$8)))","v":""},{"$f":"IF(ISBLANK('Data Input'!A343),\"\",SUM('Data Input'!C343,'Data Input'!H343,'Data Input'!J343,'Data Input'!N343,'Data Input'!R343,'Data Input'!T343,'Data Input'!Y343,'Data Input'!AE343,'Data Input'!AK343,'Data Input'!AM343))","v":""},{"$f":"IF(H339=\"\",\"\",H339/COUNTIF('Data Input'!$C$8:$AZ$8,$H$2))","v":""},{"$f":"IF(ISBLANK('Data Input'!A343),\"\",SUM('Data Input'!G343,'Data Input'!I343,'Data Input'!K343,'Data Input'!O343,'Data Input'!P343,'Data Input'!S343,'Data Input'!U343,'Data Input'!V343,'Data Input'!W343,'Data Input'!X343,'Data Input'!Z343,'Data Input'!AA343,'Data Input'!AD343,'Data Input'!AZ343))","v":""},{"$f":"IF(J339=\"\",\"\",J339/COUNTIF('Data Input'!$C$8:$AZ$8,$J$2))","v":""},{"$f":"IF(ISBLANK('Data Input'!A343),\"\",SUM('Data Input'!Q343,'Data Input'!AG343))","v":""},{"$f":"IF(L339=\"\",\"\",L339/COUNTIF('Data Input'!$C$8:$AZ$8,$L$2))","v":""},{"$f":"IF(ISBLANK('Data Input'!A343),\"\",SUM('Data Input'!D343,'Data Input'!E343,'Data Input'!F343,'Data Input'!L343,'Data Input'!M343,'Data Input'!AB343,'Data Input'!AC343,'Data Input'!AF343,'Data Input'!AJ343,'Data Input'!AL343,'Data Input'!AN343,'Data Input'!AO343,'Data Input'!AP343,'Data Input'!AQ343,'Data Input'!AR343,'Data Input'!AS343,'Data Input'!AT343,'Data Input'!AU343,'Data Input'!AV343,'Data Input'!AW343,'Data Input'!AX343,'Data Input'!AY343))","v":""},{"$f":"IF(N339=\"\",\"\",N339/COUNTIF('Data Input'!$C$8:$AZ$8,$N$2))","v":""},null,{"$f":"IF(P339=\"\",\"\",P339/COUNTIF('Data Input'!$C$8:$AZ$8,$P$2))","v":""},{"$f":"IF(ISBLANK('Data Input'!A343),\"\",SUM('Data Input'!AH343))","v":""},{"$f":"IF(R339=\"\",\"\",R339/COUNTIF('Data Input'!$C$8:$AZ$8,$R$2))","v":""},{"$f":"IF(ISBLANK('Data Input'!$A343),\"\",SUM('Data Input'!AI343))","v":""},{"$f":"IF(T339=\"\",\"\",T339/COUNTIF('Data Input'!$C$8:$AZ$8,$T$2))","v":""},null,{"$f":"IF(V339=\"\",\"\",V339/COUNTIF('Data Input'!$C$8:$AZ$8,$V$2))","v":""}]
[{"$f":"IF('Data Input'!A344=0,\"\",'Data Input'!A344)","v":""},{"$f":"IF(F340=\"\",\"\",IF(F340>Welcome!$J$20-1,\"Exceeding\",IF(F340>Welcome!$F$20-1,\"Expected\",IF(F340<Welcome!$F$20,\"Below\"))))","v":""},{"$f":"IF(ISBLANK('Data Input'!A344),\"\",COUNTIF('Data Input'!C344:AZ344,\"\"))","v":""},{"$f":"IF(ISBLANK('Data Input'!A344),\"\",COUNTIF('Data Input'!C344:AZ344,\"0\"))","v":""},{"$f":"IF(ISBLANK('Data Input'!A344),\"\",SUM(C340,D340))","v":""},{"$f":"IF(ISBLANK('Data Input'!A344),\"\",SUM('Data Input'!C344:AZ344))","v":""},{"$f":"IF(F340=\"\",\"\",F340/(COUNTA('Data Input'!$C$8:$AZ$8)))","v":""},{"$f":"IF(ISBLANK('Data Input'!A344),\"\",SUM('Data Input'!C344,'Data Input'!H344,'Data Input'!J344,'Data Input'!N344,'Data Input'!R344,'Data Input'!T344,'Data Input'!Y344,'Data Input'!AE344,'Data Input'!AK344,'Data Input'!AM344))","v":""},{"$f":"IF(H340=\"\",\"\",H340/COUNTIF('Data Input'!$C$8:$AZ$8,$H$2))","v":""},{"$f":"IF(ISBLANK('Data Input'!A344),\"\",SUM('Data Input'!G344,'Data Input'!I344,'Data Input'!K344,'Data Input'!O344,'Data Input'!P344,'Data Input'!S344,'Data Input'!U344,'Data Input'!V344,'Data Input'!W344,'Data Input'!X344,'Data Input'!Z344,'Data Input'!AA344,'Data Input'!AD344,'Data Input'!AZ344))","v":""},{"$f":"IF(J340=\"\",\"\",J340/COUNTIF('Data Input'!$C$8:$AZ$8,$J$2))","v":""},{"$f":"IF(ISBLANK('Data Input'!A344),\"\",SUM('Data Input'!Q344,'Data Input'!AG344))","v":""},{"$f":"IF(L340=\"\",\"\",L340/COUNTIF('Data Input'!$C$8:$AZ$8,$L$2))","v":""},{"$f":"IF(ISBLANK('Data Input'!A344),\"\",SUM('Data Input'!D344,'Data Input'!E344,'Data Input'!F344,'Data Input'!L344,'Data Input'!M344,'Data Input'!AB344,'Data Input'!AC344,'Data Input'!AF344,'Data Input'!AJ344,'Data Input'!AL344,'Data Input'!AN344,'Data Input'!AO344,'Data Input'!AP344,'Data Input'!AQ344,'Data Input'!AR344,'Data Input'!AS344,'Data Input'!AT344,'Data Input'!AU344,'Data Input'!AV344,'Data Input'!AW344,'Data Input'!AX344,'Data Input'!AY344))","v":""},{"$f":"IF(N340=\"\",\"\",N340/COUNTIF('Data Input'!$C$8:$AZ$8,$N$2))","v":""},null,{"$f":"IF(P340=\"\",\"\",P340/COUNTIF('Data Input'!$C$8:$AZ$8,$P$2))","v":""},{"$f":"IF(ISBLANK('Data Input'!A344),\"\",SUM('Data Input'!AH344))","v":""},{"$f":"IF(R340=\"\",\"\",R340/COUNTIF('Data Input'!$C$8:$AZ$8,$R$2))","v":""},{"$f":"IF(ISBLANK('Data Input'!$A344),\"\",SUM('Data Input'!AI344))","v":""},{"$f":"IF(T340=\"\",\"\",T340/COUNTIF('Data Input'!$C$8:$AZ$8,$T$2))","v":""},null,{"$f":"IF(V340=\"\",\"\",V340/COUNTIF('Data Input'!$C$8:$AZ$8,$V$2))","v":""}]
[{"$f":"IF('Data Input'!A345=0,\"\",'Data Input'!A345)","v":""},{"$f":"IF(F341=\"\",\"\",IF(F341>Welcome!$J$20-1,\"Exceeding\",IF(F341>Welcome!$F$20-1,\"Expected\",IF(F341<Welcome!$F$20,\"Below\"))))","v":""},{"$f":"IF(ISBLANK('Data Input'!A345),\"\",COUNTIF('Data Input'!C345:AZ345,\"\"))","v":""},{"$f":"IF(ISBLANK('Data Input'!A345),\"\",COUNTIF('Data Input'!C345:AZ345,\"0\"))","v":""},{"$f":"IF(ISBLANK('Data Input'!A345),\"\",SUM(C341,D341))","v":""},{"$f":"IF(ISBLANK('Data Input'!A345),\"\",SUM('Data Input'!C345:AZ345))","v":""},{"$f":"IF(F341=\"\",\"\",F341/(COUNTA('Data Input'!$C$8:$AZ$8)))","v":""},{"$f":"IF(ISBLANK('Data Input'!A345),\"\",SUM('Data Input'!C345,'Data Input'!H345,'Data Input'!J345,'Data Input'!N345,'Data Input'!R345,'Data Input'!T345,'Data Input'!Y345,'Data Input'!AE345,'Data Input'!AK345,'Data Input'!AM345))","v":""},{"$f":"IF(H341=\"\",\"\",H341/COUNTIF('Data Input'!$C$8:$AZ$8,$H$2))","v":""},{"$f":"IF(ISBLANK('Data Input'!A345),\"\",SUM('Data Input'!G345,'Data Input'!I345,'Data Input'!K345,'Data Input'!O345,'Data Input'!P345,'Data Input'!S345,'Data Input'!U345,'Data Input'!V345,'Data Input'!W345,'Data Input'!X345,'Data Input'!Z345,'Data Input'!AA345,'Data Input'!AD345,'Data Input'!AZ345))","v":""},{"$f":"IF(J341=\"\",\"\",J341/COUNTIF('Data Input'!$C$8:$AZ$8,$J$2))","v":""},{"$f":"IF(ISBLANK('Data Input'!A345),\"\",SUM('Data Input'!Q345,'Data Input'!AG345))","v":""},{"$f":"IF(L341=\"\",\"\",L341/COUNTIF('Data Input'!$C$8:$AZ$8,$L$2))","v":""},{"$f":"IF(ISBLANK('Data Input'!A345),\"\",SUM('Data Input'!D345,'Data Input'!E345,'Data Input'!F345,'Data Input'!L345,'Data Input'!M345,'Data Input'!AB345,'Data Input'!AC345,'Data Input'!AF345,'Data Input'!AJ345,'Data Input'!AL345,'Data Input'!AN345,'Data Input'!AO345,'Data Input'!AP345,'Data Input'!AQ345,'Data Input'!AR345,'Data Input'!AS345,'Data Input'!AT345,'Data Input'!AU345,'Data Input'!AV345,'Data Input'!AW345,'Data Input'!AX345,'Data Input'!AY345))","v":""},{"$f":"IF(N341=\"\",\"\",N341/COUNTIF('Data Input'!$C$8:$AZ$8,$N$2))","v":""},null,{"$f":"IF(P341=\"\",\"\",P341/COUNTIF('Data Input'!$C$8:$AZ$8,$P$2))","v":""},{"$f":"IF(ISBLANK('Data Input'!A345),\"\",SUM('Data Input'!AH345))","v":""},{"$f":"IF(R341=\"\",\"\",R341/COUNTIF('Data Input'!$C$8:$AZ$8,$R$2))","v":""},{"$f":"IF(ISBLANK('Data Input'!$A345),\"\",SUM('Data Input'!AI345))","v":""},{"$f":"IF(T341=\"\",\"\",T341/COUNTIF('Data Input'!$C$8:$AZ$8,$T$2))","v":""},null,{"$f":"IF(V341=\"\",\"\",V341/COUNTIF('Data Input'!$C$8:$AZ$8,$V$2))","v":""}]
[{"$f":"IF('Data Input'!A346=0,\"\",'Data Input'!A346)","v":""},{"$f":"IF(F342=\"\",\"\",IF(F342>Welcome!$J$20-1,\"Exceeding\",IF(F342>Welcome!$F$20-1,\"Expected\",IF(F342<Welcome!$F$20,\"Below\"))))","v":""},{"$f":"IF(ISBLANK('Data Input'!A346),\"\",COUNTIF('Data Input'!C346:AZ346,\"\"))","v":""},{"$f":"IF(ISBLANK('Data Input'!A346),\"\",COUNTIF('Data Input'!C346:AZ346,\"0\"))","v":""},{"$f":"IF(ISBLANK('Data Input'!A346),\"\",SUM(C342,D342))","v":""},{"$f":"IF(ISBLANK('Data Input'!A346),\"\",SUM('Data Input'!C346:AZ346))","v":""},{"$f":"IF(F342=\"\",\"\",F342/(COUNTA('Data Input'!$C$8:$AZ$8)))","v":""},{"$f":"IF(ISBLANK('Data Input'!A346),\"\",SUM('Data Input'!C346,'Data Input'!H346,'Data Input'!J346,'Data Input'!N346,'Data Input'!R346,'Data Input'!T346,'Data Input'!Y346,'Data Input'!AE346,'Data Input'!AK346,'Data Input'!AM346))","v":""},{"$f":"IF(H342=\"\",\"\",H342/COUNTIF('Data Input'!$C$8:$AZ$8,$H$2))","v":""},{"$f":"IF(ISBLANK('Data Input'!A346),\"\",SUM('Data Input'!G346,'Data Input'!I346,'Data Input'!K346,'Data Input'!O346,'Data Input'!P346,'Data Input'!S346,'Data Input'!U346,'Data Input'!V346,'Data Input'!W346,'Data Input'!X346,'Data Input'!Z346,'Data Input'!AA346,'Data Input'!AD346,'Data Input'!AZ346))","v":""},{"$f":"IF(J342=\"\",\"\",J342/COUNTIF('Data Input'!$C$8:$AZ$8,$J$2))","v":""},{"$f":"IF(ISBLANK('Data Input'!A346),\"\",SUM('Data Input'!Q346,'Data Input'!AG346))","v":""},{"$f":"IF(L342=\"\",\"\",L342/COUNTIF('Data Input'!$C$8:$AZ$8,$L$2))","v":""},{"$f":"IF(ISBLANK('Data Input'!A346),\"\",SUM('Data Input'!D346,'Data Input'!E346,'Data Input'!F346,'Data Input'!L346,'Data Input'!M346,'Data Input'!AB346,'Data Input'!AC346,'Data Input'!AF346,'Data Input'!AJ346,'Data Input'!AL346,'Data Input'!AN346,'Data Input'!AO346,'Data Input'!AP346,'Data Input'!AQ346,'Data Input'!AR346,'Data Input'!AS346,'Data Input'!AT346,'Data Input'!AU346,'Data Input'!AV346,'Data Input'!AW346,'Data Input'!AX346,'Data Input'!AY346))","v":""},{"$f":"IF(N342=\"\",\"\",N342/COUNTIF('Data Input'!$C$8:$AZ$8,$N$2))","v":""},null,{"$f":"IF(P342=\"\",\"\",P342/COUNTIF('Data Input'!$C$8:$AZ$8,$P$2))","v":""},{"$f":"IF(ISBLANK('Data Input'!A346),\"\",SUM('Data Input'!AH346))","v":""},{"$f":"IF(R342=\"\",\"\",R342/COUNTIF('Data Input'!$C$8:$AZ$8,$R$2))","v":""},{"$f":"IF(ISBLANK('Data Input'!$A346),\"\",SUM('Data Input'!AI346))","v":""},{"$f":"IF(T342=\"\",\"\",T342/COUNTIF('Data Input'!$C$8:$AZ$8,$T$2))","v":""},null,{"$f":"IF(V342=\"\",\"\",V342/COUNTIF('Data Input'!$C$8:$AZ$8,$V$2))","v":""}]
[{"$f":"IF('Data Input'!A347=0,\"\",'Data Input'!A347)","v":""},{"$f":"IF(F343=\"\",\"\",IF(F343>Welcome!$J$20-1,\"Exceeding\",IF(F343>Welcome!$F$20-1,\"Expected\",IF(F343<Welcome!$F$20,\"Below\"))))","v":""},{"$f":"IF(ISBLANK('Data Input'!A347),\"\",COUNTIF('Data Input'!C347:AZ347,\"\"))","v":""},{"$f":"IF(ISBLANK('Data Input'!A347),\"\",COUNTIF('Data Input'!C347:AZ347,\"0\"))","v":""},{"$f":"IF(ISBLANK('Data Input'!A347),\"\",SUM(C343,D343))","v":""},{"$f":"IF(ISBLANK('Data Input'!A347),\"\",SUM('Data Input'!C347:AZ347))","v":""},{"$f":"IF(F343=\"\",\"\",F343/(COUNTA('Data Input'!$C$8:$AZ$8)))","v":""},{"$f":"IF(ISBLANK('Data Input'!A347),\"\",SUM('Data Input'!C347,'Data Input'!H347,'Data Input'!J347,'Data Input'!N347,'Data Input'!R347,'Data Input'!T347,'Data Input'!Y347,'Data Input'!AE347,'Data Input'!AK347,'Data Input'!AM347))","v":""},{"$f":"IF(H343=\"\",\"\",H343/COUNTIF('Data Input'!$C$8:$AZ$8,$H$2))","v":""},{"$f":"IF(ISBLANK('Data Input'!A347),\"\",SUM('Data Input'!G347,'Data Input'!I347,'Data Input'!K347,'Data Input'!O347,'Data Input'!P347,'Data Input'!S347,'Data Input'!U347,'Data Input'!V347,'Data Input'!W347,'Data Input'!X347,'Data Input'!Z347,'Data Input'!AA347,'Data Input'!AD347,'Data Input'!AZ347))","v":""},{"$f":"IF(J343=\"\",\"\",J343/COUNTIF('Data Input'!$C$8:$AZ$8,$J$2))","v":""},{"$f":"IF(ISBLANK('Data Input'!A347),\"\",SUM('Data Input'!Q347,'Data Input'!AG347))","v":""},{"$f":"IF(L343=\"\",\"\",L343/COUNTIF('Data Input'!$C$8:$AZ$8,$L$2))","v":""},{"$f":"IF(ISBLANK('Data Input'!A347),\"\",SUM('Data Input'!D347,'Data Input'!E347,'Data Input'!F347,'Data Input'!L347,'Data Input'!M347,'Data Input'!AB347,'Data Input'!AC347,'Data Input'!AF347,'Data Input'!AJ347,'Data Input'!AL347,'Data Input'!AN347,'Data Input'!AO347,'Data Input'!AP347,'Data Input'!AQ347,'Data Input'!AR347,'Data Input'!AS347,'Data Input'!AT347,'Data Input'!AU347,'Data Input'!AV347,'Data Input'!AW347,'Data Input'!AX347,'Data Input'!AY347))","v":""},{"$f":"IF(N343=\"\",\"\",N343/COUNTIF('Data Input'!$C$8:$AZ$8,$N$2))","v":""},null,{"$f":"IF(P343=\"\",\"\",P343/COUNTIF('Data Input'!$C$8:$AZ$8,$P$2))","v":""},{"$f":"IF(ISBLANK('Data Input'!A347),\"\",SUM('Data Input'!AH347))","v":""},{"$f":"IF(R343=\"\",\"\",R343/COUNTIF('Data Input'!$C$8:$AZ$8,$R$2))","v":""},{"$f":"IF(ISBLANK('Data Input'!$A347),\"\",SUM('Data Input'!AI347))","v":""},{"$f":"IF(T343=\"\",\"\",T343/COUNTIF('Data Input'!$C$8:$AZ$8,$T$2))","v":""},null,{"$f":"IF(V343=\"\",\"\",V343/COUNTIF('Data Input'!$C$8:$AZ$8,$V$2))","v":""}]
[{"$f":"IF('Data Input'!A348=0,\"\",'Data Input'!A348)","v":""},{"$f":"IF(F344=\"\",\"\",IF(F344>Welcome!$J$20-1,\"Exceeding\",IF(F344>Welcome!$F$20-1,\"Expected\",IF(F344<Welcome!$F$20,\"Below\"))))","v":""},{"$f":"IF(ISBLANK('Data Input'!A348),\"\",COUNTIF('Data Input'!C348:AZ348,\"\"))","v":""},{"$f":"IF(ISBLANK('Data Input'!A348),\"\",COUNTIF('Data Input'!C348:AZ348,\"0\"))","v":""},{"$f":"IF(ISBLANK('Data Input'!A348),\"\",SUM(C344,D344))","v":""},{"$f":"IF(ISBLANK('Data Input'!A348),\"\",SUM('Data Input'!C348:AZ348))","v":""},{"$f":"IF(F344=\"\",\"\",F344/(COUNTA('Data Input'!$C$8:$AZ$8)))","v":""},{"$f":"IF(ISBLANK('Data Input'!A348),\"\",SUM('Data Input'!C348,'Data Input'!H348,'Data Input'!J348,'Data Input'!N348,'Data Input'!R348,'Data Input'!T348,'Data Input'!Y348,'Data Input'!AE348,'Data Input'!AK348,'Data Input'!AM348))","v":""},{"$f":"IF(H344=\"\",\"\",H344/COUNTIF('Data Input'!$C$8:$AZ$8,$H$2))","v":""},{"$f":"IF(ISBLANK('Data Input'!A348),\"\",SUM('Data Input'!G348,'Data Input'!I348,'Data Input'!K348,'Data Input'!O348,'Data Input'!P348,'Data Input'!S348,'Data Input'!U348,'Data Input'!V348,'Data Input'!W348,'Data Input'!X348,'Data Input'!Z348,'Data Input'!AA348,'Data Input'!AD348,'Data Input'!AZ348))","v":""},{"$f":"IF(J344=\"\",\"\",J344/COUNTIF('Data Input'!$C$8:$AZ$8,$J$2))","v":""},{"$f":"IF(ISBLANK('Data Input'!A348),\"\",SUM('Data Input'!Q348,'Data Input'!AG348))","v":""},{"$f":"IF(L344=\"\",\"\",L344/COUNTIF('Data Input'!$C$8:$AZ$8,$L$2))","v":""},{"$f":"IF(ISBLANK('Data Input'!A348),\"\",SUM('Data Input'!D348,'Data Input'!E348,'Data Input'!F348,'Data Input'!L348,'Data Input'!M348,'Data Input'!AB348,'Data Input'!AC348,'Data Input'!AF348,'Data Input'!AJ348,'Data Input'!AL348,'Data Input'!AN348,'Data Input'!AO348,'Data Input'!AP348,'Data Input'!AQ348,'Data Input'!AR348,'Data Input'!AS348,'Data Input'!AT348,'Data Input'!AU348,'Data Input'!AV348,'Data Input'!AW348,'Data Input'!AX348,'Data Input'!AY348))","v":""},{"$f":"IF(N344=\"\",\"\",N344/COUNTIF('Data Input'!$C$8:$AZ$8,$N$2))","v":""},null,{"$f":"IF(P344=\"\",\"\",P344/COUNTIF('Data Input'!$C$8:$AZ$8,$P$2))","v":""},{"$f":"IF(ISBLANK('Data Input'!A348),\"\",SUM('Data Input'!AH348))","v":""},{"$f":"IF(R344=\"\",\"\",R344/COUNTIF('Data Input'!$C$8:$AZ$8,$R$2))","v":""},{"$f":"IF(ISBLANK('Data Input'!$A348),\"\",SUM('Data Input'!AI348))","v":""},{"$f":"IF(T344=\"\",\"\",T344/COUNTIF('Data Input'!$C$8:$AZ$8,$T$2))","v":""},null,{"$f":"IF(V344=\"\",\"\",V344/COUNTIF('Data Input'!$C$8:$AZ$8,$V$2))","v":""}]
[{"$f":"IF('Data Input'!A349=0,\"\",'Data Input'!A349)","v":""},{"$f":"IF(F345=\"\",\"\",IF(F345>Welcome!$J$20-1,\"Exceeding\",IF(F345>Welcome!$F$20-1,\"Expected\",IF(F345<Welcome!$F$20,\"Below\"))))","v":""},{"$f":"IF(ISBLANK('Data Input'!A349),\"\",COUNTIF('Data Input'!C349:AZ349,\"\"))","v":""},{"$f":"IF(ISBLANK('Data Input'!A349),\"\",COUNTIF('Data Input'!C349:AZ349,\"0\"))","v":""},{"$f":"IF(ISBLANK('Data Input'!A349),\"\",SUM(C345,D345))","v":""},{"$f":"IF(ISBLANK('Data Input'!A349),\"\",SUM('Data Input'!C349:AZ349))","v":""},{"$f":"IF(F345=\"\",\"\",F345/(COUNTA('Data Input'!$C$8:$AZ$8)))","v":""},{"$f":"IF(ISBLANK('Data Input'!A349),\"\",SUM('Data Input'!C349,'Data Input'!H349,'Data Input'!J349,'Data Input'!N349,'Data Input'!R349,'Data Input'!T349,'Data Input'!Y349,'Data Input'!AE349,'Data Input'!AK349,'Data Input'!AM349))","v":""},{"$f":"IF(H345=\"\",\"\",H345/COUNTIF('Data Input'!$C$8:$AZ$8,$H$2))","v":""},{"$f":"IF(ISBLANK('Data Input'!A349),\"\",SUM('Data Input'!G349,'Data Input'!I349,'Data Input'!K349,'Data Input'!O349,'Data Input'!P349,'Data Input'!S349,'Data Input'!U349,'Data Input'!V349,'Data Input'!W349,'Data Input'!X349,'Data Input'!Z349,'Data Input'!AA349,'Data Input'!AD349,'Data Input'!AZ349))","v":""},{"$f":"IF(J345=\"\",\"\",J345/COUNTIF('Data Input'!$C$8:$AZ$8,$J$2))","v":""},{"$f":"IF(ISBLANK('Data Input'!A349),\"\",SUM('Data Input'!Q349,'Data Input'!AG349))","v":""},{"$f":"IF(L345=\"\",\"\",L345/COUNTIF('Data Input'!$C$8:$AZ$8,$L$2))","v":""},{"$f":"IF(ISBLANK('Data Input'!A349),\"\",SUM('Data Input'!D349,'Data Input'!E349,'Data Input'!F349,'Data Input'!L349,'Data Input'!M349,'Data Input'!AB349,'Data Input'!AC349,'Data Input'!AF349,'Data Input'!AJ349,'Data Input'!AL349,'Data Input'!AN349,'Data Input'!AO349,'Data Input'!AP349,'Data Input'!AQ349,'Data Input'!AR349,'Data Input'!AS349,'Data Input'!AT349,'Data Input'!AU349,'Data Input'!AV349,'Data Input'!AW349,'Data Input'!AX349,'Data Input'!AY349))","v":""},{"$f":"IF(N345=\"\",\"\",N345/COUNTIF('Data Input'!$C$8:$AZ$8,$N$2))","v":""},null,{"$f":"IF(P345=\"\",\"\",P345/COUNTIF('Data Input'!$C$8:$AZ$8,$P$2))","v":""},{"$f":"IF(ISBLANK('Data Input'!A349),\"\",SUM('Data Input'!AH349))","v":""},{"$f":"IF(R345=\"\",\"\",R345/COUNTIF('Data Input'!$C$8:$AZ$8,$R$2))","v":""},{"$f":"IF(ISBLANK('Data Input'!$A349),\"\",SUM('Data Input'!AI349))","v":""},{"$f":"IF(T345=\"\",\"\",T345/COUNTIF('Data Input'!$C$8:$AZ$8,$T$2))","v":""},null,{"$f":"IF(V345=\"\",\"\",V345/COUNTIF('Data Input'!$C$8:$AZ$8,$V$2))","v":""}]
[{"$f":"IF('Data Input'!A350=0,\"\",'Data Input'!A350)","v":""},{"$f":"IF(F346=\"\",\"\",IF(F346>Welcome!$J$20-1,\"Exceeding\",IF(F346>Welcome!$F$20-1,\"Expected\",IF(F346<Welcome!$F$20,\"Below\"))))","v":""},{"$f":"IF(ISBLANK('Data Input'!A350),\"\",COUNTIF('Data Input'!C350:AZ350,\"\"))","v":""},{"$f":"IF(ISBLANK('Data Input'!A350),\"\",COUNTIF('Data Input'!C350:AZ350,\"0\"))","v":""},{"$f":"IF(ISBLANK('Data Input'!A350),\"\",SUM(C346,D346))","v":""},{"$f":"IF(ISBLANK('Data Input'!A350),\"\",SUM('Data Input'!C350:AZ350))","v":""},{"$f":"IF(F346=\"\",\"\",F346/(COUNTA('Data Input'!$C$8:$AZ$8)))","v":""},{"$f":"IF(ISBLANK('Data Input'!A350),\"\",SUM('Data Input'!C350,'Data Input'!H350,'Data Input'!J350,'Data Input'!N350,'Data Input'!R350,'Data Input'!T350,'Data Input'!Y350,'Data Input'!AE350,'Data Input'!AK350,'Data Input'!AM350))","v":""},{"$f":"IF(H346=\"\",\"\",H346/COUNTIF('Data Input'!$C$8:$AZ$8,$H$2))","v":""},{"$f":"IF(ISBLANK('Data Input'!A350),\"\",SUM('Data Input'!G350,'Data Input'!I350,'Data Input'!K350,'Data Input'!O350,'Data Input'!P350,'Data Input'!S350,'Data Input'!U350,'Data Input'!V350,'Data Input'!W350,'Data Input'!X350,'Data Input'!Z350,'Data Input'!AA350,'Data Input'!AD350,'Data Input'!AZ350))","v":""},{"$f":"IF(J346=\"\",\"\",J346/COUNTIF('Data Input'!$C$8:$AZ$8,$J$2))","v":""},{"$f":"IF(ISBLANK('Data Input'!A350),\"\",SUM('Data Input'!Q350,'Data Input'!AG350))","v":""},{"$f":"IF(L346=\"\",\"\",L346/COUNTIF('Data Input'!$C$8:$AZ$8,$L$2))","v":""},{"$f":"IF(ISBLANK('Data Input'!A350),\"\",SUM('Data Input'!D350,'Data Input'!E350,'Data Input'!F350,'Data Input'!L350,'Data Input'!M350,'Data Input'!AB350,'Data Input'!AC350,'Data Input'!AF350,'Data Input'!AJ350,'Data Input'!AL350,'Data Input'!AN350,'Data Input'!AO350,'Data Input'!AP350,'Data Input'!AQ350,'Data Input'!AR350,'Data Input'!AS350,'Data Input'!AT350,'Data Input'!AU350,'Data Input'!AV350,'Data Input'!AW350,'Data Input'!AX350,'Data Input'!AY350))","v":""},{"$f":"IF(N346=\"\",\"\",N346/COUNTIF('Data Input'!$C$8:$AZ$8,$N$2))","v":""},null,{"$f":"IF(P346=\"\",\"\",P346/COUNTIF('Data Input'!$C$8:$AZ$8,$P$2))","v":""},{"$f":"IF(ISBLANK('Data Input'!A350),\"\",SUM('Data Input'!AH350))","v":""},{"$f":"IF(R346=\"\",\"\",R346/COUNTIF('Data Input'!$C$8:$AZ$8,$R$2))","v":""},{"$f":"IF(ISBLANK('Data Input'!$A350),\"\",SUM('Data Input'!AI350))","v":""},{"$f":"IF(T346=\"\",\"\",T346/COUNTIF('Data Input'!$C$8:$AZ$8,$T$2))","v":""},null,{"$f":"IF(V346=\"\",\"\",V346/COUNTIF('Data Input'!$C$8:$AZ$8,$V$2))","v":""}]
[{"$f":"IF('Data Input'!A351=0,\"\",'Data Input'!A351)","v":""},{"$f":"IF(F347=\"\",\"\",IF(F347>Welcome!$J$20-1,\"Exceeding\",IF(F347>Welcome!$F$20-1,\"Expected\",IF(F347<Welcome!$F$20,\"Below\"))))","v":""},{"$f":"IF(ISBLANK('Data Input'!A351),\"\",COUNTIF('Data Input'!C351:AZ351,\"\"))","v":""},{"$f":"IF(ISBLANK('Data Input'!A351),\"\",COUNTIF('Data Input'!C351:AZ351,\"0\"))","v":""},{"$f":"IF(ISBLANK('Data Input'!A351),\"\",SUM(C347,D347))","v":""},{"$f":"IF(ISBLANK('Data Input'!A351),\"\",SUM('Data Input'!C351:AZ351))","v":""},{"$f":"IF(F347=\"\",\"\",F347/(COUNTA('Data Input'!$C$8:$AZ$8)))","v":""},{"$f":"IF(ISBLANK('Data Input'!A351),\"\",SUM('Data Input'!C351,'Data Input'!H351,'Data Input'!J351,'Data Input'!N351,'Data Input'!R351,'Data Input'!T351,'Data Input'!Y351,'Data Input'!AE351,'Data Input'!AK351,'Data Input'!AM351))","v":""},{"$f":"IF(H347=\"\",\"\",H347/COUNTIF('Data Input'!$C$8:$AZ$8,$H$2))","v":""},{"$f":"IF(ISBLANK('Data Input'!A351),\"\",SUM('Data Input'!G351,'Data Input'!I351,'Data Input'!K351,'Data Input'!O351,'Data Input'!P351,'Data Input'!S351,'Data Input'!U351,'Data Input'!V351,'Data Input'!W351,'Data Input'!X351,'Data Input'!Z351,'Data Input'!AA351,'Data Input'!AD351,'Data Input'!AZ351))","v":""},{"$f":"IF(J347=\"\",\"\",J347/COUNTIF('Data Input'!$C$8:$AZ$8,$J$2))","v":""},{"$f":"IF(ISBLANK('Data Input'!A351),\"\",SUM('Data Input'!Q351,'Data Input'!AG351))","v":""},{"$f":"IF(L347=\"\",\"\",L347/COUNTIF('Data Input'!$C$8:$AZ$8,$L$2))","v":""},{"$f":"IF(ISBLANK('Data Input'!A351),\"\",SUM('Data Input'!D351,'Data Input'!E351,'Data Input'!F351,'Data Input'!L351,'Data Input'!M351,'Data Input'!AB351,'Data Input'!AC351,'Data Input'!AF351,'Data Input'!AJ351,'Data Input'!AL351,'Data Input'!AN351,'Data Input'!AO351,'Data Input'!AP351,'Data Input'!AQ351,'Data Input'!AR351,'Data Input'!AS351,'Data Input'!AT351,'Data Input'!AU351,'Data Input'!AV351,'Data Input'!AW351,'Data Input'!AX351,'Data Input'!AY351))","v":""},{"$f":"IF(N347=\"\",\"\",N347/COUNTIF('Data Input'!$C$8:$AZ$8,$N$2))","v":""},null,{"$f":"IF(P347=\"\",\"\",P347/COUNTIF('Data Input'!$C$8:$AZ$8,$P$2))","v":""},{"$f":"IF(ISBLANK('Data Input'!A351),\"\",SUM('Data Input'!AH351))","v":""},{"$f":"IF(R347=\"\",\"\",R347/COUNTIF('Data Input'!$C$8:$AZ$8,$R$2))","v":""},{"$f":"IF(ISBLANK('Data Input'!$A351),\"\",SUM('Data Input'!AI351))","v":""},{"$f":"IF(T347=\"\",\"\",T347/COUNTIF('Data Input'!$C$8:$AZ$8,$T$2))","v":""},null,{"$f":"IF(V347=\"\",\"\",V347/COUNTIF('Data Input'!$C$8:$AZ$8,$V$2))","v":""}]
[{"$f":"IF('Data Input'!A352=0,\"\",'Data Input'!A352)","v":""},{"$f":"IF(F348=\"\",\"\",IF(F348>Welcome!$J$20-1,\"Exceeding\",IF(F348>Welcome!$F$20-1,\"Expected\",IF(F348<Welcome!$F$20,\"Below\"))))","v":""},{"$f":"IF(ISBLANK('Data Input'!A352),\"\",COUNTIF('Data Input'!C352:AZ352,\"\"))","v":""},{"$f":"IF(ISBLANK('Data Input'!A352),\"\",COUNTIF('Data Input'!C352:AZ352,\"0\"))","v":""},{"$f":"IF(ISBLANK('Data Input'!A352),\"\",SUM(C348,D348))","v":""},{"$f":"IF(ISBLANK('Data Input'!A352),\"\",SUM('Data Input'!C352:AZ352))","v":""},{"$f":"IF(F348=\"\",\"\",F348/(COUNTA('Data Input'!$C$8:$AZ$8)))","v":""},{"$f":"IF(ISBLANK('Data Input'!A352),\"\",SUM('Data Input'!C352,'Data Input'!H352,'Data Input'!J352,'Data Input'!N352,'Data Input'!R352,'Data Input'!T352,'Data Input'!Y352,'Data Input'!AE352,'Data Input'!AK352,'Data Input'!AM352))","v":""},{"$f":"IF(H348=\"\",\"\",H348/COUNTIF('Data Input'!$C$8:$AZ$8,$H$2))","v":""},{"$f":"IF(ISBLANK('Data Input'!A352),\"\",SUM('Data Input'!G352,'Data Input'!I352,'Data Input'!K352,'Data Input'!O352,'Data Input'!P352,'Data Input'!S352,'Data Input'!U352,'Data Input'!V352,'Data Input'!W352,'Data Input'!X352,'Data Input'!Z352,'Data Input'!AA352,'Data Input'!AD352,'Data Input'!AZ352))","v":""},{"$f":"IF(J348=\"\",\"\",J348/COUNTIF('Data Input'!$C$8:$AZ$8,$J$2))","v":""},{"$f":"IF(ISBLANK('Data Input'!A352),\"\",SUM('Data Input'!Q352,'Data Input'!AG352))","v":""},{"$f":"IF(L348=\"\",\"\",L348/COUNTIF('Data Input'!$C$8:$AZ$8,$L$2))","v":""},{"$f":"IF(ISBLANK('Data Input'!A352),\"\",SUM('Data Input'!D352,'Data Input'!E352,'Data Input'!F352,'Data Input'!L352,'Data Input'!M352,'Data Input'!AB352,'Data Input'!AC352,'Data Input'!AF352,'Data Input'!AJ352,'Data Input'!AL352,'Data Input'!AN352,'Data Input'!AO352,'Data Input'!AP352,'Data Input'!AQ352,'Data Input'!AR352,'Data Input'!AS352,'Data Input'!AT352,'Data Input'!AU352,'Data Input'!AV352,'Data Input'!AW352,'Data Input'!AX352,'Data Input'!AY352))","v":""},{"$f":"IF(N348=\"\",\"\",N348/COUNTIF('Data Input'!$C$8:$AZ$8,$N$2))","v":""},null,{"$f":"IF(P348=\"\",\"\",P348/COUNTIF('Data Input'!$C$8:$AZ$8,$P$2))","v":""},{"$f":"IF(ISBLANK('Data Input'!A352),\"\",SUM('Data Input'!AH352))","v":""},{"$f":"IF(R348=\"\",\"\",R348/COUNTIF('Data Input'!$C$8:$AZ$8,$R$2))","v":""},{"$f":"IF(ISBLANK('Data Input'!$A352),\"\",SUM('Data Input'!AI352))","v":""},{"$f":"IF(T348=\"\",\"\",T348/COUNTIF('Data Input'!$C$8:$AZ$8,$T$2))","v":""},null,{"$f":"IF(V348=\"\",\"\",V348/COUNTIF('Data Input'!$C$8:$AZ$8,$V$2))","v":""}]
[{"$f":"IF('Data Input'!A353=0,\"\",'Data Input'!A353)","v":""},{"$f":"IF(F349=\"\",\"\",IF(F349>Welcome!$J$20-1,\"Exceeding\",IF(F349>Welcome!$F$20-1,\"Expected\",IF(F349<Welcome!$F$20,\"Below\"))))","v":""},{"$f":"IF(ISBLANK('Data Input'!A353),\"\",COUNTIF('Data Input'!C353:AZ353,\"\"))","v":""},{"$f":"IF(ISBLANK('Data Input'!A353),\"\",COUNTIF('Data Input'!C353:AZ353,\"0\"))","v":""},{"$f":"IF(ISBLANK('Data Input'!A353),\"\",SUM(C349,D349))","v":""},{"$f":"IF(ISBLANK('Data Input'!A353),\"\",SUM('Data Input'!C353:AZ353))","v":""},{"$f":"IF(F349=\"\",\"\",F349/(COUNTA('Data Input'!$C$8:$AZ$8)))","v":""},{"$f":"IF(ISBLANK('Data Input'!A353),\"\",SUM('Data Input'!C353,'Data Input'!H353,'Data Input'!J353,'Data Input'!N353,'Data Input'!R353,'Data Input'!T353,'Data Input'!Y353,'Data Input'!AE353,'Data Input'!AK353,'Data Input'!AM353))","v":""},{"$f":"IF(H349=\"\",\"\",H349/COUNTIF('Data Input'!$C$8:$AZ$8,$H$2))","v":""},{"$f":"IF(ISBLANK('Data Input'!A353),\"\",SUM('Data Input'!G353,'Data Input'!I353,'Data Input'!K353,'Data Input'!O353,'Data Input'!P353,'Data Input'!S353,'Data Input'!U353,'Data Input'!V353,'Data Input'!W353,'Data Input'!X353,'Data Input'!Z353,'Data Input'!AA353,'Data Input'!AD353,'Data Input'!AZ353))","v":""},{"$f":"IF(J349=\"\",\"\",J349/COUNTIF('Data Input'!$C$8:$AZ$8,$J$2))","v":""},{"$f":"IF(ISBLANK('Data Input'!A353),\"\",SUM('Data Input'!Q353,'Data Input'!AG353))","v":""},{"$f":"IF(L349=\"\",\"\",L349/COUNTIF('Data Input'!$C$8:$AZ$8,$L$2))","v":""},{"$f":"IF(ISBLANK('Data Input'!A353),\"\",SUM('Data Input'!D353,'Data Input'!E353,'Data Input'!F353,'Data Input'!L353,'Data Input'!M353,'Data Input'!AB353,'Data Input'!AC353,'Data Input'!AF353,'Data Input'!AJ353,'Data Input'!AL353,'Data Input'!AN353,'Data Input'!AO353,'Data Input'!AP353,'Data Input'!AQ353,'Data Input'!AR353,'Data Input'!AS353,'Data Input'!AT353,'Data Input'!AU353,'Data Input'!AV353,'Data Input'!AW353,'Data Input'!AX353,'Data Input'!AY353))","v":""},{"$f":"IF(N349=\"\",\"\",N349/COUNTIF('Data Input'!$C$8:$AZ$8,$N$2))","v":""},null,{"$f":"IF(P349=\"\",\"\",P349/COUNTIF('Data Input'!$C$8:$AZ$8,$P$2))","v":""},{"$f":"IF(ISBLANK('Data Input'!A353),\"\",SUM('Data Input'!AH353))","v":""},{"$f":"IF(R349=\"\",\"\",R349/COUNTIF('Data Input'!$C$8:$AZ$8,$R$2))","v":""},{"$f":"IF(ISBLANK('Data Input'!$A353),\"\",SUM('Data Input'!AI353))","v":""},{"$f":"IF(T349=\"\",\"\",T349/COUNTIF('Data Input'!$C$8:$AZ$8,$T$2))","v":""},null,{"$f":"IF(V349=\"\",\"\",V349/COUNTIF('Data Input'!$C$8:$AZ$8,$V$2))","v":""}]
[{"$f":"IF('Data Input'!A354=0,\"\",'Data Input'!A354)","v":""},{"$f":"IF(F350=\"\",\"\",IF(F350>Welcome!$J$20-1,\"Exceeding\",IF(F350>Welcome!$F$20-1,\"Expected\",IF(F350<Welcome!$F$20,\"Below\"))))","v":""},{"$f":"IF(ISBLANK('Data Input'!A354),\"\",COUNTIF('Data Input'!C354:AZ354,\"\"))","v":""},{"$f":"IF(ISBLANK('Data Input'!A354),\"\",COUNTIF('Data Input'!C354:AZ354,\"0\"))","v":""},{"$f":"IF(ISBLANK('Data Input'!A354),\"\",SUM(C350,D350))","v":""},{"$f":"IF(ISBLANK('Data Input'!A354),\"\",SUM('Data Input'!C354:AZ354))","v":""},{"$f":"IF(F350=\"\",\"\",F350/(COUNTA('Data Input'!$C$8:$AZ$8)))","v":""},{"$f":"IF(ISBLANK('Data Input'!A354),\"\",SUM('Data Input'!C354,'Data Input'!H354,'Data Input'!J354,'Data Input'!N354,'Data Input'!R354,'Data Input'!T354,'Data Input'!Y354,'Data Input'!AE354,'Data Input'!AK354,'Data Input'!AM354))","v":""},{"$f":"IF(H350=\"\",\"\",H350/COUNTIF('Data Input'!$C$8:$AZ$8,$H$2))","v":""},{"$f":"IF(ISBLANK('Data Input'!A354),\"\",SUM('Data Input'!G354,'Data Input'!I354,'Data Input'!K354,'Data Input'!O354,'Data Input'!P354,'Data Input'!S354,'Data Input'!U354,'Data Input'!V354,'Data Input'!W354,'Data Input'!X354,'Data Input'!Z354,'Data Input'!AA354,'Data Input'!AD354,'Data Input'!AZ354))","v":""},{"$f":"IF(J350=\"\",\"\",J350/COUNTIF('Data Input'!$C$8:$AZ$8,$J$2))","v":""},{"$f":"IF(ISBLANK('Data Input'!A354),\"\",SUM('Data Input'!Q354,'Data Input'!AG354))","v":""},{"$f":"IF(L350=\"\",\"\",L350/COUNTIF('Data Input'!$C$8:$AZ$8,$L$2))","v":""},{"$f":"IF(ISBLANK('Data Input'!A354),\"\",SUM('Data Input'!D354,'Data Input'!E354,'Data Input'!F354,'Data Input'!L354,'Data Input'!M354,'Data Input'!AB354,'Data Input'!AC354,'Data Input'!AF354,'Data Input'!AJ354,'Data Input'!AL354,'Data Input'!AN354,'Data Input'!AO354,'Data Input'!AP354,'Data Input'!AQ354,'Data Input'!AR354,'Data Input'!AS354,'Data Input'!AT354,'Data Input'!AU354,'Data Input'!AV354,'Data Input'!AW354,'Data Input'!AX354,'Data Input'!AY354))","v":""},{"$f":"IF(N350=\"\",\"\",N350/COUNTIF('Data Input'!$C$8:$AZ$8,$N$2))","v":""},null,{"$f":"IF(P350=\"\",\"\",P350/COUNTIF('Data Input'!$C$8:$AZ$8,$P$2))","v":""},{"$f":"IF(ISBLANK('Data Input'!A354),\"\",SUM('Data Input'!AH354))","v":""},{"$f":"IF(R350=\"\",\"\",R350/COUNTIF('Data Input'!$C$8:$AZ$8,$R$2))","v":""},{"$f":"IF(ISBLANK('Data Input'!$A354),\"\",SUM('Data Input'!AI354))","v":""},{"$f":"IF(T350=\"\",\"\",T350/COUNTIF('Data Input'!$C$8:$AZ$8,$T$2))","v":""},null,{"$f":"IF(V350=\"\",\"\",V350/COUNTIF('Data Input'!$C$8:$AZ$8,$V$2))","v":""}]
[{"$f":"IF('Data Input'!A355=0,\"\",'Data Input'!A355)","v":""},{"$f":"IF(F351=\"\",\"\",IF(F351>Welcome!$J$20-1,\"Exceeding\",IF(F351>Welcome!$F$20-1,\"Expected\",IF(F351<Welcome!$F$20,\"Below\"))))","v":""},{"$f":"IF(ISBLANK('Data Input'!A355),\"\",COUNTIF('Data Input'!C355:AZ355,\"\"))","v":""},{"$f":"IF(ISBLANK('Data Input'!A355),\"\",COUNTIF('Data Input'!C355:AZ355,\"0\"))","v":""},{"$f":"IF(ISBLANK('Data Input'!A355),\"\",SUM(C351,D351))","v":""},{"$f":"IF(ISBLANK('Data Input'!A355),\"\",SUM('Data Input'!C355:AZ355))","v":""},{"$f":"IF(F351=\"\",\"\",F351/(COUNTA('Data Input'!$C$8:$AZ$8)))","v":""},{"$f":"IF(ISBLANK('Data Input'!A355),\"\",SUM('Data Input'!C355,'Data Input'!H355,'Data Input'!J355,'Data Input'!N355,'Data Input'!R355,'Data Input'!T355,'Data Input'!Y355,'Data Input'!AE355,'Data Input'!AK355,'Data Input'!AM355))","v":""},{"$f":"IF(H351=\"\",\"\",H351/COUNTIF('Data Input'!$C$8:$AZ$8,$H$2))","v":""},{"$f":"IF(ISBLANK('Data Input'!A355),\"\",SUM('Data Input'!G355,'Data Input'!I355,'Data Input'!K355,'Data Input'!O355,'Data Input'!P355,'Data Input'!S355,'Data Input'!U355,'Data Input'!V355,'Data Input'!W355,'Data Input'!X355,'Data Input'!Z355,'Data Input'!AA355,'Data Input'!AD355,'Data Input'!AZ355))","v":""},{"$f":"IF(J351=\"\",\"\",J351/COUNTIF('Data Input'!$C$8:$AZ$8,$J$2))","v":""},{"$f":"IF(ISBLANK('Data Input'!A355),\"\",SUM('Data Input'!Q355,'Data Input'!AG355))","v":""},{"$f":"IF(L351=\"\",\"\",L351/COUNTIF('Data Input'!$C$8:$AZ$8,$L$2))","v":""},{"$f":"IF(ISBLANK('Data Input'!A355),\"\",SUM('Data Input'!D355,'Data Input'!E355,'Data Input'!F355,'Data Input'!L355,'Data Input'!M355,'Data Input'!AB355,'Data Input'!AC355,'Data Input'!AF355,'Data Input'!AJ355,'Data Input'!AL355,'Data Input'!AN355,'Data Input'!AO355,'Data Input'!AP355,'Data Input'!AQ355,'Data Input'!AR355,'Data Input'!AS355,'Data Input'!AT355,'Data Input'!AU355,'Data Input'!AV355,'Data Input'!AW355,'Data Input'!AX355,'Data Input'!AY355))","v":""},{"$f":"IF(N351=\"\",\"\",N351/COUNTIF('Data Input'!$C$8:$AZ$8,$N$2))","v":""},null,{"$f":"IF(P351=\"\",\"\",P351/COUNTIF('Data Input'!$C$8:$AZ$8,$P$2))","v":""},{"$f":"IF(ISBLANK('Data Input'!A355),\"\",SUM('Data Input'!AH355))","v":""},{"$f":"IF(R351=\"\",\"\",R351/COUNTIF('Data Input'!$C$8:$AZ$8,$R$2))","v":""},{"$f":"IF(ISBLANK('Data Input'!$A355),\"\",SUM('Data Input'!AI355))","v":""},{"$f":"IF(T351=\"\",\"\",T351/COUNTIF('Data Input'!$C$8:$AZ$8,$T$2))","v":""},null,{"$f":"IF(V351=\"\",\"\",V351/COUNTIF('Data Input'!$C$8:$AZ$8,$V$2))","v":""}]
[{"$f":"IF('Data Input'!A356=0,\"\",'Data Input'!A356)","v":""},{"$f":"IF(F352=\"\",\"\",IF(F352>Welcome!$J$20-1,\"Exceeding\",IF(F352>Welcome!$F$20-1,\"Expected\",IF(F352<Welcome!$F$20,\"Below\"))))","v":""},{"$f":"IF(ISBLANK('Data Input'!A356),\"\",COUNTIF('Data Input'!C356:AZ356,\"\"))","v":""},{"$f":"IF(ISBLANK('Data Input'!A356),\"\",COUNTIF('Data Input'!C356:AZ356,\"0\"))","v":""},{"$f":"IF(ISBLANK('Data Input'!A356),\"\",SUM(C352,D352))","v":""},{"$f":"IF(ISBLANK('Data Input'!A356),\"\",SUM('Data Input'!C356:AZ356))","v":""},{"$f":"IF(F352=\"\",\"\",F352/(COUNTA('Data Input'!$C$8:$AZ$8)))","v":""},{"$f":"IF(ISBLANK('Data Input'!A356),\"\",SUM('Data Input'!C356,'Data Input'!H356,'Data Input'!J356,'Data Input'!N356,'Data Input'!R356,'Data Input'!T356,'Data Input'!Y356,'Data Input'!AE356,'Data Input'!AK356,'Data Input'!AM356))","v":""},{"$f":"IF(H352=\"\",\"\",H352/COUNTIF('Data Input'!$C$8:$AZ$8,$H$2))","v":""},{"$f":"IF(ISBLANK('Data Input'!A356),\"\",SUM('Data Input'!G356,'Data Input'!I356,'Data Input'!K356,'Data Input'!O356,'Data Input'!P356,'Data Input'!S356,'Data Input'!U356,'Data Input'!V356,'Data Input'!W356,'Data Input'!X356,'Data Input'!Z356,'Data Input'!AA356,'Data Input'!AD356,'Data Input'!AZ356))","v":""},{"$f":"IF(J352=\"\",\"\",J352/COUNTIF('Data Input'!$C$8:$AZ$8,$J$2))","v":""},{"$f":"IF(ISBLANK('Data Input'!A356),\"\",SUM('Data Input'!Q356,'Data Input'!AG356))","v":""},{"$f":"IF(L352=\"\",\"\",L352/COUNTIF('Data Input'!$C$8:$AZ$8,$L$2))","v":""},{"$f":"IF(ISBLANK('Data Input'!A356),\"\",SUM('Data Input'!D356,'Data Input'!E356,'Data Input'!F356,'Data Input'!L356,'Data Input'!M356,'Data Input'!AB356,'Data Input'!AC356,'Data Input'!AF356,'Data Input'!AJ356,'Data Input'!AL356,'Data Input'!AN356,'Data Input'!AO356,'Data Input'!AP356,'Data Input'!AQ356,'Data Input'!AR356,'Data Input'!AS356,'Data Input'!AT356,'Data Input'!AU356,'Data Input'!AV356,'Data Input'!AW356,'Data Input'!AX356,'Data Input'!AY356))","v":""},{"$f":"IF(N352=\"\",\"\",N352/COUNTIF('Data Input'!$C$8:$AZ$8,$N$2))","v":""},null,{"$f":"IF(P352=\"\",\"\",P352/COUNTIF('Data Input'!$C$8:$AZ$8,$P$2))","v":""},{"$f":"IF(ISBLANK('Data Input'!A356),\"\",SUM('Data Input'!AH356))","v":""},{"$f":"IF(R352=\"\",\"\",R352/COUNTIF('Data Input'!$C$8:$AZ$8,$R$2))","v":""},{"$f":"IF(ISBLANK('Data Input'!$A356),\"\",SUM('Data Input'!AI356))","v":""},{"$f":"IF(T352=\"\",\"\",T352/COUNTIF('Data Input'!$C$8:$AZ$8,$T$2))","v":""},null,{"$f":"IF(V352=\"\",\"\",V352/COUNTIF('Data Input'!$C$8:$AZ$8,$V$2))","v":""}]
[{"$f":"IF('Data Input'!A357=0,\"\",'Data Input'!A357)","v":""},{"$f":"IF(F353=\"\",\"\",IF(F353>Welcome!$J$20-1,\"Exceeding\",IF(F353>Welcome!$F$20-1,\"Expected\",IF(F353<Welcome!$F$20,\"Below\"))))","v":""},{"$f":"IF(ISBLANK('Data Input'!A357),\"\",COUNTIF('Data Input'!C357:AZ357,\"\"))","v":""},{"$f":"IF(ISBLANK('Data Input'!A357),\"\",COUNTIF('Data Input'!C357:AZ357,\"0\"))","v":""},{"$f":"IF(ISBLANK('Data Input'!A357),\"\",SUM(C353,D353))","v":""},{"$f":"IF(ISBLANK('Data Input'!A357),\"\",SUM('Data Input'!C357:AZ357))","v":""},{"$f":"IF(F353=\"\",\"\",F353/(COUNTA('Data Input'!$C$8:$AZ$8)))","v":""},{"$f":"IF(ISBLANK('Data Input'!A357),\"\",SUM('Data Input'!C357,'Data Input'!H357,'Data Input'!J357,'Data Input'!N357,'Data Input'!R357,'Data Input'!T357,'Data Input'!Y357,'Data Input'!AE357,'Data Input'!AK357,'Data Input'!AM357))","v":""},{"$f":"IF(H353=\"\",\"\",H353/COUNTIF('Data Input'!$C$8:$AZ$8,$H$2))","v":""},{"$f":"IF(ISBLANK('Data Input'!A357),\"\",SUM('Data Input'!G357,'Data Input'!I357,'Data Input'!K357,'Data Input'!O357,'Data Input'!P357,'Data Input'!S357,'Data Input'!U357,'Data Input'!V357,'Data Input'!W357,'Data Input'!X357,'Data Input'!Z357,'Data Input'!AA357,'Data Input'!AD357,'Data Input'!AZ357))","v":""},{"$f":"IF(J353=\"\",\"\",J353/COUNTIF('Data Input'!$C$8:$AZ$8,$J$2))","v":""},{"$f":"IF(ISBLANK('Data Input'!A357),\"\",SUM('Data Input'!Q357,'Data Input'!AG357))","v":""},{"$f":"IF(L353=\"\",\"\",L353/COUNTIF('Data Input'!$C$8:$AZ$8,$L$2))","v":""},{"$f":"IF(ISBLANK('Data Input'!A357),\"\",SUM('Data Input'!D357,'Data Input'!E357,'Data Input'!F357,'Data Input'!L357,'Data Input'!M357,'Data Input'!AB357,'Data Input'!AC357,'Data Input'!AF357,'Data Input'!AJ357,'Data Input'!AL357,'Data Input'!AN357,'Data Input'!AO357,'Data Input'!AP357,'Data Input'!AQ357,'Data Input'!AR357,'Data Input'!AS357,'Data Input'!AT357,'Data Input'!AU357,'Data Input'!AV357,'Data Input'!AW357,'Data Input'!AX357,'Data Input'!AY357))","v":""},{"$f":"IF(N353=\"\",\"\",N353/COUNTIF('Data Input'!$C$8:$AZ$8,$N$2))","v":""},null,{"$f":"IF(P353=\"\",\"\",P353/COUNTIF('Data Input'!$C$8:$AZ$8,$P$2))","v":""},{"$f":"IF(ISBLANK('Data Input'!A357),\"\",SUM('Data Input'!AH357))","v":""},{"$f":"IF(R353=\"\",\"\",R353/COUNTIF('Data Input'!$C$8:$AZ$8,$R$2))","v":""},{"$f":"IF(ISBLANK('Data Input'!$A357),\"\",SUM('Data Input'!AI357))","v":""},{"$f":"IF(T353=\"\",\"\",T353/COUNTIF('Data Input'!$C$8:$AZ$8,$T$2))","v":""},null,{"$f":"IF(V353=\"\",\"\",V353/COUNTIF('Data Input'!$C$8:$AZ$8,$V$2))","v":""}]
[{"$f":"IF('Data Input'!A358=0,\"\",'Data Input'!A358)","v":""},{"$f":"IF(F354=\"\",\"\",IF(F354>Welcome!$J$20-1,\"Exceeding\",IF(F354>Welcome!$F$20-1,\"Expected\",IF(F354<Welcome!$F$20,\"Below\"))))","v":""},{"$f":"IF(ISBLANK('Data Input'!A358),\"\",COUNTIF('Data Input'!C358:AZ358,\"\"))","v":""},{"$f":"IF(ISBLANK('Data Input'!A358),\"\",COUNTIF('Data Input'!C358:AZ358,\"0\"))","v":""},{"$f":"IF(ISBLANK('Data Input'!A358),\"\",SUM(C354,D354))","v":""},{"$f":"IF(ISBLANK('Data Input'!A358),\"\",SUM('Data Input'!C358:AZ358))","v":""},{"$f":"IF(F354=\"\",\"\",F354/(COUNTA('Data Input'!$C$8:$AZ$8)))","v":""},{"$f":"IF(ISBLANK('Data Input'!A358),\"\",SUM('Data Input'!C358,'Data Input'!H358,'Data Input'!J358,'Data Input'!N358,'Data Input'!R358,'Data Input'!T358,'Data Input'!Y358,'Data Input'!AE358,'Data Input'!AK358,'Data Input'!AM358))","v":""},{"$f":"IF(H354=\"\",\"\",H354/COUNTIF('Data Input'!$C$8:$AZ$8,$H$2))","v":""},{"$f":"IF(ISBLANK('Data Input'!A358),\"\",SUM('Data Input'!G358,'Data Input'!I358,'Data Input'!K358,'Data Input'!O358,'Data Input'!P358,'Data Input'!S358,'Data Input'!U358,'Data Input'!V358,'Data Input'!W358,'Data Input'!X358,'Data Input'!Z358,'Data Input'!AA358,'Data Input'!AD358,'Data Input'!AZ358))","v":""},{"$f":"IF(J354=\"\",\"\",J354/COUNTIF('Data Input'!$C$8:$AZ$8,$J$2))","v":""},{"$f":"IF(ISBLANK('Data Input'!A358),\"\",SUM('Data Input'!Q358,'Data Input'!AG358))","v":""},{"$f":"IF(L354=\"\",\"\",L354/COUNTIF('Data Input'!$C$8:$AZ$8,$L$2))","v":""},{"$f":"IF(ISBLANK('Data Input'!A358),\"\",SUM('Data Input'!D358,'Data Input'!E358,'Data Input'!F358,'Data Input'!L358,'Data Input'!M358,'Data Input'!AB358,'Data Input'!AC358,'Data Input'!AF358,'Data Input'!AJ358,'Data Input'!AL358,'Data Input'!AN358,'Data Input'!AO358,'Data Input'!AP358,'Data Input'!AQ358,'Data Input'!AR358,'Data Input'!AS358,'Data Input'!AT358,'Data Input'!AU358,'Data Input'!AV358,'Data Input'!AW358,'Data Input'!AX358,'Data Input'!AY358))","v":""},{"$f":"IF(N354=\"\",\"\",N354/COUNTIF('Data Input'!$C$8:$AZ$8,$N$2))","v":""},null,{"$f":"IF(P354=\"\",\"\",P354/COUNTIF('Data Input'!$C$8:$AZ$8,$P$2))","v":""},{"$f":"IF(ISBLANK('Data Input'!A358),\"\",SUM('Data Input'!AH358))","v":""},{"$f":"IF(R354=\"\",\"\",R354/COUNTIF('Data Input'!$C$8:$AZ$8,$R$2))","v":""},{"$f":"IF(ISBLANK('Data Input'!$A358),\"\",SUM('Data Input'!AI358))","v":""},{"$f":"IF(T354=\"\",\"\",T354/COUNTIF('Data Input'!$C$8:$AZ$8,$T$2))","v":""},null,{"$f":"IF(V354=\"\",\"\",V354/COUNTIF('Data Input'!$C$8:$AZ$8,$V$2))","v":""}]
[{"$f":"IF('Data Input'!A359=0,\"\",'Data Input'!A359)","v":""},{"$f":"IF(F355=\"\",\"\",IF(F355>Welcome!$J$20-1,\"Exceeding\",IF(F355>Welcome!$F$20-1,\"Expected\",IF(F355<Welcome!$F$20,\"Below\"))))","v":""},{"$f":"IF(ISBLANK('Data Input'!A359),\"\",COUNTIF('Data Input'!C359:AZ359,\"\"))","v":""},{"$f":"IF(ISBLANK('Data Input'!A359),\"\",COUNTIF('Data Input'!C359:AZ359,\"0\"))","v":""},{"$f":"IF(ISBLANK('Data Input'!A359),\"\",SUM(C355,D355))","v":""},{"$f":"IF(ISBLANK('Data Input'!A359),\"\",SUM('Data Input'!C359:AZ359))","v":""},{"$f":"IF(F355=\"\",\"\",F355/(COUNTA('Data Input'!$C$8:$AZ$8)))","v":""},{"$f":"IF(ISBLANK('Data Input'!A359),\"\",SUM('Data Input'!C359,'Data Input'!H359,'Data Input'!J359,'Data Input'!N359,'Data Input'!R359,'Data Input'!T359,'Data Input'!Y359,'Data Input'!AE359,'Data Input'!AK359,'Data Input'!AM359))","v":""},{"$f":"IF(H355=\"\",\"\",H355/COUNTIF('Data Input'!$C$8:$AZ$8,$H$2))","v":""},{"$f":"IF(ISBLANK('Data Input'!A359),\"\",SUM('Data Input'!G359,'Data Input'!I359,'Data Input'!K359,'Data Input'!O359,'Data Input'!P359,'Data Input'!S359,'Data Input'!U359,'Data Input'!V359,'Data Input'!W359,'Data Input'!X359,'Data Input'!Z359,'Data Input'!AA359,'Data Input'!AD359,'Data Input'!AZ359))","v":""},{"$f":"IF(J355=\"\",\"\",J355/COUNTIF('Data Input'!$C$8:$AZ$8,$J$2))","v":""},{"$f":"IF(ISBLANK('Data Input'!A359),\"\",SUM('Data Input'!Q359,'Data Input'!AG359))","v":""},{"$f":"IF(L355=\"\",\"\",L355/COUNTIF('Data Input'!$C$8:$AZ$8,$L$2))","v":""},{"$f":"IF(ISBLANK('Data Input'!A359),\"\",SUM('Data Input'!D359,'Data Input'!E359,'Data Input'!F359,'Data Input'!L359,'Data Input'!M359,'Data Input'!AB359,'Data Input'!AC359,'Data Input'!AF359,'Data Input'!AJ359,'Data Input'!AL359,'Data Input'!AN359,'Data Input'!AO359,'Data Input'!AP359,'Data Input'!AQ359,'Data Input'!AR359,'Data Input'!AS359,'Data Input'!AT359,'Data Input'!AU359,'Data Input'!AV359,'Data Input'!AW359,'Data Input'!AX359,'Data Input'!AY359))","v":""},{"$f":"IF(N355=\"\",\"\",N355/COUNTIF('Data Input'!$C$8:$AZ$8,$N$2))","v":""},null,{"$f":"IF(P355=\"\",\"\",P355/COUNTIF('Data Input'!$C$8:$AZ$8,$P$2))","v":""},{"$f":"IF(ISBLANK('Data Input'!A359),\"\",SUM('Data Input'!AH359))","v":""},{"$f":"IF(R355=\"\",\"\",R355/COUNTIF('Data Input'!$C$8:$AZ$8,$R$2))","v":""},{"$f":"IF(ISBLANK('Data Input'!$A359),\"\",SUM('Data Input'!AI359))","v":""},{"$f":"IF(T355=\"\",\"\",T355/COUNTIF('Data Input'!$C$8:$AZ$8,$T$2))","v":""},null,{"$f":"IF(V355=\"\",\"\",V355/COUNTIF('Data Input'!$C$8:$AZ$8,$V$2))","v":""}]
[{"$f":"IF('Data Input'!A360=0,\"\",'Data Input'!A360)","v":""},{"$f":"IF(F356=\"\",\"\",IF(F356>Welcome!$J$20-1,\"Exceeding\",IF(F356>Welcome!$F$20-1,\"Expected\",IF(F356<Welcome!$F$20,\"Below\"))))","v":""},{"$f":"IF(ISBLANK('Data Input'!A360),\"\",COUNTIF('Data Input'!C360:AZ360,\"\"))","v":""},{"$f":"IF(ISBLANK('Data Input'!A360),\"\",COUNTIF('Data Input'!C360:AZ360,\"0\"))","v":""},{"$f":"IF(ISBLANK('Data Input'!A360),\"\",SUM(C356,D356))","v":""},{"$f":"IF(ISBLANK('Data Input'!A360),\"\",SUM('Data Input'!C360:AZ360))","v":""},{"$f":"IF(F356=\"\",\"\",F356/(COUNTA('Data Input'!$C$8:$AZ$8)))","v":""},{"$f":"IF(ISBLANK('Data Input'!A360),\"\",SUM('Data Input'!C360,'Data Input'!H360,'Data Input'!J360,'Data Input'!N360,'Data Input'!R360,'Data Input'!T360,'Data Input'!Y360,'Data Input'!AE360,'Data Input'!AK360,'Data Input'!AM360))","v":""},{"$f":"IF(H356=\"\",\"\",H356/COUNTIF('Data Input'!$C$8:$AZ$8,$H$2))","v":""},{"$f":"IF(ISBLANK('Data Input'!A360),\"\",SUM('Data Input'!G360,'Data Input'!I360,'Data Input'!K360,'Data Input'!O360,'Data Input'!P360,'Data Input'!S360,'Data Input'!U360,'Data Input'!V360,'Data Input'!W360,'Data Input'!X360,'Data Input'!Z360,'Data Input'!AA360,'Data Input'!AD360,'Data Input'!AZ360))","v":""},{"$f":"IF(J356=\"\",\"\",J356/COUNTIF('Data Input'!$C$8:$AZ$8,$J$2))","v":""},{"$f":"IF(ISBLANK('Data Input'!A360),\"\",SUM('Data Input'!Q360,'Data Input'!AG360))","v":""},{"$f":"IF(L356=\"\",\"\",L356/COUNTIF('Data Input'!$C$8:$AZ$8,$L$2))","v":""},{"$f":"IF(ISBLANK('Data Input'!A360),\"\",SUM('Data Input'!D360,'Data Input'!E360,'Data Input'!F360,'Data Input'!L360,'Data Input'!M360,'Data Input'!AB360,'Data Input'!AC360,'Data Input'!AF360,'Data Input'!AJ360,'Data Input'!AL360,'Data Input'!AN360,'Data Input'!AO360,'Data Input'!AP360,'Data Input'!AQ360,'Data Input'!AR360,'Data Input'!AS360,'Data Input'!AT360,'Data Input'!AU360,'Data Input'!AV360,'Data Input'!AW360,'Data Input'!AX360,'Data Input'!AY360))","v":""},{"$f":"IF(N356=\"\",\"\",N356/COUNTIF('Data Input'!$C$8:$AZ$8,$N$2))","v":""},null,{"$f":"IF(P356=\"\",\"\",P356/COUNTIF('Data Input'!$C$8:$AZ$8,$P$2))","v":""},{"$f":"IF(ISBLANK('Data Input'!A360),\"\",SUM('Data Input'!AH360))","v":""},{"$f":"IF(R356=\"\",\"\",R356/COUNTIF('Data Input'!$C$8:$AZ$8,$R$2))","v":""},{"$f":"IF(ISBLANK('Data Input'!$A360),\"\",SUM('Data Input'!AI360))","v":""},{"$f":"IF(T356=\"\",\"\",T356/COUNTIF('Data Input'!$C$8:$AZ$8,$T$2))","v":""},null,{"$f":"IF(V356=\"\",\"\",V356/COUNTIF('Data Input'!$C$8:$AZ$8,$V$2))","v":""}]
[{"$f":"IF('Data Input'!A361=0,\"\",'Data Input'!A361)","v":""},{"$f":"IF(F357=\"\",\"\",IF(F357>Welcome!$J$20-1,\"Exceeding\",IF(F357>Welcome!$F$20-1,\"Expected\",IF(F357<Welcome!$F$20,\"Below\"))))","v":""},{"$f":"IF(ISBLANK('Data Input'!A361),\"\",COUNTIF('Data Input'!C361:AZ361,\"\"))","v":""},{"$f":"IF(ISBLANK('Data Input'!A361),\"\",COUNTIF('Data Input'!C361:AZ361,\"0\"))","v":""},{"$f":"IF(ISBLANK('Data Input'!A361),\"\",SUM(C357,D357))","v":""},{"$f":"IF(ISBLANK('Data Input'!A361),\"\",SUM('Data Input'!C361:AZ361))","v":""},{"$f":"IF(F357=\"\",\"\",F357/(COUNTA('Data Input'!$C$8:$AZ$8)))","v":""},{"$f":"IF(ISBLANK('Data Input'!A361),\"\",SUM('Data Input'!C361,'Data Input'!H361,'Data Input'!J361,'Data Input'!N361,'Data Input'!R361,'Data Input'!T361,'Data Input'!Y361,'Data Input'!AE361,'Data Input'!AK361,'Data Input'!AM361))","v":""},{"$f":"IF(H357=\"\",\"\",H357/COUNTIF('Data Input'!$C$8:$AZ$8,$H$2))","v":""},{"$f":"IF(ISBLANK('Data Input'!A361),\"\",SUM('Data Input'!G361,'Data Input'!I361,'Data Input'!K361,'Data Input'!O361,'Data Input'!P361,'Data Input'!S361,'Data Input'!U361,'Data Input'!V361,'Data Input'!W361,'Data Input'!X361,'Data Input'!Z361,'Data Input'!AA361,'Data Input'!AD361,'Data Input'!AZ361))","v":""},{"$f":"IF(J357=\"\",\"\",J357/COUNTIF('Data Input'!$C$8:$AZ$8,$J$2))","v":""},{"$f":"IF(ISBLANK('Data Input'!A361),\"\",SUM('Data Input'!Q361,'Data Input'!AG361))","v":""},{"$f":"IF(L357=\"\",\"\",L357/COUNTIF('Data Input'!$C$8:$AZ$8,$L$2))","v":""},{"$f":"IF(ISBLANK('Data Input'!A361),\"\",SUM('Data Input'!D361,'Data Input'!E361,'Data Input'!F361,'Data Input'!L361,'Data Input'!M361,'Data Input'!AB361,'Data Input'!AC361,'Data Input'!AF361,'Data Input'!AJ361,'Data Input'!AL361,'Data Input'!AN361,'Data Input'!AO361,'Data Input'!AP361,'Data Input'!AQ361,'Data Input'!AR361,'Data Input'!AS361,'Data Input'!AT361,'Data Input'!AU361,'Data Input'!AV361,'Data Input'!AW361,'Data Input'!AX361,'Data Input'!AY361))","v":""},{"$f":"IF(N357=\"\",\"\",N357/COUNTIF('Data Input'!$C$8:$AZ$8,$N$2))","v":""},null,{"$f":"IF(P357=\"\",\"\",P357/COUNTIF('Data Input'!$C$8:$AZ$8,$P$2))","v":""},{"$f":"IF(ISBLANK('Data Input'!A361),\"\",SUM('Data Input'!AH361))","v":""},{"$f":"IF(R357=\"\",\"\",R357/COUNTIF('Data Input'!$C$8:$AZ$8,$R$2))","v":""},{"$f":"IF(ISBLANK('Data Input'!$A361),\"\",SUM('Data Input'!AI361))","v":""},{"$f":"IF(T357=\"\",\"\",T357/COUNTIF('Data Input'!$C$8:$AZ$8,$T$2))","v":""},null,{"$f":"IF(V357=\"\",\"\",V357/COUNTIF('Data Input'!$C$8:$AZ$8,$V$2))","v":""}]
[{"$f":"IF('Data Input'!A362=0,\"\",'Data Input'!A362)","v":""},{"$f":"IF(F358=\"\",\"\",IF(F358>Welcome!$J$20-1,\"Exceeding\",IF(F358>Welcome!$F$20-1,\"Expected\",IF(F358<Welcome!$F$20,\"Below\"))))","v":""},{"$f":"IF(ISBLANK('Data Input'!A362),\"\",COUNTIF('Data Input'!C362:AZ362,\"\"))","v":""},{"$f":"IF(ISBLANK('Data Input'!A362),\"\",COUNTIF('Data Input'!C362:AZ362,\"0\"))","v":""},{"$f":"IF(ISBLANK('Data Input'!A362),\"\",SUM(C358,D358))","v":""},{"$f":"IF(ISBLANK('Data Input'!A362),\"\",SUM('Data Input'!C362:AZ362))","v":""},{"$f":"IF(F358=\"\",\"\",F358/(COUNTA('Data Input'!$C$8:$AZ$8)))","v":""},{"$f":"IF(ISBLANK('Data Input'!A362),\"\",SUM('Data Input'!C362,'Data Input'!H362,'Data Input'!J362,'Data Input'!N362,'Data Input'!R362,'Data Input'!T362,'Data Input'!Y362,'Data Input'!AE362,'Data Input'!AK362,'Data Input'!AM362))","v":""},{"$f":"IF(H358=\"\",\"\",H358/COUNTIF('Data Input'!$C$8:$AZ$8,$H$2))","v":""},{"$f":"IF(ISBLANK('Data Input'!A362),\"\",SUM('Data Input'!G362,'Data Input'!I362,'Data Input'!K362,'Data Input'!O362,'Data Input'!P362,'Data Input'!S362,'Data Input'!U362,'Data Input'!V362,'Data Input'!W362,'Data Input'!X362,'Data Input'!Z362,'Data Input'!AA362,'Data Input'!AD362,'Data Input'!AZ362))","v":""},{"$f":"IF(J358=\"\",\"\",J358/COUNTIF('Data Input'!$C$8:$AZ$8,$J$2))","v":""},{"$f":"IF(ISBLANK('Data Input'!A362),\"\",SUM('Data Input'!Q362,'Data Input'!AG362))","v":""},{"$f":"IF(L358=\"\",\"\",L358/COUNTIF('Data Input'!$C$8:$AZ$8,$L$2))","v":""},{"$f":"IF(ISBLANK('Data Input'!A362),\"\",SUM('Data Input'!D362,'Data Input'!E362,'Data Input'!F362,'Data Input'!L362,'Data Input'!M362,'Data Input'!AB362,'Data Input'!AC362,'Data Input'!AF362,'Data Input'!AJ362,'Data Input'!AL362,'Data Input'!AN362,'Data Input'!AO362,'Data Input'!AP362,'Data Input'!AQ362,'Data Input'!AR362,'Data Input'!AS362,'Data Input'!AT362,'Data Input'!AU362,'Data Input'!AV362,'Data Input'!AW362,'Data Input'!AX362,'Data Input'!AY362))","v":""},{"$f":"IF(N358=\"\",\"\",N358/COUNTIF('Data Input'!$C$8:$AZ$8,$N$2))","v":""},null,{"$f":"IF(P358=\"\",\"\",P358/COUNTIF('Data Input'!$C$8:$AZ$8,$P$2))","v":""},{"$f":"IF(ISBLANK('Data Input'!A362),\"\",SUM('Data Input'!AH362))","v":""},{"$f":"IF(R358=\"\",\"\",R358/COUNTIF('Data Input'!$C$8:$AZ$8,$R$2))","v":""},{"$f":"IF(ISBLANK('Data Input'!$A362),\"\",SUM('Data Input'!AI362))","v":""},{"$f":"IF(T358=\"\",\"\",T358/COUNTIF('Data Input'!$C$8:$AZ$8,$T$2))","v":""},null,{"$f":"IF(V358=\"\",\"\",V358/COUNTIF('Data Input'!$C$8:$AZ$8,$V$2))","v":""}]
[{"$f":"IF('Data Input'!A363=0,\"\",'Data Input'!A363)","v":""},{"$f":"IF(F359=\"\",\"\",IF(F359>Welcome!$J$20-1,\"Exceeding\",IF(F359>Welcome!$F$20-1,\"Expected\",IF(F359<Welcome!$F$20,\"Below\"))))","v":""},{"$f":"IF(ISBLANK('Data Input'!A363),\"\",COUNTIF('Data Input'!C363:AZ363,\"\"))","v":""},{"$f":"IF(ISBLANK('Data Input'!A363),\"\",COUNTIF('Data Input'!C363:AZ363,\"0\"))","v":""},{"$f":"IF(ISBLANK('Data Input'!A363),\"\",SUM(C359,D359))","v":""},{"$f":"IF(ISBLANK('Data Input'!A363),\"\",SUM('Data Input'!C363:AZ363))","v":""},{"$f":"IF(F359=\"\",\"\",F359/(COUNTA('Data Input'!$C$8:$AZ$8)))","v":""},{"$f":"IF(ISBLANK('Data Input'!A363),\"\",SUM('Data Input'!C363,'Data Input'!H363,'Data Input'!J363,'Data Input'!N363,'Data Input'!R363,'Data Input'!T363,'Data Input'!Y363,'Data Input'!AE363,'Data Input'!AK363,'Data Input'!AM363))","v":""},{"$f":"IF(H359=\"\",\"\",H359/COUNTIF('Data Input'!$C$8:$AZ$8,$H$2))","v":""},{"$f":"IF(ISBLANK('Data Input'!A363),\"\",SUM('Data Input'!G363,'Data Input'!I363,'Data Input'!K363,'Data Input'!O363,'Data Input'!P363,'Data Input'!S363,'Data Input'!U363,'Data Input'!V363,'Data Input'!W363,'Data Input'!X363,'Data Input'!Z363,'Data Input'!AA363,'Data Input'!AD363,'Data Input'!AZ363))","v":""},{"$f":"IF(J359=\"\",\"\",J359/COUNTIF('Data Input'!$C$8:$AZ$8,$J$2))","v":""},{"$f":"IF(ISBLANK('Data Input'!A363),\"\",SUM('Data Input'!Q363,'Data Input'!AG363))","v":""},{"$f":"IF(L359=\"\",\"\",L359/COUNTIF('Data Input'!$C$8:$AZ$8,$L$2))","v":""},{"$f":"IF(ISBLANK('Data Input'!A363),\"\",SUM('Data Input'!D363,'Data Input'!E363,'Data Input'!F363,'Data Input'!L363,'Data Input'!M363,'Data Input'!AB363,'Data Input'!AC363,'Data Input'!AF363,'Data Input'!AJ363,'Data Input'!AL363,'Data Input'!AN363,'Data Input'!AO363,'Data Input'!AP363,'Data Input'!AQ363,'Data Input'!AR363,'Data Input'!AS363,'Data Input'!AT363,'Data Input'!AU363,'Data Input'!AV363,'Data Input'!AW363,'Data Input'!AX363,'Data Input'!AY363))","v":""},{"$f":"IF(N359=\"\",\"\",N359/COUNTIF('Data Input'!$C$8:$AZ$8,$N$2))","v":""},null,{"$f":"IF(P359=\"\",\"\",P359/COUNTIF('Data Input'!$C$8:$AZ$8,$P$2))","v":""},{"$f":"IF(ISBLANK('Data Input'!A363),\"\",SUM('Data Input'!AH363))","v":""},{"$f":"IF(R359=\"\",\"\",R359/COUNTIF('Data Input'!$C$8:$AZ$8,$R$2))","v":""},{"$f":"IF(ISBLANK('Data Input'!$A363),\"\",SUM('Data Input'!AI363))","v":""},{"$f":"IF(T359=\"\",\"\",T359/COUNTIF('Data Input'!$C$8:$AZ$8,$T$2))","v":""},null,{"$f":"IF(V359=\"\",\"\",V359/COUNTIF('Data Input'!$C$8:$AZ$8,$V$2))","v":""}]
[{"$f":"IF('Data Input'!A364=0,\"\",'Data Input'!A364)","v":""},{"$f":"IF(F360=\"\",\"\",IF(F360>Welcome!$J$20-1,\"Exceeding\",IF(F360>Welcome!$F$20-1,\"Expected\",IF(F360<Welcome!$F$20,\"Below\"))))","v":""},{"$f":"IF(ISBLANK('Data Input'!A364),\"\",COUNTIF('Data Input'!C364:AZ364,\"\"))","v":""},{"$f":"IF(ISBLANK('Data Input'!A364),\"\",COUNTIF('Data Input'!C364:AZ364,\"0\"))","v":""},{"$f":"IF(ISBLANK('Data Input'!A364),\"\",SUM(C360,D360))","v":""},{"$f":"IF(ISBLANK('Data Input'!A364),\"\",SUM('Data Input'!C364:AZ364))","v":""},{"$f":"IF(F360=\"\",\"\",F360/(COUNTA('Data Input'!$C$8:$AZ$8)))","v":""},{"$f":"IF(ISBLANK('Data Input'!A364),\"\",SUM('Data Input'!C364,'Data Input'!H364,'Data Input'!J364,'Data Input'!N364,'Data Input'!R364,'Data Input'!T364,'Data Input'!Y364,'Data Input'!AE364,'Data Input'!AK364,'Data Input'!AM364))","v":""},{"$f":"IF(H360=\"\",\"\",H360/COUNTIF('Data Input'!$C$8:$AZ$8,$H$2))","v":""},{"$f":"IF(ISBLANK('Data Input'!A364),\"\",SUM('Data Input'!G364,'Data Input'!I364,'Data Input'!K364,'Data Input'!O364,'Data Input'!P364,'Data Input'!S364,'Data Input'!U364,'Data Input'!V364,'Data Input'!W364,'Data Input'!X364,'Data Input'!Z364,'Data Input'!AA364,'Data Input'!AD364,'Data Input'!AZ364))","v":""},{"$f":"IF(J360=\"\",\"\",J360/COUNTIF('Data Input'!$C$8:$AZ$8,$J$2))","v":""},{"$f":"IF(ISBLANK('Data Input'!A364),\"\",SUM('Data Input'!Q364,'Data Input'!AG364))","v":""},{"$f":"IF(L360=\"\",\"\",L360/COUNTIF('Data Input'!$C$8:$AZ$8,$L$2))","v":""},{"$f":"IF(ISBLANK('Data Input'!A364),\"\",SUM('Data Input'!D364,'Data Input'!E364,'Data Input'!F364,'Data Input'!L364,'Data Input'!M364,'Data Input'!AB364,'Data Input'!AC364,'Data Input'!AF364,'Data Input'!AJ364,'Data Input'!AL364,'Data Input'!AN364,'Data Input'!AO364,'Data Input'!AP364,'Data Input'!AQ364,'Data Input'!AR364,'Data Input'!AS364,'Data Input'!AT364,'Data Input'!AU364,'Data Input'!AV364,'Data Input'!AW364,'Data Input'!AX364,'Data Input'!AY364))","v":""},{"$f":"IF(N360=\"\",\"\",N360/COUNTIF('Data Input'!$C$8:$AZ$8,$N$2))","v":""},null,{"$f":"IF(P360=\"\",\"\",P360/COUNTIF('Data Input'!$C$8:$AZ$8,$P$2))","v":""},{"$f":"IF(ISBLANK('Data Input'!A364),\"\",SUM('Data Input'!AH364))","v":""},{"$f":"IF(R360=\"\",\"\",R360/COUNTIF('Data Input'!$C$8:$AZ$8,$R$2))","v":""},{"$f":"IF(ISBLANK('Data Input'!$A364),\"\",SUM('Data Input'!AI364))","v":""},{"$f":"IF(T360=\"\",\"\",T360/COUNTIF('Data Input'!$C$8:$AZ$8,$T$2))","v":""},null,{"$f":"IF(V360=\"\",\"\",V360/COUNTIF('Data Input'!$C$8:$AZ$8,$V$2))","v":""}]
[{"$f":"IF('Data Input'!A365=0,\"\",'Data Input'!A365)","v":""},{"$f":"IF(F361=\"\",\"\",IF(F361>Welcome!$J$20-1,\"Exceeding\",IF(F361>Welcome!$F$20-1,\"Expected\",IF(F361<Welcome!$F$20,\"Below\"))))","v":""},{"$f":"IF(ISBLANK('Data Input'!A365),\"\",COUNTIF('Data Input'!C365:AZ365,\"\"))","v":""},{"$f":"IF(ISBLANK('Data Input'!A365),\"\",COUNTIF('Data Input'!C365:AZ365,\"0\"))","v":""},{"$f":"IF(ISBLANK('Data Input'!A365),\"\",SUM(C361,D361))","v":""},{"$f":"IF(ISBLANK('Data Input'!A365),\"\",SUM('Data Input'!C365:AZ365))","v":""},{"$f":"IF(F361=\"\",\"\",F361/(COUNTA('Data Input'!$C$8:$AZ$8)))","v":""},{"$f":"IF(ISBLANK('Data Input'!A365),\"\",SUM('Data Input'!C365,'Data Input'!H365,'Data Input'!J365,'Data Input'!N365,'Data Input'!R365,'Data Input'!T365,'Data Input'!Y365,'Data Input'!AE365,'Data Input'!AK365,'Data Input'!AM365))","v":""},{"$f":"IF(H361=\"\",\"\",H361/COUNTIF('Data Input'!$C$8:$AZ$8,$H$2))","v":""},{"$f":"IF(ISBLANK('Data Input'!A365),\"\",SUM('Data Input'!G365,'Data Input'!I365,'Data Input'!K365,'Data Input'!O365,'Data Input'!P365,'Data Input'!S365,'Data Input'!U365,'Data Input'!V365,'Data Input'!W365,'Data Input'!X365,'Data Input'!Z365,'Data Input'!AA365,'Data Input'!AD365,'Data Input'!AZ365))","v":""},{"$f":"IF(J361=\"\",\"\",J361/COUNTIF('Data Input'!$C$8:$AZ$8,$J$2))","v":""},{"$f":"IF(ISBLANK('Data Input'!A365),\"\",SUM('Data Input'!Q365,'Data Input'!AG365))","v":""},{"$f":"IF(L361=\"\",\"\",L361/COUNTIF('Data Input'!$C$8:$AZ$8,$L$2))","v":""},{"$f":"IF(ISBLANK('Data Input'!A365),\"\",SUM('Data Input'!D365,'Data Input'!E365,'Data Input'!F365,'Data Input'!L365,'Data Input'!M365,'Data Input'!AB365,'Data Input'!AC365,'Data Input'!AF365,'Data Input'!AJ365,'Data Input'!AL365,'Data Input'!AN365,'Data Input'!AO365,'Data Input'!AP365,'Data Input'!AQ365,'Data Input'!AR365,'Data Input'!AS365,'Data Input'!AT365,'Data Input'!AU365,'Data Input'!AV365,'Data Input'!AW365,'Data Input'!AX365,'Data Input'!AY365))","v":""},{"$f":"IF(N361=\"\",\"\",N361/COUNTIF('Data Input'!$C$8:$AZ$8,$N$2))","v":""},null,{"$f":"IF(P361=\"\",\"\",P361/COUNTIF('Data Input'!$C$8:$AZ$8,$P$2))","v":""},{"$f":"IF(ISBLANK('Data Input'!A365),\"\",SUM('Data Input'!AH365))","v":""},{"$f":"IF(R361=\"\",\"\",R361/COUNTIF('Data Input'!$C$8:$AZ$8,$R$2))","v":""},{"$f":"IF(ISBLANK('Data Input'!$A365),\"\",SUM('Data Input'!AI365))","v":""},{"$f":"IF(T361=\"\",\"\",T361/COUNTIF('Data Input'!$C$8:$AZ$8,$T$2))","v":""},null,{"$f":"IF(V361=\"\",\"\",V361/COUNTIF('Data Input'!$C$8:$AZ$8,$V$2))","v":""}]
[{"$f":"IF('Data Input'!A366=0,\"\",'Data Input'!A366)","v":""},{"$f":"IF(F362=\"\",\"\",IF(F362>Welcome!$J$20-1,\"Exceeding\",IF(F362>Welcome!$F$20-1,\"Expected\",IF(F362<Welcome!$F$20,\"Below\"))))","v":""},{"$f":"IF(ISBLANK('Data Input'!A366),\"\",COUNTIF('Data Input'!C366:AZ366,\"\"))","v":""},{"$f":"IF(ISBLANK('Data Input'!A366),\"\",COUNTIF('Data Input'!C366:AZ366,\"0\"))","v":""},{"$f":"IF(ISBLANK('Data Input'!A366),\"\",SUM(C362,D362))","v":""},{"$f":"IF(ISBLANK('Data Input'!A366),\"\",SUM('Data Input'!C366:AZ366))","v":""},{"$f":"IF(F362=\"\",\"\",F362/(COUNTA('Data Input'!$C$8:$AZ$8)))","v":""},{"$f":"IF(ISBLANK('Data Input'!A366),\"\",SUM('Data Input'!C366,'Data Input'!H366,'Data Input'!J366,'Data Input'!N366,'Data Input'!R366,'Data Input'!T366,'Data Input'!Y366,'Data Input'!AE366,'Data Input'!AK366,'Data Input'!AM366))","v":""},{"$f":"IF(H362=\"\",\"\",H362/COUNTIF('Data Input'!$C$8:$AZ$8,$H$2))","v":""},{"$f":"IF(ISBLANK('Data Input'!A366),\"\",SUM('Data Input'!G366,'Data Input'!I366,'Data Input'!K366,'Data Input'!O366,'Data Input'!P366,'Data Input'!S366,'Data Input'!U366,'Data Input'!V366,'Data Input'!W366,'Data Input'!X366,'Data Input'!Z366,'Data Input'!AA366,'Data Input'!AD366,'Data Input'!AZ366))","v":""},{"$f":"IF(J362=\"\",\"\",J362/COUNTIF('Data Input'!$C$8:$AZ$8,$J$2))","v":""},{"$f":"IF(ISBLANK('Data Input'!A366),\"\",SUM('Data Input'!Q366,'Data Input'!AG366))","v":""},{"$f":"IF(L362=\"\",\"\",L362/COUNTIF('Data Input'!$C$8:$AZ$8,$L$2))","v":""},{"$f":"IF(ISBLANK('Data Input'!A366),\"\",SUM('Data Input'!D366,'Data Input'!E366,'Data Input'!F366,'Data Input'!L366,'Data Input'!M366,'Data Input'!AB366,'Data Input'!AC366,'Data Input'!AF366,'Data Input'!AJ366,'Data Input'!AL366,'Data Input'!AN366,'Data Input'!AO366,'Data Input'!AP366,'Data Input'!AQ366,'Data Input'!AR366,'Data Input'!AS366,'Data Input'!AT366,'Data Input'!AU366,'Data Input'!AV366,'Data Input'!AW366,'Data Input'!AX366,'Data Input'!AY366))","v":""},{"$f":"IF(N362=\"\",\"\",N362/COUNTIF('Data Input'!$C$8:$AZ$8,$N$2))","v":""},null,{"$f":"IF(P362=\"\",\"\",P362/COUNTIF('Data Input'!$C$8:$AZ$8,$P$2))","v":""},{"$f":"IF(ISBLANK('Data Input'!A366),\"\",SUM('Data Input'!AH366))","v":""},{"$f":"IF(R362=\"\",\"\",R362/COUNTIF('Data Input'!$C$8:$AZ$8,$R$2))","v":""},{"$f":"IF(ISBLANK('Data Input'!$A366),\"\",SUM('Data Input'!AI366))","v":""},{"$f":"IF(T362=\"\",\"\",T362/COUNTIF('Data Input'!$C$8:$AZ$8,$T$2))","v":""},null,{"$f":"IF(V362=\"\",\"\",V362/COUNTIF('Data Input'!$C$8:$AZ$8,$V$2))","v":""}]
[{"$f":"IF('Data Input'!A367=0,\"\",'Data Input'!A367)","v":""},{"$f":"IF(F363=\"\",\"\",IF(F363>Welcome!$J$20-1,\"Exceeding\",IF(F363>Welcome!$F$20-1,\"Expected\",IF(F363<Welcome!$F$20,\"Below\"))))","v":""},{"$f":"IF(ISBLANK('Data Input'!A367),\"\",COUNTIF('Data Input'!C367:AZ367,\"\"))","v":""},{"$f":"IF(ISBLANK('Data Input'!A367),\"\",COUNTIF('Data Input'!C367:AZ367,\"0\"))","v":""},{"$f":"IF(ISBLANK('Data Input'!A367),\"\",SUM(C363,D363))","v":""},{"$f":"IF(ISBLANK('Data Input'!A367),\"\",SUM('Data Input'!C367:AZ367))","v":""},{"$f":"IF(F363=\"\",\"\",F363/(COUNTA('Data Input'!$C$8:$AZ$8)))","v":""},{"$f":"IF(ISBLANK('Data Input'!A367),\"\",SUM('Data Input'!C367,'Data Input'!H367,'Data Input'!J367,'Data Input'!N367,'Data Input'!R367,'Data Input'!T367,'Data Input'!Y367,'Data Input'!AE367,'Data Input'!AK367,'Data Input'!AM367))","v":""},{"$f":"IF(H363=\"\",\"\",H363/COUNTIF('Data Input'!$C$8:$AZ$8,$H$2))","v":""},{"$f":"IF(ISBLANK('Data Input'!A367),\"\",SUM('Data Input'!G367,'Data Input'!I367,'Data Input'!K367,'Data Input'!O367,'Data Input'!P367,'Data Input'!S367,'Data Input'!U367,'Data Input'!V367,'Data Input'!W367,'Data Input'!X367,'Data Input'!Z367,'Data Input'!AA367,'Data Input'!AD367,'Data Input'!AZ367))","v":""},{"$f":"IF(J363=\"\",\"\",J363/COUNTIF('Data Input'!$C$8:$AZ$8,$J$2))","v":""},{"$f":"IF(ISBLANK('Data Input'!A367),\"\",SUM('Data Input'!Q367,'Data Input'!AG367))","v":""},{"$f":"IF(L363=\"\",\"\",L363/COUNTIF('Data Input'!$C$8:$AZ$8,$L$2))","v":""},{"$f":"IF(ISBLANK('Data Input'!A367),\"\",SUM('Data Input'!D367,'Data Input'!E367,'Data Input'!F367,'Data Input'!L367,'Data Input'!M367,'Data Input'!AB367,'Data Input'!AC367,'Data Input'!AF367,'Data Input'!AJ367,'Data Input'!AL367,'Data Input'!AN367,'Data Input'!AO367,'Data Input'!AP367,'Data Input'!AQ367,'Data Input'!AR367,'Data Input'!AS367,'Data Input'!AT367,'Data Input'!AU367,'Data Input'!AV367,'Data Input'!AW367,'Data Input'!AX367,'Data Input'!AY367))","v":""},{"$f":"IF(N363=\"\",\"\",N363/COUNTIF('Data Input'!$C$8:$AZ$8,$N$2))","v":""},null,{"$f":"IF(P363=\"\",\"\",P363/COUNTIF('Data Input'!$C$8:$AZ$8,$P$2))","v":""},{"$f":"IF(ISBLANK('Data Input'!A367),\"\",SUM('Data Input'!AH367))","v":""},{"$f":"IF(R363=\"\",\"\",R363/COUNTIF('Data Input'!$C$8:$AZ$8,$R$2))","v":""},{"$f":"IF(ISBLANK('Data Input'!$A367),\"\",SUM('Data Input'!AI367))","v":""},{"$f":"IF(T363=\"\",\"\",T363/COUNTIF('Data Input'!$C$8:$AZ$8,$T$2))","v":""},null,{"$f":"IF(V363=\"\",\"\",V363/COUNTIF('Data Input'!$C$8:$AZ$8,$V$2))","v":""}]
[{"$f":"IF('Data Input'!A368=0,\"\",'Data Input'!A368)","v":""},{"$f":"IF(F364=\"\",\"\",IF(F364>Welcome!$J$20-1,\"Exceeding\",IF(F364>Welcome!$F$20-1,\"Expected\",IF(F364<Welcome!$F$20,\"Below\"))))","v":""},{"$f":"IF(ISBLANK('Data Input'!A368),\"\",COUNTIF('Data Input'!C368:AZ368,\"\"))","v":""},{"$f":"IF(ISBLANK('Data Input'!A368),\"\",COUNTIF('Data Input'!C368:AZ368,\"0\"))","v":""},{"$f":"IF(ISBLANK('Data Input'!A368),\"\",SUM(C364,D364))","v":""},{"$f":"IF(ISBLANK('Data Input'!A368),\"\",SUM('Data Input'!C368:AZ368))","v":""},{"$f":"IF(F364=\"\",\"\",F364/(COUNTA('Data Input'!$C$8:$AZ$8)))","v":""},{"$f":"IF(ISBLANK('Data Input'!A368),\"\",SUM('Data Input'!C368,'Data Input'!H368,'Data Input'!J368,'Data Input'!N368,'Data Input'!R368,'Data Input'!T368,'Data Input'!Y368,'Data Input'!AE368,'Data Input'!AK368,'Data Input'!AM368))","v":""},{"$f":"IF(H364=\"\",\"\",H364/COUNTIF('Data Input'!$C$8:$AZ$8,$H$2))","v":""},{"$f":"IF(ISBLANK('Data Input'!A368),\"\",SUM('Data Input'!G368,'Data Input'!I368,'Data Input'!K368,'Data Input'!O368,'Data Input'!P368,'Data Input'!S368,'Data Input'!U368,'Data Input'!V368,'Data Input'!W368,'Data Input'!X368,'Data Input'!Z368,'Data Input'!AA368,'Data Input'!AD368,'Data Input'!AZ368))","v":""},{"$f":"IF(J364=\"\",\"\",J364/COUNTIF('Data Input'!$C$8:$AZ$8,$J$2))","v":""},{"$f":"IF(ISBLANK('Data Input'!A368),\"\",SUM('Data Input'!Q368,'Data Input'!AG368))","v":""},{"$f":"IF(L364=\"\",\"\",L364/COUNTIF('Data Input'!$C$8:$AZ$8,$L$2))","v":""},{"$f":"IF(ISBLANK('Data Input'!A368),\"\",SUM('Data Input'!D368,'Data Input'!E368,'Data Input'!F368,'Data Input'!L368,'Data Input'!M368,'Data Input'!AB368,'Data Input'!AC368,'Data Input'!AF368,'Data Input'!AJ368,'Data Input'!AL368,'Data Input'!AN368,'Data Input'!AO368,'Data Input'!AP368,'Data Input'!AQ368,'Data Input'!AR368,'Data Input'!AS368,'Data Input'!AT368,'Data Input'!AU368,'Data Input'!AV368,'Data Input'!AW368,'Data Input'!AX368,'Data Input'!AY368))","v":""},{"$f":"IF(N364=\"\",\"\",N364/COUNTIF('Data Input'!$C$8:$AZ$8,$N$2))","v":""},null,{"$f":"IF(P364=\"\",\"\",P364/COUNTIF('Data Input'!$C$8:$AZ$8,$P$2))","v":""},{"$f":"IF(ISBLANK('Data Input'!A368),\"\",SUM('Data Input'!AH368))","v":""},{"$f":"IF(R364=\"\",\"\",R364/COUNTIF('Data Input'!$C$8:$AZ$8,$R$2))","v":""},{"$f":"IF(ISBLANK('Data Input'!$A368),\"\",SUM('Data Input'!AI368))","v":""},{"$f":"IF(T364=\"\",\"\",T364/COUNTIF('Data Input'!$C$8:$AZ$8,$T$2))","v":""},null,{"$f":"IF(V364=\"\",\"\",V364/COUNTIF('Data Input'!$C$8:$AZ$8,$V$2))","v":""}]
[{"$f":"IF('Data Input'!A369=0,\"\",'Data Input'!A369)","v":""},{"$f":"IF(F365=\"\",\"\",IF(F365>Welcome!$J$20-1,\"Exceeding\",IF(F365>Welcome!$F$20-1,\"Expected\",IF(F365<Welcome!$F$20,\"Below\"))))","v":""},{"$f":"IF(ISBLANK('Data Input'!A369),\"\",COUNTIF('Data Input'!C369:AZ369,\"\"))","v":""},{"$f":"IF(ISBLANK('Data Input'!A369),\"\",COUNTIF('Data Input'!C369:AZ369,\"0\"))","v":""},{"$f":"IF(ISBLANK('Data Input'!A369),\"\",SUM(C365,D365))","v":""},{"$f":"IF(ISBLANK('Data Input'!A369),\"\",SUM('Data Input'!C369:AZ369))","v":""},{"$f":"IF(F365=\"\",\"\",F365/(COUNTA('Data Input'!$C$8:$AZ$8)))","v":""},{"$f":"IF(ISBLANK('Data Input'!A369),\"\",SUM('Data Input'!C369,'Data Input'!H369,'Data Input'!J369,'Data Input'!N369,'Data Input'!R369,'Data Input'!T369,'Data Input'!Y369,'Data Input'!AE369,'Data Input'!AK369,'Data Input'!AM369))","v":""},{"$f":"IF(H365=\"\",\"\",H365/COUNTIF('Data Input'!$C$8:$AZ$8,$H$2))","v":""},{"$f":"IF(ISBLANK('Data Input'!A369),\"\",SUM('Data Input'!G369,'Data Input'!I369,'Data Input'!K369,'Data Input'!O369,'Data Input'!P369,'Data Input'!S369,'Data Input'!U369,'Data Input'!V369,'Data Input'!W369,'Data Input'!X369,'Data Input'!Z369,'Data Input'!AA369,'Data Input'!AD369,'Data Input'!AZ369))","v":""},{"$f":"IF(J365=\"\",\"\",J365/COUNTIF('Data Input'!$C$8:$AZ$8,$J$2))","v":""},{"$f":"IF(ISBLANK('Data Input'!A369),\"\",SUM('Data Input'!Q369,'Data Input'!AG369))","v":""},{"$f":"IF(L365=\"\",\"\",L365/COUNTIF('Data Input'!$C$8:$AZ$8,$L$2))","v":""},{"$f":"IF(ISBLANK('Data Input'!A369),\"\",SUM('Data Input'!D369,'Data Input'!E369,'Data Input'!F369,'Data Input'!L369,'Data Input'!M369,'Data Input'!AB369,'Data Input'!AC369,'Data Input'!AF369,'Data Input'!AJ369,'Data Input'!AL369,'Data Input'!AN369,'Data Input'!AO369,'Data Input'!AP369,'Data Input'!AQ369,'Data Input'!AR369,'Data Input'!AS369,'Data Input'!AT369,'Data Input'!AU369,'Data Input'!AV369,'Data Input'!AW369,'Data Input'!AX369,'Data Input'!AY369))","v":""},{"$f":"IF(N365=\"\",\"\",N365/COUNTIF('Data Input'!$C$8:$AZ$8,$N$2))","v":""},null,{"$f":"IF(P365=\"\",\"\",P365/COUNTIF('Data Input'!$C$8:$AZ$8,$P$2))","v":""},{"$f":"IF(ISBLANK('Data Input'!A369),\"\",SUM('Data Input'!AH369))","v":""},{"$f":"IF(R365=\"\",\"\",R365/COUNTIF('Data Input'!$C$8:$AZ$8,$R$2))","v":""},{"$f":"IF(ISBLANK('Data Input'!$A369),\"\",SUM('Data Input'!AI369))","v":""},{"$f":"IF(T365=\"\",\"\",T365/COUNTIF('Data Input'!$C$8:$AZ$8,$T$2))","v":""},null,{"$f":"IF(V365=\"\",\"\",V365/COUNTIF('Data Input'!$C$8:$AZ$8,$V$2))","v":""}]
[{"$f":"IF('Data Input'!A370=0,\"\",'Data Input'!A370)","v":""},{"$f":"IF(F366=\"\",\"\",IF(F366>Welcome!$J$20-1,\"Exceeding\",IF(F366>Welcome!$F$20-1,\"Expected\",IF(F366<Welcome!$F$20,\"Below\"))))","v":""},{"$f":"IF(ISBLANK('Data Input'!A370),\"\",COUNTIF('Data Input'!C370:AZ370,\"\"))","v":""},{"$f":"IF(ISBLANK('Data Input'!A370),\"\",COUNTIF('Data Input'!C370:AZ370,\"0\"))","v":""},{"$f":"IF(ISBLANK('Data Input'!A370),\"\",SUM(C366,D366))","v":""},{"$f":"IF(ISBLANK('Data Input'!A370),\"\",SUM('Data Input'!C370:AZ370))","v":""},{"$f":"IF(F366=\"\",\"\",F366/(COUNTA('Data Input'!$C$8:$AZ$8)))","v":""},{"$f":"IF(ISBLANK('Data Input'!A370),\"\",SUM('Data Input'!C370,'Data Input'!H370,'Data Input'!J370,'Data Input'!N370,'Data Input'!R370,'Data Input'!T370,'Data Input'!Y370,'Data Input'!AE370,'Data Input'!AK370,'Data Input'!AM370))","v":""},{"$f":"IF(H366=\"\",\"\",H366/COUNTIF('Data Input'!$C$8:$AZ$8,$H$2))","v":""},{"$f":"IF(ISBLANK('Data Input'!A370),\"\",SUM('Data Input'!G370,'Data Input'!I370,'Data Input'!K370,'Data Input'!O370,'Data Input'!P370,'Data Input'!S370,'Data Input'!U370,'Data Input'!V370,'Data Input'!W370,'Data Input'!X370,'Data Input'!Z370,'Data Input'!AA370,'Data Input'!AD370,'Data Input'!AZ370))","v":""},{"$f":"IF(J366=\"\",\"\",J366/COUNTIF('Data Input'!$C$8:$AZ$8,$J$2))","v":""},{"$f":"IF(ISBLANK('Data Input'!A370),\"\",SUM('Data Input'!Q370,'Data Input'!AG370))","v":""},{"$f":"IF(L366=\"\",\"\",L366/COUNTIF('Data Input'!$C$8:$AZ$8,$L$2))","v":""},{"$f":"IF(ISBLANK('Data Input'!A370),\"\",SUM('Data Input'!D370,'Data Input'!E370,'Data Input'!F370,'Data Input'!L370,'Data Input'!M370,'Data Input'!AB370,'Data Input'!AC370,'Data Input'!AF370,'Data Input'!AJ370,'Data Input'!AL370,'Data Input'!AN370,'Data Input'!AO370,'Data Input'!AP370,'Data Input'!AQ370,'Data Input'!AR370,'Data Input'!AS370,'Data Input'!AT370,'Data Input'!AU370,'Data Input'!AV370,'Data Input'!AW370,'Data Input'!AX370,'Data Input'!AY370))","v":""},{"$f":"IF(N366=\"\",\"\",N366/COUNTIF('Data Input'!$C$8:$AZ$8,$N$2))","v":""},null,{"$f":"IF(P366=\"\",\"\",P366/COUNTIF('Data Input'!$C$8:$AZ$8,$P$2))","v":""},{"$f":"IF(ISBLANK('Data Input'!A370),\"\",SUM('Data Input'!AH370))","v":""},{"$f":"IF(R366=\"\",\"\",R366/COUNTIF('Data Input'!$C$8:$AZ$8,$R$2))","v":""},{"$f":"IF(ISBLANK('Data Input'!$A370),\"\",SUM('Data Input'!AI370))","v":""},{"$f":"IF(T366=\"\",\"\",T366/COUNTIF('Data Input'!$C$8:$AZ$8,$T$2))","v":""},null,{"$f":"IF(V366=\"\",\"\",V366/COUNTIF('Data Input'!$C$8:$AZ$8,$V$2))","v":""}]
[{"$f":"IF('Data Input'!A371=0,\"\",'Data Input'!A371)","v":""},{"$f":"IF(F367=\"\",\"\",IF(F367>Welcome!$J$20-1,\"Exceeding\",IF(F367>Welcome!$F$20-1,\"Expected\",IF(F367<Welcome!$F$20,\"Below\"))))","v":""},{"$f":"IF(ISBLANK('Data Input'!A371),\"\",COUNTIF('Data Input'!C371:AZ371,\"\"))","v":""},{"$f":"IF(ISBLANK('Data Input'!A371),\"\",COUNTIF('Data Input'!C371:AZ371,\"0\"))","v":""},{"$f":"IF(ISBLANK('Data Input'!A371),\"\",SUM(C367,D367))","v":""},{"$f":"IF(ISBLANK('Data Input'!A371),\"\",SUM('Data Input'!C371:AZ371))","v":""},{"$f":"IF(F367=\"\",\"\",F367/(COUNTA('Data Input'!$C$8:$AZ$8)))","v":""},{"$f":"IF(ISBLANK('Data Input'!A371),\"\",SUM('Data Input'!C371,'Data Input'!H371,'Data Input'!J371,'Data Input'!N371,'Data Input'!R371,'Data Input'!T371,'Data Input'!Y371,'Data Input'!AE371,'Data Input'!AK371,'Data Input'!AM371))","v":""},{"$f":"IF(H367=\"\",\"\",H367/COUNTIF('Data Input'!$C$8:$AZ$8,$H$2))","v":""},{"$f":"IF(ISBLANK('Data Input'!A371),\"\",SUM('Data Input'!G371,'Data Input'!I371,'Data Input'!K371,'Data Input'!O371,'Data Input'!P371,'Data Input'!S371,'Data Input'!U371,'Data Input'!V371,'Data Input'!W371,'Data Input'!X371,'Data Input'!Z371,'Data Input'!AA371,'Data Input'!AD371,'Data Input'!AZ371))","v":""},{"$f":"IF(J367=\"\",\"\",J367/COUNTIF('Data Input'!$C$8:$AZ$8,$J$2))","v":""},{"$f":"IF(ISBLANK('Data Input'!A371),\"\",SUM('Data Input'!Q371,'Data Input'!AG371))","v":""},{"$f":"IF(L367=\"\",\"\",L367/COUNTIF('Data Input'!$C$8:$AZ$8,$L$2))","v":""},{"$f":"IF(ISBLANK('Data Input'!A371),\"\",SUM('Data Input'!D371,'Data Input'!E371,'Data Input'!F371,'Data Input'!L371,'Data Input'!M371,'Data Input'!AB371,'Data Input'!AC371,'Data Input'!AF371,'Data Input'!AJ371,'Data Input'!AL371,'Data Input'!AN371,'Data Input'!AO371,'Data Input'!AP371,'Data Input'!AQ371,'Data Input'!AR371,'Data Input'!AS371,'Data Input'!AT371,'Data Input'!AU371,'Data Input'!AV371,'Data Input'!AW371,'Data Input'!AX371,'Data Input'!AY371))","v":""},{"$f":"IF(N367=\"\",\"\",N367/COUNTIF('Data Input'!$C$8:$AZ$8,$N$2))","v":""},null,{"$f":"IF(P367=\"\",\"\",P367/COUNTIF('Data Input'!$C$8:$AZ$8,$P$2))","v":""},{"$f":"IF(ISBLANK('Data Input'!A371),\"\",SUM('Data Input'!AH371))","v":""},{"$f":"IF(R367=\"\",\"\",R367/COUNTIF('Data Input'!$C$8:$AZ$8,$R$2))","v":""},{"$f":"IF(ISBLANK('Data Input'!$A371),\"\",SUM('Data Input'!AI371))","v":""},{"$f":"IF(T367=\"\",\"\",T367/COUNTIF('Data Input'!$C$8:$AZ$8,$T$2))","v":""},null,{"$f":"IF(V367=\"\",\"\",V367/COUNTIF('Data Input'!$C$8:$AZ$8,$V$2))","v":""}]
[{"$f":"IF('Data Input'!A372=0,\"\",'Data Input'!A372)","v":""},{"$f":"IF(F368=\"\",\"\",IF(F368>Welcome!$J$20-1,\"Exceeding\",IF(F368>Welcome!$F$20-1,\"Expected\",IF(F368<Welcome!$F$20,\"Below\"))))","v":""},{"$f":"IF(ISBLANK('Data Input'!A372),\"\",COUNTIF('Data Input'!C372:AZ372,\"\"))","v":""},{"$f":"IF(ISBLANK('Data Input'!A372),\"\",COUNTIF('Data Input'!C372:AZ372,\"0\"))","v":""},{"$f":"IF(ISBLANK('Data Input'!A372),\"\",SUM(C368,D368))","v":""},{"$f":"IF(ISBLANK('Data Input'!A372),\"\",SUM('Data Input'!C372:AZ372))","v":""},{"$f":"IF(F368=\"\",\"\",F368/(COUNTA('Data Input'!$C$8:$AZ$8)))","v":""},{"$f":"IF(ISBLANK('Data Input'!A372),\"\",SUM('Data Input'!C372,'Data Input'!H372,'Data Input'!J372,'Data Input'!N372,'Data Input'!R372,'Data Input'!T372,'Data Input'!Y372,'Data Input'!AE372,'Data Input'!AK372,'Data Input'!AM372))","v":""},{"$f":"IF(H368=\"\",\"\",H368/COUNTIF('Data Input'!$C$8:$AZ$8,$H$2))","v":""},{"$f":"IF(ISBLANK('Data Input'!A372),\"\",SUM('Data Input'!G372,'Data Input'!I372,'Data Input'!K372,'Data Input'!O372,'Data Input'!P372,'Data Input'!S372,'Data Input'!U372,'Data Input'!V372,'Data Input'!W372,'Data Input'!X372,'Data Input'!Z372,'Data Input'!AA372,'Data Input'!AD372,'Data Input'!AZ372))","v":""},{"$f":"IF(J368=\"\",\"\",J368/COUNTIF('Data Input'!$C$8:$AZ$8,$J$2))","v":""},{"$f":"IF(ISBLANK('Data Input'!A372),\"\",SUM('Data Input'!Q372,'Data Input'!AG372))","v":""},{"$f":"IF(L368=\"\",\"\",L368/COUNTIF('Data Input'!$C$8:$AZ$8,$L$2))","v":""},{"$f":"IF(ISBLANK('Data Input'!A372),\"\",SUM('Data Input'!D372,'Data Input'!E372,'Data Input'!F372,'Data Input'!L372,'Data Input'!M372,'Data Input'!AB372,'Data Input'!AC372,'Data Input'!AF372,'Data Input'!AJ372,'Data Input'!AL372,'Data Input'!AN372,'Data Input'!AO372,'Data Input'!AP372,'Data Input'!AQ372,'Data Input'!AR372,'Data Input'!AS372,'Data Input'!AT372,'Data Input'!AU372,'Data Input'!AV372,'Data Input'!AW372,'Data Input'!AX372,'Data Input'!AY372))","v":""},{"$f":"IF(N368=\"\",\"\",N368/COUNTIF('Data Input'!$C$8:$AZ$8,$N$2))","v":""},null,{"$f":"IF(P368=\"\",\"\",P368/COUNTIF('Data Input'!$C$8:$AZ$8,$P$2))","v":""},{"$f":"IF(ISBLANK('Data Input'!A372),\"\",SUM('Data Input'!AH372))","v":""},{"$f":"IF(R368=\"\",\"\",R368/COUNTIF('Data Input'!$C$8:$AZ$8,$R$2))","v":""},{"$f":"IF(ISBLANK('Data Input'!$A372),\"\",SUM('Data Input'!AI372))","v":""},{"$f":"IF(T368=\"\",\"\",T368/COUNTIF('Data Input'!$C$8:$AZ$8,$T$2))","v":""},null,{"$f":"IF(V368=\"\",\"\",V368/COUNTIF('Data Input'!$C$8:$AZ$8,$V$2))","v":""}]
[{"$f":"IF('Data Input'!A373=0,\"\",'Data Input'!A373)","v":""},{"$f":"IF(F369=\"\",\"\",IF(F369>Welcome!$J$20-1,\"Exceeding\",IF(F369>Welcome!$F$20-1,\"Expected\",IF(F369<Welcome!$F$20,\"Below\"))))","v":""},{"$f":"IF(ISBLANK('Data Input'!A373),\"\",COUNTIF('Data Input'!C373:AZ373,\"\"))","v":""},{"$f":"IF(ISBLANK('Data Input'!A373),\"\",COUNTIF('Data Input'!C373:AZ373,\"0\"))","v":""},{"$f":"IF(ISBLANK('Data Input'!A373),\"\",SUM(C369,D369))","v":""},{"$f":"IF(ISBLANK('Data Input'!A373),\"\",SUM('Data Input'!C373:AZ373))","v":""},{"$f":"IF(F369=\"\",\"\",F369/(COUNTA('Data Input'!$C$8:$AZ$8)))","v":""},{"$f":"IF(ISBLANK('Data Input'!A373),\"\",SUM('Data Input'!C373,'Data Input'!H373,'Data Input'!J373,'Data Input'!N373,'Data Input'!R373,'Data Input'!T373,'Data Input'!Y373,'Data Input'!AE373,'Data Input'!AK373,'Data Input'!AM373))","v":""},{"$f":"IF(H369=\"\",\"\",H369/COUNTIF('Data Input'!$C$8:$AZ$8,$H$2))","v":""},{"$f":"IF(ISBLANK('Data Input'!A373),\"\",SUM('Data Input'!G373,'Data Input'!I373,'Data Input'!K373,'Data Input'!O373,'Data Input'!P373,'Data Input'!S373,'Data Input'!U373,'Data Input'!V373,'Data Input'!W373,'Data Input'!X373,'Data Input'!Z373,'Data Input'!AA373,'Data Input'!AD373,'Data Input'!AZ373))","v":""},{"$f":"IF(J369=\"\",\"\",J369/COUNTIF('Data Input'!$C$8:$AZ$8,$J$2))","v":""},{"$f":"IF(ISBLANK('Data Input'!A373),\"\",SUM('Data Input'!Q373,'Data Input'!AG373))","v":""},{"$f":"IF(L369=\"\",\"\",L369/COUNTIF('Data Input'!$C$8:$AZ$8,$L$2))","v":""},{"$f":"IF(ISBLANK('Data Input'!A373),\"\",SUM('Data Input'!D373,'Data Input'!E373,'Data Input'!F373,'Data Input'!L373,'Data Input'!M373,'Data Input'!AB373,'Data Input'!AC373,'Data Input'!AF373,'Data Input'!AJ373,'Data Input'!AL373,'Data Input'!AN373,'Data Input'!AO373,'Data Input'!AP373,'Data Input'!AQ373,'Data Input'!AR373,'Data Input'!AS373,'Data Input'!AT373,'Data Input'!AU373,'Data Input'!AV373,'Data Input'!AW373,'Data Input'!AX373,'Data Input'!AY373))","v":""},{"$f":"IF(N369=\"\",\"\",N369/COUNTIF('Data Input'!$C$8:$AZ$8,$N$2))","v":""},null,{"$f":"IF(P369=\"\",\"\",P369/COUNTIF('Data Input'!$C$8:$AZ$8,$P$2))","v":""},{"$f":"IF(ISBLANK('Data Input'!A373),\"\",SUM('Data Input'!AH373))","v":""},{"$f":"IF(R369=\"\",\"\",R369/COUNTIF('Data Input'!$C$8:$AZ$8,$R$2))","v":""},{"$f":"IF(ISBLANK('Data Input'!$A373),\"\",SUM('Data Input'!AI373))","v":""},{"$f":"IF(T369=\"\",\"\",T369/COUNTIF('Data Input'!$C$8:$AZ$8,$T$2))","v":""},null,{"$f":"IF(V369=\"\",\"\",V369/COUNTIF('Data Input'!$C$8:$AZ$8,$V$2))","v":""}]
[{"$f":"IF('Data Input'!A374=0,\"\",'Data Input'!A374)","v":""},{"$f":"IF(F370=\"\",\"\",IF(F370>Welcome!$J$20-1,\"Exceeding\",IF(F370>Welcome!$F$20-1,\"Expected\",IF(F370<Welcome!$F$20,\"Below\"))))","v":""},{"$f":"IF(ISBLANK('Data Input'!A374),\"\",COUNTIF('Data Input'!C374:AZ374,\"\"))","v":""},{"$f":"IF(ISBLANK('Data Input'!A374),\"\",COUNTIF('Data Input'!C374:AZ374,\"0\"))","v":""},{"$f":"IF(ISBLANK('Data Input'!A374),\"\",SUM(C370,D370))","v":""},{"$f":"IF(ISBLANK('Data Input'!A374),\"\",SUM('Data Input'!C374:AZ374))","v":""},{"$f":"IF(F370=\"\",\"\",F370/(COUNTA('Data Input'!$C$8:$AZ$8)))","v":""},{"$f":"IF(ISBLANK('Data Input'!A374),\"\",SUM('Data Input'!C374,'Data Input'!H374,'Data Input'!J374,'Data Input'!N374,'Data Input'!R374,'Data Input'!T374,'Data Input'!Y374,'Data Input'!AE374,'Data Input'!AK374,'Data Input'!AM374))","v":""},{"$f":"IF(H370=\"\",\"\",H370/COUNTIF('Data Input'!$C$8:$AZ$8,$H$2))","v":""},{"$f":"IF(ISBLANK('Data Input'!A374),\"\",SUM('Data Input'!G374,'Data Input'!I374,'Data Input'!K374,'Data Input'!O374,'Data Input'!P374,'Data Input'!S374,'Data Input'!U374,'Data Input'!V374,'Data Input'!W374,'Data Input'!X374,'Data Input'!Z374,'Data Input'!AA374,'Data Input'!AD374,'Data Input'!AZ374))","v":""},{"$f":"IF(J370=\"\",\"\",J370/COUNTIF('Data Input'!$C$8:$AZ$8,$J$2))","v":""},{"$f":"IF(ISBLANK('Data Input'!A374),\"\",SUM('Data Input'!Q374,'Data Input'!AG374))","v":""},{"$f":"IF(L370=\"\",\"\",L370/COUNTIF('Data Input'!$C$8:$AZ$8,$L$2))","v":""},{"$f":"IF(ISBLANK('Data Input'!A374),\"\",SUM('Data Input'!D374,'Data Input'!E374,'Data Input'!F374,'Data Input'!L374,'Data Input'!M374,'Data Input'!AB374,'Data Input'!AC374,'Data Input'!AF374,'Data Input'!AJ374,'Data Input'!AL374,'Data Input'!AN374,'Data Input'!AO374,'Data Input'!AP374,'Data Input'!AQ374,'Data Input'!AR374,'Data Input'!AS374,'Data Input'!AT374,'Data Input'!AU374,'Data Input'!AV374,'Data Input'!AW374,'Data Input'!AX374,'Data Input'!AY374))","v":""},{"$f":"IF(N370=\"\",\"\",N370/COUNTIF('Data Input'!$C$8:$AZ$8,$N$2))","v":""},null,{"$f":"IF(P370=\"\",\"\",P370/COUNTIF('Data Input'!$C$8:$AZ$8,$P$2))","v":""},{"$f":"IF(ISBLANK('Data Input'!A374),\"\",SUM('Data Input'!AH374))","v":""},{"$f":"IF(R370=\"\",\"\",R370/COUNTIF('Data Input'!$C$8:$AZ$8,$R$2))","v":""},{"$f":"IF(ISBLANK('Data Input'!$A374),\"\",SUM('Data Input'!AI374))","v":""},{"$f":"IF(T370=\"\",\"\",T370/COUNTIF('Data Input'!$C$8:$AZ$8,$T$2))","v":""},null,{"$f":"IF(V370=\"\",\"\",V370/COUNTIF('Data Input'!$C$8:$AZ$8,$V$2))","v":""}]
[{"$f":"IF('Data Input'!A375=0,\"\",'Data Input'!A375)","v":""},{"$f":"IF(F371=\"\",\"\",IF(F371>Welcome!$J$20-1,\"Exceeding\",IF(F371>Welcome!$F$20-1,\"Expected\",IF(F371<Welcome!$F$20,\"Below\"))))","v":""},{"$f":"IF(ISBLANK('Data Input'!A375),\"\",COUNTIF('Data Input'!C375:AZ375,\"\"))","v":""},{"$f":"IF(ISBLANK('Data Input'!A375),\"\",COUNTIF('Data Input'!C375:AZ375,\"0\"))","v":""},{"$f":"IF(ISBLANK('Data Input'!A375),\"\",SUM(C371,D371))","v":""},{"$f":"IF(ISBLANK('Data Input'!A375),\"\",SUM('Data Input'!C375:AZ375))","v":""},{"$f":"IF(F371=\"\",\"\",F371/(COUNTA('Data Input'!$C$8:$AZ$8)))","v":""},{"$f":"IF(ISBLANK('Data Input'!A375),\"\",SUM('Data Input'!C375,'Data Input'!H375,'Data Input'!J375,'Data Input'!N375,'Data Input'!R375,'Data Input'!T375,'Data Input'!Y375,'Data Input'!AE375,'Data Input'!AK375,'Data Input'!AM375))","v":""},{"$f":"IF(H371=\"\",\"\",H371/COUNTIF('Data Input'!$C$8:$AZ$8,$H$2))","v":""},{"$f":"IF(ISBLANK('Data Input'!A375),\"\",SUM('Data Input'!G375,'Data Input'!I375,'Data Input'!K375,'Data Input'!O375,'Data Input'!P375,'Data Input'!S375,'Data Input'!U375,'Data Input'!V375,'Data Input'!W375,'Data Input'!X375,'Data Input'!Z375,'Data Input'!AA375,'Data Input'!AD375,'Data Input'!AZ375))","v":""},{"$f":"IF(J371=\"\",\"\",J371/COUNTIF('Data Input'!$C$8:$AZ$8,$J$2))","v":""},{"$f":"IF(ISBLANK('Data Input'!A375),\"\",SUM('Data Input'!Q375,'Data Input'!AG375))","v":""},{"$f":"IF(L371=\"\",\"\",L371/COUNTIF('Data Input'!$C$8:$AZ$8,$L$2))","v":""},{"$f":"IF(ISBLANK('Data Input'!A375),\"\",SUM('Data Input'!D375,'Data Input'!E375,'Data Input'!F375,'Data Input'!L375,'Data Input'!M375,'Data Input'!AB375,'Data Input'!AC375,'Data Input'!AF375,'Data Input'!AJ375,'Data Input'!AL375,'Data Input'!AN375,'Data Input'!AO375,'Data Input'!AP375,'Data Input'!AQ375,'Data Input'!AR375,'Data Input'!AS375,'Data Input'!AT375,'Data Input'!AU375,'Data Input'!AV375,'Data Input'!AW375,'Data Input'!AX375,'Data Input'!AY375))","v":""},{"$f":"IF(N371=\"\",\"\",N371/COUNTIF('Data Input'!$C$8:$AZ$8,$N$2))","v":""},null,{"$f":"IF(P371=\"\",\"\",P371/COUNTIF('Data Input'!$C$8:$AZ$8,$P$2))","v":""},{"$f":"IF(ISBLANK('Data Input'!A375),\"\",SUM('Data Input'!AH375))","v":""},{"$f":"IF(R371=\"\",\"\",R371/COUNTIF('Data Input'!$C$8:$AZ$8,$R$2))","v":""},{"$f":"IF(ISBLANK('Data Input'!$A375),\"\",SUM('Data Input'!AI375))","v":""},{"$f":"IF(T371=\"\",\"\",T371/COUNTIF('Data Input'!$C$8:$AZ$8,$T$2))","v":""},null,{"$f":"IF(V371=\"\",\"\",V371/COUNTIF('Data Input'!$C$8:$AZ$8,$V$2))","v":""}]
[{"$f":"IF('Data Input'!A376=0,\"\",'Data Input'!A376)","v":""},{"$f":"IF(F372=\"\",\"\",IF(F372>Welcome!$J$20-1,\"Exceeding\",IF(F372>Welcome!$F$20-1,\"Expected\",IF(F372<Welcome!$F$20,\"Below\"))))","v":""},{"$f":"IF(ISBLANK('Data Input'!A376),\"\",COUNTIF('Data Input'!C376:AZ376,\"\"))","v":""},{"$f":"IF(ISBLANK('Data Input'!A376),\"\",COUNTIF('Data Input'!C376:AZ376,\"0\"))","v":""},{"$f":"IF(ISBLANK('Data Input'!A376),\"\",SUM(C372,D372))","v":""},{"$f":"IF(ISBLANK('Data Input'!A376),\"\",SUM('Data Input'!C376:AZ376))","v":""},{"$f":"IF(F372=\"\",\"\",F372/(COUNTA('Data Input'!$C$8:$AZ$8)))","v":""},{"$f":"IF(ISBLANK('Data Input'!A376),\"\",SUM('Data Input'!C376,'Data Input'!H376,'Data Input'!J376,'Data Input'!N376,'Data Input'!R376,'Data Input'!T376,'Data Input'!Y376,'Data Input'!AE376,'Data Input'!AK376,'Data Input'!AM376))","v":""},{"$f":"IF(H372=\"\",\"\",H372/COUNTIF('Data Input'!$C$8:$AZ$8,$H$2))","v":""},{"$f":"IF(ISBLANK('Data Input'!A376),\"\",SUM('Data Input'!G376,'Data Input'!I376,'Data Input'!K376,'Data Input'!O376,'Data Input'!P376,'Data Input'!S376,'Data Input'!U376,'Data Input'!V376,'Data Input'!W376,'Data Input'!X376,'Data Input'!Z376,'Data Input'!AA376,'Data Input'!AD376,'Data Input'!AZ376))","v":""},{"$f":"IF(J372=\"\",\"\",J372/COUNTIF('Data Input'!$C$8:$AZ$8,$J$2))","v":""},{"$f":"IF(ISBLANK('Data Input'!A376),\"\",SUM('Data Input'!Q376,'Data Input'!AG376))","v":""},{"$f":"IF(L372=\"\",\"\",L372/COUNTIF('Data Input'!$C$8:$AZ$8,$L$2))","v":""},{"$f":"IF(ISBLANK('Data Input'!A376),\"\",SUM('Data Input'!D376,'Data Input'!E376,'Data Input'!F376,'Data Input'!L376,'Data Input'!M376,'Data Input'!AB376,'Data Input'!AC376,'Data Input'!AF376,'Data Input'!AJ376,'Data Input'!AL376,'Data Input'!AN376,'Data Input'!AO376,'Data Input'!AP376,'Data Input'!AQ376,'Data Input'!AR376,'Data Input'!AS376,'Data Input'!AT376,'Data Input'!AU376,'Data Input'!AV376,'Data Input'!AW376,'Data Input'!AX376,'Data Input'!AY376))","v":""},{"$f":"IF(N372=\"\",\"\",N372/COUNTIF('Data Input'!$C$8:$AZ$8,$N$2))","v":""},null,{"$f":"IF(P372=\"\",\"\",P372/COUNTIF('Data Input'!$C$8:$AZ$8,$P$2))","v":""},{"$f":"IF(ISBLANK('Data Input'!A376),\"\",SUM('Data Input'!AH376))","v":""},{"$f":"IF(R372=\"\",\"\",R372/COUNTIF('Data Input'!$C$8:$AZ$8,$R$2))","v":""},{"$f":"IF(ISBLANK('Data Input'!$A376),\"\",SUM('Data Input'!AI376))","v":""},{"$f":"IF(T372=\"\",\"\",T372/COUNTIF('Data Input'!$C$8:$AZ$8,$T$2))","v":""},null,{"$f":"IF(V372=\"\",\"\",V372/COUNTIF('Data Input'!$C$8:$AZ$8,$V$2))","v":""}]
[{"$f":"IF('Data Input'!A377=0,\"\",'Data Input'!A377)","v":""},{"$f":"IF(F373=\"\",\"\",IF(F373>Welcome!$J$20-1,\"Exceeding\",IF(F373>Welcome!$F$20-1,\"Expected\",IF(F373<Welcome!$F$20,\"Below\"))))","v":""},{"$f":"IF(ISBLANK('Data Input'!A377),\"\",COUNTIF('Data Input'!C377:AZ377,\"\"))","v":""},{"$f":"IF(ISBLANK('Data Input'!A377),\"\",COUNTIF('Data Input'!C377:AZ377,\"0\"))","v":""},{"$f":"IF(ISBLANK('Data Input'!A377),\"\",SUM(C373,D373))","v":""},{"$f":"IF(ISBLANK('Data Input'!A377),\"\",SUM('Data Input'!C377:AZ377))","v":""},{"$f":"IF(F373=\"\",\"\",F373/(COUNTA('Data Input'!$C$8:$AZ$8)))","v":""},{"$f":"IF(ISBLANK('Data Input'!A377),\"\",SUM('Data Input'!C377,'Data Input'!H377,'Data Input'!J377,'Data Input'!N377,'Data Input'!R377,'Data Input'!T377,'Data Input'!Y377,'Data Input'!AE377,'Data Input'!AK377,'Data Input'!AM377))","v":""},{"$f":"IF(H373=\"\",\"\",H373/COUNTIF('Data Input'!$C$8:$AZ$8,$H$2))","v":""},{"$f":"IF(ISBLANK('Data Input'!A377),\"\",SUM('Data Input'!G377,'Data Input'!I377,'Data Input'!K377,'Data Input'!O377,'Data Input'!P377,'Data Input'!S377,'Data Input'!U377,'Data Input'!V377,'Data Input'!W377,'Data Input'!X377,'Data Input'!Z377,'Data Input'!AA377,'Data Input'!AD377,'Data Input'!AZ377))","v":""},{"$f":"IF(J373=\"\",\"\",J373/COUNTIF('Data Input'!$C$8:$AZ$8,$J$2))","v":""},{"$f":"IF(ISBLANK('Data Input'!A377),\"\",SUM('Data Input'!Q377,'Data Input'!AG377))","v":""},{"$f":"IF(L373=\"\",\"\",L373/COUNTIF('Data Input'!$C$8:$AZ$8,$L$2))","v":""},{"$f":"IF(ISBLANK('Data Input'!A377),\"\",SUM('Data Input'!D377,'Data Input'!E377,'Data Input'!F377,'Data Input'!L377,'Data Input'!M377,'Data Input'!AB377,'Data Input'!AC377,'Data Input'!AF377,'Data Input'!AJ377,'Data Input'!AL377,'Data Input'!AN377,'Data Input'!AO377,'Data Input'!AP377,'Data Input'!AQ377,'Data Input'!AR377,'Data Input'!AS377,'Data Input'!AT377,'Data Input'!AU377,'Data Input'!AV377,'Data Input'!AW377,'Data Input'!AX377,'Data Input'!AY377))","v":""},{"$f":"IF(N373=\"\",\"\",N373/COUNTIF('Data Input'!$C$8:$AZ$8,$N$2))","v":""},null,{"$f":"IF(P373=\"\",\"\",P373/COUNTIF('Data Input'!$C$8:$AZ$8,$P$2))","v":""},{"$f":"IF(ISBLANK('Data Input'!A377),\"\",SUM('Data Input'!AH377))","v":""},{"$f":"IF(R373=\"\",\"\",R373/COUNTIF('Data Input'!$C$8:$AZ$8,$R$2))","v":""},{"$f":"IF(ISBLANK('Data Input'!$A377),\"\",SUM('Data Input'!AI377))","v":""},{"$f":"IF(T373=\"\",\"\",T373/COUNTIF('Data Input'!$C$8:$AZ$8,$T$2))","v":""},null,{"$f":"IF(V373=\"\",\"\",V373/COUNTIF('Data Input'!$C$8:$AZ$8,$V$2))","v":""}]
[{"$f":"IF('Data Input'!A378=0,\"\",'Data Input'!A378)","v":""},{"$f":"IF(F374=\"\",\"\",IF(F374>Welcome!$J$20-1,\"Exceeding\",IF(F374>Welcome!$F$20-1,\"Expected\",IF(F374<Welcome!$F$20,\"Below\"))))","v":""},{"$f":"IF(ISBLANK('Data Input'!A378),\"\",COUNTIF('Data Input'!C378:AZ378,\"\"))","v":""},{"$f":"IF(ISBLANK('Data Input'!A378),\"\",COUNTIF('Data Input'!C378:AZ378,\"0\"))","v":""},{"$f":"IF(ISBLANK('Data Input'!A378),\"\",SUM(C374,D374))","v":""},{"$f":"IF(ISBLANK('Data Input'!A378),\"\",SUM('Data Input'!C378:AZ378))","v":""},{"$f":"IF(F374=\"\",\"\",F374/(COUNTA('Data Input'!$C$8:$AZ$8)))","v":""},{"$f":"IF(ISBLANK('Data Input'!A378),\"\",SUM('Data Input'!C378,'Data Input'!H378,'Data Input'!J378,'Data Input'!N378,'Data Input'!R378,'Data Input'!T378,'Data Input'!Y378,'Data Input'!AE378,'Data Input'!AK378,'Data Input'!AM378))","v":""},{"$f":"IF(H374=\"\",\"\",H374/COUNTIF('Data Input'!$C$8:$AZ$8,$H$2))","v":""},{"$f":"IF(ISBLANK('Data Input'!A378),\"\",SUM('Data Input'!G378,'Data Input'!I378,'Data Input'!K378,'Data Input'!O378,'Data Input'!P378,'Data Input'!S378,'Data Input'!U378,'Data Input'!V378,'Data Input'!W378,'Data Input'!X378,'Data Input'!Z378,'Data Input'!AA378,'Data Input'!AD378,'Data Input'!AZ378))","v":""},{"$f":"IF(J374=\"\",\"\",J374/COUNTIF('Data Input'!$C$8:$AZ$8,$J$2))","v":""},{"$f":"IF(ISBLANK('Data Input'!A378),\"\",SUM('Data Input'!Q378,'Data Input'!AG378))","v":""},{"$f":"IF(L374=\"\",\"\",L374/COUNTIF('Data Input'!$C$8:$AZ$8,$L$2))","v":""},{"$f":"IF(ISBLANK('Data Input'!A378),\"\",SUM('Data Input'!D378,'Data Input'!E378,'Data Input'!F378,'Data Input'!L378,'Data Input'!M378,'Data Input'!AB378,'Data Input'!AC378,'Data Input'!AF378,'Data Input'!AJ378,'Data Input'!AL378,'Data Input'!AN378,'Data Input'!AO378,'Data Input'!AP378,'Data Input'!AQ378,'Data Input'!AR378,'Data Input'!AS378,'Data Input'!AT378,'Data Input'!AU378,'Data Input'!AV378,'Data Input'!AW378,'Data Input'!AX378,'Data Input'!AY378))","v":""},{"$f":"IF(N374=\"\",\"\",N374/COUNTIF('Data Input'!$C$8:$AZ$8,$N$2))","v":""},null,{"$f":"IF(P374=\"\",\"\",P374/COUNTIF('Data Input'!$C$8:$AZ$8,$P$2))","v":""},{"$f":"IF(ISBLANK('Data Input'!A378),\"\",SUM('Data Input'!AH378))","v":""},{"$f":"IF(R374=\"\",\"\",R374/COUNTIF('Data Input'!$C$8:$AZ$8,$R$2))","v":""},{"$f":"IF(ISBLANK('Data Input'!$A378),\"\",SUM('Data Input'!AI378))","v":""},{"$f":"IF(T374=\"\",\"\",T374/COUNTIF('Data Input'!$C$8:$AZ$8,$T$2))","v":""},null,{"$f":"IF(V374=\"\",\"\",V374/COUNTIF('Data Input'!$C$8:$AZ$8,$V$2))","v":""}]
[{"$f":"IF('Data Input'!A379=0,\"\",'Data Input'!A379)","v":""},{"$f":"IF(F375=\"\",\"\",IF(F375>Welcome!$J$20-1,\"Exceeding\",IF(F375>Welcome!$F$20-1,\"Expected\",IF(F375<Welcome!$F$20,\"Below\"))))","v":""},{"$f":"IF(ISBLANK('Data Input'!A379),\"\",COUNTIF('Data Input'!C379:AZ379,\"\"))","v":""},{"$f":"IF(ISBLANK('Data Input'!A379),\"\",COUNTIF('Data Input'!C379:AZ379,\"0\"))","v":""},{"$f":"IF(ISBLANK('Data Input'!A379),\"\",SUM(C375,D375))","v":""},{"$f":"IF(ISBLANK('Data Input'!A379),\"\",SUM('Data Input'!C379:AZ379))","v":""},{"$f":"IF(F375=\"\",\"\",F375/(COUNTA('Data Input'!$C$8:$AZ$8)))","v":""},{"$f":"IF(ISBLANK('Data Input'!A379),\"\",SUM('Data Input'!C379,'Data Input'!H379,'Data Input'!J379,'Data Input'!N379,'Data Input'!R379,'Data Input'!T379,'Data Input'!Y379,'Data Input'!AE379,'Data Input'!AK379,'Data Input'!AM379))","v":""},{"$f":"IF(H375=\"\",\"\",H375/COUNTIF('Data Input'!$C$8:$AZ$8,$H$2))","v":""},{"$f":"IF(ISBLANK('Data Input'!A379),\"\",SUM('Data Input'!G379,'Data Input'!I379,'Data Input'!K379,'Data Input'!O379,'Data Input'!P379,'Data Input'!S379,'Data Input'!U379,'Data Input'!V379,'Data Input'!W379,'Data Input'!X379,'Data Input'!Z379,'Data Input'!AA379,'Data Input'!AD379,'Data Input'!AZ379))","v":""},{"$f":"IF(J375=\"\",\"\",J375/COUNTIF('Data Input'!$C$8:$AZ$8,$J$2))","v":""},{"$f":"IF(ISBLANK('Data Input'!A379),\"\",SUM('Data Input'!Q379,'Data Input'!AG379))","v":""},{"$f":"IF(L375=\"\",\"\",L375/COUNTIF('Data Input'!$C$8:$AZ$8,$L$2))","v":""},{"$f":"IF(ISBLANK('Data Input'!A379),\"\",SUM('Data Input'!D379,'Data Input'!E379,'Data Input'!F379,'Data Input'!L379,'Data Input'!M379,'Data Input'!AB379,'Data Input'!AC379,'Data Input'!AF379,'Data Input'!AJ379,'Data Input'!AL379,'Data Input'!AN379,'Data Input'!AO379,'Data Input'!AP379,'Data Input'!AQ379,'Data Input'!AR379,'Data Input'!AS379,'Data Input'!AT379,'Data Input'!AU379,'Data Input'!AV379,'Data Input'!AW379,'Data Input'!AX379,'Data Input'!AY379))","v":""},{"$f":"IF(N375=\"\",\"\",N375/COUNTIF('Data Input'!$C$8:$AZ$8,$N$2))","v":""},null,{"$f":"IF(P375=\"\",\"\",P375/COUNTIF('Data Input'!$C$8:$AZ$8,$P$2))","v":""},{"$f":"IF(ISBLANK('Data Input'!A379),\"\",SUM('Data Input'!AH379))","v":""},{"$f":"IF(R375=\"\",\"\",R375/COUNTIF('Data Input'!$C$8:$AZ$8,$R$2))","v":""},{"$f":"IF(ISBLANK('Data Input'!$A379),\"\",SUM('Data Input'!AI379))","v":""},{"$f":"IF(T375=\"\",\"\",T375/COUNTIF('Data Input'!$C$8:$AZ$8,$T$2))","v":""},null,{"$f":"IF(V375=\"\",\"\",V375/COUNTIF('Data Input'!$C$8:$AZ$8,$V$2))","v":""}]
[{"$f":"IF('Data Input'!A380=0,\"\",'Data Input'!A380)","v":""},{"$f":"IF(F376=\"\",\"\",IF(F376>Welcome!$J$20-1,\"Exceeding\",IF(F376>Welcome!$F$20-1,\"Expected\",IF(F376<Welcome!$F$20,\"Below\"))))","v":""},{"$f":"IF(ISBLANK('Data Input'!A380),\"\",COUNTIF('Data Input'!C380:AZ380,\"\"))","v":""},{"$f":"IF(ISBLANK('Data Input'!A380),\"\",COUNTIF('Data Input'!C380:AZ380,\"0\"))","v":""},{"$f":"IF(ISBLANK('Data Input'!A380),\"\",SUM(C376,D376))","v":""},{"$f":"IF(ISBLANK('Data Input'!A380),\"\",SUM('Data Input'!C380:AZ380))","v":""},{"$f":"IF(F376=\"\",\"\",F376/(COUNTA('Data Input'!$C$8:$AZ$8)))","v":""},{"$f":"IF(ISBLANK('Data Input'!A380),\"\",SUM('Data Input'!C380,'Data Input'!H380,'Data Input'!J380,'Data Input'!N380,'Data Input'!R380,'Data Input'!T380,'Data Input'!Y380,'Data Input'!AE380,'Data Input'!AK380,'Data Input'!AM380))","v":""},{"$f":"IF(H376=\"\",\"\",H376/COUNTIF('Data Input'!$C$8:$AZ$8,$H$2))","v":""},{"$f":"IF(ISBLANK('Data Input'!A380),\"\",SUM('Data Input'!G380,'Data Input'!I380,'Data Input'!K380,'Data Input'!O380,'Data Input'!P380,'Data Input'!S380,'Data Input'!U380,'Data Input'!V380,'Data Input'!W380,'Data Input'!X380,'Data Input'!Z380,'Data Input'!AA380,'Data Input'!AD380,'Data Input'!AZ380))","v":""},{"$f":"IF(J376=\"\",\"\",J376/COUNTIF('Data Input'!$C$8:$AZ$8,$J$2))","v":""},{"$f":"IF(ISBLANK('Data Input'!A380),\"\",SUM('Data Input'!Q380,'Data Input'!AG380))","v":""},{"$f":"IF(L376=\"\",\"\",L376/COUNTIF('Data Input'!$C$8:$AZ$8,$L$2))","v":""},{"$f":"IF(ISBLANK('Data Input'!A380),\"\",SUM('Data Input'!D380,'Data Input'!E380,'Data Input'!F380,'Data Input'!L380,'Data Input'!M380,'Data Input'!AB380,'Data Input'!AC380,'Data Input'!AF380,'Data Input'!AJ380,'Data Input'!AL380,'Data Input'!AN380,'Data Input'!AO380,'Data Input'!AP380,'Data Input'!AQ380,'Data Input'!AR380,'Data Input'!AS380,'Data Input'!AT380,'Data Input'!AU380,'Data Input'!AV380,'Data Input'!AW380,'Data Input'!AX380,'Data Input'!AY380))","v":""},{"$f":"IF(N376=\"\",\"\",N376/COUNTIF('Data Input'!$C$8:$AZ$8,$N$2))","v":""},null,{"$f":"IF(P376=\"\",\"\",P376/COUNTIF('Data Input'!$C$8:$AZ$8,$P$2))","v":""},{"$f":"IF(ISBLANK('Data Input'!A380),\"\",SUM('Data Input'!AH380))","v":""},{"$f":"IF(R376=\"\",\"\",R376/COUNTIF('Data Input'!$C$8:$AZ$8,$R$2))","v":""},{"$f":"IF(ISBLANK('Data Input'!$A380),\"\",SUM('Data Input'!AI380))","v":""},{"$f":"IF(T376=\"\",\"\",T376/COUNTIF('Data Input'!$C$8:$AZ$8,$T$2))","v":""},null,{"$f":"IF(V376=\"\",\"\",V376/COUNTIF('Data Input'!$C$8:$AZ$8,$V$2))","v":""}]
[{"$f":"IF('Data Input'!A381=0,\"\",'Data Input'!A381)","v":""},{"$f":"IF(F377=\"\",\"\",IF(F377>Welcome!$J$20-1,\"Exceeding\",IF(F377>Welcome!$F$20-1,\"Expected\",IF(F377<Welcome!$F$20,\"Below\"))))","v":""},{"$f":"IF(ISBLANK('Data Input'!A381),\"\",COUNTIF('Data Input'!C381:AZ381,\"\"))","v":""},{"$f":"IF(ISBLANK('Data Input'!A381),\"\",COUNTIF('Data Input'!C381:AZ381,\"0\"))","v":""},{"$f":"IF(ISBLANK('Data Input'!A381),\"\",SUM(C377,D377))","v":""},{"$f":"IF(ISBLANK('Data Input'!A381),\"\",SUM('Data Input'!C381:AZ381))","v":""},{"$f":"IF(F377=\"\",\"\",F377/(COUNTA('Data Input'!$C$8:$AZ$8)))","v":""},{"$f":"IF(ISBLANK('Data Input'!A381),\"\",SUM('Data Input'!C381,'Data Input'!H381,'Data Input'!J381,'Data Input'!N381,'Data Input'!R381,'Data Input'!T381,'Data Input'!Y381,'Data Input'!AE381,'Data Input'!AK381,'Data Input'!AM381))","v":""},{"$f":"IF(H377=\"\",\"\",H377/COUNTIF('Data Input'!$C$8:$AZ$8,$H$2))","v":""},{"$f":"IF(ISBLANK('Data Input'!A381),\"\",SUM('Data Input'!G381,'Data Input'!I381,'Data Input'!K381,'Data Input'!O381,'Data Input'!P381,'Data Input'!S381,'Data Input'!U381,'Data Input'!V381,'Data Input'!W381,'Data Input'!X381,'Data Input'!Z381,'Data Input'!AA381,'Data Input'!AD381,'Data Input'!AZ381))","v":""},{"$f":"IF(J377=\"\",\"\",J377/COUNTIF('Data Input'!$C$8:$AZ$8,$J$2))","v":""},{"$f":"IF(ISBLANK('Data Input'!A381),\"\",SUM('Data Input'!Q381,'Data Input'!AG381))","v":""},{"$f":"IF(L377=\"\",\"\",L377/COUNTIF('Data Input'!$C$8:$AZ$8,$L$2))","v":""},{"$f":"IF(ISBLANK('Data Input'!A381),\"\",SUM('Data Input'!D381,'Data Input'!E381,'Data Input'!F381,'Data Input'!L381,'Data Input'!M381,'Data Input'!AB381,'Data Input'!AC381,'Data Input'!AF381,'Data Input'!AJ381,'Data Input'!AL381,'Data Input'!AN381,'Data Input'!AO381,'Data Input'!AP381,'Data Input'!AQ381,'Data Input'!AR381,'Data Input'!AS381,'Data Input'!AT381,'Data Input'!AU381,'Data Input'!AV381,'Data Input'!AW381,'Data Input'!AX381,'Data Input'!AY381))","v":""},{"$f":"IF(N377=\"\",\"\",N377/COUNTIF('Data Input'!$C$8:$AZ$8,$N$2))","v":""},null,{"$f":"IF(P377=\"\",\"\",P377/COUNTIF('Data Input'!$C$8:$AZ$8,$P$2))","v":""},{"$f":"IF(ISBLANK('Data Input'!A381),\"\",SUM('Data Input'!AH381))","v":""},{"$f":"IF(R377=\"\",\"\",R377/COUNTIF('Data Input'!$C$8:$AZ$8,$R$2))","v":""},{"$f":"IF(ISBLANK('Data Input'!$A381),\"\",SUM('Data Input'!AI381))","v":""},{"$f":"IF(T377=\"\",\"\",T377/COUNTIF('Data Input'!$C$8:$AZ$8,$T$2))","v":""},null,{"$f":"IF(V377=\"\",\"\",V377/COUNTIF('Data Input'!$C$8:$AZ$8,$V$2))","v":""}]
[{"$f":"IF('Data Input'!A382=0,\"\",'Data Input'!A382)","v":""},{"$f":"IF(F378=\"\",\"\",IF(F378>Welcome!$J$20-1,\"Exceeding\",IF(F378>Welcome!$F$20-1,\"Expected\",IF(F378<Welcome!$F$20,\"Below\"))))","v":""},{"$f":"IF(ISBLANK('Data Input'!A382),\"\",COUNTIF('Data Input'!C382:AZ382,\"\"))","v":""},{"$f":"IF(ISBLANK('Data Input'!A382),\"\",COUNTIF('Data Input'!C382:AZ382,\"0\"))","v":""},{"$f":"IF(ISBLANK('Data Input'!A382),\"\",SUM(C378,D378))","v":""},{"$f":"IF(ISBLANK('Data Input'!A382),\"\",SUM('Data Input'!C382:AZ382))","v":""},{"$f":"IF(F378=\"\",\"\",F378/(COUNTA('Data Input'!$C$8:$AZ$8)))","v":""},{"$f":"IF(ISBLANK('Data Input'!A382),\"\",SUM('Data Input'!C382,'Data Input'!H382,'Data Input'!J382,'Data Input'!N382,'Data Input'!R382,'Data Input'!T382,'Data Input'!Y382,'Data Input'!AE382,'Data Input'!AK382,'Data Input'!AM382))","v":""},{"$f":"IF(H378=\"\",\"\",H378/COUNTIF('Data Input'!$C$8:$AZ$8,$H$2))","v":""},{"$f":"IF(ISBLANK('Data Input'!A382),\"\",SUM('Data Input'!G382,'Data Input'!I382,'Data Input'!K382,'Data Input'!O382,'Data Input'!P382,'Data Input'!S382,'Data Input'!U382,'Data Input'!V382,'Data Input'!W382,'Data Input'!X382,'Data Input'!Z382,'Data Input'!AA382,'Data Input'!AD382,'Data Input'!AZ382))","v":""},{"$f":"IF(J378=\"\",\"\",J378/COUNTIF('Data Input'!$C$8:$AZ$8,$J$2))","v":""},{"$f":"IF(ISBLANK('Data Input'!A382),\"\",SUM('Data Input'!Q382,'Data Input'!AG382))","v":""},{"$f":"IF(L378=\"\",\"\",L378/COUNTIF('Data Input'!$C$8:$AZ$8,$L$2))","v":""},{"$f":"IF(ISBLANK('Data Input'!A382),\"\",SUM('Data Input'!D382,'Data Input'!E382,'Data Input'!F382,'Data Input'!L382,'Data Input'!M382,'Data Input'!AB382,'Data Input'!AC382,'Data Input'!AF382,'Data Input'!AJ382,'Data Input'!AL382,'Data Input'!AN382,'Data Input'!AO382,'Data Input'!AP382,'Data Input'!AQ382,'Data Input'!AR382,'Data Input'!AS382,'Data Input'!AT382,'Data Input'!AU382,'Data Input'!AV382,'Data Input'!AW382,'Data Input'!AX382,'Data Input'!AY382))","v":""},{"$f":"IF(N378=\"\",\"\",N378/COUNTIF('Data Input'!$C$8:$AZ$8,$N$2))","v":""},null,{"$f":"IF(P378=\"\",\"\",P378/COUNTIF('Data Input'!$C$8:$AZ$8,$P$2))","v":""},{"$f":"IF(ISBLANK('Data Input'!A382),\"\",SUM('Data Input'!AH382))","v":""},{"$f":"IF(R378=\"\",\"\",R378/COUNTIF('Data Input'!$C$8:$AZ$8,$R$2))","v":""},{"$f":"IF(ISBLANK('Data Input'!$A382),\"\",SUM('Data Input'!AI382))","v":""},{"$f":"IF(T378=\"\",\"\",T378/COUNTIF('Data Input'!$C$8:$AZ$8,$T$2))","v":""},null,{"$f":"IF(V378=\"\",\"\",V378/COUNTIF('Data Input'!$C$8:$AZ$8,$V$2))","v":""}]
[{"$f":"IF('Data Input'!A383=0,\"\",'Data Input'!A383)","v":""},{"$f":"IF(F379=\"\",\"\",IF(F379>Welcome!$J$20-1,\"Exceeding\",IF(F379>Welcome!$F$20-1,\"Expected\",IF(F379<Welcome!$F$20,\"Below\"))))","v":""},{"$f":"IF(ISBLANK('Data Input'!A383),\"\",COUNTIF('Data Input'!C383:AZ383,\"\"))","v":""},{"$f":"IF(ISBLANK('Data Input'!A383),\"\",COUNTIF('Data Input'!C383:AZ383,\"0\"))","v":""},{"$f":"IF(ISBLANK('Data Input'!A383),\"\",SUM(C379,D379))","v":""},{"$f":"IF(ISBLANK('Data Input'!A383),\"\",SUM('Data Input'!C383:AZ383))","v":""},{"$f":"IF(F379=\"\",\"\",F379/(COUNTA('Data Input'!$C$8:$AZ$8)))","v":""},{"$f":"IF(ISBLANK('Data Input'!A383),\"\",SUM('Data Input'!C383,'Data Input'!H383,'Data Input'!J383,'Data Input'!N383,'Data Input'!R383,'Data Input'!T383,'Data Input'!Y383,'Data Input'!AE383,'Data Input'!AK383,'Data Input'!AM383))","v":""},{"$f":"IF(H379=\"\",\"\",H379/COUNTIF('Data Input'!$C$8:$AZ$8,$H$2))","v":""},{"$f":"IF(ISBLANK('Data Input'!A383),\"\",SUM('Data Input'!G383,'Data Input'!I383,'Data Input'!K383,'Data Input'!O383,'Data Input'!P383,'Data Input'!S383,'Data Input'!U383,'Data Input'!V383,'Data Input'!W383,'Data Input'!X383,'Data Input'!Z383,'Data Input'!AA383,'Data Input'!AD383,'Data Input'!AZ383))","v":""},{"$f":"IF(J379=\"\",\"\",J379/COUNTIF('Data Input'!$C$8:$AZ$8,$J$2))","v":""},{"$f":"IF(ISBLANK('Data Input'!A383),\"\",SUM('Data Input'!Q383,'Data Input'!AG383))","v":""},{"$f":"IF(L379=\"\",\"\",L379/COUNTIF('Data Input'!$C$8:$AZ$8,$L$2))","v":""},{"$f":"IF(ISBLANK('Data Input'!A383),\"\",SUM('Data Input'!D383,'Data Input'!E383,'Data Input'!F383,'Data Input'!L383,'Data Input'!M383,'Data Input'!AB383,'Data Input'!AC383,'Data Input'!AF383,'Data Input'!AJ383,'Data Input'!AL383,'Data Input'!AN383,'Data Input'!AO383,'Data Input'!AP383,'Data Input'!AQ383,'Data Input'!AR383,'Data Input'!AS383,'Data Input'!AT383,'Data Input'!AU383,'Data Input'!AV383,'Data Input'!AW383,'Data Input'!AX383,'Data Input'!AY383))","v":""},{"$f":"IF(N379=\"\",\"\",N379/COUNTIF('Data Input'!$C$8:$AZ$8,$N$2))","v":""},null,{"$f":"IF(P379=\"\",\"\",P379/COUNTIF('Data Input'!$C$8:$AZ$8,$P$2))","v":""},{"$f":"IF(ISBLANK('Data Input'!A383),\"\",SUM('Data Input'!AH383))","v":""},{"$f":"IF(R379=\"\",\"\",R379/COUNTIF('Data Input'!$C$8:$AZ$8,$R$2))","v":""},{"$f":"IF(ISBLANK('Data Input'!$A383),\"\",SUM('Data Input'!AI383))","v":""},{"$f":"IF(T379=\"\",\"\",T379/COUNTIF('Data Input'!$C$8:$AZ$8,$T$2))","v":""},null,{"$f":"IF(V379=\"\",\"\",V379/COUNTIF('Data Input'!$C$8:$AZ$8,$V$2))","v":""}]
[{"$f":"IF('Data Input'!A384=0,\"\",'Data Input'!A384)","v":""},{"$f":"IF(F380=\"\",\"\",IF(F380>Welcome!$J$20-1,\"Exceeding\",IF(F380>Welcome!$F$20-1,\"Expected\",IF(F380<Welcome!$F$20,\"Below\"))))","v":""},{"$f":"IF(ISBLANK('Data Input'!A384),\"\",COUNTIF('Data Input'!C384:AZ384,\"\"))","v":""},{"$f":"IF(ISBLANK('Data Input'!A384),\"\",COUNTIF('Data Input'!C384:AZ384,\"0\"))","v":""},{"$f":"IF(ISBLANK('Data Input'!A384),\"\",SUM(C380,D380))","v":""},{"$f":"IF(ISBLANK('Data Input'!A384),\"\",SUM('Data Input'!C384:AZ384))","v":""},{"$f":"IF(F380=\"\",\"\",F380/(COUNTA('Data Input'!$C$8:$AZ$8)))","v":""},{"$f":"IF(ISBLANK('Data Input'!A384),\"\",SUM('Data Input'!C384,'Data Input'!H384,'Data Input'!J384,'Data Input'!N384,'Data Input'!R384,'Data Input'!T384,'Data Input'!Y384,'Data Input'!AE384,'Data Input'!AK384,'Data Input'!AM384))","v":""},{"$f":"IF(H380=\"\",\"\",H380/COUNTIF('Data Input'!$C$8:$AZ$8,$H$2))","v":""},{"$f":"IF(ISBLANK('Data Input'!A384),\"\",SUM('Data Input'!G384,'Data Input'!I384,'Data Input'!K384,'Data Input'!O384,'Data Input'!P384,'Data Input'!S384,'Data Input'!U384,'Data Input'!V384,'Data Input'!W384,'Data Input'!X384,'Data Input'!Z384,'Data Input'!AA384,'Data Input'!AD384,'Data Input'!AZ384))","v":""},{"$f":"IF(J380=\"\",\"\",J380/COUNTIF('Data Input'!$C$8:$AZ$8,$J$2))","v":""},{"$f":"IF(ISBLANK('Data Input'!A384),\"\",SUM('Data Input'!Q384,'Data Input'!AG384))","v":""},{"$f":"IF(L380=\"\",\"\",L380/COUNTIF('Data Input'!$C$8:$AZ$8,$L$2))","v":""},{"$f":"IF(ISBLANK('Data Input'!A384),\"\",SUM('Data Input'!D384,'Data Input'!E384,'Data Input'!F384,'Data Input'!L384,'Data Input'!M384,'Data Input'!AB384,'Data Input'!AC384,'Data Input'!AF384,'Data Input'!AJ384,'Data Input'!AL384,'Data Input'!AN384,'Data Input'!AO384,'Data Input'!AP384,'Data Input'!AQ384,'Data Input'!AR384,'Data Input'!AS384,'Data Input'!AT384,'Data Input'!AU384,'Data Input'!AV384,'Data Input'!AW384,'Data Input'!AX384,'Data Input'!AY384))","v":""},{"$f":"IF(N380=\"\",\"\",N380/COUNTIF('Data Input'!$C$8:$AZ$8,$N$2))","v":""},null,{"$f":"IF(P380=\"\",\"\",P380/COUNTIF('Data Input'!$C$8:$AZ$8,$P$2))","v":""},{"$f":"IF(ISBLANK('Data Input'!A384),\"\",SUM('Data Input'!AH384))","v":""},{"$f":"IF(R380=\"\",\"\",R380/COUNTIF('Data Input'!$C$8:$AZ$8,$R$2))","v":""},{"$f":"IF(ISBLANK('Data Input'!$A384),\"\",SUM('Data Input'!AI384))","v":""},{"$f":"IF(T380=\"\",\"\",T380/COUNTIF('Data Input'!$C$8:$AZ$8,$T$2))","v":""},null,{"$f":"IF(V380=\"\",\"\",V380/COUNTIF('Data Input'!$C$8:$AZ$8,$V$2))","v":""}]
[{"$f":"IF('Data Input'!A385=0,\"\",'Data Input'!A385)","v":""},{"$f":"IF(F381=\"\",\"\",IF(F381>Welcome!$J$20-1,\"Exceeding\",IF(F381>Welcome!$F$20-1,\"Expected\",IF(F381<Welcome!$F$20,\"Below\"))))","v":""},{"$f":"IF(ISBLANK('Data Input'!A385),\"\",COUNTIF('Data Input'!C385:AZ385,\"\"))","v":""},{"$f":"IF(ISBLANK('Data Input'!A385),\"\",COUNTIF('Data Input'!C385:AZ385,\"0\"))","v":""},{"$f":"IF(ISBLANK('Data Input'!A385),\"\",SUM(C381,D381))","v":""},{"$f":"IF(ISBLANK('Data Input'!A385),\"\",SUM('Data Input'!C385:AZ385))","v":""},{"$f":"IF(F381=\"\",\"\",F381/(COUNTA('Data Input'!$C$8:$AZ$8)))","v":""},{"$f":"IF(ISBLANK('Data Input'!A385),\"\",SUM('Data Input'!C385,'Data Input'!H385,'Data Input'!J385,'Data Input'!N385,'Data Input'!R385,'Data Input'!T385,'Data Input'!Y385,'Data Input'!AE385,'Data Input'!AK385,'Data Input'!AM385))","v":""},{"$f":"IF(H381=\"\",\"\",H381/COUNTIF('Data Input'!$C$8:$AZ$8,$H$2))","v":""},{"$f":"IF(ISBLANK('Data Input'!A385),\"\",SUM('Data Input'!G385,'Data Input'!I385,'Data Input'!K385,'Data Input'!O385,'Data Input'!P385,'Data Input'!S385,'Data Input'!U385,'Data Input'!V385,'Data Input'!W385,'Data Input'!X385,'Data Input'!Z385,'Data Input'!AA385,'Data Input'!AD385,'Data Input'!AZ385))","v":""},{"$f":"IF(J381=\"\",\"\",J381/COUNTIF('Data Input'!$C$8:$AZ$8,$J$2))","v":""},{"$f":"IF(ISBLANK('Data Input'!A385),\"\",SUM('Data Input'!Q385,'Data Input'!AG385))","v":""},{"$f":"IF(L381=\"\",\"\",L381/COUNTIF('Data Input'!$C$8:$AZ$8,$L$2))","v":""},{"$f":"IF(ISBLANK('Data Input'!A385),\"\",SUM('Data Input'!D385,'Data Input'!E385,'Data Input'!F385,'Data Input'!L385,'Data Input'!M385,'Data Input'!AB385,'Data Input'!AC385,'Data Input'!AF385,'Data Input'!AJ385,'Data Input'!AL385,'Data Input'!AN385,'Data Input'!AO385,'Data Input'!AP385,'Data Input'!AQ385,'Data Input'!AR385,'Data Input'!AS385,'Data Input'!AT385,'Data Input'!AU385,'Data Input'!AV385,'Data Input'!AW385,'Data Input'!AX385,'Data Input'!AY385))","v":""},{"$f":"IF(N381=\"\",\"\",N381/COUNTIF('Data Input'!$C$8:$AZ$8,$N$2))","v":""},null,{"$f":"IF(P381=\"\",\"\",P381/COUNTIF('Data Input'!$C$8:$AZ$8,$P$2))","v":""},{"$f":"IF(ISBLANK('Data Input'!A385),\"\",SUM('Data Input'!AH385))","v":""},{"$f":"IF(R381=\"\",\"\",R381/COUNTIF('Data Input'!$C$8:$AZ$8,$R$2))","v":""},{"$f":"IF(ISBLANK('Data Input'!$A385),\"\",SUM('Data Input'!AI385))","v":""},{"$f":"IF(T381=\"\",\"\",T381/COUNTIF('Data Input'!$C$8:$AZ$8,$T$2))","v":""},null,{"$f":"IF(V381=\"\",\"\",V381/COUNTIF('Data Input'!$C$8:$AZ$8,$V$2))","v":""}]
[{"$f":"IF('Data Input'!A386=0,\"\",'Data Input'!A386)","v":""},{"$f":"IF(F382=\"\",\"\",IF(F382>Welcome!$J$20-1,\"Exceeding\",IF(F382>Welcome!$F$20-1,\"Expected\",IF(F382<Welcome!$F$20,\"Below\"))))","v":""},{"$f":"IF(ISBLANK('Data Input'!A386),\"\",COUNTIF('Data Input'!C386:AZ386,\"\"))","v":""},{"$f":"IF(ISBLANK('Data Input'!A386),\"\",COUNTIF('Data Input'!C386:AZ386,\"0\"))","v":""},{"$f":"IF(ISBLANK('Data Input'!A386),\"\",SUM(C382,D382))","v":""},{"$f":"IF(ISBLANK('Data Input'!A386),\"\",SUM('Data Input'!C386:AZ386))","v":""},{"$f":"IF(F382=\"\",\"\",F382/(COUNTA('Data Input'!$C$8:$AZ$8)))","v":""},{"$f":"IF(ISBLANK('Data Input'!A386),\"\",SUM('Data Input'!C386,'Data Input'!H386,'Data Input'!J386,'Data Input'!N386,'Data Input'!R386,'Data Input'!T386,'Data Input'!Y386,'Data Input'!AE386,'Data Input'!AK386,'Data Input'!AM386))","v":""},{"$f":"IF(H382=\"\",\"\",H382/COUNTIF('Data Input'!$C$8:$AZ$8,$H$2))","v":""},{"$f":"IF(ISBLANK('Data Input'!A386),\"\",SUM('Data Input'!G386,'Data Input'!I386,'Data Input'!K386,'Data Input'!O386,'Data Input'!P386,'Data Input'!S386,'Data Input'!U386,'Data Input'!V386,'Data Input'!W386,'Data Input'!X386,'Data Input'!Z386,'Data Input'!AA386,'Data Input'!AD386,'Data Input'!AZ386))","v":""},{"$f":"IF(J382=\"\",\"\",J382/COUNTIF('Data Input'!$C$8:$AZ$8,$J$2))","v":""},{"$f":"IF(ISBLANK('Data Input'!A386),\"\",SUM('Data Input'!Q386,'Data Input'!AG386))","v":""},{"$f":"IF(L382=\"\",\"\",L382/COUNTIF('Data Input'!$C$8:$AZ$8,$L$2))","v":""},{"$f":"IF(ISBLANK('Data Input'!A386),\"\",SUM('Data Input'!D386,'Data Input'!E386,'Data Input'!F386,'Data Input'!L386,'Data Input'!M386,'Data Input'!AB386,'Data Input'!AC386,'Data Input'!AF386,'Data Input'!AJ386,'Data Input'!AL386,'Data Input'!AN386,'Data Input'!AO386,'Data Input'!AP386,'Data Input'!AQ386,'Data Input'!AR386,'Data Input'!AS386,'Data Input'!AT386,'Data Input'!AU386,'Data Input'!AV386,'Data Input'!AW386,'Data Input'!AX386,'Data Input'!AY386))","v":""},{"$f":"IF(N382=\"\",\"\",N382/COUNTIF('Data Input'!$C$8:$AZ$8,$N$2))","v":""},null,{"$f":"IF(P382=\"\",\"\",P382/COUNTIF('Data Input'!$C$8:$AZ$8,$P$2))","v":""},{"$f":"IF(ISBLANK('Data Input'!A386),\"\",SUM('Data Input'!AH386))","v":""},{"$f":"IF(R382=\"\",\"\",R382/COUNTIF('Data Input'!$C$8:$AZ$8,$R$2))","v":""},{"$f":"IF(ISBLANK('Data Input'!$A386),\"\",SUM('Data Input'!AI386))","v":""},{"$f":"IF(T382=\"\",\"\",T382/COUNTIF('Data Input'!$C$8:$AZ$8,$T$2))","v":""},null,{"$f":"IF(V382=\"\",\"\",V382/COUNTIF('Data Input'!$C$8:$AZ$8,$V$2))","v":""}]
[{"$f":"IF('Data Input'!A387=0,\"\",'Data Input'!A387)","v":""},{"$f":"IF(F383=\"\",\"\",IF(F383>Welcome!$J$20-1,\"Exceeding\",IF(F383>Welcome!$F$20-1,\"Expected\",IF(F383<Welcome!$F$20,\"Below\"))))","v":""},{"$f":"IF(ISBLANK('Data Input'!A387),\"\",COUNTIF('Data Input'!C387:AZ387,\"\"))","v":""},{"$f":"IF(ISBLANK('Data Input'!A387),\"\",COUNTIF('Data Input'!C387:AZ387,\"0\"))","v":""},{"$f":"IF(ISBLANK('Data Input'!A387),\"\",SUM(C383,D383))","v":""},{"$f":"IF(ISBLANK('Data Input'!A387),\"\",SUM('Data Input'!C387:AZ387))","v":""},{"$f":"IF(F383=\"\",\"\",F383/(COUNTA('Data Input'!$C$8:$AZ$8)))","v":""},{"$f":"IF(ISBLANK('Data Input'!A387),\"\",SUM('Data Input'!C387,'Data Input'!H387,'Data Input'!J387,'Data Input'!N387,'Data Input'!R387,'Data Input'!T387,'Data Input'!Y387,'Data Input'!AE387,'Data Input'!AK387,'Data Input'!AM387))","v":""},{"$f":"IF(H383=\"\",\"\",H383/COUNTIF('Data Input'!$C$8:$AZ$8,$H$2))","v":""},{"$f":"IF(ISBLANK('Data Input'!A387),\"\",SUM('Data Input'!G387,'Data Input'!I387,'Data Input'!K387,'Data Input'!O387,'Data Input'!P387,'Data Input'!S387,'Data Input'!U387,'Data Input'!V387,'Data Input'!W387,'Data Input'!X387,'Data Input'!Z387,'Data Input'!AA387,'Data Input'!AD387,'Data Input'!AZ387))","v":""},{"$f":"IF(J383=\"\",\"\",J383/COUNTIF('Data Input'!$C$8:$AZ$8,$J$2))","v":""},{"$f":"IF(ISBLANK('Data Input'!A387),\"\",SUM('Data Input'!Q387,'Data Input'!AG387))","v":""},{"$f":"IF(L383=\"\",\"\",L383/COUNTIF('Data Input'!$C$8:$AZ$8,$L$2))","v":""},{"$f":"IF(ISBLANK('Data Input'!A387),\"\",SUM('Data Input'!D387,'Data Input'!E387,'Data Input'!F387,'Data Input'!L387,'Data Input'!M387,'Data Input'!AB387,'Data Input'!AC387,'Data Input'!AF387,'Data Input'!AJ387,'Data Input'!AL387,'Data Input'!AN387,'Data Input'!AO387,'Data Input'!AP387,'Data Input'!AQ387,'Data Input'!AR387,'Data Input'!AS387,'Data Input'!AT387,'Data Input'!AU387,'Data Input'!AV387,'Data Input'!AW387,'Data Input'!AX387,'Data Input'!AY387))","v":""},{"$f":"IF(N383=\"\",\"\",N383/COUNTIF('Data Input'!$C$8:$AZ$8,$N$2))","v":""},null,{"$f":"IF(P383=\"\",\"\",P383/COUNTIF('Data Input'!$C$8:$AZ$8,$P$2))","v":""},{"$f":"IF(ISBLANK('Data Input'!A387),\"\",SUM('Data Input'!AH387))","v":""},{"$f":"IF(R383=\"\",\"\",R383/COUNTIF('Data Input'!$C$8:$AZ$8,$R$2))","v":""},{"$f":"IF(ISBLANK('Data Input'!$A387),\"\",SUM('Data Input'!AI387))","v":""},{"$f":"IF(T383=\"\",\"\",T383/COUNTIF('Data Input'!$C$8:$AZ$8,$T$2))","v":""},null,{"$f":"IF(V383=\"\",\"\",V383/COUNTIF('Data Input'!$C$8:$AZ$8,$V$2))","v":""}]
[{"$f":"IF('Data Input'!A388=0,\"\",'Data Input'!A388)","v":""},{"$f":"IF(F384=\"\",\"\",IF(F384>Welcome!$J$20-1,\"Exceeding\",IF(F384>Welcome!$F$20-1,\"Expected\",IF(F384<Welcome!$F$20,\"Below\"))))","v":""},{"$f":"IF(ISBLANK('Data Input'!A388),\"\",COUNTIF('Data Input'!C388:AZ388,\"\"))","v":""},{"$f":"IF(ISBLANK('Data Input'!A388),\"\",COUNTIF('Data Input'!C388:AZ388,\"0\"))","v":""},{"$f":"IF(ISBLANK('Data Input'!A388),\"\",SUM(C384,D384))","v":""},{"$f":"IF(ISBLANK('Data Input'!A388),\"\",SUM('Data Input'!C388:AZ388))","v":""},{"$f":"IF(F384=\"\",\"\",F384/(COUNTA('Data Input'!$C$8:$AZ$8)))","v":""},{"$f":"IF(ISBLANK('Data Input'!A388),\"\",SUM('Data Input'!C388,'Data Input'!H388,'Data Input'!J388,'Data Input'!N388,'Data Input'!R388,'Data Input'!T388,'Data Input'!Y388,'Data Input'!AE388,'Data Input'!AK388,'Data Input'!AM388))","v":""},{"$f":"IF(H384=\"\",\"\",H384/COUNTIF('Data Input'!$C$8:$AZ$8,$H$2))","v":""},{"$f":"IF(ISBLANK('Data Input'!A388),\"\",SUM('Data Input'!G388,'Data Input'!I388,'Data Input'!K388,'Data Input'!O388,'Data Input'!P388,'Data Input'!S388,'Data Input'!U388,'Data Input'!V388,'Data Input'!W388,'Data Input'!X388,'Data Input'!Z388,'Data Input'!AA388,'Data Input'!AD388,'Data Input'!AZ388))","v":""},{"$f":"IF(J384=\"\",\"\",J384/COUNTIF('Data Input'!$C$8:$AZ$8,$J$2))","v":""},{"$f":"IF(ISBLANK('Data Input'!A388),\"\",SUM('Data Input'!Q388,'Data Input'!AG388))","v":""},{"$f":"IF(L384=\"\",\"\",L384/COUNTIF('Data Input'!$C$8:$AZ$8,$L$2))","v":""},{"$f":"IF(ISBLANK('Data Input'!A388),\"\",SUM('Data Input'!D388,'Data Input'!E388,'Data Input'!F388,'Data Input'!L388,'Data Input'!M388,'Data Input'!AB388,'Data Input'!AC388,'Data Input'!AF388,'Data Input'!AJ388,'Data Input'!AL388,'Data Input'!AN388,'Data Input'!AO388,'Data Input'!AP388,'Data Input'!AQ388,'Data Input'!AR388,'Data Input'!AS388,'Data Input'!AT388,'Data Input'!AU388,'Data Input'!AV388,'Data Input'!AW388,'Data Input'!AX388,'Data Input'!AY388))","v":""},{"$f":"IF(N384=\"\",\"\",N384/COUNTIF('Data Input'!$C$8:$AZ$8,$N$2))","v":""},null,{"$f":"IF(P384=\"\",\"\",P384/COUNTIF('Data Input'!$C$8:$AZ$8,$P$2))","v":""},{"$f":"IF(ISBLANK('Data Input'!A388),\"\",SUM('Data Input'!AH388))","v":""},{"$f":"IF(R384=\"\",\"\",R384/COUNTIF('Data Input'!$C$8:$AZ$8,$R$2))","v":""},{"$f":"IF(ISBLANK('Data Input'!$A388),\"\",SUM('Data Input'!AI388))","v":""},{"$f":"IF(T384=\"\",\"\",T384/COUNTIF('Data Input'!$C$8:$AZ$8,$T$2))","v":""},null,{"$f":"IF(V384=\"\",\"\",V384/COUNTIF('Data Input'!$C$8:$AZ$8,$V$2))","v":""}]
[{"$f":"IF('Data Input'!A389=0,\"\",'Data Input'!A389)","v":""},{"$f":"IF(F385=\"\",\"\",IF(F385>Welcome!$J$20-1,\"Exceeding\",IF(F385>Welcome!$F$20-1,\"Expected\",IF(F385<Welcome!$F$20,\"Below\"))))","v":""},{"$f":"IF(ISBLANK('Data Input'!A389),\"\",COUNTIF('Data Input'!C389:AZ389,\"\"))","v":""},{"$f":"IF(ISBLANK('Data Input'!A389),\"\",COUNTIF('Data Input'!C389:AZ389,\"0\"))","v":""},{"$f":"IF(ISBLANK('Data Input'!A389),\"\",SUM(C385,D385))","v":""},{"$f":"IF(ISBLANK('Data Input'!A389),\"\",SUM('Data Input'!C389:AZ389))","v":""},{"$f":"IF(F385=\"\",\"\",F385/(COUNTA('Data Input'!$C$8:$AZ$8)))","v":""},{"$f":"IF(ISBLANK('Data Input'!A389),\"\",SUM('Data Input'!C389,'Data Input'!H389,'Data Input'!J389,'Data Input'!N389,'Data Input'!R389,'Data Input'!T389,'Data Input'!Y389,'Data Input'!AE389,'Data Input'!AK389,'Data Input'!AM389))","v":""},{"$f":"IF(H385=\"\",\"\",H385/COUNTIF('Data Input'!$C$8:$AZ$8,$H$2))","v":""},{"$f":"IF(ISBLANK('Data Input'!A389),\"\",SUM('Data Input'!G389,'Data Input'!I389,'Data Input'!K389,'Data Input'!O389,'Data Input'!P389,'Data Input'!S389,'Data Input'!U389,'Data Input'!V389,'Data Input'!W389,'Data Input'!X389,'Data Input'!Z389,'Data Input'!AA389,'Data Input'!AD389,'Data Input'!AZ389))","v":""},{"$f":"IF(J385=\"\",\"\",J385/COUNTIF('Data Input'!$C$8:$AZ$8,$J$2))","v":""},{"$f":"IF(ISBLANK('Data Input'!A389),\"\",SUM('Data Input'!Q389,'Data Input'!AG389))","v":""},{"$f":"IF(L385=\"\",\"\",L385/COUNTIF('Data Input'!$C$8:$AZ$8,$L$2))","v":""},{"$f":"IF(ISBLANK('Data Input'!A389),\"\",SUM('Data Input'!D389,'Data Input'!E389,'Data Input'!F389,'Data Input'!L389,'Data Input'!M389,'Data Input'!AB389,'Data Input'!AC389,'Data Input'!AF389,'Data Input'!AJ389,'Data Input'!AL389,'Data Input'!AN389,'Data Input'!AO389,'Data Input'!AP389,'Data Input'!AQ389,'Data Input'!AR389,'Data Input'!AS389,'Data Input'!AT389,'Data Input'!AU389,'Data Input'!AV389,'Data Input'!AW389,'Data Input'!AX389,'Data Input'!AY389))","v":""},{"$f":"IF(N385=\"\",\"\",N385/COUNTIF('Data Input'!$C$8:$AZ$8,$N$2))","v":""},null,{"$f":"IF(P385=\"\",\"\",P385/COUNTIF('Data Input'!$C$8:$AZ$8,$P$2))","v":""},{"$f":"IF(ISBLANK('Data Input'!A389),\"\",SUM('Data Input'!AH389))","v":""},{"$f":"IF(R385=\"\",\"\",R385/COUNTIF('Data Input'!$C$8:$AZ$8,$R$2))","v":""},{"$f":"IF(ISBLANK('Data Input'!$A389),\"\",SUM('Data Input'!AI389))","v":""},{"$f":"IF(T385=\"\",\"\",T385/COUNTIF('Data Input'!$C$8:$AZ$8,$T$2))","v":""},null,{"$f":"IF(V385=\"\",\"\",V385/COUNTIF('Data Input'!$C$8:$AZ$8,$V$2))","v":""}]
[{"$f":"IF('Data Input'!A390=0,\"\",'Data Input'!A390)","v":""},{"$f":"IF(F386=\"\",\"\",IF(F386>Welcome!$J$20-1,\"Exceeding\",IF(F386>Welcome!$F$20-1,\"Expected\",IF(F386<Welcome!$F$20,\"Below\"))))","v":""},{"$f":"IF(ISBLANK('Data Input'!A390),\"\",COUNTIF('Data Input'!C390:AZ390,\"\"))","v":""},{"$f":"IF(ISBLANK('Data Input'!A390),\"\",COUNTIF('Data Input'!C390:AZ390,\"0\"))","v":""},{"$f":"IF(ISBLANK('Data Input'!A390),\"\",SUM(C386,D386))","v":""},{"$f":"IF(ISBLANK('Data Input'!A390),\"\",SUM('Data Input'!C390:AZ390))","v":""},{"$f":"IF(F386=\"\",\"\",F386/(COUNTA('Data Input'!$C$8:$AZ$8)))","v":""},{"$f":"IF(ISBLANK('Data Input'!A390),\"\",SUM('Data Input'!C390,'Data Input'!H390,'Data Input'!J390,'Data Input'!N390,'Data Input'!R390,'Data Input'!T390,'Data Input'!Y390,'Data Input'!AE390,'Data Input'!AK390,'Data Input'!AM390))","v":""},{"$f":"IF(H386=\"\",\"\",H386/COUNTIF('Data Input'!$C$8:$AZ$8,$H$2))","v":""},{"$f":"IF(ISBLANK('Data Input'!A390),\"\",SUM('Data Input'!G390,'Data Input'!I390,'Data Input'!K390,'Data Input'!O390,'Data Input'!P390,'Data Input'!S390,'Data Input'!U390,'Data Input'!V390,'Data Input'!W390,'Data Input'!X390,'Data Input'!Z390,'Data Input'!AA390,'Data Input'!AD390,'Data Input'!AZ390))","v":""},{"$f":"IF(J386=\"\",\"\",J386/COUNTIF('Data Input'!$C$8:$AZ$8,$J$2))","v":""},{"$f":"IF(ISBLANK('Data Input'!A390),\"\",SUM('Data Input'!Q390,'Data Input'!AG390))","v":""},{"$f":"IF(L386=\"\",\"\",L386/COUNTIF('Data Input'!$C$8:$AZ$8,$L$2))","v":""},{"$f":"IF(ISBLANK('Data Input'!A390),\"\",SUM('Data Input'!D390,'Data Input'!E390,'Data Input'!F390,'Data Input'!L390,'Data Input'!M390,'Data Input'!AB390,'Data Input'!AC390,'Data Input'!AF390,'Data Input'!AJ390,'Data Input'!AL390,'Data Input'!AN390,'Data Input'!AO390,'Data Input'!AP390,'Data Input'!AQ390,'Data Input'!AR390,'Data Input'!AS390,'Data Input'!AT390,'Data Input'!AU390,'Data Input'!AV390,'Data Input'!AW390,'Data Input'!AX390,'Data Input'!AY390))","v":""},{"$f":"IF(N386=\"\",\"\",N386/COUNTIF('Data Input'!$C$8:$AZ$8,$N$2))","v":""},null,{"$f":"IF(P386=\"\",\"\",P386/COUNTIF('Data Input'!$C$8:$AZ$8,$P$2))","v":""},{"$f":"IF(ISBLANK('Data Input'!A390),\"\",SUM('Data Input'!AH390))","v":""},{"$f":"IF(R386=\"\",\"\",R386/COUNTIF('Data Input'!$C$8:$AZ$8,$R$2))","v":""},{"$f":"IF(ISBLANK('Data Input'!$A390),\"\",SUM('Data Input'!AI390))","v":""},{"$f":"IF(T386=\"\",\"\",T386/COUNTIF('Data Input'!$C$8:$AZ$8,$T$2))","v":""},null,{"$f":"IF(V386=\"\",\"\",V386/COUNTIF('Data Input'!$C$8:$AZ$8,$V$2))","v":""}]
[{"$f":"IF('Data Input'!A391=0,\"\",'Data Input'!A391)","v":""},{"$f":"IF(F387=\"\",\"\",IF(F387>Welcome!$J$20-1,\"Exceeding\",IF(F387>Welcome!$F$20-1,\"Expected\",IF(F387<Welcome!$F$20,\"Below\"))))","v":""},{"$f":"IF(ISBLANK('Data Input'!A391),\"\",COUNTIF('Data Input'!C391:AZ391,\"\"))","v":""},{"$f":"IF(ISBLANK('Data Input'!A391),\"\",COUNTIF('Data Input'!C391:AZ391,\"0\"))","v":""},{"$f":"IF(ISBLANK('Data Input'!A391),\"\",SUM(C387,D387))","v":""},{"$f":"IF(ISBLANK('Data Input'!A391),\"\",SUM('Data Input'!C391:AZ391))","v":""},{"$f":"IF(F387=\"\",\"\",F387/(COUNTA('Data Input'!$C$8:$AZ$8)))","v":""},{"$f":"IF(ISBLANK('Data Input'!A391),\"\",SUM('Data Input'!C391,'Data Input'!H391,'Data Input'!J391,'Data Input'!N391,'Data Input'!R391,'Data Input'!T391,'Data Input'!Y391,'Data Input'!AE391,'Data Input'!AK391,'Data Input'!AM391))","v":""},{"$f":"IF(H387=\"\",\"\",H387/COUNTIF('Data Input'!$C$8:$AZ$8,$H$2))","v":""},{"$f":"IF(ISBLANK('Data Input'!A391),\"\",SUM('Data Input'!G391,'Data Input'!I391,'Data Input'!K391,'Data Input'!O391,'Data Input'!P391,'Data Input'!S391,'Data Input'!U391,'Data Input'!V391,'Data Input'!W391,'Data Input'!X391,'Data Input'!Z391,'Data Input'!AA391,'Data Input'!AD391,'Data Input'!AZ391))","v":""},{"$f":"IF(J387=\"\",\"\",J387/COUNTIF('Data Input'!$C$8:$AZ$8,$J$2))","v":""},{"$f":"IF(ISBLANK('Data Input'!A391),\"\",SUM('Data Input'!Q391,'Data Input'!AG391))","v":""},{"$f":"IF(L387=\"\",\"\",L387/COUNTIF('Data Input'!$C$8:$AZ$8,$L$2))","v":""},{"$f":"IF(ISBLANK('Data Input'!A391),\"\",SUM('Data Input'!D391,'Data Input'!E391,'Data Input'!F391,'Data Input'!L391,'Data Input'!M391,'Data Input'!AB391,'Data Input'!AC391,'Data Input'!AF391,'Data Input'!AJ391,'Data Input'!AL391,'Data Input'!AN391,'Data Input'!AO391,'Data Input'!AP391,'Data Input'!AQ391,'Data Input'!AR391,'Data Input'!AS391,'Data Input'!AT391,'Data Input'!AU391,'Data Input'!AV391,'Data Input'!AW391,'Data Input'!AX391,'Data Input'!AY391))","v":""},{"$f":"IF(N387=\"\",\"\",N387/COUNTIF('Data Input'!$C$8:$AZ$8,$N$2))","v":""},null,{"$f":"IF(P387=\"\",\"\",P387/COUNTIF('Data Input'!$C$8:$AZ$8,$P$2))","v":""},{"$f":"IF(ISBLANK('Data Input'!A391),\"\",SUM('Data Input'!AH391))","v":""},{"$f":"IF(R387=\"\",\"\",R387/COUNTIF('Data Input'!$C$8:$AZ$8,$R$2))","v":""},{"$f":"IF(ISBLANK('Data Input'!$A391),\"\",SUM('Data Input'!AI391))","v":""},{"$f":"IF(T387=\"\",\"\",T387/COUNTIF('Data Input'!$C$8:$AZ$8,$T$2))","v":""},null,{"$f":"IF(V387=\"\",\"\",V387/COUNTIF('Data Input'!$C$8:$AZ$8,$V$2))","v":""}]
[{"$f":"IF('Data Input'!A392=0,\"\",'Data Input'!A392)","v":""},{"$f":"IF(F388=\"\",\"\",IF(F388>Welcome!$J$20-1,\"Exceeding\",IF(F388>Welcome!$F$20-1,\"Expected\",IF(F388<Welcome!$F$20,\"Below\"))))","v":""},{"$f":"IF(ISBLANK('Data Input'!A392),\"\",COUNTIF('Data Input'!C392:AZ392,\"\"))","v":""},{"$f":"IF(ISBLANK('Data Input'!A392),\"\",COUNTIF('Data Input'!C392:AZ392,\"0\"))","v":""},{"$f":"IF(ISBLANK('Data Input'!A392),\"\",SUM(C388,D388))","v":""},{"$f":"IF(ISBLANK('Data Input'!A392),\"\",SUM('Data Input'!C392:AZ392))","v":""},{"$f":"IF(F388=\"\",\"\",F388/(COUNTA('Data Input'!$C$8:$AZ$8)))","v":""},{"$f":"IF(ISBLANK('Data Input'!A392),\"\",SUM('Data Input'!C392,'Data Input'!H392,'Data Input'!J392,'Data Input'!N392,'Data Input'!R392,'Data Input'!T392,'Data Input'!Y392,'Data Input'!AE392,'Data Input'!AK392,'Data Input'!AM392))","v":""},{"$f":"IF(H388=\"\",\"\",H388/COUNTIF('Data Input'!$C$8:$AZ$8,$H$2))","v":""},{"$f":"IF(ISBLANK('Data Input'!A392),\"\",SUM('Data Input'!G392,'Data Input'!I392,'Data Input'!K392,'Data Input'!O392,'Data Input'!P392,'Data Input'!S392,'Data Input'!U392,'Data Input'!V392,'Data Input'!W392,'Data Input'!X392,'Data Input'!Z392,'Data Input'!AA392,'Data Input'!AD392,'Data Input'!AZ392))","v":""},{"$f":"IF(J388=\"\",\"\",J388/COUNTIF('Data Input'!$C$8:$AZ$8,$J$2))","v":""},{"$f":"IF(ISBLANK('Data Input'!A392),\"\",SUM('Data Input'!Q392,'Data Input'!AG392))","v":""},{"$f":"IF(L388=\"\",\"\",L388/COUNTIF('Data Input'!$C$8:$AZ$8,$L$2))","v":""},{"$f":"IF(ISBLANK('Data Input'!A392),\"\",SUM('Data Input'!D392,'Data Input'!E392,'Data Input'!F392,'Data Input'!L392,'Data Input'!M392,'Data Input'!AB392,'Data Input'!AC392,'Data Input'!AF392,'Data Input'!AJ392,'Data Input'!AL392,'Data Input'!AN392,'Data Input'!AO392,'Data Input'!AP392,'Data Input'!AQ392,'Data Input'!AR392,'Data Input'!AS392,'Data Input'!AT392,'Data Input'!AU392,'Data Input'!AV392,'Data Input'!AW392,'Data Input'!AX392,'Data Input'!AY392))","v":""},{"$f":"IF(N388=\"\",\"\",N388/COUNTIF('Data Input'!$C$8:$AZ$8,$N$2))","v":""},null,{"$f":"IF(P388=\"\",\"\",P388/COUNTIF('Data Input'!$C$8:$AZ$8,$P$2))","v":""},{"$f":"IF(ISBLANK('Data Input'!A392),\"\",SUM('Data Input'!AH392))","v":""},{"$f":"IF(R388=\"\",\"\",R388/COUNTIF('Data Input'!$C$8:$AZ$8,$R$2))","v":""},{"$f":"IF(ISBLANK('Data Input'!$A392),\"\",SUM('Data Input'!AI392))","v":""},{"$f":"IF(T388=\"\",\"\",T388/COUNTIF('Data Input'!$C$8:$AZ$8,$T$2))","v":""},null,{"$f":"IF(V388=\"\",\"\",V388/COUNTIF('Data Input'!$C$8:$AZ$8,$V$2))","v":""}]
[{"$f":"IF('Data Input'!A393=0,\"\",'Data Input'!A393)","v":""},{"$f":"IF(F389=\"\",\"\",IF(F389>Welcome!$J$20-1,\"Exceeding\",IF(F389>Welcome!$F$20-1,\"Expected\",IF(F389<Welcome!$F$20,\"Below\"))))","v":""},{"$f":"IF(ISBLANK('Data Input'!A393),\"\",COUNTIF('Data Input'!C393:AZ393,\"\"))","v":""},{"$f":"IF(ISBLANK('Data Input'!A393),\"\",COUNTIF('Data Input'!C393:AZ393,\"0\"))","v":""},{"$f":"IF(ISBLANK('Data Input'!A393),\"\",SUM(C389,D389))","v":""},{"$f":"IF(ISBLANK('Data Input'!A393),\"\",SUM('Data Input'!C393:AZ393))","v":""},{"$f":"IF(F389=\"\",\"\",F389/(COUNTA('Data Input'!$C$8:$AZ$8)))","v":""},{"$f":"IF(ISBLANK('Data Input'!A393),\"\",SUM('Data Input'!C393,'Data Input'!H393,'Data Input'!J393,'Data Input'!N393,'Data Input'!R393,'Data Input'!T393,'Data Input'!Y393,'Data Input'!AE393,'Data Input'!AK393,'Data Input'!AM393))","v":""},{"$f":"IF(H389=\"\",\"\",H389/COUNTIF('Data Input'!$C$8:$AZ$8,$H$2))","v":""},{"$f":"IF(ISBLANK('Data Input'!A393),\"\",SUM('Data Input'!G393,'Data Input'!I393,'Data Input'!K393,'Data Input'!O393,'Data Input'!P393,'Data Input'!S393,'Data Input'!U393,'Data Input'!V393,'Data Input'!W393,'Data Input'!X393,'Data Input'!Z393,'Data Input'!AA393,'Data Input'!AD393,'Data Input'!AZ393))","v":""},{"$f":"IF(J389=\"\",\"\",J389/COUNTIF('Data Input'!$C$8:$AZ$8,$J$2))","v":""},{"$f":"IF(ISBLANK('Data Input'!A393),\"\",SUM('Data Input'!Q393,'Data Input'!AG393))","v":""},{"$f":"IF(L389=\"\",\"\",L389/COUNTIF('Data Input'!$C$8:$AZ$8,$L$2))","v":""},{"$f":"IF(ISBLANK('Data Input'!A393),\"\",SUM('Data Input'!D393,'Data Input'!E393,'Data Input'!F393,'Data Input'!L393,'Data Input'!M393,'Data Input'!AB393,'Data Input'!AC393,'Data Input'!AF393,'Data Input'!AJ393,'Data Input'!AL393,'Data Input'!AN393,'Data Input'!AO393,'Data Input'!AP393,'Data Input'!AQ393,'Data Input'!AR393,'Data Input'!AS393,'Data Input'!AT393,'Data Input'!AU393,'Data Input'!AV393,'Data Input'!AW393,'Data Input'!AX393,'Data Input'!AY393))","v":""},{"$f":"IF(N389=\"\",\"\",N389/COUNTIF('Data Input'!$C$8:$AZ$8,$N$2))","v":""},null,{"$f":"IF(P389=\"\",\"\",P389/COUNTIF('Data Input'!$C$8:$AZ$8,$P$2))","v":""},{"$f":"IF(ISBLANK('Data Input'!A393),\"\",SUM('Data Input'!AH393))","v":""},{"$f":"IF(R389=\"\",\"\",R389/COUNTIF('Data Input'!$C$8:$AZ$8,$R$2))","v":""},{"$f":"IF(ISBLANK('Data Input'!$A393),\"\",SUM('Data Input'!AI393))","v":""},{"$f":"IF(T389=\"\",\"\",T389/COUNTIF('Data Input'!$C$8:$AZ$8,$T$2))","v":""},null,{"$f":"IF(V389=\"\",\"\",V389/COUNTIF('Data Input'!$C$8:$AZ$8,$V$2))","v":""}]
[{"$f":"IF('Data Input'!A394=0,\"\",'Data Input'!A394)","v":""},{"$f":"IF(F390=\"\",\"\",IF(F390>Welcome!$J$20-1,\"Exceeding\",IF(F390>Welcome!$F$20-1,\"Expected\",IF(F390<Welcome!$F$20,\"Below\"))))","v":""},{"$f":"IF(ISBLANK('Data Input'!A394),\"\",COUNTIF('Data Input'!C394:AZ394,\"\"))","v":""},{"$f":"IF(ISBLANK('Data Input'!A394),\"\",COUNTIF('Data Input'!C394:AZ394,\"0\"))","v":""},{"$f":"IF(ISBLANK('Data Input'!A394),\"\",SUM(C390,D390))","v":""},{"$f":"IF(ISBLANK('Data Input'!A394),\"\",SUM('Data Input'!C394:AZ394))","v":""},{"$f":"IF(F390=\"\",\"\",F390/(COUNTA('Data Input'!$C$8:$AZ$8)))","v":""},{"$f":"IF(ISBLANK('Data Input'!A394),\"\",SUM('Data Input'!C394,'Data Input'!H394,'Data Input'!J394,'Data Input'!N394,'Data Input'!R394,'Data Input'!T394,'Data Input'!Y394,'Data Input'!AE394,'Data Input'!AK394,'Data Input'!AM394))","v":""},{"$f":"IF(H390=\"\",\"\",H390/COUNTIF('Data Input'!$C$8:$AZ$8,$H$2))","v":""},{"$f":"IF(ISBLANK('Data Input'!A394),\"\",SUM('Data Input'!G394,'Data Input'!I394,'Data Input'!K394,'Data Input'!O394,'Data Input'!P394,'Data Input'!S394,'Data Input'!U394,'Data Input'!V394,'Data Input'!W394,'Data Input'!X394,'Data Input'!Z394,'Data Input'!AA394,'Data Input'!AD394,'Data Input'!AZ394))","v":""},{"$f":"IF(J390=\"\",\"\",J390/COUNTIF('Data Input'!$C$8:$AZ$8,$J$2))","v":""},{"$f":"IF(ISBLANK('Data Input'!A394),\"\",SUM('Data Input'!Q394,'Data Input'!AG394))","v":""},{"$f":"IF(L390=\"\",\"\",L390/COUNTIF('Data Input'!$C$8:$AZ$8,$L$2))","v":""},{"$f":"IF(ISBLANK('Data Input'!A394),\"\",SUM('Data Input'!D394,'Data Input'!E394,'Data Input'!F394,'Data Input'!L394,'Data Input'!M394,'Data Input'!AB394,'Data Input'!AC394,'Data Input'!AF394,'Data Input'!AJ394,'Data Input'!AL394,'Data Input'!AN394,'Data Input'!AO394,'Data Input'!AP394,'Data Input'!AQ394,'Data Input'!AR394,'Data Input'!AS394,'Data Input'!AT394,'Data Input'!AU394,'Data Input'!AV394,'Data Input'!AW394,'Data Input'!AX394,'Data Input'!AY394))","v":""},{"$f":"IF(N390=\"\",\"\",N390/COUNTIF('Data Input'!$C$8:$AZ$8,$N$2))","v":""},null,{"$f":"IF(P390=\"\",\"\",P390/COUNTIF('Data Input'!$C$8:$AZ$8,$P$2))","v":""},{"$f":"IF(ISBLANK('Data Input'!A394),\"\",SUM('Data Input'!AH394))","v":""},{"$f":"IF(R390=\"\",\"\",R390/COUNTIF('Data Input'!$C$8:$AZ$8,$R$2))","v":""},{"$f":"IF(ISBLANK('Data Input'!$A394),\"\",SUM('Data Input'!AI394))","v":""},{"$f":"IF(T390=\"\",\"\",T390/COUNTIF('Data Input'!$C$8:$AZ$8,$T$2))","v":""},null,{"$f":"IF(V390=\"\",\"\",V390/COUNTIF('Data Input'!$C$8:$AZ$8,$V$2))","v":""}]
[{"$f":"IF('Data Input'!A395=0,\"\",'Data Input'!A395)","v":""},{"$f":"IF(F391=\"\",\"\",IF(F391>Welcome!$J$20-1,\"Exceeding\",IF(F391>Welcome!$F$20-1,\"Expected\",IF(F391<Welcome!$F$20,\"Below\"))))","v":""},{"$f":"IF(ISBLANK('Data Input'!A395),\"\",COUNTIF('Data Input'!C395:AZ395,\"\"))","v":""},{"$f":"IF(ISBLANK('Data Input'!A395),\"\",COUNTIF('Data Input'!C395:AZ395,\"0\"))","v":""},{"$f":"IF(ISBLANK('Data Input'!A395),\"\",SUM(C391,D391))","v":""},{"$f":"IF(ISBLANK('Data Input'!A395),\"\",SUM('Data Input'!C395:AZ395))","v":""},{"$f":"IF(F391=\"\",\"\",F391/(COUNTA('Data Input'!$C$8:$AZ$8)))","v":""},{"$f":"IF(ISBLANK('Data Input'!A395),\"\",SUM('Data Input'!C395,'Data Input'!H395,'Data Input'!J395,'Data Input'!N395,'Data Input'!R395,'Data Input'!T395,'Data Input'!Y395,'Data Input'!AE395,'Data Input'!AK395,'Data Input'!AM395))","v":""},{"$f":"IF(H391=\"\",\"\",H391/COUNTIF('Data Input'!$C$8:$AZ$8,$H$2))","v":""},{"$f":"IF(ISBLANK('Data Input'!A395),\"\",SUM('Data Input'!G395,'Data Input'!I395,'Data Input'!K395,'Data Input'!O395,'Data Input'!P395,'Data Input'!S395,'Data Input'!U395,'Data Input'!V395,'Data Input'!W395,'Data Input'!X395,'Data Input'!Z395,'Data Input'!AA395,'Data Input'!AD395,'Data Input'!AZ395))","v":""},{"$f":"IF(J391=\"\",\"\",J391/COUNTIF('Data Input'!$C$8:$AZ$8,$J$2))","v":""},{"$f":"IF(ISBLANK('Data Input'!A395),\"\",SUM('Data Input'!Q395,'Data Input'!AG395))","v":""},{"$f":"IF(L391=\"\",\"\",L391/COUNTIF('Data Input'!$C$8:$AZ$8,$L$2))","v":""},{"$f":"IF(ISBLANK('Data Input'!A395),\"\",SUM('Data Input'!D395,'Data Input'!E395,'Data Input'!F395,'Data Input'!L395,'Data Input'!M395,'Data Input'!AB395,'Data Input'!AC395,'Data Input'!AF395,'Data Input'!AJ395,'Data Input'!AL395,'Data Input'!AN395,'Data Input'!AO395,'Data Input'!AP395,'Data Input'!AQ395,'Data Input'!AR395,'Data Input'!AS395,'Data Input'!AT395,'Data Input'!AU395,'Data Input'!AV395,'Data Input'!AW395,'Data Input'!AX395,'Data Input'!AY395))","v":""},{"$f":"IF(N391=\"\",\"\",N391/COUNTIF('Data Input'!$C$8:$AZ$8,$N$2))","v":""},null,{"$f":"IF(P391=\"\",\"\",P391/COUNTIF('Data Input'!$C$8:$AZ$8,$P$2))","v":""},{"$f":"IF(ISBLANK('Data Input'!A395),\"\",SUM('Data Input'!AH395))","v":""},{"$f":"IF(R391=\"\",\"\",R391/COUNTIF('Data Input'!$C$8:$AZ$8,$R$2))","v":""},{"$f":"IF(ISBLANK('Data Input'!$A395),\"\",SUM('Data Input'!AI395))","v":""},{"$f":"IF(T391=\"\",\"\",T391/COUNTIF('Data Input'!$C$8:$AZ$8,$T$2))","v":""},null,{"$f":"IF(V391=\"\",\"\",V391/COUNTIF('Data Input'!$C$8:$AZ$8,$V$2))","v":""}]
[{"$f":"IF('Data Input'!A396=0,\"\",'Data Input'!A396)","v":""},{"$f":"IF(F392=\"\",\"\",IF(F392>Welcome!$J$20-1,\"Exceeding\",IF(F392>Welcome!$F$20-1,\"Expected\",IF(F392<Welcome!$F$20,\"Below\"))))","v":""},{"$f":"IF(ISBLANK('Data Input'!A396),\"\",COUNTIF('Data Input'!C396:AZ396,\"\"))","v":""},{"$f":"IF(ISBLANK('Data Input'!A396),\"\",COUNTIF('Data Input'!C396:AZ396,\"0\"))","v":""},{"$f":"IF(ISBLANK('Data Input'!A396),\"\",SUM(C392,D392))","v":""},{"$f":"IF(ISBLANK('Data Input'!A396),\"\",SUM('Data Input'!C396:AZ396))","v":""},{"$f":"IF(F392=\"\",\"\",F392/(COUNTA('Data Input'!$C$8:$AZ$8)))","v":""},{"$f":"IF(ISBLANK('Data Input'!A396),\"\",SUM('Data Input'!C396,'Data Input'!H396,'Data Input'!J396,'Data Input'!N396,'Data Input'!R396,'Data Input'!T396,'Data Input'!Y396,'Data Input'!AE396,'Data Input'!AK396,'Data Input'!AM396))","v":""},{"$f":"IF(H392=\"\",\"\",H392/COUNTIF('Data Input'!$C$8:$AZ$8,$H$2))","v":""},{"$f":"IF(ISBLANK('Data Input'!A396),\"\",SUM('Data Input'!G396,'Data Input'!I396,'Data Input'!K396,'Data Input'!O396,'Data Input'!P396,'Data Input'!S396,'Data Input'!U396,'Data Input'!V396,'Data Input'!W396,'Data Input'!X396,'Data Input'!Z396,'Data Input'!AA396,'Data Input'!AD396,'Data Input'!AZ396))","v":""},{"$f":"IF(J392=\"\",\"\",J392/COUNTIF('Data Input'!$C$8:$AZ$8,$J$2))","v":""},{"$f":"IF(ISBLANK('Data Input'!A396),\"\",SUM('Data Input'!Q396,'Data Input'!AG396))","v":""},{"$f":"IF(L392=\"\",\"\",L392/COUNTIF('Data Input'!$C$8:$AZ$8,$L$2))","v":""},{"$f":"IF(ISBLANK('Data Input'!A396),\"\",SUM('Data Input'!D396,'Data Input'!E396,'Data Input'!F396,'Data Input'!L396,'Data Input'!M396,'Data Input'!AB396,'Data Input'!AC396,'Data Input'!AF396,'Data Input'!AJ396,'Data Input'!AL396,'Data Input'!AN396,'Data Input'!AO396,'Data Input'!AP396,'Data Input'!AQ396,'Data Input'!AR396,'Data Input'!AS396,'Data Input'!AT396,'Data Input'!AU396,'Data Input'!AV396,'Data Input'!AW396,'Data Input'!AX396,'Data Input'!AY396))","v":""},{"$f":"IF(N392=\"\",\"\",N392/COUNTIF('Data Input'!$C$8:$AZ$8,$N$2))","v":""},null,{"$f":"IF(P392=\"\",\"\",P392/COUNTIF('Data Input'!$C$8:$AZ$8,$P$2))","v":""},{"$f":"IF(ISBLANK('Data Input'!A396),\"\",SUM('Data Input'!AH396))","v":""},{"$f":"IF(R392=\"\",\"\",R392/COUNTIF('Data Input'!$C$8:$AZ$8,$R$2))","v":""},{"$f":"IF(ISBLANK('Data Input'!$A396),\"\",SUM('Data Input'!AI396))","v":""},{"$f":"IF(T392=\"\",\"\",T392/COUNTIF('Data Input'!$C$8:$AZ$8,$T$2))","v":""},null,{"$f":"IF(V392=\"\",\"\",V392/COUNTIF('Data Input'!$C$8:$AZ$8,$V$2))","v":""}]
[{"$f":"IF('Data Input'!A397=0,\"\",'Data Input'!A397)","v":""},{"$f":"IF(F393=\"\",\"\",IF(F393>Welcome!$J$20-1,\"Exceeding\",IF(F393>Welcome!$F$20-1,\"Expected\",IF(F393<Welcome!$F$20,\"Below\"))))","v":""},{"$f":"IF(ISBLANK('Data Input'!A397),\"\",COUNTIF('Data Input'!C397:AZ397,\"\"))","v":""},{"$f":"IF(ISBLANK('Data Input'!A397),\"\",COUNTIF('Data Input'!C397:AZ397,\"0\"))","v":""},{"$f":"IF(ISBLANK('Data Input'!A397),\"\",SUM(C393,D393))","v":""},{"$f":"IF(ISBLANK('Data Input'!A397),\"\",SUM('Data Input'!C397:AZ397))","v":""},{"$f":"IF(F393=\"\",\"\",F393/(COUNTA('Data Input'!$C$8:$AZ$8)))","v":""},{"$f":"IF(ISBLANK('Data Input'!A397),\"\",SUM('Data Input'!C397,'Data Input'!H397,'Data Input'!J397,'Data Input'!N397,'Data Input'!R397,'Data Input'!T397,'Data Input'!Y397,'Data Input'!AE397,'Data Input'!AK397,'Data Input'!AM397))","v":""},{"$f":"IF(H393=\"\",\"\",H393/COUNTIF('Data Input'!$C$8:$AZ$8,$H$2))","v":""},{"$f":"IF(ISBLANK('Data Input'!A397),\"\",SUM('Data Input'!G397,'Data Input'!I397,'Data Input'!K397,'Data Input'!O397,'Data Input'!P397,'Data Input'!S397,'Data Input'!U397,'Data Input'!V397,'Data Input'!W397,'Data Input'!X397,'Data Input'!Z397,'Data Input'!AA397,'Data Input'!AD397,'Data Input'!AZ397))","v":""},{"$f":"IF(J393=\"\",\"\",J393/COUNTIF('Data Input'!$C$8:$AZ$8,$J$2))","v":""},{"$f":"IF(ISBLANK('Data Input'!A397),\"\",SUM('Data Input'!Q397,'Data Input'!AG397))","v":""},{"$f":"IF(L393=\"\",\"\",L393/COUNTIF('Data Input'!$C$8:$AZ$8,$L$2))","v":""},{"$f":"IF(ISBLANK('Data Input'!A397),\"\",SUM('Data Input'!D397,'Data Input'!E397,'Data Input'!F397,'Data Input'!L397,'Data Input'!M397,'Data Input'!AB397,'Data Input'!AC397,'Data Input'!AF397,'Data Input'!AJ397,'Data Input'!AL397,'Data Input'!AN397,'Data Input'!AO397,'Data Input'!AP397,'Data Input'!AQ397,'Data Input'!AR397,'Data Input'!AS397,'Data Input'!AT397,'Data Input'!AU397,'Data Input'!AV397,'Data Input'!AW397,'Data Input'!AX397,'Data Input'!AY397))","v":""},{"$f":"IF(N393=\"\",\"\",N393/COUNTIF('Data Input'!$C$8:$AZ$8,$N$2))","v":""},null,{"$f":"IF(P393=\"\",\"\",P393/COUNTIF('Data Input'!$C$8:$AZ$8,$P$2))","v":""},{"$f":"IF(ISBLANK('Data Input'!A397),\"\",SUM('Data Input'!AH397))","v":""},{"$f":"IF(R393=\"\",\"\",R393/COUNTIF('Data Input'!$C$8:$AZ$8,$R$2))","v":""},{"$f":"IF(ISBLANK('Data Input'!$A397),\"\",SUM('Data Input'!AI397))","v":""},{"$f":"IF(T393=\"\",\"\",T393/COUNTIF('Data Input'!$C$8:$AZ$8,$T$2))","v":""},null,{"$f":"IF(V393=\"\",\"\",V393/COUNTIF('Data Input'!$C$8:$AZ$8,$V$2))","v":""}]
[{"$f":"IF('Data Input'!A398=0,\"\",'Data Input'!A398)","v":""},{"$f":"IF(F394=\"\",\"\",IF(F394>Welcome!$J$20-1,\"Exceeding\",IF(F394>Welcome!$F$20-1,\"Expected\",IF(F394<Welcome!$F$20,\"Below\"))))","v":""},{"$f":"IF(ISBLANK('Data Input'!A398),\"\",COUNTIF('Data Input'!C398:AZ398,\"\"))","v":""},{"$f":"IF(ISBLANK('Data Input'!A398),\"\",COUNTIF('Data Input'!C398:AZ398,\"0\"))","v":""},{"$f":"IF(ISBLANK('Data Input'!A398),\"\",SUM(C394,D394))","v":""},{"$f":"IF(ISBLANK('Data Input'!A398),\"\",SUM('Data Input'!C398:AZ398))","v":""},{"$f":"IF(F394=\"\",\"\",F394/(COUNTA('Data Input'!$C$8:$AZ$8)))","v":""},{"$f":"IF(ISBLANK('Data Input'!A398),\"\",SUM('Data Input'!C398,'Data Input'!H398,'Data Input'!J398,'Data Input'!N398,'Data Input'!R398,'Data Input'!T398,'Data Input'!Y398,'Data Input'!AE398,'Data Input'!AK398,'Data Input'!AM398))","v":""},{"$f":"IF(H394=\"\",\"\",H394/COUNTIF('Data Input'!$C$8:$AZ$8,$H$2))","v":""},{"$f":"IF(ISBLANK('Data Input'!A398),\"\",SUM('Data Input'!G398,'Data Input'!I398,'Data Input'!K398,'Data Input'!O398,'Data Input'!P398,'Data Input'!S398,'Data Input'!U398,'Data Input'!V398,'Data Input'!W398,'Data Input'!X398,'Data Input'!Z398,'Data Input'!AA398,'Data Input'!AD398,'Data Input'!AZ398))","v":""},{"$f":"IF(J394=\"\",\"\",J394/COUNTIF('Data Input'!$C$8:$AZ$8,$J$2))","v":""},{"$f":"IF(ISBLANK('Data Input'!A398),\"\",SUM('Data Input'!Q398,'Data Input'!AG398))","v":""},{"$f":"IF(L394=\"\",\"\",L394/COUNTIF('Data Input'!$C$8:$AZ$8,$L$2))","v":""},{"$f":"IF(ISBLANK('Data Input'!A398),\"\",SUM('Data Input'!D398,'Data Input'!E398,'Data Input'!F398,'Data Input'!L398,'Data Input'!M398,'Data Input'!AB398,'Data Input'!AC398,'Data Input'!AF398,'Data Input'!AJ398,'Data Input'!AL398,'Data Input'!AN398,'Data Input'!AO398,'Data Input'!AP398,'Data Input'!AQ398,'Data Input'!AR398,'Data Input'!AS398,'Data Input'!AT398,'Data Input'!AU398,'Data Input'!AV398,'Data Input'!AW398,'Data Input'!AX398,'Data Input'!AY398))","v":""},{"$f":"IF(N394=\"\",\"\",N394/COUNTIF('Data Input'!$C$8:$AZ$8,$N$2))","v":""},null,{"$f":"IF(P394=\"\",\"\",P394/COUNTIF('Data Input'!$C$8:$AZ$8,$P$2))","v":""},{"$f":"IF(ISBLANK('Data Input'!A398),\"\",SUM('Data Input'!AH398))","v":""},{"$f":"IF(R394=\"\",\"\",R394/COUNTIF('Data Input'!$C$8:$AZ$8,$R$2))","v":""},{"$f":"IF(ISBLANK('Data Input'!$A398),\"\",SUM('Data Input'!AI398))","v":""},{"$f":"IF(T394=\"\",\"\",T394/COUNTIF('Data Input'!$C$8:$AZ$8,$T$2))","v":""},null,{"$f":"IF(V394=\"\",\"\",V394/COUNTIF('Data Input'!$C$8:$AZ$8,$V$2))","v":""}]
[{"$f":"IF('Data Input'!A399=0,\"\",'Data Input'!A399)","v":""},{"$f":"IF(F395=\"\",\"\",IF(F395>Welcome!$J$20-1,\"Exceeding\",IF(F395>Welcome!$F$20-1,\"Expected\",IF(F395<Welcome!$F$20,\"Below\"))))","v":""},{"$f":"IF(ISBLANK('Data Input'!A399),\"\",COUNTIF('Data Input'!C399:AZ399,\"\"))","v":""},{"$f":"IF(ISBLANK('Data Input'!A399),\"\",COUNTIF('Data Input'!C399:AZ399,\"0\"))","v":""},{"$f":"IF(ISBLANK('Data Input'!A399),\"\",SUM(C395,D395))","v":""},{"$f":"IF(ISBLANK('Data Input'!A399),\"\",SUM('Data Input'!C399:AZ399))","v":""},{"$f":"IF(F395=\"\",\"\",F395/(COUNTA('Data Input'!$C$8:$AZ$8)))","v":""},{"$f":"IF(ISBLANK('Data Input'!A399),\"\",SUM('Data Input'!C399,'Data Input'!H399,'Data Input'!J399,'Data Input'!N399,'Data Input'!R399,'Data Input'!T399,'Data Input'!Y399,'Data Input'!AE399,'Data Input'!AK399,'Data Input'!AM399))","v":""},{"$f":"IF(H395=\"\",\"\",H395/COUNTIF('Data Input'!$C$8:$AZ$8,$H$2))","v":""},{"$f":"IF(ISBLANK('Data Input'!A399),\"\",SUM('Data Input'!G399,'Data Input'!I399,'Data Input'!K399,'Data Input'!O399,'Data Input'!P399,'Data Input'!S399,'Data Input'!U399,'Data Input'!V399,'Data Input'!W399,'Data Input'!X399,'Data Input'!Z399,'Data Input'!AA399,'Data Input'!AD399,'Data Input'!AZ399))","v":""},{"$f":"IF(J395=\"\",\"\",J395/COUNTIF('Data Input'!$C$8:$AZ$8,$J$2))","v":""},{"$f":"IF(ISBLANK('Data Input'!A399),\"\",SUM('Data Input'!Q399,'Data Input'!AG399))","v":""},{"$f":"IF(L395=\"\",\"\",L395/COUNTIF('Data Input'!$C$8:$AZ$8,$L$2))","v":""},{"$f":"IF(ISBLANK('Data Input'!A399),\"\",SUM('Data Input'!D399,'Data Input'!E399,'Data Input'!F399,'Data Input'!L399,'Data Input'!M399,'Data Input'!AB399,'Data Input'!AC399,'Data Input'!AF399,'Data Input'!AJ399,'Data Input'!AL399,'Data Input'!AN399,'Data Input'!AO399,'Data Input'!AP399,'Data Input'!AQ399,'Data Input'!AR399,'Data Input'!AS399,'Data Input'!AT399,'Data Input'!AU399,'Data Input'!AV399,'Data Input'!AW399,'Data Input'!AX399,'Data Input'!AY399))","v":""},{"$f":"IF(N395=\"\",\"\",N395/COUNTIF('Data Input'!$C$8:$AZ$8,$N$2))","v":""},null,{"$f":"IF(P395=\"\",\"\",P395/COUNTIF('Data Input'!$C$8:$AZ$8,$P$2))","v":""},{"$f":"IF(ISBLANK('Data Input'!A399),\"\",SUM('Data Input'!AH399))","v":""},{"$f":"IF(R395=\"\",\"\",R395/COUNTIF('Data Input'!$C$8:$AZ$8,$R$2))","v":""},{"$f":"IF(ISBLANK('Data Input'!$A399),\"\",SUM('Data Input'!AI399))","v":""},{"$f":"IF(T395=\"\",\"\",T395/COUNTIF('Data Input'!$C$8:$AZ$8,$T$2))","v":""},null,{"$f":"IF(V395=\"\",\"\",V395/COUNTIF('Data Input'!$C$8:$AZ$8,$V$2))","v":""}]
[{"$f":"IF('Data Input'!A400=0,\"\",'Data Input'!A400)","v":""},{"$f":"IF(F396=\"\",\"\",IF(F396>Welcome!$J$20-1,\"Exceeding\",IF(F396>Welcome!$F$20-1,\"Expected\",IF(F396<Welcome!$F$20,\"Below\"))))","v":""},{"$f":"IF(ISBLANK('Data Input'!A400),\"\",COUNTIF('Data Input'!C400:AZ400,\"\"))","v":""},{"$f":"IF(ISBLANK('Data Input'!A400),\"\",COUNTIF('Data Input'!C400:AZ400,\"0\"))","v":""},{"$f":"IF(ISBLANK('Data Input'!A400),\"\",SUM(C396,D396))","v":""},{"$f":"IF(ISBLANK('Data Input'!A400),\"\",SUM('Data Input'!C400:AZ400))","v":""},{"$f":"IF(F396=\"\",\"\",F396/(COUNTA('Data Input'!$C$8:$AZ$8)))","v":""},{"$f":"IF(ISBLANK('Data Input'!A400),\"\",SUM('Data Input'!C400,'Data Input'!H400,'Data Input'!J400,'Data Input'!N400,'Data Input'!R400,'Data Input'!T400,'Data Input'!Y400,'Data Input'!AE400,'Data Input'!AK400,'Data Input'!AM400))","v":""},{"$f":"IF(H396=\"\",\"\",H396/COUNTIF('Data Input'!$C$8:$AZ$8,$H$2))","v":""},{"$f":"IF(ISBLANK('Data Input'!A400),\"\",SUM('Data Input'!G400,'Data Input'!I400,'Data Input'!K400,'Data Input'!O400,'Data Input'!P400,'Data Input'!S400,'Data Input'!U400,'Data Input'!V400,'Data Input'!W400,'Data Input'!X400,'Data Input'!Z400,'Data Input'!AA400,'Data Input'!AD400,'Data Input'!AZ400))","v":""},{"$f":"IF(J396=\"\",\"\",J396/COUNTIF('Data Input'!$C$8:$AZ$8,$J$2))","v":""},{"$f":"IF(ISBLANK('Data Input'!A400),\"\",SUM('Data Input'!Q400,'Data Input'!AG400))","v":""},{"$f":"IF(L396=\"\",\"\",L396/COUNTIF('Data Input'!$C$8:$AZ$8,$L$2))","v":""},{"$f":"IF(ISBLANK('Data Input'!A400),\"\",SUM('Data Input'!D400,'Data Input'!E400,'Data Input'!F400,'Data Input'!L400,'Data Input'!M400,'Data Input'!AB400,'Data Input'!AC400,'Data Input'!AF400,'Data Input'!AJ400,'Data Input'!AL400,'Data Input'!AN400,'Data Input'!AO400,'Data Input'!AP400,'Data Input'!AQ400,'Data Input'!AR400,'Data Input'!AS400,'Data Input'!AT400,'Data Input'!AU400,'Data Input'!AV400,'Data Input'!AW400,'Data Input'!AX400,'Data Input'!AY400))","v":""},{"$f":"IF(N396=\"\",\"\",N396/COUNTIF('Data Input'!$C$8:$AZ$8,$N$2))","v":""},null,{"$f":"IF(P396=\"\",\"\",P396/COUNTIF('Data Input'!$C$8:$AZ$8,$P$2))","v":""},{"$f":"IF(ISBLANK('Data Input'!A400),\"\",SUM('Data Input'!AH400))","v":""},{"$f":"IF(R396=\"\",\"\",R396/COUNTIF('Data Input'!$C$8:$AZ$8,$R$2))","v":""},{"$f":"IF(ISBLANK('Data Input'!$A400),\"\",SUM('Data Input'!AI400))","v":""},{"$f":"IF(T396=\"\",\"\",T396/COUNTIF('Data Input'!$C$8:$AZ$8,$T$2))","v":""},null,{"$f":"IF(V396=\"\",\"\",V396/COUNTIF('Data Input'!$C$8:$AZ$8,$V$2))","v":""}]
[{"$f":"IF('Data Input'!A401=0,\"\",'Data Input'!A401)","v":""},{"$f":"IF(F397=\"\",\"\",IF(F397>Welcome!$J$20-1,\"Exceeding\",IF(F397>Welcome!$F$20-1,\"Expected\",IF(F397<Welcome!$F$20,\"Below\"))))","v":""},{"$f":"IF(ISBLANK('Data Input'!A401),\"\",COUNTIF('Data Input'!C401:AZ401,\"\"))","v":""},{"$f":"IF(ISBLANK('Data Input'!A401),\"\",COUNTIF('Data Input'!C401:AZ401,\"0\"))","v":""},{"$f":"IF(ISBLANK('Data Input'!A401),\"\",SUM(C397,D397))","v":""},{"$f":"IF(ISBLANK('Data Input'!A401),\"\",SUM('Data Input'!C401:AZ401))","v":""},{"$f":"IF(F397=\"\",\"\",F397/(COUNTA('Data Input'!$C$8:$AZ$8)))","v":""},{"$f":"IF(ISBLANK('Data Input'!A401),\"\",SUM('Data Input'!C401,'Data Input'!H401,'Data Input'!J401,'Data Input'!N401,'Data Input'!R401,'Data Input'!T401,'Data Input'!Y401,'Data Input'!AE401,'Data Input'!AK401,'Data Input'!AM401))","v":""},{"$f":"IF(H397=\"\",\"\",H397/COUNTIF('Data Input'!$C$8:$AZ$8,$H$2))","v":""},{"$f":"IF(ISBLANK('Data Input'!A401),\"\",SUM('Data Input'!G401,'Data Input'!I401,'Data Input'!K401,'Data Input'!O401,'Data Input'!P401,'Data Input'!S401,'Data Input'!U401,'Data Input'!V401,'Data Input'!W401,'Data Input'!X401,'Data Input'!Z401,'Data Input'!AA401,'Data Input'!AD401,'Data Input'!AZ401))","v":""},{"$f":"IF(J397=\"\",\"\",J397/COUNTIF('Data Input'!$C$8:$AZ$8,$J$2))","v":""},{"$f":"IF(ISBLANK('Data Input'!A401),\"\",SUM('Data Input'!Q401,'Data Input'!AG401))","v":""},{"$f":"IF(L397=\"\",\"\",L397/COUNTIF('Data Input'!$C$8:$AZ$8,$L$2))","v":""},{"$f":"IF(ISBLANK('Data Input'!A401),\"\",SUM('Data Input'!D401,'Data Input'!E401,'Data Input'!F401,'Data Input'!L401,'Data Input'!M401,'Data Input'!AB401,'Data Input'!AC401,'Data Input'!AF401,'Data Input'!AJ401,'Data Input'!AL401,'Data Input'!AN401,'Data Input'!AO401,'Data Input'!AP401,'Data Input'!AQ401,'Data Input'!AR401,'Data Input'!AS401,'Data Input'!AT401,'Data Input'!AU401,'Data Input'!AV401,'Data Input'!AW401,'Data Input'!AX401,'Data Input'!AY401))","v":""},{"$f":"IF(N397=\"\",\"\",N397/COUNTIF('Data Input'!$C$8:$AZ$8,$N$2))","v":""},null,{"$f":"IF(P397=\"\",\"\",P397/COUNTIF('Data Input'!$C$8:$AZ$8,$P$2))","v":""},{"$f":"IF(ISBLANK('Data Input'!A401),\"\",SUM('Data Input'!AH401))","v":""},{"$f":"IF(R397=\"\",\"\",R397/COUNTIF('Data Input'!$C$8:$AZ$8,$R$2))","v":""},{"$f":"IF(ISBLANK('Data Input'!$A401),\"\",SUM('Data Input'!AI401))","v":""},{"$f":"IF(T397=\"\",\"\",T397/COUNTIF('Data Input'!$C$8:$AZ$8,$T$2))","v":""},null,{"$f":"IF(V397=\"\",\"\",V397/COUNTIF('Data Input'!$C$8:$AZ$8,$V$2))","v":""}]
[{"$f":"IF('Data Input'!A402=0,\"\",'Data Input'!A402)","v":""},{"$f":"IF(F398=\"\",\"\",IF(F398>Welcome!$J$20-1,\"Exceeding\",IF(F398>Welcome!$F$20-1,\"Expected\",IF(F398<Welcome!$F$20,\"Below\"))))","v":""},{"$f":"IF(ISBLANK('Data Input'!A402),\"\",COUNTIF('Data Input'!C402:AZ402,\"\"))","v":""},{"$f":"IF(ISBLANK('Data Input'!A402),\"\",COUNTIF('Data Input'!C402:AZ402,\"0\"))","v":""},{"$f":"IF(ISBLANK('Data Input'!A402),\"\",SUM(C398,D398))","v":""},{"$f":"IF(ISBLANK('Data Input'!A402),\"\",SUM('Data Input'!C402:AZ402))","v":""},{"$f":"IF(F398=\"\",\"\",F398/(COUNTA('Data Input'!$C$8:$AZ$8)))","v":""},{"$f":"IF(ISBLANK('Data Input'!A402),\"\",SUM('Data Input'!C402,'Data Input'!H402,'Data Input'!J402,'Data Input'!N402,'Data Input'!R402,'Data Input'!T402,'Data Input'!Y402,'Data Input'!AE402,'Data Input'!AK402,'Data Input'!AM402))","v":""},{"$f":"IF(H398=\"\",\"\",H398/COUNTIF('Data Input'!$C$8:$AZ$8,$H$2))","v":""},{"$f":"IF(ISBLANK('Data Input'!A402),\"\",SUM('Data Input'!G402,'Data Input'!I402,'Data Input'!K402,'Data Input'!O402,'Data Input'!P402,'Data Input'!S402,'Data Input'!U402,'Data Input'!V402,'Data Input'!W402,'Data Input'!X402,'Data Input'!Z402,'Data Input'!AA402,'Data Input'!AD402,'Data Input'!AZ402))","v":""},{"$f":"IF(J398=\"\",\"\",J398/COUNTIF('Data Input'!$C$8:$AZ$8,$J$2))","v":""},{"$f":"IF(ISBLANK('Data Input'!A402),\"\",SUM('Data Input'!Q402,'Data Input'!AG402))","v":""},{"$f":"IF(L398=\"\",\"\",L398/COUNTIF('Data Input'!$C$8:$AZ$8,$L$2))","v":""},{"$f":"IF(ISBLANK('Data Input'!A402),\"\",SUM('Data Input'!D402,'Data Input'!E402,'Data Input'!F402,'Data Input'!L402,'Data Input'!M402,'Data Input'!AB402,'Data Input'!AC402,'Data Input'!AF402,'Data Input'!AJ402,'Data Input'!AL402,'Data Input'!AN402,'Data Input'!AO402,'Data Input'!AP402,'Data Input'!AQ402,'Data Input'!AR402,'Data Input'!AS402,'Data Input'!AT402,'Data Input'!AU402,'Data Input'!AV402,'Data Input'!AW402,'Data Input'!AX402,'Data Input'!AY402))","v":""},{"$f":"IF(N398=\"\",\"\",N398/COUNTIF('Data Input'!$C$8:$AZ$8,$N$2))","v":""},null,{"$f":"IF(P398=\"\",\"\",P398/COUNTIF('Data Input'!$C$8:$AZ$8,$P$2))","v":""},{"$f":"IF(ISBLANK('Data Input'!A402),\"\",SUM('Data Input'!AH402))","v":""},{"$f":"IF(R398=\"\",\"\",R398/COUNTIF('Data Input'!$C$8:$AZ$8,$R$2))","v":""},{"$f":"IF(ISBLANK('Data Input'!$A402),\"\",SUM('Data Input'!AI402))","v":""},{"$f":"IF(T398=\"\",\"\",T398/COUNTIF('Data Input'!$C$8:$AZ$8,$T$2))","v":""},null,{"$f":"IF(V398=\"\",\"\",V398/COUNTIF('Data Input'!$C$8:$AZ$8,$V$2))","v":""}]
[{"$f":"IF('Data Input'!A403=0,\"\",'Data Input'!A403)","v":""},{"$f":"IF(F399=\"\",\"\",IF(F399>Welcome!$J$20-1,\"Exceeding\",IF(F399>Welcome!$F$20-1,\"Expected\",IF(F399<Welcome!$F$20,\"Below\"))))","v":""},{"$f":"IF(ISBLANK('Data Input'!A403),\"\",COUNTIF('Data Input'!C403:AZ403,\"\"))","v":""},{"$f":"IF(ISBLANK('Data Input'!A403),\"\",COUNTIF('Data Input'!C403:AZ403,\"0\"))","v":""},{"$f":"IF(ISBLANK('Data Input'!A403),\"\",SUM(C399,D399))","v":""},{"$f":"IF(ISBLANK('Data Input'!A403),\"\",SUM('Data Input'!C403:AZ403))","v":""},{"$f":"IF(F399=\"\",\"\",F399/(COUNTA('Data Input'!$C$8:$AZ$8)))","v":""},{"$f":"IF(ISBLANK('Data Input'!A403),\"\",SUM('Data Input'!C403,'Data Input'!H403,'Data Input'!J403,'Data Input'!N403,'Data Input'!R403,'Data Input'!T403,'Data Input'!Y403,'Data Input'!AE403,'Data Input'!AK403,'Data Input'!AM403))","v":""},{"$f":"IF(H399=\"\",\"\",H399/COUNTIF('Data Input'!$C$8:$AZ$8,$H$2))","v":""},{"$f":"IF(ISBLANK('Data Input'!A403),\"\",SUM('Data Input'!G403,'Data Input'!I403,'Data Input'!K403,'Data Input'!O403,'Data Input'!P403,'Data Input'!S403,'Data Input'!U403,'Data Input'!V403,'Data Input'!W403,'Data Input'!X403,'Data Input'!Z403,'Data Input'!AA403,'Data Input'!AD403,'Data Input'!AZ403))","v":""},{"$f":"IF(J399=\"\",\"\",J399/COUNTIF('Data Input'!$C$8:$AZ$8,$J$2))","v":""},{"$f":"IF(ISBLANK('Data Input'!A403),\"\",SUM('Data Input'!Q403,'Data Input'!AG403))","v":""},{"$f":"IF(L399=\"\",\"\",L399/COUNTIF('Data Input'!$C$8:$AZ$8,$L$2))","v":""},{"$f":"IF(ISBLANK('Data Input'!A403),\"\",SUM('Data Input'!D403,'Data Input'!E403,'Data Input'!F403,'Data Input'!L403,'Data Input'!M403,'Data Input'!AB403,'Data Input'!AC403,'Data Input'!AF403,'Data Input'!AJ403,'Data Input'!AL403,'Data Input'!AN403,'Data Input'!AO403,'Data Input'!AP403,'Data Input'!AQ403,'Data Input'!AR403,'Data Input'!AS403,'Data Input'!AT403,'Data Input'!AU403,'Data Input'!AV403,'Data Input'!AW403,'Data Input'!AX403,'Data Input'!AY403))","v":""},{"$f":"IF(N399=\"\",\"\",N399/COUNTIF('Data Input'!$C$8:$AZ$8,$N$2))","v":""},null,{"$f":"IF(P399=\"\",\"\",P399/COUNTIF('Data Input'!$C$8:$AZ$8,$P$2))","v":""},{"$f":"IF(ISBLANK('Data Input'!A403),\"\",SUM('Data Input'!AH403))","v":""},{"$f":"IF(R399=\"\",\"\",R399/COUNTIF('Data Input'!$C$8:$AZ$8,$R$2))","v":""},{"$f":"IF(ISBLANK('Data Input'!$A403),\"\",SUM('Data Input'!AI403))","v":""},{"$f":"IF(T399=\"\",\"\",T399/COUNTIF('Data Input'!$C$8:$AZ$8,$T$2))","v":""},null,{"$f":"IF(V399=\"\",\"\",V399/COUNTIF('Data Input'!$C$8:$AZ$8,$V$2))","v":""}]
[{"$f":"IF('Data Input'!A404=0,\"\",'Data Input'!A404)","v":""},{"$f":"IF(F400=\"\",\"\",IF(F400>Welcome!$J$20-1,\"Exceeding\",IF(F400>Welcome!$F$20-1,\"Expected\",IF(F400<Welcome!$F$20,\"Below\"))))","v":""},{"$f":"IF(ISBLANK('Data Input'!A404),\"\",COUNTIF('Data Input'!C404:AZ404,\"\"))","v":""},{"$f":"IF(ISBLANK('Data Input'!A404),\"\",COUNTIF('Data Input'!C404:AZ404,\"0\"))","v":""},{"$f":"IF(ISBLANK('Data Input'!A404),\"\",SUM(C400,D400))","v":""},{"$f":"IF(ISBLANK('Data Input'!A404),\"\",SUM('Data Input'!C404:AZ404))","v":""},{"$f":"IF(F400=\"\",\"\",F400/(COUNTA('Data Input'!$C$8:$AZ$8)))","v":""},{"$f":"IF(ISBLANK('Data Input'!A404),\"\",SUM('Data Input'!C404,'Data Input'!H404,'Data Input'!J404,'Data Input'!N404,'Data Input'!R404,'Data Input'!T404,'Data Input'!Y404,'Data Input'!AE404,'Data Input'!AK404,'Data Input'!AM404))","v":""},{"$f":"IF(H400=\"\",\"\",H400/COUNTIF('Data Input'!$C$8:$AZ$8,$H$2))","v":""},{"$f":"IF(ISBLANK('Data Input'!A404),\"\",SUM('Data Input'!G404,'Data Input'!I404,'Data Input'!K404,'Data Input'!O404,'Data Input'!P404,'Data Input'!S404,'Data Input'!U404,'Data Input'!V404,'Data Input'!W404,'Data Input'!X404,'Data Input'!Z404,'Data Input'!AA404,'Data Input'!AD404,'Data Input'!AZ404))","v":""},{"$f":"IF(J400=\"\",\"\",J400/COUNTIF('Data Input'!$C$8:$AZ$8,$J$2))","v":""},{"$f":"IF(ISBLANK('Data Input'!A404),\"\",SUM('Data Input'!Q404,'Data Input'!AG404))","v":""},{"$f":"IF(L400=\"\",\"\",L400/COUNTIF('Data Input'!$C$8:$AZ$8,$L$2))","v":""},{"$f":"IF(ISBLANK('Data Input'!A404),\"\",SUM('Data Input'!D404,'Data Input'!E404,'Data Input'!F404,'Data Input'!L404,'Data Input'!M404,'Data Input'!AB404,'Data Input'!AC404,'Data Input'!AF404,'Data Input'!AJ404,'Data Input'!AL404,'Data Input'!AN404,'Data Input'!AO404,'Data Input'!AP404,'Data Input'!AQ404,'Data Input'!AR404,'Data Input'!AS404,'Data Input'!AT404,'Data Input'!AU404,'Data Input'!AV404,'Data Input'!AW404,'Data Input'!AX404,'Data Input'!AY404))","v":""},{"$f":"IF(N400=\"\",\"\",N400/COUNTIF('Data Input'!$C$8:$AZ$8,$N$2))","v":""},null,{"$f":"IF(P400=\"\",\"\",P400/COUNTIF('Data Input'!$C$8:$AZ$8,$P$2))","v":""},{"$f":"IF(ISBLANK('Data Input'!A404),\"\",SUM('Data Input'!AH404))","v":""},{"$f":"IF(R400=\"\",\"\",R400/COUNTIF('Data Input'!$C$8:$AZ$8,$R$2))","v":""},{"$f":"IF(ISBLANK('Data Input'!$A404),\"\",SUM('Data Input'!AI404))","v":""},{"$f":"IF(T400=\"\",\"\",T400/COUNTIF('Data Input'!$C$8:$AZ$8,$T$2))","v":""},null,{"$f":"IF(V400=\"\",\"\",V400/COUNTIF('Data Input'!$C$8:$AZ$8,$V$2))","v":""}]
[{"$f":"IF('Data Input'!A405=0,\"\",'Data Input'!A405)","v":""},{"$f":"IF(F401=\"\",\"\",IF(F401>Welcome!$J$20-1,\"Exceeding\",IF(F401>Welcome!$F$20-1,\"Expected\",IF(F401<Welcome!$F$20,\"Below\"))))","v":""},{"$f":"IF(ISBLANK('Data Input'!A405),\"\",COUNTIF('Data Input'!C405:AZ405,\"\"))","v":""},{"$f":"IF(ISBLANK('Data Input'!A405),\"\",COUNTIF('Data Input'!C405:AZ405,\"0\"))","v":""},{"$f":"IF(ISBLANK('Data Input'!A405),\"\",SUM(C401,D401))","v":""},{"$f":"IF(ISBLANK('Data Input'!A405),\"\",SUM('Data Input'!C405:AZ405))","v":""},{"$f":"IF(F401=\"\",\"\",F401/(COUNTA('Data Input'!$C$8:$AZ$8)))","v":""},{"$f":"IF(ISBLANK('Data Input'!A405),\"\",SUM('Data Input'!C405,'Data Input'!H405,'Data Input'!J405,'Data Input'!N405,'Data Input'!R405,'Data Input'!T405,'Data Input'!Y405,'Data Input'!AE405,'Data Input'!AK405,'Data Input'!AM405))","v":""},{"$f":"IF(H401=\"\",\"\",H401/COUNTIF('Data Input'!$C$8:$AZ$8,$H$2))","v":""},{"$f":"IF(ISBLANK('Data Input'!A405),\"\",SUM('Data Input'!G405,'Data Input'!I405,'Data Input'!K405,'Data Input'!O405,'Data Input'!P405,'Data Input'!S405,'Data Input'!U405,'Data Input'!V405,'Data Input'!W405,'Data Input'!X405,'Data Input'!Z405,'Data Input'!AA405,'Data Input'!AD405,'Data Input'!AZ405))","v":""},{"$f":"IF(J401=\"\",\"\",J401/COUNTIF('Data Input'!$C$8:$AZ$8,$J$2))","v":""},{"$f":"IF(ISBLANK('Data Input'!A405),\"\",SUM('Data Input'!Q405,'Data Input'!AG405))","v":""},{"$f":"IF(L401=\"\",\"\",L401/COUNTIF('Data Input'!$C$8:$AZ$8,$L$2))","v":""},{"$f":"IF(ISBLANK('Data Input'!A405),\"\",SUM('Data Input'!D405,'Data Input'!E405,'Data Input'!F405,'Data Input'!L405,'Data Input'!M405,'Data Input'!AB405,'Data Input'!AC405,'Data Input'!AF405,'Data Input'!AJ405,'Data Input'!AL405,'Data Input'!AN405,'Data Input'!AO405,'Data Input'!AP405,'Data Input'!AQ405,'Data Input'!AR405,'Data Input'!AS405,'Data Input'!AT405,'Data Input'!AU405,'Data Input'!AV405,'Data Input'!AW405,'Data Input'!AX405,'Data Input'!AY405))","v":""},{"$f":"IF(N401=\"\",\"\",N401/COUNTIF('Data Input'!$C$8:$AZ$8,$N$2))","v":""},null,{"$f":"IF(P401=\"\",\"\",P401/COUNTIF('Data Input'!$C$8:$AZ$8,$P$2))","v":""},{"$f":"IF(ISBLANK('Data Input'!A405),\"\",SUM('Data Input'!AH405))","v":""},{"$f":"IF(R401=\"\",\"\",R401/COUNTIF('Data Input'!$C$8:$AZ$8,$R$2))","v":""},{"$f":"IF(ISBLANK('Data Input'!$A405),\"\",SUM('Data Input'!AI405))","v":""},{"$f":"IF(T401=\"\",\"\",T401/COUNTIF('Data Input'!$C$8:$AZ$8,$T$2))","v":""},null,{"$f":"IF(V401=\"\",\"\",V401/COUNTIF('Data Input'!$C$8:$AZ$8,$V$2))","v":""}]
[{"$f":"IF('Data Input'!A406=0,\"\",'Data Input'!A406)","v":""},{"$f":"IF(F402=\"\",\"\",IF(F402>Welcome!$J$20-1,\"Exceeding\",IF(F402>Welcome!$F$20-1,\"Expected\",IF(F402<Welcome!$F$20,\"Below\"))))","v":""},{"$f":"IF(ISBLANK('Data Input'!A406),\"\",COUNTIF('Data Input'!C406:AZ406,\"\"))","v":""},{"$f":"IF(ISBLANK('Data Input'!A406),\"\",COUNTIF('Data Input'!C406:AZ406,\"0\"))","v":""},{"$f":"IF(ISBLANK('Data Input'!A406),\"\",SUM(C402,D402))","v":""},{"$f":"IF(ISBLANK('Data Input'!A406),\"\",SUM('Data Input'!C406:AZ406))","v":""},{"$f":"IF(F402=\"\",\"\",F402/(COUNTA('Data Input'!$C$8:$AZ$8)))","v":""},{"$f":"IF(ISBLANK('Data Input'!A406),\"\",SUM('Data Input'!C406,'Data Input'!H406,'Data Input'!J406,'Data Input'!N406,'Data Input'!R406,'Data Input'!T406,'Data Input'!Y406,'Data Input'!AE406,'Data Input'!AK406,'Data Input'!AM406))","v":""},{"$f":"IF(H402=\"\",\"\",H402/COUNTIF('Data Input'!$C$8:$AZ$8,$H$2))","v":""},{"$f":"IF(ISBLANK('Data Input'!A406),\"\",SUM('Data Input'!G406,'Data Input'!I406,'Data Input'!K406,'Data Input'!O406,'Data Input'!P406,'Data Input'!S406,'Data Input'!U406,'Data Input'!V406,'Data Input'!W406,'Data Input'!X406,'Data Input'!Z406,'Data Input'!AA406,'Data Input'!AD406,'Data Input'!AZ406))","v":""},{"$f":"IF(J402=\"\",\"\",J402/COUNTIF('Data Input'!$C$8:$AZ$8,$J$2))","v":""},{"$f":"IF(ISBLANK('Data Input'!A406),\"\",SUM('Data Input'!Q406,'Data Input'!AG406))","v":""},{"$f":"IF(L402=\"\",\"\",L402/COUNTIF('Data Input'!$C$8:$AZ$8,$L$2))","v":""},{"$f":"IF(ISBLANK('Data Input'!A406),\"\",SUM('Data Input'!D406,'Data Input'!E406,'Data Input'!F406,'Data Input'!L406,'Data Input'!M406,'Data Input'!AB406,'Data Input'!AC406,'Data Input'!AF406,'Data Input'!AJ406,'Data Input'!AL406,'Data Input'!AN406,'Data Input'!AO406,'Data Input'!AP406,'Data Input'!AQ406,'Data Input'!AR406,'Data Input'!AS406,'Data Input'!AT406,'Data Input'!AU406,'Data Input'!AV406,'Data Input'!AW406,'Data Input'!AX406,'Data Input'!AY406))","v":""},{"$f":"IF(N402=\"\",\"\",N402/COUNTIF('Data Input'!$C$8:$AZ$8,$N$2))","v":""},null,{"$f":"IF(P402=\"\",\"\",P402/COUNTIF('Data Input'!$C$8:$AZ$8,$P$2))","v":""},{"$f":"IF(ISBLANK('Data Input'!A406),\"\",SUM('Data Input'!AH406))","v":""},{"$f":"IF(R402=\"\",\"\",R402/COUNTIF('Data Input'!$C$8:$AZ$8,$R$2))","v":""},{"$f":"IF(ISBLANK('Data Input'!$A406),\"\",SUM('Data Input'!AI406))","v":""},{"$f":"IF(T402=\"\",\"\",T402/COUNTIF('Data Input'!$C$8:$AZ$8,$T$2))","v":""},null,{"$f":"IF(V402=\"\",\"\",V402/COUNTIF('Data Input'!$C$8:$AZ$8,$V$2))","v":""}]
[{"$f":"IF('Data Input'!A407=0,\"\",'Data Input'!A407)","v":""},{"$f":"IF(F403=\"\",\"\",IF(F403>Welcome!$J$20-1,\"Exceeding\",IF(F403>Welcome!$F$20-1,\"Expected\",IF(F403<Welcome!$F$20,\"Below\"))))","v":""},{"$f":"IF(ISBLANK('Data Input'!A407),\"\",COUNTIF('Data Input'!C407:AZ407,\"\"))","v":""},{"$f":"IF(ISBLANK('Data Input'!A407),\"\",COUNTIF('Data Input'!C407:AZ407,\"0\"))","v":""},{"$f":"IF(ISBLANK('Data Input'!A407),\"\",SUM(C403,D403))","v":""},{"$f":"IF(ISBLANK('Data Input'!A407),\"\",SUM('Data Input'!C407:AZ407))","v":""},{"$f":"IF(F403=\"\",\"\",F403/(COUNTA('Data Input'!$C$8:$AZ$8)))","v":""},{"$f":"IF(ISBLANK('Data Input'!A407),\"\",SUM('Data Input'!C407,'Data Input'!H407,'Data Input'!J407,'Data Input'!N407,'Data Input'!R407,'Data Input'!T407,'Data Input'!Y407,'Data Input'!AE407,'Data Input'!AK407,'Data Input'!AM407))","v":""},{"$f":"IF(H403=\"\",\"\",H403/COUNTIF('Data Input'!$C$8:$AZ$8,$H$2))","v":""},{"$f":"IF(ISBLANK('Data Input'!A407),\"\",SUM('Data Input'!G407,'Data Input'!I407,'Data Input'!K407,'Data Input'!O407,'Data Input'!P407,'Data Input'!S407,'Data Input'!U407,'Data Input'!V407,'Data Input'!W407,'Data Input'!X407,'Data Input'!Z407,'Data Input'!AA407,'Data Input'!AD407,'Data Input'!AZ407))","v":""},{"$f":"IF(J403=\"\",\"\",J403/COUNTIF('Data Input'!$C$8:$AZ$8,$J$2))","v":""},{"$f":"IF(ISBLANK('Data Input'!A407),\"\",SUM('Data Input'!Q407,'Data Input'!AG407))","v":""},{"$f":"IF(L403=\"\",\"\",L403/COUNTIF('Data Input'!$C$8:$AZ$8,$L$2))","v":""},{"$f":"IF(ISBLANK('Data Input'!A407),\"\",SUM('Data Input'!D407,'Data Input'!E407,'Data Input'!F407,'Data Input'!L407,'Data Input'!M407,'Data Input'!AB407,'Data Input'!AC407,'Data Input'!AF407,'Data Input'!AJ407,'Data Input'!AL407,'Data Input'!AN407,'Data Input'!AO407,'Data Input'!AP407,'Data Input'!AQ407,'Data Input'!AR407,'Data Input'!AS407,'Data Input'!AT407,'Data Input'!AU407,'Data Input'!AV407,'Data Input'!AW407,'Data Input'!AX407,'Data Input'!AY407))","v":""},{"$f":"IF(N403=\"\",\"\",N403/COUNTIF('Data Input'!$C$8:$AZ$8,$N$2))","v":""},null,{"$f":"IF(P403=\"\",\"\",P403/COUNTIF('Data Input'!$C$8:$AZ$8,$P$2))","v":""},{"$f":"IF(ISBLANK('Data Input'!A407),\"\",SUM('Data Input'!AH407))","v":""},{"$f":"IF(R403=\"\",\"\",R403/COUNTIF('Data Input'!$C$8:$AZ$8,$R$2))","v":""},{"$f":"IF(ISBLANK('Data Input'!$A407),\"\",SUM('Data Input'!AI407))","v":""},{"$f":"IF(T403=\"\",\"\",T403/COUNTIF('Data Input'!$C$8:$AZ$8,$T$2))","v":""},null,{"$f":"IF(V403=\"\",\"\",V403/COUNTIF('Data Input'!$C$8:$AZ$8,$V$2))","v":""}]
[{"$f":"IF('Data Input'!A408=0,\"\",'Data Input'!A408)","v":""},{"$f":"IF(F404=\"\",\"\",IF(F404>Welcome!$J$20-1,\"Exceeding\",IF(F404>Welcome!$F$20-1,\"Expected\",IF(F404<Welcome!$F$20,\"Below\"))))","v":""},{"$f":"IF(ISBLANK('Data Input'!A408),\"\",COUNTIF('Data Input'!C408:AZ408,\"\"))","v":""},{"$f":"IF(ISBLANK('Data Input'!A408),\"\",COUNTIF('Data Input'!C408:AZ408,\"0\"))","v":""},{"$f":"IF(ISBLANK('Data Input'!A408),\"\",SUM(C404,D404))","v":""},{"$f":"IF(ISBLANK('Data Input'!A408),\"\",SUM('Data Input'!C408:AZ408))","v":""},{"$f":"IF(F404=\"\",\"\",F404/(COUNTA('Data Input'!$C$8:$AZ$8)))","v":""},{"$f":"IF(ISBLANK('Data Input'!A408),\"\",SUM('Data Input'!C408,'Data Input'!H408,'Data Input'!J408,'Data Input'!N408,'Data Input'!R408,'Data Input'!T408,'Data Input'!Y408,'Data Input'!AE408,'Data Input'!AK408,'Data Input'!AM408))","v":""},{"$f":"IF(H404=\"\",\"\",H404/COUNTIF('Data Input'!$C$8:$AZ$8,$H$2))","v":""},{"$f":"IF(ISBLANK('Data Input'!A408),\"\",SUM('Data Input'!G408,'Data Input'!I408,'Data Input'!K408,'Data Input'!O408,'Data Input'!P408,'Data Input'!S408,'Data Input'!U408,'Data Input'!V408,'Data Input'!W408,'Data Input'!X408,'Data Input'!Z408,'Data Input'!AA408,'Data Input'!AD408,'Data Input'!AZ408))","v":""},{"$f":"IF(J404=\"\",\"\",J404/COUNTIF('Data Input'!$C$8:$AZ$8,$J$2))","v":""},{"$f":"IF(ISBLANK('Data Input'!A408),\"\",SUM('Data Input'!Q408,'Data Input'!AG408))","v":""},{"$f":"IF(L404=\"\",\"\",L404/COUNTIF('Data Input'!$C$8:$AZ$8,$L$2))","v":""},{"$f":"IF(ISBLANK('Data Input'!A408),\"\",SUM('Data Input'!D408,'Data Input'!E408,'Data Input'!F408,'Data Input'!L408,'Data Input'!M408,'Data Input'!AB408,'Data Input'!AC408,'Data Input'!AF408,'Data Input'!AJ408,'Data Input'!AL408,'Data Input'!AN408,'Data Input'!AO408,'Data Input'!AP408,'Data Input'!AQ408,'Data Input'!AR408,'Data Input'!AS408,'Data Input'!AT408,'Data Input'!AU408,'Data Input'!AV408,'Data Input'!AW408,'Data Input'!AX408,'Data Input'!AY408))","v":""},{"$f":"IF(N404=\"\",\"\",N404/COUNTIF('Data Input'!$C$8:$AZ$8,$N$2))","v":""},null,{"$f":"IF(P404=\"\",\"\",P404/COUNTIF('Data Input'!$C$8:$AZ$8,$P$2))","v":""},{"$f":"IF(ISBLANK('Data Input'!A408),\"\",SUM('Data Input'!AH408))","v":""},{"$f":"IF(R404=\"\",\"\",R404/COUNTIF('Data Input'!$C$8:$AZ$8,$R$2))","v":""},{"$f":"IF(ISBLANK('Data Input'!$A408),\"\",SUM('Data Input'!AI408))","v":""},{"$f":"IF(T404=\"\",\"\",T404/COUNTIF('Data Input'!$C$8:$AZ$8,$T$2))","v":""},null,{"$f":"IF(V404=\"\",\"\",V404/COUNTIF('Data Input'!$C$8:$AZ$8,$V$2))","v":""}]
[{"$f":"IF('Data Input'!A409=0,\"\",'Data Input'!A409)","v":""},{"$f":"IF(F405=\"\",\"\",IF(F405>Welcome!$J$20-1,\"Exceeding\",IF(F405>Welcome!$F$20-1,\"Expected\",IF(F405<Welcome!$F$20,\"Below\"))))","v":""},{"$f":"IF(ISBLANK('Data Input'!A409),\"\",COUNTIF('Data Input'!C409:AZ409,\"\"))","v":""},{"$f":"IF(ISBLANK('Data Input'!A409),\"\",COUNTIF('Data Input'!C409:AZ409,\"0\"))","v":""},{"$f":"IF(ISBLANK('Data Input'!A409),\"\",SUM(C405,D405))","v":""},{"$f":"IF(ISBLANK('Data Input'!A409),\"\",SUM('Data Input'!C409:AZ409))","v":""},{"$f":"IF(F405=\"\",\"\",F405/(COUNTA('Data Input'!$C$8:$AZ$8)))","v":""},{"$f":"IF(ISBLANK('Data Input'!A409),\"\",SUM('Data Input'!C409,'Data Input'!H409,'Data Input'!J409,'Data Input'!N409,'Data Input'!R409,'Data Input'!T409,'Data Input'!Y409,'Data Input'!AE409,'Data Input'!AK409,'Data Input'!AM409))","v":""},{"$f":"IF(H405=\"\",\"\",H405/COUNTIF('Data Input'!$C$8:$AZ$8,$H$2))","v":""},{"$f":"IF(ISBLANK('Data Input'!A409),\"\",SUM('Data Input'!G409,'Data Input'!I409,'Data Input'!K409,'Data Input'!O409,'Data Input'!P409,'Data Input'!S409,'Data Input'!U409,'Data Input'!V409,'Data Input'!W409,'Data Input'!X409,'Data Input'!Z409,'Data Input'!AA409,'Data Input'!AD409,'Data Input'!AZ409))","v":""},{"$f":"IF(J405=\"\",\"\",J405/COUNTIF('Data Input'!$C$8:$AZ$8,$J$2))","v":""},{"$f":"IF(ISBLANK('Data Input'!A409),\"\",SUM('Data Input'!Q409,'Data Input'!AG409))","v":""},{"$f":"IF(L405=\"\",\"\",L405/COUNTIF('Data Input'!$C$8:$AZ$8,$L$2))","v":""},{"$f":"IF(ISBLANK('Data Input'!A409),\"\",SUM('Data Input'!D409,'Data Input'!E409,'Data Input'!F409,'Data Input'!L409,'Data Input'!M409,'Data Input'!AB409,'Data Input'!AC409,'Data Input'!AF409,'Data Input'!AJ409,'Data Input'!AL409,'Data Input'!AN409,'Data Input'!AO409,'Data Input'!AP409,'Data Input'!AQ409,'Data Input'!AR409,'Data Input'!AS409,'Data Input'!AT409,'Data Input'!AU409,'Data Input'!AV409,'Data Input'!AW409,'Data Input'!AX409,'Data Input'!AY409))","v":""},{"$f":"IF(N405=\"\",\"\",N405/COUNTIF('Data Input'!$C$8:$AZ$8,$N$2))","v":""},null,{"$f":"IF(P405=\"\",\"\",P405/COUNTIF('Data Input'!$C$8:$AZ$8,$P$2))","v":""},{"$f":"IF(ISBLANK('Data Input'!A409),\"\",SUM('Data Input'!AH409))","v":""},{"$f":"IF(R405=\"\",\"\",R405/COUNTIF('Data Input'!$C$8:$AZ$8,$R$2))","v":""},{"$f":"IF(ISBLANK('Data Input'!$A409),\"\",SUM('Data Input'!AI409))","v":""},{"$f":"IF(T405=\"\",\"\",T405/COUNTIF('Data Input'!$C$8:$AZ$8,$T$2))","v":""},null,{"$f":"IF(V405=\"\",\"\",V405/COUNTIF('Data Input'!$C$8:$AZ$8,$V$2))","v":""}]
[{"$f":"IF('Data Input'!A410=0,\"\",'Data Input'!A410)","v":""},{"$f":"IF(F406=\"\",\"\",IF(F406>Welcome!$J$20-1,\"Exceeding\",IF(F406>Welcome!$F$20-1,\"Expected\",IF(F406<Welcome!$F$20,\"Below\"))))","v":""},{"$f":"IF(ISBLANK('Data Input'!A410),\"\",COUNTIF('Data Input'!C410:AZ410,\"\"))","v":""},{"$f":"IF(ISBLANK('Data Input'!A410),\"\",COUNTIF('Data Input'!C410:AZ410,\"0\"))","v":""},{"$f":"IF(ISBLANK('Data Input'!A410),\"\",SUM(C406,D406))","v":""},{"$f":"IF(ISBLANK('Data Input'!A410),\"\",SUM('Data Input'!C410:AZ410))","v":""},{"$f":"IF(F406=\"\",\"\",F406/(COUNTA('Data Input'!$C$8:$AZ$8)))","v":""},{"$f":"IF(ISBLANK('Data Input'!A410),\"\",SUM('Data Input'!C410,'Data Input'!H410,'Data Input'!J410,'Data Input'!N410,'Data Input'!R410,'Data Input'!T410,'Data Input'!Y410,'Data Input'!AE410,'Data Input'!AK410,'Data Input'!AM410))","v":""},{"$f":"IF(H406=\"\",\"\",H406/COUNTIF('Data Input'!$C$8:$AZ$8,$H$2))","v":""},{"$f":"IF(ISBLANK('Data Input'!A410),\"\",SUM('Data Input'!G410,'Data Input'!I410,'Data Input'!K410,'Data Input'!O410,'Data Input'!P410,'Data Input'!S410,'Data Input'!U410,'Data Input'!V410,'Data Input'!W410,'Data Input'!X410,'Data Input'!Z410,'Data Input'!AA410,'Data Input'!AD410,'Data Input'!AZ410))","v":""},{"$f":"IF(J406=\"\",\"\",J406/COUNTIF('Data Input'!$C$8:$AZ$8,$J$2))","v":""},{"$f":"IF(ISBLANK('Data Input'!A410),\"\",SUM('Data Input'!Q410,'Data Input'!AG410))","v":""},{"$f":"IF(L406=\"\",\"\",L406/COUNTIF('Data Input'!$C$8:$AZ$8,$L$2))","v":""},{"$f":"IF(ISBLANK('Data Input'!A410),\"\",SUM('Data Input'!D410,'Data Input'!E410,'Data Input'!F410,'Data Input'!L410,'Data Input'!M410,'Data Input'!AB410,'Data Input'!AC410,'Data Input'!AF410,'Data Input'!AJ410,'Data Input'!AL410,'Data Input'!AN410,'Data Input'!AO410,'Data Input'!AP410,'Data Input'!AQ410,'Data Input'!AR410,'Data Input'!AS410,'Data Input'!AT410,'Data Input'!AU410,'Data Input'!AV410,'Data Input'!AW410,'Data Input'!AX410,'Data Input'!AY410))","v":""},{"$f":"IF(N406=\"\",\"\",N406/COUNTIF('Data Input'!$C$8:$AZ$8,$N$2))","v":""},null,{"$f":"IF(P406=\"\",\"\",P406/COUNTIF('Data Input'!$C$8:$AZ$8,$P$2))","v":""},{"$f":"IF(ISBLANK('Data Input'!A410),\"\",SUM('Data Input'!AH410))","v":""},{"$f":"IF(R406=\"\",\"\",R406/COUNTIF('Data Input'!$C$8:$AZ$8,$R$2))","v":""},{"$f":"IF(ISBLANK('Data Input'!$A410),\"\",SUM('Data Input'!AI410))","v":""},{"$f":"IF(T406=\"\",\"\",T406/COUNTIF('Data Input'!$C$8:$AZ$8,$T$2))","v":""},null,{"$f":"IF(V406=\"\",\"\",V406/COUNTIF('Data Input'!$C$8:$AZ$8,$V$2))","v":""}]
[{"$f":"IF('Data Input'!A411=0,\"\",'Data Input'!A411)","v":""},{"$f":"IF(F407=\"\",\"\",IF(F407>Welcome!$J$20-1,\"Exceeding\",IF(F407>Welcome!$F$20-1,\"Expected\",IF(F407<Welcome!$F$20,\"Below\"))))","v":""},{"$f":"IF(ISBLANK('Data Input'!A411),\"\",COUNTIF('Data Input'!C411:AZ411,\"\"))","v":""},{"$f":"IF(ISBLANK('Data Input'!A411),\"\",COUNTIF('Data Input'!C411:AZ411,\"0\"))","v":""},{"$f":"IF(ISBLANK('Data Input'!A411),\"\",SUM(C407,D407))","v":""},{"$f":"IF(ISBLANK('Data Input'!A411),\"\",SUM('Data Input'!C411:AZ411))","v":""},{"$f":"IF(F407=\"\",\"\",F407/(COUNTA('Data Input'!$C$8:$AZ$8)))","v":""},{"$f":"IF(ISBLANK('Data Input'!A411),\"\",SUM('Data Input'!C411,'Data Input'!H411,'Data Input'!J411,'Data Input'!N411,'Data Input'!R411,'Data Input'!T411,'Data Input'!Y411,'Data Input'!AE411,'Data Input'!AK411,'Data Input'!AM411))","v":""},{"$f":"IF(H407=\"\",\"\",H407/COUNTIF('Data Input'!$C$8:$AZ$8,$H$2))","v":""},{"$f":"IF(ISBLANK('Data Input'!A411),\"\",SUM('Data Input'!G411,'Data Input'!I411,'Data Input'!K411,'Data Input'!O411,'Data Input'!P411,'Data Input'!S411,'Data Input'!U411,'Data Input'!V411,'Data Input'!W411,'Data Input'!X411,'Data Input'!Z411,'Data Input'!AA411,'Data Input'!AD411,'Data Input'!AZ411))","v":""},{"$f":"IF(J407=\"\",\"\",J407/COUNTIF('Data Input'!$C$8:$AZ$8,$J$2))","v":""},{"$f":"IF(ISBLANK('Data Input'!A411),\"\",SUM('Data Input'!Q411,'Data Input'!AG411))","v":""},{"$f":"IF(L407=\"\",\"\",L407/COUNTIF('Data Input'!$C$8:$AZ$8,$L$2))","v":""},{"$f":"IF(ISBLANK('Data Input'!A411),\"\",SUM('Data Input'!D411,'Data Input'!E411,'Data Input'!F411,'Data Input'!L411,'Data Input'!M411,'Data Input'!AB411,'Data Input'!AC411,'Data Input'!AF411,'Data Input'!AJ411,'Data Input'!AL411,'Data Input'!AN411,'Data Input'!AO411,'Data Input'!AP411,'Data Input'!AQ411,'Data Input'!AR411,'Data Input'!AS411,'Data Input'!AT411,'Data Input'!AU411,'Data Input'!AV411,'Data Input'!AW411,'Data Input'!AX411,'Data Input'!AY411))","v":""},{"$f":"IF(N407=\"\",\"\",N407/COUNTIF('Data Input'!$C$8:$AZ$8,$N$2))","v":""},null,{"$f":"IF(P407=\"\",\"\",P407/COUNTIF('Data Input'!$C$8:$AZ$8,$P$2))","v":""},{"$f":"IF(ISBLANK('Data Input'!A411),\"\",SUM('Data Input'!AH411))","v":""},{"$f":"IF(R407=\"\",\"\",R407/COUNTIF('Data Input'!$C$8:$AZ$8,$R$2))","v":""},{"$f":"IF(ISBLANK('Data Input'!$A411),\"\",SUM('Data Input'!AI411))","v":""},{"$f":"IF(T407=\"\",\"\",T407/COUNTIF('Data Input'!$C$8:$AZ$8,$T$2))","v":""},null,{"$f":"IF(V407=\"\",\"\",V407/COUNTIF('Data Input'!$C$8:$AZ$8,$V$2))","v":""}]
[{"$f":"IF('Data Input'!A412=0,\"\",'Data Input'!A412)","v":""},{"$f":"IF(F408=\"\",\"\",IF(F408>Welcome!$J$20-1,\"Exceeding\",IF(F408>Welcome!$F$20-1,\"Expected\",IF(F408<Welcome!$F$20,\"Below\"))))","v":""},{"$f":"IF(ISBLANK('Data Input'!A412),\"\",COUNTIF('Data Input'!C412:AZ412,\"\"))","v":""},{"$f":"IF(ISBLANK('Data Input'!A412),\"\",COUNTIF('Data Input'!C412:AZ412,\"0\"))","v":""},{"$f":"IF(ISBLANK('Data Input'!A412),\"\",SUM(C408,D408))","v":""},{"$f":"IF(ISBLANK('Data Input'!A412),\"\",SUM('Data Input'!C412:AZ412))","v":""},{"$f":"IF(F408=\"\",\"\",F408/(COUNTA('Data Input'!$C$8:$AZ$8)))","v":""},{"$f":"IF(ISBLANK('Data Input'!A412),\"\",SUM('Data Input'!C412,'Data Input'!H412,'Data Input'!J412,'Data Input'!N412,'Data Input'!R412,'Data Input'!T412,'Data Input'!Y412,'Data Input'!AE412,'Data Input'!AK412,'Data Input'!AM412))","v":""},{"$f":"IF(H408=\"\",\"\",H408/COUNTIF('Data Input'!$C$8:$AZ$8,$H$2))","v":""},{"$f":"IF(ISBLANK('Data Input'!A412),\"\",SUM('Data Input'!G412,'Data Input'!I412,'Data Input'!K412,'Data Input'!O412,'Data Input'!P412,'Data Input'!S412,'Data Input'!U412,'Data Input'!V412,'Data Input'!W412,'Data Input'!X412,'Data Input'!Z412,'Data Input'!AA412,'Data Input'!AD412,'Data Input'!AZ412))","v":""},{"$f":"IF(J408=\"\",\"\",J408/COUNTIF('Data Input'!$C$8:$AZ$8,$J$2))","v":""},{"$f":"IF(ISBLANK('Data Input'!A412),\"\",SUM('Data Input'!Q412,'Data Input'!AG412))","v":""},{"$f":"IF(L408=\"\",\"\",L408/COUNTIF('Data Input'!$C$8:$AZ$8,$L$2))","v":""},{"$f":"IF(ISBLANK('Data Input'!A412),\"\",SUM('Data Input'!D412,'Data Input'!E412,'Data Input'!F412,'Data Input'!L412,'Data Input'!M412,'Data Input'!AB412,'Data Input'!AC412,'Data Input'!AF412,'Data Input'!AJ412,'Data Input'!AL412,'Data Input'!AN412,'Data Input'!AO412,'Data Input'!AP412,'Data Input'!AQ412,'Data Input'!AR412,'Data Input'!AS412,'Data Input'!AT412,'Data Input'!AU412,'Data Input'!AV412,'Data Input'!AW412,'Data Input'!AX412,'Data Input'!AY412))","v":""},{"$f":"IF(N408=\"\",\"\",N408/COUNTIF('Data Input'!$C$8:$AZ$8,$N$2))","v":""},null,{"$f":"IF(P408=\"\",\"\",P408/COUNTIF('Data Input'!$C$8:$AZ$8,$P$2))","v":""},{"$f":"IF(ISBLANK('Data Input'!A412),\"\",SUM('Data Input'!AH412))","v":""},{"$f":"IF(R408=\"\",\"\",R408/COUNTIF('Data Input'!$C$8:$AZ$8,$R$2))","v":""},{"$f":"IF(ISBLANK('Data Input'!$A412),\"\",SUM('Data Input'!AI412))","v":""},{"$f":"IF(T408=\"\",\"\",T408/COUNTIF('Data Input'!$C$8:$AZ$8,$T$2))","v":""},null,{"$f":"IF(V408=\"\",\"\",V408/COUNTIF('Data Input'!$C$8:$AZ$8,$V$2))","v":""}]
[{"$f":"IF('Data Input'!A413=0,\"\",'Data Input'!A413)","v":""},{"$f":"IF(F409=\"\",\"\",IF(F409>Welcome!$J$20-1,\"Exceeding\",IF(F409>Welcome!$F$20-1,\"Expected\",IF(F409<Welcome!$F$20,\"Below\"))))","v":""},{"$f":"IF(ISBLANK('Data Input'!A413),\"\",COUNTIF('Data Input'!C413:AZ413,\"\"))","v":""},{"$f":"IF(ISBLANK('Data Input'!A413),\"\",COUNTIF('Data Input'!C413:AZ413,\"0\"))","v":""},{"$f":"IF(ISBLANK('Data Input'!A413),\"\",SUM(C409,D409))","v":""},{"$f":"IF(ISBLANK('Data Input'!A413),\"\",SUM('Data Input'!C413:AZ413))","v":""},{"$f":"IF(F409=\"\",\"\",F409/(COUNTA('Data Input'!$C$8:$AZ$8)))","v":""},{"$f":"IF(ISBLANK('Data Input'!A413),\"\",SUM('Data Input'!C413,'Data Input'!H413,'Data Input'!J413,'Data Input'!N413,'Data Input'!R413,'Data Input'!T413,'Data Input'!Y413,'Data Input'!AE413,'Data Input'!AK413,'Data Input'!AM413))","v":""},{"$f":"IF(H409=\"\",\"\",H409/COUNTIF('Data Input'!$C$8:$AZ$8,$H$2))","v":""},{"$f":"IF(ISBLANK('Data Input'!A413),\"\",SUM('Data Input'!G413,'Data Input'!I413,'Data Input'!K413,'Data Input'!O413,'Data Input'!P413,'Data Input'!S413,'Data Input'!U413,'Data Input'!V413,'Data Input'!W413,'Data Input'!X413,'Data Input'!Z413,'Data Input'!AA413,'Data Input'!AD413,'Data Input'!AZ413))","v":""},{"$f":"IF(J409=\"\",\"\",J409/COUNTIF('Data Input'!$C$8:$AZ$8,$J$2))","v":""},{"$f":"IF(ISBLANK('Data Input'!A413),\"\",SUM('Data Input'!Q413,'Data Input'!AG413))","v":""},{"$f":"IF(L409=\"\",\"\",L409/COUNTIF('Data Input'!$C$8:$AZ$8,$L$2))","v":""},{"$f":"IF(ISBLANK('Data Input'!A413),\"\",SUM('Data Input'!D413,'Data Input'!E413,'Data Input'!F413,'Data Input'!L413,'Data Input'!M413,'Data Input'!AB413,'Data Input'!AC413,'Data Input'!AF413,'Data Input'!AJ413,'Data Input'!AL413,'Data Input'!AN413,'Data Input'!AO413,'Data Input'!AP413,'Data Input'!AQ413,'Data Input'!AR413,'Data Input'!AS413,'Data Input'!AT413,'Data Input'!AU413,'Data Input'!AV413,'Data Input'!AW413,'Data Input'!AX413,'Data Input'!AY413))","v":""},{"$f":"IF(N409=\"\",\"\",N409/COUNTIF('Data Input'!$C$8:$AZ$8,$N$2))","v":""},null,{"$f":"IF(P409=\"\",\"\",P409/COUNTIF('Data Input'!$C$8:$AZ$8,$P$2))","v":""},{"$f":"IF(ISBLANK('Data Input'!A413),\"\",SUM('Data Input'!AH413))","v":""},{"$f":"IF(R409=\"\",\"\",R409/COUNTIF('Data Input'!$C$8:$AZ$8,$R$2))","v":""},{"$f":"IF(ISBLANK('Data Input'!$A413),\"\",SUM('Data Input'!AI413))","v":""},{"$f":"IF(T409=\"\",\"\",T409/COUNTIF('Data Input'!$C$8:$AZ$8,$T$2))","v":""},null,{"$f":"IF(V409=\"\",\"\",V409/COUNTIF('Data Input'!$C$8:$AZ$8,$V$2))","v":""}]
[{"$f":"IF('Data Input'!A414=0,\"\",'Data Input'!A414)","v":""},{"$f":"IF(F410=\"\",\"\",IF(F410>Welcome!$J$20-1,\"Exceeding\",IF(F410>Welcome!$F$20-1,\"Expected\",IF(F410<Welcome!$F$20,\"Below\"))))","v":""},{"$f":"IF(ISBLANK('Data Input'!A414),\"\",COUNTIF('Data Input'!C414:AZ414,\"\"))","v":""},{"$f":"IF(ISBLANK('Data Input'!A414),\"\",COUNTIF('Data Input'!C414:AZ414,\"0\"))","v":""},{"$f":"IF(ISBLANK('Data Input'!A414),\"\",SUM(C410,D410))","v":""},{"$f":"IF(ISBLANK('Data Input'!A414),\"\",SUM('Data Input'!C414:AZ414))","v":""},{"$f":"IF(F410=\"\",\"\",F410/(COUNTA('Data Input'!$C$8:$AZ$8)))","v":""},{"$f":"IF(ISBLANK('Data Input'!A414),\"\",SUM('Data Input'!C414,'Data Input'!H414,'Data Input'!J414,'Data Input'!N414,'Data Input'!R414,'Data Input'!T414,'Data Input'!Y414,'Data Input'!AE414,'Data Input'!AK414,'Data Input'!AM414))","v":""},{"$f":"IF(H410=\"\",\"\",H410/COUNTIF('Data Input'!$C$8:$AZ$8,$H$2))","v":""},{"$f":"IF(ISBLANK('Data Input'!A414),\"\",SUM('Data Input'!G414,'Data Input'!I414,'Data Input'!K414,'Data Input'!O414,'Data Input'!P414,'Data Input'!S414,'Data Input'!U414,'Data Input'!V414,'Data Input'!W414,'Data Input'!X414,'Data Input'!Z414,'Data Input'!AA414,'Data Input'!AD414,'Data Input'!AZ414))","v":""},{"$f":"IF(J410=\"\",\"\",J410/COUNTIF('Data Input'!$C$8:$AZ$8,$J$2))","v":""},{"$f":"IF(ISBLANK('Data Input'!A414),\"\",SUM('Data Input'!Q414,'Data Input'!AG414))","v":""},{"$f":"IF(L410=\"\",\"\",L410/COUNTIF('Data Input'!$C$8:$AZ$8,$L$2))","v":""},{"$f":"IF(ISBLANK('Data Input'!A414),\"\",SUM('Data Input'!D414,'Data Input'!E414,'Data Input'!F414,'Data Input'!L414,'Data Input'!M414,'Data Input'!AB414,'Data Input'!AC414,'Data Input'!AF414,'Data Input'!AJ414,'Data Input'!AL414,'Data Input'!AN414,'Data Input'!AO414,'Data Input'!AP414,'Data Input'!AQ414,'Data Input'!AR414,'Data Input'!AS414,'Data Input'!AT414,'Data Input'!AU414,'Data Input'!AV414,'Data Input'!AW414,'Data Input'!AX414,'Data Input'!AY414))","v":""},{"$f":"IF(N410=\"\",\"\",N410/COUNTIF('Data Input'!$C$8:$AZ$8,$N$2))","v":""},null,{"$f":"IF(P410=\"\",\"\",P410/COUNTIF('Data Input'!$C$8:$AZ$8,$P$2))","v":""},{"$f":"IF(ISBLANK('Data Input'!A414),\"\",SUM('Data Input'!AH414))","v":""},{"$f":"IF(R410=\"\",\"\",R410/COUNTIF('Data Input'!$C$8:$AZ$8,$R$2))","v":""},{"$f":"IF(ISBLANK('Data Input'!$A414),\"\",SUM('Data Input'!AI414))","v":""},{"$f":"IF(T410=\"\",\"\",T410/COUNTIF('Data Input'!$C$8:$AZ$8,$T$2))","v":""},null,{"$f":"IF(V410=\"\",\"\",V410/COUNTIF('Data Input'!$C$8:$AZ$8,$V$2))","v":""}]
[{"$f":"IF('Data Input'!A415=0,\"\",'Data Input'!A415)","v":""},{"$f":"IF(F411=\"\",\"\",IF(F411>Welcome!$J$20-1,\"Exceeding\",IF(F411>Welcome!$F$20-1,\"Expected\",IF(F411<Welcome!$F$20,\"Below\"))))","v":""},{"$f":"IF(ISBLANK('Data Input'!A415),\"\",COUNTIF('Data Input'!C415:AZ415,\"\"))","v":""},{"$f":"IF(ISBLANK('Data Input'!A415),\"\",COUNTIF('Data Input'!C415:AZ415,\"0\"))","v":""},{"$f":"IF(ISBLANK('Data Input'!A415),\"\",SUM(C411,D411))","v":""},{"$f":"IF(ISBLANK('Data Input'!A415),\"\",SUM('Data Input'!C415:AZ415))","v":""},{"$f":"IF(F411=\"\",\"\",F411/(COUNTA('Data Input'!$C$8:$AZ$8)))","v":""},{"$f":"IF(ISBLANK('Data Input'!A415),\"\",SUM('Data Input'!C415,'Data Input'!H415,'Data Input'!J415,'Data Input'!N415,'Data Input'!R415,'Data Input'!T415,'Data Input'!Y415,'Data Input'!AE415,'Data Input'!AK415,'Data Input'!AM415))","v":""},{"$f":"IF(H411=\"\",\"\",H411/COUNTIF('Data Input'!$C$8:$AZ$8,$H$2))","v":""},{"$f":"IF(ISBLANK('Data Input'!A415),\"\",SUM('Data Input'!G415,'Data Input'!I415,'Data Input'!K415,'Data Input'!O415,'Data Input'!P415,'Data Input'!S415,'Data Input'!U415,'Data Input'!V415,'Data Input'!W415,'Data Input'!X415,'Data Input'!Z415,'Data Input'!AA415,'Data Input'!AD415,'Data Input'!AZ415))","v":""},{"$f":"IF(J411=\"\",\"\",J411/COUNTIF('Data Input'!$C$8:$AZ$8,$J$2))","v":""},{"$f":"IF(ISBLANK('Data Input'!A415),\"\",SUM('Data Input'!Q415,'Data Input'!AG415))","v":""},{"$f":"IF(L411=\"\",\"\",L411/COUNTIF('Data Input'!$C$8:$AZ$8,$L$2))","v":""},{"$f":"IF(ISBLANK('Data Input'!A415),\"\",SUM('Data Input'!D415,'Data Input'!E415,'Data Input'!F415,'Data Input'!L415,'Data Input'!M415,'Data Input'!AB415,'Data Input'!AC415,'Data Input'!AF415,'Data Input'!AJ415,'Data Input'!AL415,'Data Input'!AN415,'Data Input'!AO415,'Data Input'!AP415,'Data Input'!AQ415,'Data Input'!AR415,'Data Input'!AS415,'Data Input'!AT415,'Data Input'!AU415,'Data Input'!AV415,'Data Input'!AW415,'Data Input'!AX415,'Data Input'!AY415))","v":""},{"$f":"IF(N411=\"\",\"\",N411/COUNTIF('Data Input'!$C$8:$AZ$8,$N$2))","v":""},null,{"$f":"IF(P411=\"\",\"\",P411/COUNTIF('Data Input'!$C$8:$AZ$8,$P$2))","v":""},{"$f":"IF(ISBLANK('Data Input'!A415),\"\",SUM('Data Input'!AH415))","v":""},{"$f":"IF(R411=\"\",\"\",R411/COUNTIF('Data Input'!$C$8:$AZ$8,$R$2))","v":""},{"$f":"IF(ISBLANK('Data Input'!$A415),\"\",SUM('Data Input'!AI415))","v":""},{"$f":"IF(T411=\"\",\"\",T411/COUNTIF('Data Input'!$C$8:$AZ$8,$T$2))","v":""},null,{"$f":"IF(V411=\"\",\"\",V411/COUNTIF('Data Input'!$C$8:$AZ$8,$V$2))","v":""}]
[{"$f":"IF('Data Input'!A416=0,\"\",'Data Input'!A416)","v":""},{"$f":"IF(F412=\"\",\"\",IF(F412>Welcome!$J$20-1,\"Exceeding\",IF(F412>Welcome!$F$20-1,\"Expected\",IF(F412<Welcome!$F$20,\"Below\"))))","v":""},{"$f":"IF(ISBLANK('Data Input'!A416),\"\",COUNTIF('Data Input'!C416:AZ416,\"\"))","v":""},{"$f":"IF(ISBLANK('Data Input'!A416),\"\",COUNTIF('Data Input'!C416:AZ416,\"0\"))","v":""},{"$f":"IF(ISBLANK('Data Input'!A416),\"\",SUM(C412,D412))","v":""},{"$f":"IF(ISBLANK('Data Input'!A416),\"\",SUM('Data Input'!C416:AZ416))","v":""},{"$f":"IF(F412=\"\",\"\",F412/(COUNTA('Data Input'!$C$8:$AZ$8)))","v":""},{"$f":"IF(ISBLANK('Data Input'!A416),\"\",SUM('Data Input'!C416,'Data Input'!H416,'Data Input'!J416,'Data Input'!N416,'Data Input'!R416,'Data Input'!T416,'Data Input'!Y416,'Data Input'!AE416,'Data Input'!AK416,'Data Input'!AM416))","v":""},{"$f":"IF(H412=\"\",\"\",H412/COUNTIF('Data Input'!$C$8:$AZ$8,$H$2))","v":""},{"$f":"IF(ISBLANK('Data Input'!A416),\"\",SUM('Data Input'!G416,'Data Input'!I416,'Data Input'!K416,'Data Input'!O416,'Data Input'!P416,'Data Input'!S416,'Data Input'!U416,'Data Input'!V416,'Data Input'!W416,'Data Input'!X416,'Data Input'!Z416,'Data Input'!AA416,'Data Input'!AD416,'Data Input'!AZ416))","v":""},{"$f":"IF(J412=\"\",\"\",J412/COUNTIF('Data Input'!$C$8:$AZ$8,$J$2))","v":""},{"$f":"IF(ISBLANK('Data Input'!A416),\"\",SUM('Data Input'!Q416,'Data Input'!AG416))","v":""},{"$f":"IF(L412=\"\",\"\",L412/COUNTIF('Data Input'!$C$8:$AZ$8,$L$2))","v":""},{"$f":"IF(ISBLANK('Data Input'!A416),\"\",SUM('Data Input'!D416,'Data Input'!E416,'Data Input'!F416,'Data Input'!L416,'Data Input'!M416,'Data Input'!AB416,'Data Input'!AC416,'Data Input'!AF416,'Data Input'!AJ416,'Data Input'!AL416,'Data Input'!AN416,'Data Input'!AO416,'Data Input'!AP416,'Data Input'!AQ416,'Data Input'!AR416,'Data Input'!AS416,'Data Input'!AT416,'Data Input'!AU416,'Data Input'!AV416,'Data Input'!AW416,'Data Input'!AX416,'Data Input'!AY416))","v":""},{"$f":"IF(N412=\"\",\"\",N412/COUNTIF('Data Input'!$C$8:$AZ$8,$N$2))","v":""},null,{"$f":"IF(P412=\"\",\"\",P412/COUNTIF('Data Input'!$C$8:$AZ$8,$P$2))","v":""},{"$f":"IF(ISBLANK('Data Input'!A416),\"\",SUM('Data Input'!AH416))","v":""},{"$f":"IF(R412=\"\",\"\",R412/COUNTIF('Data Input'!$C$8:$AZ$8,$R$2))","v":""},{"$f":"IF(ISBLANK('Data Input'!$A416),\"\",SUM('Data Input'!AI416))","v":""},{"$f":"IF(T412=\"\",\"\",T412/COUNTIF('Data Input'!$C$8:$AZ$8,$T$2))","v":""},null,{"$f":"IF(V412=\"\",\"\",V412/COUNTIF('Data Input'!$C$8:$AZ$8,$V$2))","v":""}]
[{"$f":"IF('Data Input'!A417=0,\"\",'Data Input'!A417)","v":""},{"$f":"IF(F413=\"\",\"\",IF(F413>Welcome!$J$20-1,\"Exceeding\",IF(F413>Welcome!$F$20-1,\"Expected\",IF(F413<Welcome!$F$20,\"Below\"))))","v":""},{"$f":"IF(ISBLANK('Data Input'!A417),\"\",COUNTIF('Data Input'!C417:AZ417,\"\"))","v":""},{"$f":"IF(ISBLANK('Data Input'!A417),\"\",COUNTIF('Data Input'!C417:AZ417,\"0\"))","v":""},{"$f":"IF(ISBLANK('Data Input'!A417),\"\",SUM(C413,D413))","v":""},{"$f":"IF(ISBLANK('Data Input'!A417),\"\",SUM('Data Input'!C417:AZ417))","v":""},{"$f":"IF(F413=\"\",\"\",F413/(COUNTA('Data Input'!$C$8:$AZ$8)))","v":""},{"$f":"IF(ISBLANK('Data Input'!A417),\"\",SUM('Data Input'!C417,'Data Input'!H417,'Data Input'!J417,'Data Input'!N417,'Data Input'!R417,'Data Input'!T417,'Data Input'!Y417,'Data Input'!AE417,'Data Input'!AK417,'Data Input'!AM417))","v":""},{"$f":"IF(H413=\"\",\"\",H413/COUNTIF('Data Input'!$C$8:$AZ$8,$H$2))","v":""},{"$f":"IF(ISBLANK('Data Input'!A417),\"\",SUM('Data Input'!G417,'Data Input'!I417,'Data Input'!K417,'Data Input'!O417,'Data Input'!P417,'Data Input'!S417,'Data Input'!U417,'Data Input'!V417,'Data Input'!W417,'Data Input'!X417,'Data Input'!Z417,'Data Input'!AA417,'Data Input'!AD417,'Data Input'!AZ417))","v":""},{"$f":"IF(J413=\"\",\"\",J413/COUNTIF('Data Input'!$C$8:$AZ$8,$J$2))","v":""},{"$f":"IF(ISBLANK('Data Input'!A417),\"\",SUM('Data Input'!Q417,'Data Input'!AG417))","v":""},{"$f":"IF(L413=\"\",\"\",L413/COUNTIF('Data Input'!$C$8:$AZ$8,$L$2))","v":""},{"$f":"IF(ISBLANK('Data Input'!A417),\"\",SUM('Data Input'!D417,'Data Input'!E417,'Data Input'!F417,'Data Input'!L417,'Data Input'!M417,'Data Input'!AB417,'Data Input'!AC417,'Data Input'!AF417,'Data Input'!AJ417,'Data Input'!AL417,'Data Input'!AN417,'Data Input'!AO417,'Data Input'!AP417,'Data Input'!AQ417,'Data Input'!AR417,'Data Input'!AS417,'Data Input'!AT417,'Data Input'!AU417,'Data Input'!AV417,'Data Input'!AW417,'Data Input'!AX417,'Data Input'!AY417))","v":""},{"$f":"IF(N413=\"\",\"\",N413/COUNTIF('Data Input'!$C$8:$AZ$8,$N$2))","v":""},null,{"$f":"IF(P413=\"\",\"\",P413/COUNTIF('Data Input'!$C$8:$AZ$8,$P$2))","v":""},{"$f":"IF(ISBLANK('Data Input'!A417),\"\",SUM('Data Input'!AH417))","v":""},{"$f":"IF(R413=\"\",\"\",R413/COUNTIF('Data Input'!$C$8:$AZ$8,$R$2))","v":""},{"$f":"IF(ISBLANK('Data Input'!$A417),\"\",SUM('Data Input'!AI417))","v":""},{"$f":"IF(T413=\"\",\"\",T413/COUNTIF('Data Input'!$C$8:$AZ$8,$T$2))","v":""},null,{"$f":"IF(V413=\"\",\"\",V413/COUNTIF('Data Input'!$C$8:$AZ$8,$V$2))","v":""}]
[{"$f":"IF('Data Input'!A418=0,\"\",'Data Input'!A418)","v":""},{"$f":"IF(F414=\"\",\"\",IF(F414>Welcome!$J$20-1,\"Exceeding\",IF(F414>Welcome!$F$20-1,\"Expected\",IF(F414<Welcome!$F$20,\"Below\"))))","v":""},{"$f":"IF(ISBLANK('Data Input'!A418),\"\",COUNTIF('Data Input'!C418:AZ418,\"\"))","v":""},{"$f":"IF(ISBLANK('Data Input'!A418),\"\",COUNTIF('Data Input'!C418:AZ418,\"0\"))","v":""},{"$f":"IF(ISBLANK('Data Input'!A418),\"\",SUM(C414,D414))","v":""},{"$f":"IF(ISBLANK('Data Input'!A418),\"\",SUM('Data Input'!C418:AZ418))","v":""},{"$f":"IF(F414=\"\",\"\",F414/(COUNTA('Data Input'!$C$8:$AZ$8)))","v":""},{"$f":"IF(ISBLANK('Data Input'!A418),\"\",SUM('Data Input'!C418,'Data Input'!H418,'Data Input'!J418,'Data Input'!N418,'Data Input'!R418,'Data Input'!T418,'Data Input'!Y418,'Data Input'!AE418,'Data Input'!AK418,'Data Input'!AM418))","v":""},{"$f":"IF(H414=\"\",\"\",H414/COUNTIF('Data Input'!$C$8:$AZ$8,$H$2))","v":""},{"$f":"IF(ISBLANK('Data Input'!A418),\"\",SUM('Data Input'!G418,'Data Input'!I418,'Data Input'!K418,'Data Input'!O418,'Data Input'!P418,'Data Input'!S418,'Data Input'!U418,'Data Input'!V418,'Data Input'!W418,'Data Input'!X418,'Data Input'!Z418,'Data Input'!AA418,'Data Input'!AD418,'Data Input'!AZ418))","v":""},{"$f":"IF(J414=\"\",\"\",J414/COUNTIF('Data Input'!$C$8:$AZ$8,$J$2))","v":""},{"$f":"IF(ISBLANK('Data Input'!A418),\"\",SUM('Data Input'!Q418,'Data Input'!AG418))","v":""},{"$f":"IF(L414=\"\",\"\",L414/COUNTIF('Data Input'!$C$8:$AZ$8,$L$2))","v":""},{"$f":"IF(ISBLANK('Data Input'!A418),\"\",SUM('Data Input'!D418,'Data Input'!E418,'Data Input'!F418,'Data Input'!L418,'Data Input'!M418,'Data Input'!AB418,'Data Input'!AC418,'Data Input'!AF418,'Data Input'!AJ418,'Data Input'!AL418,'Data Input'!AN418,'Data Input'!AO418,'Data Input'!AP418,'Data Input'!AQ418,'Data Input'!AR418,'Data Input'!AS418,'Data Input'!AT418,'Data Input'!AU418,'Data Input'!AV418,'Data Input'!AW418,'Data Input'!AX418,'Data Input'!AY418))","v":""},{"$f":"IF(N414=\"\",\"\",N414/COUNTIF('Data Input'!$C$8:$AZ$8,$N$2))","v":""},null,{"$f":"IF(P414=\"\",\"\",P414/COUNTIF('Data Input'!$C$8:$AZ$8,$P$2))","v":""},{"$f":"IF(ISBLANK('Data Input'!A418),\"\",SUM('Data Input'!AH418))","v":""},{"$f":"IF(R414=\"\",\"\",R414/COUNTIF('Data Input'!$C$8:$AZ$8,$R$2))","v":""},{"$f":"IF(ISBLANK('Data Input'!$A418),\"\",SUM('Data Input'!AI418))","v":""},{"$f":"IF(T414=\"\",\"\",T414/COUNTIF('Data Input'!$C$8:$AZ$8,$T$2))","v":""},null,{"$f":"IF(V414=\"\",\"\",V414/COUNTIF('Data Input'!$C$8:$AZ$8,$V$2))","v":""}]
[{"$f":"IF('Data Input'!A419=0,\"\",'Data Input'!A419)","v":""},{"$f":"IF(F415=\"\",\"\",IF(F415>Welcome!$J$20-1,\"Exceeding\",IF(F415>Welcome!$F$20-1,\"Expected\",IF(F415<Welcome!$F$20,\"Below\"))))","v":""},{"$f":"IF(ISBLANK('Data Input'!A419),\"\",COUNTIF('Data Input'!C419:AZ419,\"\"))","v":""},{"$f":"IF(ISBLANK('Data Input'!A419),\"\",COUNTIF('Data Input'!C419:AZ419,\"0\"))","v":""},{"$f":"IF(ISBLANK('Data Input'!A419),\"\",SUM(C415,D415))","v":""},{"$f":"IF(ISBLANK('Data Input'!A419),\"\",SUM('Data Input'!C419:AZ419))","v":""},{"$f":"IF(F415=\"\",\"\",F415/(COUNTA('Data Input'!$C$8:$AZ$8)))","v":""},{"$f":"IF(ISBLANK('Data Input'!A419),\"\",SUM('Data Input'!C419,'Data Input'!H419,'Data Input'!J419,'Data Input'!N419,'Data Input'!R419,'Data Input'!T419,'Data Input'!Y419,'Data Input'!AE419,'Data Input'!AK419,'Data Input'!AM419))","v":""},{"$f":"IF(H415=\"\",\"\",H415/COUNTIF('Data Input'!$C$8:$AZ$8,$H$2))","v":""},{"$f":"IF(ISBLANK('Data Input'!A419),\"\",SUM('Data Input'!G419,'Data Input'!I419,'Data Input'!K419,'Data Input'!O419,'Data Input'!P419,'Data Input'!S419,'Data Input'!U419,'Data Input'!V419,'Data Input'!W419,'Data Input'!X419,'Data Input'!Z419,'Data Input'!AA419,'Data Input'!AD419,'Data Input'!AZ419))","v":""},{"$f":"IF(J415=\"\",\"\",J415/COUNTIF('Data Input'!$C$8:$AZ$8,$J$2))","v":""},{"$f":"IF(ISBLANK('Data Input'!A419),\"\",SUM('Data Input'!Q419,'Data Input'!AG419))","v":""},{"$f":"IF(L415=\"\",\"\",L415/COUNTIF('Data Input'!$C$8:$AZ$8,$L$2))","v":""},{"$f":"IF(ISBLANK('Data Input'!A419),\"\",SUM('Data Input'!D419,'Data Input'!E419,'Data Input'!F419,'Data Input'!L419,'Data Input'!M419,'Data Input'!AB419,'Data Input'!AC419,'Data Input'!AF419,'Data Input'!AJ419,'Data Input'!AL419,'Data Input'!AN419,'Data Input'!AO419,'Data Input'!AP419,'Data Input'!AQ419,'Data Input'!AR419,'Data Input'!AS419,'Data Input'!AT419,'Data Input'!AU419,'Data Input'!AV419,'Data Input'!AW419,'Data Input'!AX419,'Data Input'!AY419))","v":""},{"$f":"IF(N415=\"\",\"\",N415/COUNTIF('Data Input'!$C$8:$AZ$8,$N$2))","v":""},null,{"$f":"IF(P415=\"\",\"\",P415/COUNTIF('Data Input'!$C$8:$AZ$8,$P$2))","v":""},{"$f":"IF(ISBLANK('Data Input'!A419),\"\",SUM('Data Input'!AH419))","v":""},{"$f":"IF(R415=\"\",\"\",R415/COUNTIF('Data Input'!$C$8:$AZ$8,$R$2))","v":""},{"$f":"IF(ISBLANK('Data Input'!$A419),\"\",SUM('Data Input'!AI419))","v":""},{"$f":"IF(T415=\"\",\"\",T415/COUNTIF('Data Input'!$C$8:$AZ$8,$T$2))","v":""},null,{"$f":"IF(V415=\"\",\"\",V415/COUNTIF('Data Input'!$C$8:$AZ$8,$V$2))","v":""}]
[{"$f":"IF('Data Input'!A420=0,\"\",'Data Input'!A420)","v":""},{"$f":"IF(F416=\"\",\"\",IF(F416>Welcome!$J$20-1,\"Exceeding\",IF(F416>Welcome!$F$20-1,\"Expected\",IF(F416<Welcome!$F$20,\"Below\"))))","v":""},{"$f":"IF(ISBLANK('Data Input'!A420),\"\",COUNTIF('Data Input'!C420:AZ420,\"\"))","v":""},{"$f":"IF(ISBLANK('Data Input'!A420),\"\",COUNTIF('Data Input'!C420:AZ420,\"0\"))","v":""},{"$f":"IF(ISBLANK('Data Input'!A420),\"\",SUM(C416,D416))","v":""},{"$f":"IF(ISBLANK('Data Input'!A420),\"\",SUM('Data Input'!C420:AZ420))","v":""},{"$f":"IF(F416=\"\",\"\",F416/(COUNTA('Data Input'!$C$8:$AZ$8)))","v":""},{"$f":"IF(ISBLANK('Data Input'!A420),\"\",SUM('Data Input'!C420,'Data Input'!H420,'Data Input'!J420,'Data Input'!N420,'Data Input'!R420,'Data Input'!T420,'Data Input'!Y420,'Data Input'!AE420,'Data Input'!AK420,'Data Input'!AM420))","v":""},{"$f":"IF(H416=\"\",\"\",H416/COUNTIF('Data Input'!$C$8:$AZ$8,$H$2))","v":""},{"$f":"IF(ISBLANK('Data Input'!A420),\"\",SUM('Data Input'!G420,'Data Input'!I420,'Data Input'!K420,'Data Input'!O420,'Data Input'!P420,'Data Input'!S420,'Data Input'!U420,'Data Input'!V420,'Data Input'!W420,'Data Input'!X420,'Data Input'!Z420,'Data Input'!AA420,'Data Input'!AD420,'Data Input'!AZ420))","v":""},{"$f":"IF(J416=\"\",\"\",J416/COUNTIF('Data Input'!$C$8:$AZ$8,$J$2))","v":""},{"$f":"IF(ISBLANK('Data Input'!A420),\"\",SUM('Data Input'!Q420,'Data Input'!AG420))","v":""},{"$f":"IF(L416=\"\",\"\",L416/COUNTIF('Data Input'!$C$8:$AZ$8,$L$2))","v":""},{"$f":"IF(ISBLANK('Data Input'!A420),\"\",SUM('Data Input'!D420,'Data Input'!E420,'Data Input'!F420,'Data Input'!L420,'Data Input'!M420,'Data Input'!AB420,'Data Input'!AC420,'Data Input'!AF420,'Data Input'!AJ420,'Data Input'!AL420,'Data Input'!AN420,'Data Input'!AO420,'Data Input'!AP420,'Data Input'!AQ420,'Data Input'!AR420,'Data Input'!AS420,'Data Input'!AT420,'Data Input'!AU420,'Data Input'!AV420,'Data Input'!AW420,'Data Input'!AX420,'Data Input'!AY420))","v":""},{"$f":"IF(N416=\"\",\"\",N416/COUNTIF('Data Input'!$C$8:$AZ$8,$N$2))","v":""},null,{"$f":"IF(P416=\"\",\"\",P416/COUNTIF('Data Input'!$C$8:$AZ$8,$P$2))","v":""},{"$f":"IF(ISBLANK('Data Input'!A420),\"\",SUM('Data Input'!AH420))","v":""},{"$f":"IF(R416=\"\",\"\",R416/COUNTIF('Data Input'!$C$8:$AZ$8,$R$2))","v":""},{"$f":"IF(ISBLANK('Data Input'!$A420),\"\",SUM('Data Input'!AI420))","v":""},{"$f":"IF(T416=\"\",\"\",T416/COUNTIF('Data Input'!$C$8:$AZ$8,$T$2))","v":""},null,{"$f":"IF(V416=\"\",\"\",V416/COUNTIF('Data Input'!$C$8:$AZ$8,$V$2))","v":""}]

{"sheet":"Pupil Report","index":4,"n_rows":9,"n_cols":9,"rows_kept":9,"cut":false,"hidden":false,"merged":[[1,0,1,2],[4,0,4,8]]}
["Pupil:",null,"Age Related:",{"$f":"VLOOKUP($A$2,'Pupil Summary'!$A$6:$S$416,2,FALSE)","v":"Exceeding"},null,null,null,null,{"$f":"Welcome!D2","v":"2017 National Curriculum Tests\nKS2 Reading"}]
["Delete Me!",null,null,"Incorrect:",{"$f":"VLOOKUP($A$2,'Pupil Summary'!$A$6:$S$416,4,FALSE)","v":0},"Unanswered:",{"$f":"VLOOKUP($A$2,'Pupil Summary'!$A$6:$S$416,3,FALSE)","v":0},"Total:",{"$f":"VLOOKUP($A$2,'Pupil Summary'!$A$6:$S$416,6,FALSE) & \" / \" &SUM(B7:I7)","v":"50 / 50"}]
[{"$f":"'Pupil Summary'!H2:I2","v":"A"},{"$f":"VLOOKUP($A$2,'Pupil Summary'!$A$6:$W$416,9,FALSE)","v":1},{"$f":"'Pupil Summary'!J2:K2","v":"B"},{"$f":"VLOOKUP($A$2,'Pupil Summary'!$A$6:$W$416,11,FALSE)","v":1},{"$f":"'Pupil Summary'!L2:M2","v":"C"},{"$f":"VLOOKUP($A$2,'Pupil Summary'!$A$6:$W$416,13,FALSE)","v":1},{"$f":"'Pupil Summary'!N2:O2","v":"D"},{"$f":"VLOOKUP($A$2,'Pupil Summary'!$A$6:$W$416,15,FALSE)","v":1}]
[{"$f":"'Pupil Summary'!P2:Q2","v":"E"},{"$f":"VLOOKUP($A$2,'Pupil Summary'!$A$6:$W$416,17,FALSE)","v":""},{"$f":"'Pupil Summary'!R2:S2","v":"F"},{"$f":"VLOOKUP($A$2,'Pupil Summary'!$A$6:$W$416,19,FALSE)","v":1},"G",{"$f":"VLOOKUP($A$2,'Pupil Summary'!$A$6:$W$416,21,FALSE)","v":1},"H",{"$f":"VLOOKUP($A$2,'Pupil Summary'!$A$6:$W$416,23,FALSE)","v":""}]
["A: Word meaning  B: Retrieve key info  C: Summarise main ideas  D: Inference  \nE: Predict (not used in this test) F: Text meaning  G: Choice of language  H: Comparisons (not used in this test)"]
[null,{"$f":"'Pupil Summary'!H2","v":"A"},{"$f":"'Pupil Summary'!J2","v":"B"},{"$f":"'Pupil Summary'!L2","v":"C"},{"$f":"'Pupil Summary'!N2","v":"D"},{"$f":"'Pupil Summary'!P2","v":"E"},{"$f":"'Pupil Summary'!R2","v":"F"},{"$f":"'Pupil Summary'!T2","v":"G"},{"$f":"'Pupil Summary'!V2","v":"H"}]
["Total",{"$f":"COUNTIF('Data Input'!$C$8:$AZ$8,B6)","v":10},{"$f":"COUNTIF('Data Input'!$C$8:$AZ$8,C6)","v":14},{"$f":"COUNTIF('Data Input'!$C$8:$AZ$8,D6)","v":2},{"$f":"COUNTIF('Data Input'!$C$8:$AZ$8,E6)","v":22},{"$f":"COUNTIF('Data Input'!$C$8:$AZ$8,F6)","v":0},{"$f":"COUNTIF('Data Input'!$C$8:$AZ$8,G6)","v":1},{"$f":"COUNTIF('Data Input'!$C$8:$AZ$8,H6)","v":1},{"$f":"COUNTIF('Data Input'!$C$8:$AZ$8,I6)","v":0}]
["Correct",{"$f":"VLOOKUP($A$2,'Pupil Summary'!$A$6:$W$416,8,FALSE)","v":10},{"$f":"VLOOKUP($A$2,'Pupil Summary'!$A$6:$W$416,10,FALSE)","v":14},{"$f":"VLOOKUP($A$2,'Pupil Summary'!$A$6:$W$416,12,FALSE)","v":2},{"$f":"VLOOKUP($A$2,'Pupil Summary'!$A$6:$W$416,14,FALSE)","v":22},{"$f":"VLOOKUP($A$2,'Pupil Summary'!$A$6:$W$416,16,FALSE)","v":0},{"$f":"VLOOKUP($A$2,'Pupil Summary'!$A$6:$W$416,18,FALSE)","v":1},{"$f":"VLOOKUP($A$2,'Pupil Summary'!$A$6:$W$416,20,FALSE)","v":1},{"$f":"VLOOKUP($A$2,'Pupil Summary'!$A$6:$W$416,22,FALSE)","v":0}]
["Incorrect/Unanswered",{"$f":"B7-B8","v":0},0,0,0,0,0,{"$f":"H7-H8","v":0},0]

{"sheet":"Cohort Summary","index":5,"n_rows":12,"n_cols":9,"rows_kept":12,"cut":false,"hidden":false,"merged":[[11,0,13,6]]}
["Class Averages:",{"$f":"'Pupil Summary'!H3","v":"Word Meaning"},{"$f":"'Pupil Summary'!J3","v":"Retrieve Key Info"},{"$f":"'Pupil Summary'!L3","v":"Summarise Main Ideas"},{"$f":"'Pupil Summary'!N3","v":"Inference"},{"$f":"'Pupil Summary'!P3","v":"Predict (not used)"},{"$f":"'Pupil Summary'!R3","v":"Text Meaning"},{"$f":"'Pupil Summary'!T3","v":"Choice of Language"},{"$f":"'Pupil Summary'!V3","v":"Comparisons (not used)"}]
["Class correct:",{"$f":"IF(ISERROR(B4/B3),\"\",(B4/B3))","v":1},1,1,{"$f":"IF(ISERROR(E4/E3),\"\",(E4/E3))","v":1},{"$f":"IF(ISERROR(F4/F3),\"\",(F4/F3))","v":""},{"$f":"IF(ISERROR(G4/G3),\"\",(G4/G3))","v":1},{"$f":"IF(ISERROR(H4/H3),\"\",(H4/H3))","v":1},{"$f":"IF(ISERROR(I4/I3),\"\",(I4/I3))","v":""}]
["Maximum",{"$f":"COUNTIF('Data Input'!$C$8:$AZ$8,B8)","v":10},{"$f":"COUNTIF('Data Input'!$C$8:$AZ$8,C8)","v":14},{"$f":"COUNTIF('Data Input'!$C$8:$AZ$8,D8)","v":2},{"$f":"COUNTIF('Data Input'!$C$8:$AZ$8,E8)","v":22},{"$f":"COUNTIF('Data Input'!$C$8:$AZ$8,F8)","v":0},{"$f":"COUNTIF('Data Input'!$C$8:$AZ$8,G8)","v":1},{"$f":"COUNTIF('Data Input'!$C$8:$AZ$8,H8)","v":1},{"$f":"COUNTIF('Data Input'!$C$8:$AZ$8,I8)","v":0}]
["Correct",{"$f":"IF(ISERROR(AVERAGE(IF(('Data Input'!$C$8:$AZ$8=B8),'Data Input'!$C$2:$AZ$2))*B3/COUNTA('Data Input'!$A$10:$A$420)),\"\",AVERAGE(IF(('Data Input'!$C$8:$AZ$8=B8),'Data Input'!$C$2:$AZ$2))*B3/COUNTA('Data Input'!$A$10:$A$420))","v":10},{"$f":"IF(ISERROR(AVERAGE(IF(('Data Input'!$C$8:$AZ$8=C8),'Data Input'!$C$2:$AZ$2))*C3/COUNTA('Data Input'!$A$10:$A$420)),\"\",AVERAGE(IF(('Data Input'!$C$8:$AZ$8=C8),'Data Input'!$C$2:$AZ$2))*C3/COUNTA('Data Input'!$A$10:$A$420))","v":14},{"$f":"IF(ISERROR(AVERAGE(IF(('Data Input'!$C$8:$AZ$8=D8),'Data Input'!$C$2:$AZ$2))*D3/COUNTA('Data Input'!$A$10:$A$420)),\"\",AVERAGE(IF(('Data Input'!$C$8:$AZ$8=D8),'Data Input'!$C$2:$AZ$2))*D3/COUNTA('Data Input'!$A$10:$A$420))","v":2},{"$f":"IF(ISERROR(AVERAGE(IF(('Data Input'!$C$8:$AZ$8=E8),'Data Input'!$C$2:$AZ$2))*E3/COUNTA('Data Input'!$A$10:$A$420)),\"\",AVERAGE(IF(('Data Input'!$C$8:$AZ$8=E8),'Data Input'!$C$2:$AZ$2))*E3/COUNTA('Data Input'!$A$10:$A$420))","v":22},{"$f":"IF(ISERROR(AVERAGE(IF(('Data Input'!$C$8:$AZ$8=F8),'Data Input'!$C$2:$AZ$2))*F3/COUNTA('Data Input'!$A$10:$A$420)),\"\",AVERAGE(IF(('Data Input'!$C$8:$AZ$8=F8),'Data Input'!$C$2:$AZ$2))*F3/COUNTA('Data Input'!$A$10:$A$420))","v":""},{"$f":"IF(ISERROR(AVERAGE(IF(('Data Input'!$C$8:$AZ$8=G8),'Data Input'!$C$2:$AZ$2))*G3/COUNTA('Data Input'!$A$10:$A$420)),\"\",AVERAGE(IF(('Data Input'!$C$8:$AZ$8=G8),'Data Input'!$C$2:$AZ$2))*G3/COUNTA('Data Input'!$A$10:$A$420))","v":1},{"$f":"IF(ISERROR(AVERAGE(IF(('Data Input'!$C$8:$AZ$8=H8),'Data Input'!$C$2:$AZ$2))*H3/COUNTA('Data Input'!$A$10:$A$420)),\"\",AVERAGE(IF(('Data Input'!$C$8:$AZ$8=H8),'Data Input'!$C$2:$AZ$2))*H3/COUNTA('Data Input'!$A$10:$A$420))","v":1},{"$f":"IF(ISERROR(AVERAGE(IF(('Data Input'!$C$8:$AZ$8=I8),'Data Input'!$C$2:$AZ$2))*I3/COUNTA('Data Input'!$A$10:$A$420)),\"\",AVERAGE(IF(('Data Input'!$C$8:$AZ$8=I8),'Data Input'!$C$2:$AZ$2))*I3/COUNTA('Data Input'!$A$10:$A$420))","v":""}]
["Incorrect",{"$f":"IF(ISERROR(AVERAGE(IF(('Data Input'!$C$8:$AZ$8=B8),'Data Input'!$C$3:$AZ$3))*B3/COUNTA('Data Input'!$A$10:$A$420)),\"\",AVERAGE(IF(('Data Input'!$C$8:$AZ$8=B8),'Data Input'!$C$3:$AZ$3))*B3/COUNTA('Data Input'!$A$10:$A$420))","v":0},{"$f":"IF(ISERROR(AVERAGE(IF(('Data Input'!$C$8:$AZ$8=C8),'Data Input'!$C$3:$AZ$3))*C3/COUNTA('Data Input'!$A$10:$A$420)),\"\",AVERAGE(IF(('Data Input'!$C$8:$AZ$8=C8),'Data Input'!$C$3:$AZ$3))*C3/COUNTA('Data Input'!$A$10:$A$420))","v":0},{"$f":"IF(ISERROR(AVERAGE(IF(('Data Input'!$C$8:$AZ$8=D8),'Data Input'!$C$3:$AZ$3))*D3/COUNTA('Data Input'!$A$10:$A$420)),\"\",AVERAGE(IF(('Data Input'!$C$8:$AZ$8=D8),'Data Input'!$C$3:$AZ$3))*D3/COUNTA('Data Input'!$A$10:$A$420))","v":0},{"$f":"IF(ISERROR(AVERAGE(IF(('Data Input'!$C$8:$AZ$8=E8),'Data Input'!$C$3:$AZ$3))*E3/COUNTA('Data Input'!$A$10:$A$420)),\"\",AVERAGE(IF(('Data Input'!$C$8:$AZ$8=E8),'Data Input'!$C$3:$AZ$3))*E3/COUNTA('Data Input'!$A$10:$A$420))","v":0},{"$f":"IF(ISERROR(AVERAGE(IF(('Data Input'!$C$8:$AZ$8=F8),'Data Input'!$C$3:$AZ$3))*F3/COUNTA('Data Input'!$A$10:$A$420)),\"\",AVERAGE(IF(('Data Input'!$C$8:$AZ$8=F8),'Data Input'!$C$3:$AZ$3))*F3/COUNTA('Data Input'!$A$10:$A$420))","v":""},{"$f":"IF(ISERROR(AVERAGE(IF(('Data Input'!$C$8:$AZ$8=G8),'Data Input'!$C$3:$AZ$3))*G3/COUNTA('Data Input'!$A$10:$A$420)),\"\",AVERAGE(IF(('Data Input'!$C$8:$AZ$8=G8),'Data Input'!$C$3:$AZ$3))*G3/COUNTA('Data Input'!$A$10:$A$420))","v":0},{"$f":"IF(ISERROR(AVERAGE(IF(('Data Input'!$C$8:$AZ$8=H8),'Data Input'!$C$3:$AZ$3))*H3/COUNTA('Data Input'!$A$10:$A$420)),\"\",AVERAGE(IF(('Data Input'!$C$8:$AZ$8=H8),'Data Input'!$C$3:$AZ$3))*H3/COUNTA('Data Input'!$A$10:$A$420))","v":0},{"$f":"IF(ISERROR(AVERAGE(IF(('Data Input'!$C$8:$AZ$8=I8),'Data Input'!$C$3:$AZ$3))*I3/COUNTA('Data Input'!$A$10:$A$420)),\"\",AVERAGE(IF(('Data Input'!$C$8:$AZ$8=I8),'Data Input'!$C$3:$AZ$3))*I3/COUNTA('Data Input'!$A$10:$A$420))","v":""}]
["Unanswered",{"$f":"IF(ISERROR(AVERAGE(IF(('Data Input'!$C$8:$AZ$8=B8),'Data Input'!$C$4:$AZ$4))*B3/COUNTA('Data Input'!$A$10:$A$420)),\"\",AVERAGE(IF(('Data Input'!$C$8:$AZ$8=B8),'Data Input'!$C$4:$AZ$4))*B3/COUNTA('Data Input'!$A$10:$A$420))","v":0},{"$f":"IF(ISERROR(AVERAGE(IF(('Data Input'!$C$8:$AZ$8=C8),'Data Input'!$C$4:$AZ$4))*C3/COUNTA('Data Input'!$A$10:$A$420)),\"\",AVERAGE(IF(('Data Input'!$C$8:$AZ$8=C8),'Data Input'!$C$4:$AZ$4))*C3/COUNTA('Data Input'!$A$10:$A$420))","v":0},{"$f":"IF(ISERROR(AVERAGE(IF(('Data Input'!$C$8:$AZ$8=D8),'Data Input'!$C$4:$AZ$4))*D3/COUNTA('Data Input'!$A$10:$A$420)),\"\",AVERAGE(IF(('Data Input'!$C$8:$AZ$8=D8),'Data Input'!$C$4:$AZ$4))*D3/COUNTA('Data Input'!$A$10:$A$420))","v":0},{"$f":"IF(ISERROR(AVERAGE(IF(('Data Input'!$C$8:$AZ$8=E8),'Data Input'!$C$4:$AZ$4))*E3/COUNTA('Data Input'!$A$10:$A$420)),\"\",AVERAGE(IF(('Data Input'!$C$8:$AZ$8=E8),'Data Input'!$C$4:$AZ$4))*E3/COUNTA('Data Input'!$A$10:$A$420))","v":0},{"$f":"IF(ISERROR(AVERAGE(IF(('Data Input'!$C$8:$AZ$8=F8),'Data Input'!$C$4:$AZ$4))*F3/COUNTA('Data Input'!$A$10:$A$420)),\"\",AVERAGE(IF(('Data Input'!$C$8:$AZ$8=F8),'Data Input'!$C$4:$AZ$4))*F3/COUNTA('Data Input'!$A$10:$A$420))","v":""},{"$f":"IF(ISERROR(AVERAGE(IF(('Data Input'!$C$8:$AZ$8=G8),'Data Input'!$C$4:$AZ$4))*G3/COUNTA('Data Input'!$A$10:$A$420)),\"\",AVERAGE(IF(('Data Input'!$C$8:$AZ$8=G8),'Data Input'!$C$4:$AZ$4))*G3/COUNTA('Data Input'!$A$10:$A$420))","v":0},{"$f":"IF(ISERROR(AVERAGE(IF(('Data Input'!$C$8:$AZ$8=H8),'Data Input'!$C$4:$AZ$4))*H3/COUNTA('Data Input'!$A$10:$A$420)),\"\",AVERAGE(IF(('Data Input'!$C$8:$AZ$8=H8),'Data Input'!$C$4:$AZ$4))*H3/COUNTA('Data Input'!$A$10:$A$420))","v":0},{"$f":"IF(ISERROR(AVERAGE(IF(('Data Input'!$C$8:$AZ$8=I8),'Data Input'!$C$4:$AZ$4))*I3/COUNTA('Data Input'!$A$10:$A$420)),\"\",AVERAGE(IF(('Data Input'!$C$8:$AZ$8=I8),'Data Input'!$C$4:$AZ$4))*I3/COUNTA('Data Input'!$A$10:$A$420))","v":""}]
["Incorrect or unanswered",{"$f":"IF(ISERROR(SUM(B5,B6)),\"\",SUM(B5,B6))","v":0},0,0,{"$f":"IF(ISERROR(SUM(E5,E6)),\"\",SUM(E5,E6))","v":0},0,0,{"$f":"IF(ISERROR(SUM(H5,H6)),\"\",SUM(H5,H6))","v":0},0]
[null,"A","B","C","D","E","F","G","H"]
[{"$f":"\"Average Total Score \"&COUNTA('Data Input'!C8:AZ8)","v":"Average Total Score 50"},null,null,{"$f":"\"Total Pupils: \" & COUNTA('Data Input'!A10:A420)","v":"Total Pupils: 1"},"Below","Expected","Exceeding","Expected or Exceeding"]
[{"$f":"IF(ISERROR(AVERAGE('Pupil Summary'!F6:F416)),\"\",AVERAGE('Pupil Summary'!F6:F416))","v":50},null,null,"Number:",{"$f":"IFERROR(COUNTIF('Pupil Summary'!$B$5:$B$999,\"Below\"),\"\")","v":0},{"$f":"IFERROR(COUNTIF('Pupil Summary'!$B$5:$B$999,\"Expected\"),\"\")","v":0},{"$f":"IFERROR(COUNTIF('Pupil Summary'!$B$5:$B$999,\"Exceeding\"),\"\")","v":1},{"$f":"IFERROR(SUM(F10:G10),\"\")","v":1}]
[{"$f":"IF(ISERROR(A10/COUNTA('Data Input'!C8:AZ8)),\"\",A10/(COUNTA('Data Input'!C8:AZ8)))","v":1},null,null,"Percent:",{"$f":"IFERROR(E10/COUNTA('Data Input'!$A$10:$A$999),\"\")","v":0},{"$f":"IFERROR(F10/COUNTA('Data Input'!$A$10:$A$999),\"\")","v":0},{"$f":"IFERROR(G10/COUNTA('Data Input'!$A$10:$A$999),\"\")","v":1},{"$f":"IFERROR(H10/COUNTA('Data Input'!$A$10:$A$999),\"\")","v":1}]
["The chart below graph shows the average percent for the cohort answering the questions in the particular area correctly. It should be noted that here each area does not hold equal weighting."]

{"sheet":"Strand Summary","index":6,"n_rows":28,"n_cols":2,"rows_kept":28,"cut":false,"hidden":false,"merged":[[26,1,26,11],[27,1,27,11]]}
[]
[]
[]
[]
[]
[]
[]
[]
[]
[]
[]
[]
[]
[]
[]
[]
[]
[]
[]
[]
[]
[]
[]
[]
[]
[]
[null,"This height of the bar shows the weighting of each area and the average number correct and incorrect answers. "]
[null,"A large area of red would indicate an area of priority. "]

{"sheet":"Questions by Strand","index":7,"n_rows":0,"n_cols":0,"rows_kept":0,"cut":false,"hidden":false,"merged":[[45,0,46,17]]}

{"sheet":"Questions by Correct","index":8,"n_rows":0,"n_cols":0,"rows_kept":0,"cut":false,"hidden":false,"merged":[[45,0,46,17]]}

{"sheet":"P1 Questions by Sub Type","index":9,"n_rows":0,"n_cols":0,"rows_kept":0,"cut":false,"hidden":true,"merged":[[45,0,46,17]]}

{"sheet":"P2 Questions by Sub Type","index":10,"n_rows":0,"n_cols":0,"rows_kept":0,"cut":false,"hidden":true,"merged":[[45,0,46,17]]}